{"text_format":"1","workbook":"xlsx","n_sheets":15,"sheets":["Instructions","Friction & BW","Grand Keys","Key Graphics","Lead Removal Basics","DWBCD","DWSMLO","DW50","DWCustom","DW53","BW38","BW41","DWfromBW","DWtest","Instruction Basic"],"not_rendered":{"charts":0,"images":2,"macros":1,"external_links":0,"defined_names":0,"comments":5,"pivot_tables":0},"unopened":[],"bounds":{"document_bytes":16777216,"sheet_cells":100000,"rows_first":2000,"rows_last":500,"rows_between":2000,"halvings":0,"cell_chars":16384,"cell_head_chars":4096},"cells_cut":0,"cells_raw":0,"read":"whole","date_system":"1900"}

{"sheet":"Instructions","index":0,"n_rows":106,"n_cols":15,"rows_kept":106,"cut":false,"hidden":false,"merged":[[9,1,9,3],[10,1,10,3],[11,1,11,3],[12,1,12,3],[105,2,105,13],[1,1,2,12],[12,7,17,12],[7,4,7,10],[92,2,92,13],[17,1,17,3],[63,2,63,13],[79,2,79,13],[8,4,8,12],[13,1,13,3],[72,2,72,13],[7,1,7,3],[8,1,8,3],[14,1,14,3],[15,1,15,3],[16,1,16,3]]}
[]
[null,"Welcome to Nick's Nifty Key Leads Program!"]
[]
[]
[]
[]
[]
[null,"PIANO MAKE MODEL",null,null,"Steinway 220908",null,null,null,null,null,null,"Date","2014-10-17"]
[null,"CUSTOMER",null,null,"Joe Schlabotnik "]
[null,"Key Input Naturals =",null,null,"Key 1 >",250,null,"Key 88 >",250,"mm"]
[null,"Sharps =",null,null,"Key 2 >",200,null,"Key 86 >",200,"mm"]
[null,"Lead Remain Limit =",null,null,0.2,"inches"]
[null,"Lead # 1 Mass =",null,null,14.2,"grams",null,"Main Entry Grid Looks Like This                                                             "]
[null,"Lead # 2 Mass =",null,null,14.2,"grams"]
[null,"Lead # 3 Mass =",null,null,11.2,"grams"]
[null,"Lead widths =",null,null,0.44,"inches"]
[null,"Drill Limit Depth",null,null,{"$f":"E16-E12","v":0.24},"inches",{"$f":"E16-E17","v":0.2}]
[null,"Diameter Test Weights",null,null,16,"mm"]
[]
[]
[null,null,null,null,null,null,null,null,250,"mm"]
[]
[]
[null,null,null,null,null,null,null,null,242,"mm"]
[null,null,null,null,null,null,null,175,"mm"]
[null,null,null,null,null,null,145,"mm"]
[null,null,null,null,null,125,"mm"]
[]
[]
[]
[]
[]
[]
[]
[]
[]
[]
[]
[]
[]
[]
[]
[]
[]
[]
[]
[]
[]
[]
[]
[]
[]
[]
[]
[]
[]
[]
[]
[]
[]
[null,null,null,"Gram Test",null,"Total Lead to remove gms","Location mm","Drill Depth Inches","Leave this much lead","Location mm","Depth","Leave this much lead","Location mm","Depth","Leave this much lead"]
[null,null,"Key #","DW","DDW","Ld. Out","Lead 1","Drill Out ","LEAVE","Lead 2","Drill Out  ","LEAVE","Lead 3","Drill Out  ","LEAVE"]
[null,"A",1,48,53,10.34,110,0.24,0.2,92,9.6000000000000002E-2,0.34399999999999997,68,{"$f":"IF(ISERROR(AC64), \"\",AC64)","v":0},0.44]
[null,null,null,null,null,null,null,null,null,null,null,null,null,null,{"$f":"IF(ISERROR((H63+K63+N63)/$E$10*$E$7), 0,(H63+K63+N63)/$E$10*$E$7)","v":0}]
[]
[]
[]
[]
[]
[]
[null,null,"Key #","DW","DDW","Ld. Out","Lead 1","Drill Out ","LEAVE","Lead 2","Drill Out  ","LEAVE","Lead 3","Drill Out  ","LEAVE"]
[null,"A",1,48,50,4.1399999999999997,110,0.12816901408450707,0.31183098591549296,92,{"$f":"IF(ISERROR(AC67), 0,AC67)","v":0},{"$f":"IF(ISERROR(ROUND($E$10-K72,3)), 0,ROUND($E$10-K72,3))","v":0},68,{"$f":"IF(ISERROR(AC70), \"\",AC70)","v":0},0.44]
[]
[]
[]
[]
[]
[null,null,null,null,null,"Ld. Out","Lead 1",null,null,"Lead 2","Drill Out  ",null,"Lead 3"]
[null,"A#",2,43,52,15.96,108,0.24,{"$f":"$E$16-H79","v":0.2},89,6.6000000000000003E-2,{"$f":"ROUND($E$16-K79,3)","v":0.374},70,{"$f":"IF(ISERROR(AC80), \"\",AC80)","v":0},{"$f":"IF(ISERROR($E$16-N79), \"\",$E$16-N79)","v":0.44}]
[null,null,{"$f":"IF(AND(C79<E79, F79>$E$7),\"Ignore Dril Out Lead 1; rather pop out Lead 1 and LEAVE lead # 2 to \"&L79&\" inches.\",\"\")","v":"Ignore Dril Out Lead 1; rather pop out Lead 1 and LEAVE lead # 2 to 0.374 inches."}]
[]
[]
[]
[]
[]
[]
[]
[]
[]
[]
[null,null,null,null,null,null,"Lead 1","Drill Out ","LEAVE"]
[null,"C",4,50,52,4.3099999999999996,112,0.13400000000000001,0.30599999999999999,82,{"$f":"AC92","v":0},0.44,75,null,0.44]
[]
[]
[]
[]
[]
[]
[]
[]
[]
[]
[]
[null,null,null,null,null,null,"Lead 1","Drill Out ","LEAVE"]
[null,"C#",5,55,52,null,108,null,null,89,{"$f":"AC105","v":0},null,70]
[null,null,{"$f":"IF(AND(C105<E105, F105>$E$7),\"Pop out lead # 1 and LEAVE lead # 2 to \"&L105&\" inches.\",\"\")","v":""}]

{"sheet":"Friction & BW","index":1,"n_rows":288,"n_cols":16,"rows_kept":288,"cut":false,"hidden":false,"merged":[]}
[]
[]
[]
[]
[]
[null,null,null,null,null,null,null,null,null,null,null,null,null,null,null,"READ"]
[]
[]
[]
[]
[]
[]
[]
[null,null,null,null,null,"Note","DW","UW","Friction","Balance Weight (BW)","BW + F","BW = 38","DW","BW41-35","DW","Note"]
[null,{"$f":"G15","v":47},47,{"$f":"J15","v":35},1,"A     1",47,23,{"$f":"(G15-H15)/2","v":12},{"$f":"(G15+H15)/2","v":35},{"$f":"J15+I15","v":47},{"$f":"'BW38'!G15","v":38},{"$f":"L15+I15","v":50},{"$f":"'BW41'!G15","v":41},{"$f":"N15+I15","v":53},"A     1"]
[null,null,null,null,null,"A#   2",50,20,{"$f":"(G16-H16)/2","v":15},{"$f":"(G16+H16)/2","v":35},{"$f":"J16+I16","v":50},{"$f":"'BW38'!G16","v":38},53,{"$f":"'BW41'!G16","v":41},56,"A#   2"]
[null,null,null,null,null,"B     3",50,18,{"$f":"(G17-H17)/2","v":16},{"$f":"(G17+H17)/2","v":34},{"$f":"J17+I17","v":50},{"$f":"'BW38'!G17","v":38},54,{"$f":"'BW41'!G17","v":41},57,"B     3"]
[null,{"$f":"G16","v":50},50,{"$f":"J16","v":35},2,"C     4",50,17,16.5,33.5,50,{"$f":"'BW38'!G18","v":38},54.5,{"$f":"'BW41'!G18","v":41},57.5,"C     4"]
[null,null,null,null,null,"C#   5",50,25,12.5,37.5,50,{"$f":"'BW38'!G19","v":38},50.5,{"$f":"'BW41'!G19","v":41},53.5,"C#   5"]
[null,null,null,null,null,"D     6",50,18,16,34,50,{"$f":"'BW38'!G20","v":38},54,{"$f":"'BW41'!G20","v":41},57,"D     6"]
[null,{"$f":"G17","v":50},50,{"$f":"J17","v":34},3,"D#   7",50,17,16.5,33.5,50,{"$f":"'BW38'!G21","v":38},54.5,{"$f":"'BW41'!G21","v":41},57.5,"D#   7"]
[null,null,null,null,null,"E     8",53,25,14,39,53,{"$f":"'BW38'!G22","v":38},52,{"$f":"'BW41'!G22","v":41},55,"E     8"]
[null,null,null,null,null,"F     9",52,27,12.5,39.5,52,{"$f":"'BW38'!G23","v":38},50.5,{"$f":"'BW41'!G23","v":41},53.5,"F     9"]
[null,{"$f":"G18","v":50},50,{"$f":"J18","v":33.5},4,"F#   10",52,25,13.5,38.5,52,{"$f":"'BW38'!G24","v":38},51.5,{"$f":"'BW41'!G24","v":41},54.5,"F#   10"]
[null,null,null,null,null,"G    11",53,16,18.5,34.5,53,{"$f":"'BW38'!G25","v":38},56.5,{"$f":"'BW41'!G25","v":41},59.5,"G    11"]
[null,null,null,null,null,"G#  12",53,26,13.5,39.5,53,{"$f":"'BW38'!G26","v":38},51.5,{"$f":"'BW41'!G26","v":41},54.5,"G#  12"]
[null,{"$f":"G19","v":50},50,{"$f":"J19","v":37.5},5,"A     13",52,26,13,39,52,{"$f":"'BW38'!G27","v":38},51,{"$f":"'BW41'!G27","v":40},53,"A     13"]
[null,null,null,null,null,"A#   14",49,25,12,37,49,{"$f":"'BW38'!G28","v":38},50,{"$f":"'BW41'!G28","v":40},52,"A#   14"]
[null,null,null,null,null,"B    15",52,27,12.5,39.5,52,{"$f":"'BW38'!G29","v":38},50.5,{"$f":"'BW41'!G29","v":40},52.5,"B    15"]
[null,{"$f":"G20","v":50},50,{"$f":"J20","v":34},6,"C    16",48,27,10.5,37.5,48,{"$f":"'BW38'!G30","v":38},48.5,{"$f":"'BW41'!G30","v":40},50.5,"C    16"]
[null,null,null,null,null,"C#  17",45,23,11,34,45,{"$f":"'BW38'!G31","v":38},49,{"$f":"'BW41'!G31","v":40},51,"C#  17"]
[null,null,null,null,null,"D    18",53,26,13.5,39.5,53,{"$f":"'BW38'!G32","v":38},51.5,{"$f":"'BW41'!G32","v":40},53.5,"D    18"]
[null,{"$f":"G21","v":50},50,{"$f":"J21","v":33.5},7,"D#  19",53,26,13.5,39.5,53,{"$f":"'BW38'!G33","v":38},51.5,{"$f":"'BW41'!G33","v":40},53.5,"D#  19"]
[null,null,null,null,null,"E     20",52,29,11.5,40.5,{"$f":"J34+I34","v":52},{"$f":"'BW38'!G34","v":38},49.5,{"$f":"'BW41'!G34","v":40},51.5,"E     20"]
[null,null,null,null,null,"F     21",50,22,14,36,50,{"$f":"'BW38'!G35","v":38},52,{"$f":"'BW41'!G35","v":40},54,"F     21"]
[null,{"$f":"G22","v":53},53,{"$f":"J22","v":39},8,"F#   22",52,26,13,39,52,{"$f":"'BW38'!G36","v":38},51,{"$f":"'BW41'!G36","v":40},53,"F#   22"]
[null,null,null,null,null,"G    23",48,24,12,36,48,{"$f":"'BW38'!G37","v":38},50,{"$f":"'BW41'!G37","v":40},52,"G    23"]
[null,null,null,null,null,"G#  24",52,26,13,39,52,{"$f":"'BW38'!G38","v":38},51,{"$f":"'BW41'!G38","v":40},53,"G#  24"]
[null,{"$f":"G23","v":52},52,{"$f":"J23","v":39.5},9,"A     25",56,26,15,41,56,{"$f":"'BW38'!G39","v":38},53,{"$f":"'BW41'!G39","v":39},54,"A     25"]
[null,null,null,null,null,"A#   26",56,26,15,41,56,{"$f":"'BW38'!G40","v":38},53,{"$f":"'BW41'!G40","v":39},54,"A#   26"]
[null,null,null,null,null,"B     27",56,26,15,41,56,{"$f":"'BW38'!G41","v":38},53,{"$f":"'BW41'!G41","v":39},54,"B     27"]
[null,{"$f":"G24","v":52},52,{"$f":"J24","v":38.5},10,"C     28",56,26,15,41,56,{"$f":"'BW38'!G42","v":38},53,{"$f":"'BW41'!G42","v":39},54,"C     28"]
[null,null,null,null,null,"C#   29",60,26,17,43,60,{"$f":"'BW38'!G43","v":38},55,{"$f":"'BW41'!G43","v":39},56,"C#   29"]
[null,null,null,null,null,"D      30",54,26,14,40,54,{"$f":"'BW38'!G44","v":38},52,{"$f":"'BW41'!G44","v":39},53,"D      30"]
[null,{"$f":"G25","v":53},53,{"$f":"J25","v":34.5},11,"D#    31",65,25,20,45,65,{"$f":"'BW38'!G45","v":38},58,{"$f":"'BW41'!G45","v":39},59,"D#    31"]
[null,null,null,null,null,"E      32",52,26,13,39,52,{"$f":"'BW38'!G46","v":38},51,{"$f":"'BW41'!G46","v":39},52,"E      32"]
[null,null,null,null,null,"F      33",58,32,13,45,58,{"$f":"'BW38'!G47","v":38},{"$f":"L47+I47","v":51},{"$f":"'BW41'!G47","v":39},{"$f":"N47+I47","v":52},"F      33"]
[null,{"$f":"G26","v":53},53,{"$f":"J26","v":39.5},12,"F#    34",62,30,16,46,62,{"$f":"'BW38'!G48","v":38},54,{"$f":"'BW41'!G48","v":39},55,"F#    34"]
[null,null,null,null,null,"G     35",54,26,14,40,54,{"$f":"'BW38'!G49","v":38},52,{"$f":"'BW41'!G49","v":39},53,"G     35"]
[null,null,null,null,null,"G#   36",52,24,14,38,52,{"$f":"'BW38'!G50","v":38},52,{"$f":"'BW41'!G50","v":39},53,"G#   36"]
[null,null,null,null,null,"A      37",50,28,11,39,50,{"$f":"'BW38'!G51","v":38},49,{"$f":"'BW41'!G51","v":38},49,"A      37"]
[null,null,null,null,null,"A#    38",52,28,12,40,52,{"$f":"'BW38'!G52","v":38},50,{"$f":"'BW41'!G52","v":38},50,"A#    38"]
[null,{"$f":"G27","v":52},52,{"$f":"J27","v":39},13,"B     39",55,28,13.5,41.5,55,{"$f":"'BW38'!G53","v":38},51.5,{"$f":"'BW41'!G53","v":38},51.5,"B     39"]
[null,null,null,null,null,"C     40",52,28,12,40,52,{"$f":"'BW38'!G54","v":38},50,{"$f":"'BW41'!G54","v":38},50,"C     40"]
[null,null,null,null,null,"C#   41",50,28,11,39,50,{"$f":"'BW38'!G55","v":38},49,{"$f":"'BW41'!G55","v":38},49,"C#   41"]
[null,{"$f":"G28","v":49},49,{"$f":"J28","v":37},14,"D     42",50,24,13,37,50,{"$f":"'BW38'!G56","v":38},51,{"$f":"'BW41'!G56","v":38},51,"D     42"]
[null,null,null,null,null,"D#   43",54,30,12,42,54,{"$f":"'BW38'!G57","v":38},50,{"$f":"'BW41'!G57","v":38},50,"D#   43"]
[null,null,null,null,null,"E     44",52,28,12,40,52,{"$f":"'BW38'!G58","v":38},50,{"$f":"'BW41'!G58","v":38},50,"E     44"]
[null,{"$f":"G29","v":52},52,{"$f":"J29","v":39.5},15,"F     45",50,26,12,38,50,{"$f":"'BW38'!G59","v":38},50,{"$f":"'BW41'!G59","v":38},50,"F     45"]
[null,null,null,null,null,"F#   46",52,28,12,40,52,{"$f":"'BW38'!G60","v":38},50,{"$f":"'BW41'!G60","v":38},50,"F#   46"]
[null,null,null,null,null,"G     47",50,28,11,39,50,{"$f":"'BW38'!G61","v":38},49,{"$f":"'BW41'!G61","v":38},49,"G     47"]
[null,{"$f":"G30","v":48},48,{"$f":"J30","v":37.5},16,"G#   48",57,28,14.5,42.5,57,{"$f":"'BW38'!G62","v":38},52.5,{"$f":"'BW41'!G62","v":38},52.5,"G#   48"]
[null,null,null,null,null,"A      49",50,20,15,35,50,{"$f":"'BW38'!G63","v":38},53,{"$f":"'BW41'!G63","v":37},52,"A      49"]
[null,null,null,null,null,"A#    50 ",56,28,14,42,56,{"$f":"'BW38'!G64","v":38},52,{"$f":"'BW41'!G64","v":37},51,"A#    50 "]
[null,{"$f":"G31","v":45},45,{"$f":"J31","v":34},17,"B     51",50,22,14,36,50,{"$f":"'BW38'!G65","v":38},52,{"$f":"'BW41'!G65","v":37},51,"B     51"]
[null,null,null,null,null,"C     52",49,20,14.5,34.5,49,{"$f":"'BW38'!G66","v":38},52.5,{"$f":"'BW41'!G66","v":37},51.5,"C     52"]
[null,null,null,null,null,"C#    53",49,24,12.5,36.5,49,{"$f":"'BW38'!G67","v":38},50.5,{"$f":"'BW41'!G67","v":37},49.5,"C#    53"]
[null,{"$f":"G32","v":53},53,{"$f":"J32","v":39.5},18,"D      54",49,24,12.5,36.5,49,{"$f":"'BW38'!G68","v":38},50.5,{"$f":"'BW41'!G68","v":37},49.5,"D      54"]
[null,null,null,null,null,"D#    55",49,26,11.5,37.5,49,{"$f":"'BW38'!G69","v":38},49.5,{"$f":"'BW41'!G69","v":37},48.5,"D#    55"]
[null,null,null,null,null,"E      56",49,20,14.5,34.5,49,{"$f":"'BW38'!G70","v":38},52.5,{"$f":"'BW41'!G70","v":37},51.5,"E      56"]
[null,{"$f":"G33","v":53},53,{"$f":"J33","v":39.5},19,"F      57",49,20,14.5,34.5,49,{"$f":"'BW38'!G71","v":38},52.5,{"$f":"'BW41'!G71","v":37},51.5,"F      57"]
[null,null,null,null,null,"F#    58",49,22,13.5,35.5,49,{"$f":"'BW38'!G72","v":38},51.5,{"$f":"'BW41'!G72","v":37},50.5,"F#    58"]
[null,null,null,null,null,"G      59",49,24,12.5,36.5,49,{"$f":"'BW38'!G73","v":38},50.5,{"$f":"'BW41'!G73","v":37},49.5,"G      59"]
[null,{"$f":"G34","v":52},52,{"$f":"J34","v":40.5},20,"G#    60",48,28,10,38,48,{"$f":"'BW38'!G74","v":38},48,{"$f":"'BW41'!G74","v":37},47,"G#    60"]
[null,null,null,null,null,"A       61",48,27,10.5,37.5,48,{"$f":"'BW38'!G75","v":38},48.5,{"$f":"'BW41'!G75","v":36},46.5,"A       61"]
[null,null,null,null,null,"A#     62",48,27,10.5,37.5,48,{"$f":"'BW38'!G76","v":38},48.5,{"$f":"'BW41'!G76","v":36},46.5,"A#     62"]
[null,{"$f":"G35","v":50},50,{"$f":"J35","v":36},21,"B       63",48,25,11.5,36.5,48,{"$f":"'BW38'!G77","v":38},49.5,{"$f":"'BW41'!G77","v":36},47.5,"B       63"]
[null,null,null,null,null,"C       64",48,26,11,37,48,{"$f":"'BW38'!G78","v":38},49,{"$f":"'BW41'!G78","v":36},47,"C       64"]
[null,null,null,null,null,"C#     65",48,25,11.5,36.5,48,{"$f":"'BW38'!G79","v":38},{"$f":"L79+I79","v":49.5},{"$f":"'BW41'!G79","v":36},{"$f":"N79+I79","v":47.5},"C#     65"]
[null,{"$f":"G36","v":52},52,{"$f":"J36","v":39},22,"D       66",48,25,11.5,36.5,{"$f":"J80+I80","v":48},{"$f":"'BW38'!G80","v":38},49.5,{"$f":"'BW41'!G80","v":36},47.5,"D       66"]
[null,null,null,null,null,"D#     67",48,25,{"$f":"(G81-H81)/2","v":11.5},{"$f":"(G81+H81)/2","v":36.5},48,{"$f":"'BW38'!G81","v":38},49.5,{"$f":"'BW41'!G81","v":36},47.5,"D#     67"]
[null,null,null,null,null,"E       68",48,25,11.5,36.5,48,{"$f":"'BW38'!G82","v":38},49.5,{"$f":"'BW41'!G82","v":36},47.5,"E       68"]
[null,{"$f":"G37","v":48},48,{"$f":"J37","v":36},23,"F       69",48,25,11.5,36.5,48,{"$f":"'BW38'!G83","v":38},49.5,{"$f":"'BW41'!G83","v":36},47.5,"F       69"]
[null,null,null,null,null,"F#     70",48,25,11.5,36.5,48,{"$f":"'BW38'!G84","v":38},49.5,{"$f":"'BW41'!G84","v":36},47.5,"F#     70"]
[null,null,null,null,null,"G      71",48,25,11.5,36.5,48,{"$f":"'BW38'!G85","v":38},49.5,{"$f":"'BW41'!G85","v":36},47.5,"G      71"]
[null,{"$f":"G38","v":52},52,{"$f":"J38","v":39},24,"G#    72",48,25,11.5,36.5,48,{"$f":"'BW38'!G86","v":38},49.5,{"$f":"'BW41'!G86","v":36},47.5,"G#    72"]
[null,null,null,null,null,"A       73",48,25,11.5,36.5,48,{"$f":"'BW38'!G87","v":38},49.5,{"$f":"'BW41'!G87","v":35},46.5,"A       73"]
[null,null,null,null,null,"A#     74",48,25,11.5,36.5,48,{"$f":"'BW38'!G88","v":38},49.5,{"$f":"'BW41'!G88","v":35},46.5,"A#     74"]
[null,null,null,null,null,"B      75",48,25,11.5,36.5,48,{"$f":"'BW38'!G89","v":38},49.5,{"$f":"'BW41'!G89","v":35},46.5,"B      75"]
[null,null,null,null,null,"C      76",48,25,11.5,36.5,48,{"$f":"'BW38'!G90","v":38},49.5,{"$f":"'BW41'!G90","v":35},46.5,"C      76"]
[null,{"$f":"G39","v":56},56,{"$f":"J39","v":41},25,"C#     77",48,25,11.5,36.5,48,{"$f":"'BW38'!G91","v":38},49.5,{"$f":"'BW41'!G91","v":35},46.5,"C#     77"]
[null,null,null,null,null,"D       78",48,25,11.5,36.5,48,{"$f":"'BW38'!G92","v":38},49.5,{"$f":"'BW41'!G92","v":35},46.5,"D       78"]
[null,null,null,null,null,"D#     79",46,22,12,34,46,{"$f":"'BW38'!G93","v":38},50,{"$f":"'BW41'!G93","v":35},47,"D#     79"]
[null,{"$f":"G40","v":56},56,{"$f":"J40","v":41},26,"E       80",46,22,12,34,46,{"$f":"'BW38'!G94","v":38},50,{"$f":"'BW41'!G94","v":35},47,"E       80"]
[null,null,null,null,null,"F       81",46,22,12,34,46,{"$f":"'BW38'!G95","v":38},50,{"$f":"'BW41'!G95","v":35},47,"F       81"]
[null,null,null,null,null,"F#     82",99,25,37,62,99,{"$f":"'BW38'!G96","v":38},75,{"$f":"'BW41'!G96","v":35},72,"F#     82"]
[null,{"$f":"G41","v":56},56,{"$f":"J41","v":41},27,"G      83 ",50,27,11.5,38.5,50,{"$f":"'BW38'!G97","v":38},49.5,{"$f":"'BW41'!G97","v":35},46.5,"G      83 "]
[null,null,null,null,null,"G#    84",45,25,10,35,45,{"$f":"'BW38'!G98","v":38},48,{"$f":"'BW41'!G98","v":35},45,"G#    84"]
[null,null,null,null,null,"A       85",47,27,10,37,47,{"$f":"'BW38'!G99","v":38},48,{"$f":"'BW41'!G99","v":35},45,"A       85"]
[null,{"$f":"G42","v":56},56,{"$f":"J42","v":41},28,"A#     86",47,27,10,37,47,{"$f":"'BW38'!G100","v":38},48,{"$f":"'BW41'!G100","v":35},45,"A#     86"]
[null,null,null,null,null,"B       87",45,25,10,35,45,{"$f":"'BW38'!G101","v":38},48,{"$f":"'BW41'!G101","v":35},45,"B       87"]
[null,null,null,null,null,"C       88",42,22,10,32,42,{"$f":"'BW38'!G102","v":38},48,{"$f":"'BW41'!G102","v":35},45,"C       88"]
[null,{"$f":"G43","v":60},60,{"$f":"J43","v":43},29]
[]
[]
[null,{"$f":"G44","v":54},54,{"$f":"J44","v":40},30]
[]
[]
[null,{"$f":"G45","v":65},65,{"$f":"J45","v":45},31,"Note","DW","UW","Friction","Balance Weight (BW)","BW + F","BW = 38","DW","BW41-35","DW","Note"]
[null,null,null,null,null,"A     1",50,26,{"$f":"(G110-H110)/2","v":12},{"$f":"(G110+H110)/2","v":38},{"$f":"J110+I110","v":50},38,{"$f":"L110+I110","v":50},41,{"$f":"N110+I110","v":53},"A     1"]
[null,null,null,null,null,"A#   2",50,26,{"$f":"(G111-H111)/2","v":12},{"$f":"(G111+H111)/2","v":38},{"$f":"J111+I111","v":50},38,50,41,53,"A#   2"]
[null,{"$f":"G46","v":52},52,{"$f":"J46","v":39},32,"B     3",50,26,12,38,50,38,50,41,53,"B     3"]
[null,null,null,null,null,"C     4",50,26,12,38,50,38,50,41,53,"C     4"]
[null,null,null,null,null,"C#   5",50,26,12,38,50,38,50,41,53,"C#   5"]
[null,{"$f":"G47","v":58},58,{"$f":"J47","v":45},33,"D     6",50,26,12,38,50,38,50,41,53,"D     6"]
[null,null,null,null,null,"D#   7",50,26,12,38,50,38,50,41,53,"D#   7"]
[null,null,null,null,null,"E     8",50,26,12,38,50,38,50,41,53,"E     8"]
[null,{"$f":"G48","v":62},62,{"$f":"J48","v":46},34,"F     9",50,26,12,38,50,38,50,41,53,"F     9"]
[null,null,null,null,null,"F#   10",50,26,12,38,50,38,50,41,53,"F#   10"]
[null,null,null,null,null,"G    11",50,26,12,38,50,38,50,41,53,"G    11"]
[null,{"$f":"G49","v":54},54,{"$f":"J49","v":40},35,"G#  12",50,26,12,38,50,38,50,41,53,"G#  12"]
[null,null,null,null,null,"A     13",50,26,12,38,50,38,50,40,52,"A     13"]
[null,null,null,null,null,"A#   14",50,26,12,38,50,38,50,40,52,"A#   14"]
[null,{"$f":"G50","v":52},52,{"$f":"J50","v":38},36,"B    15",50,26,12,38,50,38,50,40,52,"B    15"]
[null,null,null,null,null,"C    16",50,26,12,38,50,38,50,40,52,"C    16"]
[null,null,null,null,null,"C#  17",50,26,12,38,50,38,50,40,52,"C#  17"]
[null,null,null,null,null,"D    18",50,26,12,38,50,38,50,40,52,"D    18"]
[null,null,null,null,null,"D#  19",50,26,12,38,50,38,50,40,52,"D#  19"]
[null,{"$f":"G51","v":50},50,{"$f":"J51","v":39},37,"E     20",50,26,12,38,50,38,50,40,52,"E     20"]
[null,null,null,null,null,"F     21",50,26,12,38,50,38,50,40,52,"F     21"]
[null,null,null,null,null,"F#   22",50,26,12,38,50,38,50,40,52,"F#   22"]
[null,{"$f":"G52","v":52},52,{"$f":"J52","v":40},38,"G    23",50,26,12,38,50,38,50,40,52,"G    23"]
[null,null,null,null,null,"G#  24",50,26,12,38,50,38,50,40,52,"G#  24"]
[null,null,null,null,null,"A     25",50,26,12,38,50,38,50,39,51,"A     25"]
[null,{"$f":"G53","v":55},55,{"$f":"J53","v":41.5},39,"A#   26",50,26,12,38,50,38,50,39,51,"A#   26"]
[null,null,null,null,null,"B     27",50,26,12,38,50,38,50,39,51,"B     27"]
[null,null,null,null,null,"C     28",50,26,12,38,50,38,50,39,51,"C     28"]
[null,{"$f":"G54","v":52},52,{"$f":"J54","v":40},40,"C#   29",50,26,12,38,50,38,50,39,51,"C#   29"]
[null,null,null,null,null,"D      30",50,26,12,38,50,38,50,39,51,"D      30"]
[null,null,null,null,null,"D#    31",50,26,12,38,50,38,50,39,51,"D#    31"]
[null,{"$f":"G55","v":50},50,{"$f":"J55","v":39},41,"E      32",50,26,12,38,50,38,50,39,51,"E      32"]
[null,null,null,null,null,"F      33",50,26,12,38,50,38,{"$f":"L142+I142","v":50},39,{"$f":"N142+I142","v":51},"F      33"]
[null,null,null,null,null,"F#    34",50,26,12,38,50,38,50,39,51,"F#    34"]
[null,{"$f":"G56","v":50},50,{"$f":"J56","v":37},42,"G     35",50,26,12,38,50,38,50,39,51,"G     35"]
[null,null,null,null,null,"G#   36",50,26,12,38,50,38,50,39,51,"G#   36"]
[null,null,null,null,null,"A      37",50,26,12,38,50,38,50,38,50,"A      37"]
[null,{"$f":"G57","v":54},54,{"$f":"J57","v":42},43,"A#    38",50,26,12,38,50,38,50,38,50,"A#    38"]
[null,null,null,null,null,"B     39",50,26,12,38,50,38,50,38,50,"B     39"]
[null,null,null,null,null,"C     40",50,26,12,38,50,38,50,38,50,"C     40"]
[null,{"$f":"G58","v":52},52,{"$f":"J58","v":40},44,"C#   41",50,26,12,38,50,38,50,38,50,"C#   41"]
[null,null,null,null,null,"D     42",50,26,12,38,50,38,50,38,50,"D     42"]
[null,null,null,null,null,"D#   43",50,26,12,38,50,38,50,38,50,"D#   43"]
[null,{"$f":"G59","v":50},50,{"$f":"J59","v":38},45,"E     44",50,26,12,38,50,38,50,38,50,"E     44"]
[null,null,null,null,null,"F     45",50,26,12,38,50,38,50,38,50,"F     45"]
[null,null,null,null,null,"F#   46",50,26,12,38,50,38,50,38,50,"F#   46"]
[null,{"$f":"G60","v":52},52,{"$f":"J60","v":40},46,"G     47",50,26,12,38,50,38,50,38,50,"G     47"]
[null,null,null,null,null,"G#   48",50,26,12,38,50,38,50,38,50,"G#   48"]
[null,null,null,null,null,"A      49",50,26,12,38,50,38,50,37,49,"A      49"]
[null,{"$f":"G61","v":50},50,{"$f":"J61","v":39},47,"A#    50 ",50,26,12,38,50,38,50,37,49,"A#    50 "]
[null,null,null,null,null,"B     51",50,26,12,38,50,38,50,37,49,"B     51"]
[null,null,null,null,null,"C     52",50,26,12,38,50,38,50,37,49,"C     52"]
[null,{"$f":"G62","v":57},57,{"$f":"J62","v":42.5},48,"C#    53",50,26,12,38,50,38,50,37,49,"C#    53"]
[null,null,null,null,null,"D      54",50,26,12,38,50,38,50,37,49,"D      54"]
[null,null,null,null,null,"D#    55",50,26,12,38,50,38,50,37,49,"D#    55"]
[null,null,null,null,null,"E      56",50,26,12,38,50,38,50,37,49,"E      56"]
[null,null,null,null,null,"F      57",50,26,12,38,50,38,50,37,49,"F      57"]
[null,{"$f":"G63","v":50},50,{"$f":"J63","v":35},49,"F#    58",50,26,12,38,50,38,50,37,49,"F#    58"]
[null,null,null,null,null,"G      59",50,26,12,38,50,38,50,37,49,"G      59"]
[null,null,null,null,null,"G#    60",50,26,12,38,50,38,50,37,49,"G#    60"]
[null,{"$f":"G64","v":56},56,{"$f":"J64","v":42},50,"A       61",50,26,12,38,50,38,50,36,48,"A       61"]
[null,null,null,null,null,"A#     62",50,26,12,38,50,38,50,36,48,"A#     62"]
[null,null,null,null,null,"B       63",50,26,12,38,50,38,50,36,48,"B       63"]
[null,{"$f":"G65","v":50},50,{"$f":"J65","v":36},51,"C       64",50,26,12,38,50,38,50,36,48,"C       64"]
[null,null,null,null,null,"C#     65",50,26,12,38,50,38,{"$f":"L174+I174","v":50},36,{"$f":"N174+I174","v":48},"C#     65"]
[null,null,null,null,null,"D       66",50,26,{"$f":"(G175-H175)/2","v":12},{"$f":"(G175+H175)/2","v":38},{"$f":"J175+I175","v":50},38,50,36,48,"D       66"]
[null,{"$f":"G66","v":49},49,{"$f":"J66","v":34.5},52,"D#     67",50,26,12,38,50,38,50,36,48,"D#     67"]
[null,null,null,null,null,"E       68",50,26,12,38,50,38,50,36,48,"E       68"]
[null,null,null,null,null,"F       69",50,26,12,38,50,38,50,36,48,"F       69"]
[null,{"$f":"G67","v":49},49,{"$f":"J67","v":36.5},53,"F#     70",50,26,12,38,50,38,50,36,48,"F#     70"]
[null,null,null,null,null,"G      71",50,26,12,38,50,38,50,36,48,"G      71"]
[null,null,null,null,null,"G#    72",50,26,12,38,50,38,50,36,48,"G#    72"]
[null,{"$f":"G68","v":49},49,{"$f":"J68","v":36.5},54,"A       73",50,26,12,38,50,38,50,35,47,"A       73"]
[null,null,null,null,null,"A#     74",50,26,12,38,50,38,50,35,47,"A#     74"]
[null,null,null,null,null,"B      75",50,26,12,38,50,38,50,35,47,"B      75"]
[null,{"$f":"G69","v":49},49,{"$f":"J69","v":37.5},55,"C      76",50,26,12,38,50,38,50,35,47,"C      76"]
[null,null,null,null,null,"C#     77",50,26,12,38,50,38,50,35,47,"C#     77"]
[null,null,null,null,null,"D       78",50,26,12,38,50,38,50,35,47,"D       78"]
[null,{"$f":"G70","v":49},49,{"$f":"J70","v":34.5},56,"D#     79",50,26,12,38,50,38,50,35,47,"D#     79"]
[null,null,null,null,null,"E       80",50,26,12,38,50,38,50,35,47,"E       80"]
[null,null,null,null,null,"F       81",50,26,12,38,50,38,50,35,47,"F       81"]
[null,{"$f":"G71","v":49},49,{"$f":"J71","v":34.5},57,"F#     82",50,26,12,38,50,38,50,35,47,"F#     82"]
[null,null,null,null,null,"G      83 ",50,26,12,38,50,38,50,35,47,"G      83 "]
[null,null,null,null,null,"G#    84",50,26,12,38,50,38,50,35,47,"G#    84"]
[null,{"$f":"G72","v":49},49,{"$f":"J72","v":35.5},58,"A       85",50,26,12,38,50,38,50,35,47,"A       85"]
[null,null,null,null,null,"A#     86",50,26,12,38,50,38,50,35,47,"A#     86"]
[null,null,null,null,null,"B       87",50,26,12,38,50,38,50,35,47,"B       87"]
[null,{"$f":"G73","v":49},49,{"$f":"J73","v":36.5},59,"C       88",50,26,12,38,50,38,50,35,47,"C       88"]
[]
[]
[null,{"$f":"G74","v":48},48,{"$f":"J74","v":38},60]
[]
[]
[]
[]
[null,{"$f":"G75","v":48},48,{"$f":"J75","v":37.5},61]
[]
[]
[null,{"$f":"G76","v":48},48,{"$f":"J76","v":37.5},62]
[]
[]
[null,{"$f":"G77","v":48},48,{"$f":"J77","v":36.5},63]
[]
[]
[null,{"$f":"G78","v":48},48,{"$f":"J78","v":37},64]
[]
[]
[null,{"$f":"G79","v":48},48,{"$f":"J79","v":36.5},65]
[]
[]
[null,{"$f":"G80","v":48},48,{"$f":"J80","v":36.5},66]
[]
[]
[null,{"$f":"G81","v":48},48,{"$f":"J81","v":36.5},67]
[]
[]
[null,{"$f":"G82","v":48},48,{"$f":"J82","v":36.5},68]
[]
[]
[null,{"$f":"G83","v":48},48,{"$f":"J83","v":36.5},69]
[]
[]
[null,{"$f":"G84","v":48},48,{"$f":"J84","v":36.5},70]
[]
[]
[null,{"$f":"G85","v":48},48,{"$f":"J85","v":36.5},71]
[]
[]
[null,{"$f":"G86","v":48},48,{"$f":"J86","v":36.5},72]
[]
[]
[]
[]
[null,{"$f":"G87","v":48},48,{"$f":"J87","v":36.5},73]
[]
[]
[null,{"$f":"G88","v":48},48,{"$f":"J88","v":36.5},74]
[]
[]
[null,{"$f":"G89","v":48},48,{"$f":"J89","v":36.5},75]
[]
[]
[null,{"$f":"G90","v":48},48,{"$f":"J90","v":36.5},76]
[]
[]
[null,{"$f":"G91","v":48},48,{"$f":"J91","v":36.5},77]
[]
[]
[null,{"$f":"G92","v":48},48,{"$f":"J92","v":36.5},78]
[]
[]
[null,{"$f":"G93","v":46},46,{"$f":"J93","v":34},79]
[]
[]
[null,{"$f":"G94","v":46},46,{"$f":"J94","v":34},80]
[]
[]
[null,{"$f":"G95","v":46},46,{"$f":"J95","v":34},81]
[]
[]
[null,{"$f":"G96","v":99},99,{"$f":"J96","v":62},82]
[]
[]
[null,{"$f":"G97","v":50},50,{"$f":"J97","v":38.5},83]
[]
[]
[null,{"$f":"G98","v":45},45,{"$f":"J98","v":35},84]
[]
[]
[null,{"$f":"G99","v":47},47,{"$f":"J99","v":37},85]
[]
[]
[null,{"$f":"G100","v":47},47,{"$f":"J100","v":37},86]
[]
[]
[null,{"$f":"G101","v":45},45,{"$f":"J101","v":35},87]
[]
[]
[null,{"$f":"G102","v":42},42,{"$f":"J102","v":32},88]

{"sheet":"Grand Keys","index":2,"n_rows":351,"n_cols":32,"rows_kept":351,"cut":false,"hidden":false,"merged":[[1,13,11,14],[3,10,5,12],[5,6,9,6],[5,7,5,9],[1,4,1,10],[6,7,11,12],[1,16,1,26],[297,14,297,17],[297,3,297,8],[252,1,252,12],[223,1,223,12],[238,1,238,12],[235,1,235,12],[243,1,243,12],[246,1,246,12],[226,1,226,12],[289,1,289,12],[214,1,214,12],[121,1,121,12],[124,1,124,12],[129,1,129,12],[220,1,220,12],[249,1,249,12],[185,1,185,12],[191,1,191,12],[194,1,194,12],[197,1,197,12],[188,1,188,12],[118,1,118,12],[132,1,132,12],[176,1,176,12],[179,1,179,12],[182,1,182,12],[159,1,159,12],[162,1,162,12],[167,1,167,12],[170,1,170,12],[173,1,173,12],[100,1,100,12],[103,1,103,12],[106,1,106,12],[156,1,156,12],[135,1,135,12],[138,1,138,12],[141,1,141,12],[144,1,144,12],[147,1,147,12],[150,1,150,12],[153,1,153,12],[115,1,115,12],[68,1,68,12],[71,1,71,12],[74,1,74,12],[77,1,77,12],[288,1,288,12],[255,1,255,12],[258,1,258,12],[261,1,261,12],[200,1,200,12],[205,1,205,12],[208,1,208,12],[232,1,232,12],[211,1,211,12],[217,1,217,12],[264,1,264,12],[229,1,229,12],[80,1,80,12],[109,1,109,12],[112,1,112,12],[83,1,83,12],[86,1,86,12],[91,1,91,12],[94,1,94,12],[97,1,97,12],[15,1,15,12],[21,1,21,12],[24,1,24,12],[62,1,62,12],[18,1,18,12],[279,1,279,12],[282,1,282,12],[285,1,285,12],[267,1,267,12],[270,1,270,12],[273,1,273,12],[276,1,276,12],[39,1,39,12],[42,1,42,12],[59,1,59,12],[27,1,27,12],[36,1,36,12],[33,1,33,12],[30,1,30,12],[45,1,45,12],[48,1,48,12],[53,1,53,12],[56,1,56,12],[65,1,65,12],[1,1,1,3],[2,4,2,12],[2,1,2,3],[5,1,5,3],[4,1,4,3],[3,1,3,3],[7,1,7,3],[6,1,6,3],[11,1,11,3],[10,1,10,3],[9,1,9,3],[8,1,8,3]]}
[]
[null,"PIANO MAKE MODEL",null,null,"Stein & Grabyurbutt",null,null,null,null,null,null,"Date","2015-12-31","NOTES go here.",null,null,"Example Key # 1 details lead number and locations"]
[null,"CUSTOMER",null,null,"Joe Schlabotnik",null,null,null,null,null,null,null,null,null,null,null,null,null,null,null,null,null,null,{"$f":"F4","v":323}]
[null,"Key Input Naturals =",null,null,"Key 1 >",323,null,"Key 88 >",252,"mm","Notes go here.",null,null,null,null,null,null,null,null,null,null,null,null,null,{"$f":"A16","v":313.13461538461536}]
[null,"Sharps =",null,null,"Key 2 >",288,null,"Key 86 >",252,"mm",null,null,null,null,null,null,null,null,null,null,null,null,null,{"$f":"F15","v":0}]
[null,"Lead Remain Limit =",null,null,0.25,"inches",null,null,null,null,null,null,null,null,null,null,null,null,null,null,null,null,{"$f":"I15","v":0}]
[null,"Lead # 1 Mass =",null,null,14.2,"grams",null,"Main Entry Grid                                                                    Enter Key Dimensions and Lead Masses here.                                                                              Below enter your DW and Lead Locations.",null,null,null,null,null,null,null,null,null,null,null,null,null,{"$f":"L15","v":0},null,null,null,null,null,"Test Weights"]
[null,"Lead # 2 Mass =",null,null,14.2,"grams"]
[null,"Lead # 3 Mass =",null,null,14.2,"grams"]
[null,"Lead widths =",null,null,0.4,"inches"]
[null,"Drill Limit Depth",null,null,{"$f":"E10-E6","v":0.15000000000000002},"inches",{"$f":"E10-E11","v":0.25}]
[null,"Diameter Test Weights",null,null,17,"mm"]
[null,null,"Gram Test",null,"Total Lead to remove gms","Location mm","Drill Depth Inches","Leave this much lead","Location mm","Depth","Leave this much lead","Location mm","Depth","Leave this much lead",null,null,"delta DW","ddw","dif_dw","key_ro","reqd_ld","key_div","slugs","lead_wid","reqd_ld","max_drill","tot_drill","act_drill","lead_out","fac","slug_rmn","delta_DW"]
[null,"Key #","DW (or BW)","DDW (or DBW)","Ld. Out","Lead 1","Drill Out ","LEAVE","Lead 2","Drill Out  ","LEAVE","Lead 3","Drill Out  ","LEAVE",{"$f":"A16","v":313.13461538461536},{"$f":"F15","v":0},{"$f":"C15","v":47},{"$f":"D15","v":53},{"$f":"Q14-R14","v":-6},{"$f":"IF(ISERROR(IF(ISERROR((O14/P14)), 0,(O14/P14))), 0,IF(ISERROR((O14/P14)), 0,(O14/P14)))","v":0},{"$f":"IF(ISERROR(S14*T14), 0,S14*T14)","v":0},{"$f":"IF(ISERROR(IF(ISERROR(IF(ISERROR(IF(ISERROR(O14/T14), 0,O14/T14)), 0,IF(ISERROR(O14/T14), 0,O14/T14))), 0,IF(ISERROR(IF(ISERROR(O14/T14), 0,O14/T14)), 0,IF(ISERROR(O14/T14), 0,O14/T14)))), 0,IF(ISERROR(IF(ISERROR(IF(ISERROR(O14/T14), 0,O14/T14)), 0,IF(ISERROR(O14/T14), 0,O14/T14))), 0,IF(ISERROR(IF(ISERROR(O14/T14), 0,O14/T14)), 0,IF(ISERROR(O14/T14), 0,O14/T14))))","v":0},{"$f":"$E$7","v":14.2},{"$f":"$E$10","v":0.4},{"$f":"IF(ISERROR(ABS(U14)), 0,ABS(U14))","v":0},{"$f":"$X$14-$G$11","v":0.15000000000000002},{"$f":"IF(ISERROR(ABS((Y14*X14)/W14)), 0,ABS((Y14*X14)/W14))","v":0},{"$f":"IF(ISERROR(IF(AA14>Z14,Z14,AA14)), 0,IF(AA14>Z14,Z14,AA14))","v":0},{"$f":"IF(ISERROR(IF(Y14>W14,W14,Y14)), 0,IF(Y14>W14,W14,Y14))","v":0},{"$f":"IF(ISERROR((AC14*AB14)/AA14), 0,(AC14*AB14)/AA14)","v":0},{"$f":"IF(ISERROR(IF(ISERROR(IF(AC14=W14,0,(AC14*AB14)/AA14)), 0,IF(AC14=W14,0,(AC14*AB14)/AA14))), 0,IF(ISERROR(IF(AC14=W14,0,(AC14*AB14)/AA14)), 0,IF(AC14=W14,0,(AC14*AB14)/AA14)))","v":0},{"$f":"IF(ISERROR(IF(ISERROR(IF(ISERROR(IF(AC14=60,Q14+(AC14/T14),Q14+(AD14/T14))), 0,IF(AC14=60,Q14+(AC14/T14),Q14+(AD14/T14)))), 0,IF(ISERROR(IF(AC14=60,Q14+(AC14/T14),Q14+(AD14/T14))), 0,IF(AC14=60,Q14+(AC14/T14),Q14+(AD14/T14))))), 0,IF(ISERROR(IF(ISERROR(IF(AC14=60,Q14+(AC14/T14),Q14+(AD14/T14))), 0,IF(AC14=60,Q14+(AC14/T14),Q14+(AD14/T14)))), 0,IF(ISERROR(IF(AC14=60,Q14+(AC14/T14),Q14+(AD14/T14))), 0,IF(AC14=60,Q14+(AC14/T14),Q14+(AD14/T14)))))","v":0}]
["A",1,47,53,{"$f":"IF(ISERROR(Y14), 0,Y14)","v":0},null,{"$f":"AB14","v":0},{"$f":"IF(ISERROR($E$10-G15), 0,$E$10-G15)","v":0.4},null,{"$f":"IF(ISERROR(AB15), 0,AB15)","v":0},{"$f":"IF(ISERROR(ROUND($E$10-J15,3)), 0,ROUND($E$10-J15,3))","v":0.4},null,{"$f":"IF(ISERROR(AB16), \"\",AB16)","v":0},{"$f":"IF(ISERROR(IF(ISERROR($E$10-M15), \"\",$E$10-M15)), \"\",IF(ISERROR($E$10-M15), \"\",$E$10-M15))","v":0.4},{"$f":"A16","v":313.13461538461536},{"$f":"I15","v":0},{"$f":"IF(ISERROR(IF(ISERROR(IF(ISERROR(IF(AC14=W14,Q14+(AC14/T14),Q14+(AD14/T14))), 0,IF(AC14=W14,Q14+(AC14/T14),Q14+(AD14/T14)))), 0,IF(ISERROR(IF(AC14=W14,Q14+(AC14/T14),Q14+(AD14/T14))), 0,IF(AC14=W14,Q14+(AC14/T14),Q14+(AD14/T14))))), 0,IF(ISERROR(IF(ISERROR(IF(AC14=W14,Q14+(AC14/T14),Q14+(AD14/T14))), 0,IF(AC14=W14,Q14+(AC14/T14),Q14+(AD14/T14)))), 0,IF(ISERROR(IF(AC14=W14,Q14+(AC14/T14),Q14+(AD14/T14))), 0,IF(AC14=W14,Q14+(AC14/T14),Q14+(AD14/T14)))))","v":0},{"$f":"D15","v":53},{"$f":"IF(ISERROR(IF(ISERROR(IF(ISERROR(Q15-R15), 0,Q15-R15)), 0,IF(ISERROR(Q15-R15), 0,Q15-R15))), 0,IF(ISERROR(IF(ISERROR(Q15-R15), 0,Q15-R15)), 0,IF(ISERROR(Q15-R15), 0,Q15-R15)))","v":-53},{"$f":"IF(ISERROR(IF(ISERROR(IF(ISERROR((O15/P15)), 0,(O15/P15))), 0,IF(ISERROR((O15/P15)), 0,(O15/P15)))), 0,IF(ISERROR(IF(ISERROR((O15/P15)), 0,(O15/P15))), 0,IF(ISERROR((O15/P15)), 0,(O15/P15))))","v":0},{"$f":"IF(ISERROR(IF(ISERROR(IF(ISERROR(S15*T15), 0,S15*T15)), 0,IF(ISERROR(S15*T15), 0,S15*T15))), 0,IF(ISERROR(IF(ISERROR(S15*T15), 0,S15*T15)), 0,IF(ISERROR(S15*T15), 0,S15*T15)))","v":0},{"$f":"IF(ISERROR(IF(ISERROR(IF(ISERROR(IF(ISERROR(O15/T15), 0,O15/T15)), 0,IF(ISERROR(O15/T15), 0,O15/T15))), 0,IF(ISERROR(IF(ISERROR(O15/T15), 0,O15/T15)), 0,IF(ISERROR(O15/T15), 0,O15/T15)))), 0,IF(ISERROR(IF(ISERROR(IF(ISERROR(O15/T15), 0,O15/T15)), 0,IF(ISERROR(O15/T15), 0,O15/T15))), 0,IF(ISERROR(IF(ISERROR(O15/T15), 0,O15/T15)), 0,IF(ISERROR(O15/T15), 0,O15/T15))))","v":0},14.2,0.4,{"$f":"IF(ISERROR(IF(ISERROR(IF(ISERROR(ABS(U15)), 0,ABS(U15))), 0,IF(ISERROR(ABS(U15)), 0,ABS(U15)))), 0,IF(ISERROR(IF(ISERROR(ABS(U15)), 0,ABS(U15))), 0,IF(ISERROR(ABS(U15)), 0,ABS(U15))))","v":0},0.15000000000000002,{"$f":"IF(ISERROR(IF(ISERROR(IF(ISERROR(ABS((Y15*X15)/W15)), 0,ABS((Y15*X15)/W15))), 0,IF(ISERROR(ABS((Y15*X15)/W15)), 0,ABS((Y15*X15)/W15)))), 0,IF(ISERROR(IF(ISERROR(ABS((Y15*X15)/W15)), 0,ABS((Y15*X15)/W15))), 0,IF(ISERROR(ABS((Y15*X15)/W15)), 0,ABS((Y15*X15)/W15))))","v":0},{"$f":"IF(ISERROR(IF(ISERROR(IF(ISERROR(IF(AA15>Z15,Z15,AA15)), 0,IF(AA15>Z15,Z15,AA15))), 0,IF(ISERROR(IF(AA15>Z15,Z15,AA15)), 0,IF(AA15>Z15,Z15,AA15)))), 0,IF(ISERROR(IF(ISERROR(IF(AA15>Z15,Z15,AA15)), 0,IF(AA15>Z15,Z15,AA15))), 0,IF(ISERROR(IF(AA15>Z15,Z15,AA15)), 0,IF(AA15>Z15,Z15,AA15))))","v":0},{"$f":"IF(ISERROR(IF(ISERROR(IF(ISERROR(IF(Y15>W15,W15,Y15)), 0,IF(Y15>W15,W15,Y15))), 0,IF(ISERROR(IF(Y15>W15,W15,Y15)), 0,IF(Y15>W15,W15,Y15)))), 0,IF(ISERROR(IF(ISERROR(IF(Y15>W15,W15,Y15)), 0,IF(Y15>W15,W15,Y15))), 0,IF(ISERROR(IF(Y15>W15,W15,Y15)), 0,IF(Y15>W15,W15,Y15))))","v":0},{"$f":"IF(ISERROR((AC15*AB15)/AA15), \"\",(AC15*AB15)/AA15)","v":""},{"$f":"IF(ISERROR(IF(AC15=W15,0,(AC15*AB15)/AA15)), \"\",IF(AC15=W15,0,(AC15*AB15)/AA15))","v":""},{"$f":"IF(ISERROR(IF(AC15=60,Q15+(AC15/T15),Q15+(AD15/T15))), \"\",IF(AC15=60,Q15+(AC15/T15),Q15+(AD15/T15)))","v":""}]
[{"$f":"F301","v":313.13461538461536},{"$f":"IF(AND(C15<D15, E15>$E$7),\"Ignore Drill Out Lead 1; rather pop out Lead 1 and LEAVE lead # 2 to \"&K15&\" inches.\",\"\")","v":""},null,null,null,null,null,null,null,null,null,null,null,{"$f":"(G15+J15+M15)/$E$10*$E$7","v":0},{"$f":"A16","v":313.13461538461536},{"$f":"L15","v":0},{"$f":"IF(ISERROR(IF(AC15=W15,Q15+(AC15/T15),Q15+(AD15/T15))), \"\",IF(AC15=W15,Q15+(AC15/T15),Q15+(AD15/T15)))","v":""},{"$f":"D15","v":53},{"$f":"IF(ISERROR(Q16-R16), 0,Q16-R16)","v":0},{"$f":"IF(ISERROR(IF(ISERROR(IF(ISERROR(IF(ISERROR((O16/P16)), 0,(O16/P16))), 0,IF(ISERROR((O16/P16)), 0,(O16/P16)))), 0,IF(ISERROR(IF(ISERROR((O16/P16)), 0,(O16/P16))), 0,IF(ISERROR((O16/P16)), 0,(O16/P16))))), 0,IF(ISERROR(IF(ISERROR(IF(ISERROR((O16/P16)), 0,(O16/P16))), 0,IF(ISERROR((O16/P16)), 0,(O16/P16)))), 0,IF(ISERROR(IF(ISERROR((O16/P16)), 0,(O16/P16))), 0,IF(ISERROR((O16/P16)), 0,(O16/P16)))))","v":0},{"$f":"IF(ISERROR(S16*T16), \"\",S16*T16)","v":0},{"$f":"IF(ISERROR(IF(ISERROR(IF(ISERROR(IF(ISERROR(O16/T16), 0,O16/T16)), 0,IF(ISERROR(O16/T16), 0,O16/T16))), 0,IF(ISERROR(IF(ISERROR(O16/T16), 0,O16/T16)), 0,IF(ISERROR(O16/T16), 0,O16/T16)))), 0,IF(ISERROR(IF(ISERROR(IF(ISERROR(O16/T16), 0,O16/T16)), 0,IF(ISERROR(O16/T16), 0,O16/T16))), 0,IF(ISERROR(IF(ISERROR(O16/T16), 0,O16/T16)), 0,IF(ISERROR(O16/T16), 0,O16/T16))))","v":0},14.2,0.4,{"$f":"IF(ISERROR(ABS(U16)), \"\",ABS(U16))","v":0},0.15000000000000002,{"$f":"IF(ISERROR(ABS((Y16*X16)/W16)), \"\",ABS((Y16*X16)/W16))","v":0},{"$f":"IF(AA16>Z16,Z16,AA16)","v":0},{"$f":"IF(Y16>W16,W16,Y16)","v":0},{"$f":"IF(ISERROR((AC16*AB16)/AA16), \"\",(AC16*AB16)/AA16)","v":""},{"$f":"IF(ISERROR(IF(AC16=W16,0,(AC16*AB16)/AA16)), \"\",IF(AC16=W16,0,(AC16*AB16)/AA16))","v":""},{"$f":"IF(ISERROR(IF(AC16=60,Q16+(AC16/T16),Q16+(AD16/T16))), \"\",IF(AC16=60,Q16+(AC16/T16),Q16+(AD16/T16)))","v":""}]
[null,null,"Test","Target",null,1,"dr_o","Lv_in",2,"dr_o","Lv_in",3,"dr_o","Lv_in",{"$f":"A19","v":279.5},{"$f":"F18","v":0},{"$f":"C18","v":50},{"$f":"D18","v":53},{"$f":"Q17-R17","v":-3},{"$f":"IF(ISERROR(IF(ISERROR((O17/P17)), 0,(O17/P17))), 0,IF(ISERROR((O17/P17)), 0,(O17/P17)))","v":0},{"$f":"IF(ISERROR(S17*T17), 0,S17*T17)","v":0},{"$f":"IF(ISERROR(IF(ISERROR(IF(ISERROR(IF(ISERROR(O17/T17), 0,O17/T17)), 0,IF(ISERROR(O17/T17), 0,O17/T17))), 0,IF(ISERROR(IF(ISERROR(O17/T17), 0,O17/T17)), 0,IF(ISERROR(O17/T17), 0,O17/T17)))), 0,IF(ISERROR(IF(ISERROR(IF(ISERROR(O17/T17), 0,O17/T17)), 0,IF(ISERROR(O17/T17), 0,O17/T17))), 0,IF(ISERROR(IF(ISERROR(O17/T17), 0,O17/T17)), 0,IF(ISERROR(O17/T17), 0,O17/T17))))","v":0},14.2,0.4,{"$f":"IF(ISERROR(ABS(U17)), 0,ABS(U17))","v":0},0.15000000000000002,{"$f":"IF(ISERROR(ABS((Y17*X17)/W17)), 0,ABS((Y17*X17)/W17))","v":0},{"$f":"IF(ISERROR(IF(AA17>Z17,Z17,AA17)), 0,IF(AA17>Z17,Z17,AA17))","v":0},{"$f":"IF(ISERROR(IF(Y17>W17,W17,Y17)), 0,IF(Y17>W17,W17,Y17))","v":0},{"$f":"IF(ISERROR((AC17*AB17)/AA17), 0,(AC17*AB17)/AA17)","v":0},{"$f":"IF(ISERROR(IF(ISERROR(IF(AC17=W17,0,(AC17*AB17)/AA17)), 0,IF(AC17=W17,0,(AC17*AB17)/AA17))), 0,IF(ISERROR(IF(AC17=W17,0,(AC17*AB17)/AA17)), 0,IF(AC17=W17,0,(AC17*AB17)/AA17)))","v":0},{"$f":"IF(ISERROR(IF(AC17=60,Q17+(AC17/T17),Q17+(AD17/T17))), 0,IF(AC17=60,Q17+(AC17/T17),Q17+(AD17/T17)))","v":0}]
["A#",2,50,53,{"$f":"IF(ISERROR(Y17), 0,Y17)","v":0},null,{"$f":"IF(ISERROR(AB17), 0,AB17)","v":0},{"$f":"IF(ISERROR($E$10-G18), 0,$E$10-G18)","v":0.4},null,{"$f":"IF(ISERROR(AB18), 0,AB18)","v":0},{"$f":"IF(ISERROR(ROUND($E$10-J18,3)), 0,ROUND($E$10-J18,3))","v":0.4},null,{"$f":"IF(ISERROR(AB19), \"\",AB19)","v":0},{"$f":"IF(ISERROR($E$10-M18), \"\",$E$10-M18)","v":0.4},{"$f":"A19","v":279.5},{"$f":"I18","v":0},{"$f":"IF(ISERROR(IF(AC17=W17,Q17+(AC17/T17),Q17+(AD17/T17))), 0,IF(AC17=W17,Q17+(AC17/T17),Q17+(AD17/T17)))","v":0},{"$f":"D18","v":53},{"$f":"IF(ISERROR(Q18-R18), 0,Q18-R18)","v":-53},{"$f":"IF(ISERROR(IF(ISERROR(IF(ISERROR((O18/P18)), 0,(O18/P18))), 0,IF(ISERROR((O18/P18)), 0,(O18/P18)))), 0,IF(ISERROR(IF(ISERROR((O18/P18)), 0,(O18/P18))), 0,IF(ISERROR((O18/P18)), 0,(O18/P18))))","v":0},{"$f":"IF(ISERROR(S18*T18), 0,S18*T18)","v":0},{"$f":"IF(ISERROR(IF(ISERROR(IF(ISERROR(IF(ISERROR(O18/T18), 0,O18/T18)), 0,IF(ISERROR(O18/T18), 0,O18/T18))), 0,IF(ISERROR(IF(ISERROR(O18/T18), 0,O18/T18)), 0,IF(ISERROR(O18/T18), 0,O18/T18)))), 0,IF(ISERROR(IF(ISERROR(IF(ISERROR(O18/T18), 0,O18/T18)), 0,IF(ISERROR(O18/T18), 0,O18/T18))), 0,IF(ISERROR(IF(ISERROR(O18/T18), 0,O18/T18)), 0,IF(ISERROR(O18/T18), 0,O18/T18))))","v":0},14.2,0.4,{"$f":"IF(ISERROR(ABS(U18)), 0,ABS(U18))","v":0},0.15000000000000002,{"$f":"IF(ISERROR(ABS((Y18*X18)/W18)), 0,ABS((Y18*X18)/W18))","v":0},{"$f":"IF(ISERROR(IF(AA18>Z18,Z18,AA18)), 0,IF(AA18>Z18,Z18,AA18))","v":0},{"$f":"IF(ISERROR(IF(Y18>W18,W18,Y18)), 0,IF(Y18>W18,W18,Y18))","v":0},{"$f":"IF(ISERROR((AC18*AB18)/AA18), \"\",(AC18*AB18)/AA18)","v":""},{"$f":"IF(ISERROR(IF(AC18=W18,0,(AC18*AB18)/AA18)), \"\",IF(AC18=W18,0,(AC18*AB18)/AA18))","v":""},{"$f":"IF(ISERROR(IF(AC18=60,Q18+(AC18/T18),Q18+(AD18/T18))), \"\",IF(AC18=60,Q18+(AC18/T18),Q18+(AD18/T18)))","v":""}]
[{"$f":"R300","v":279.5},{"$f":"IF(AND(C18<D18, E18>$E$7),\"Ignore Drill Out Lead 1; rather pop out Lead 1 and LEAVE lead # 2 to \"&K18&\" inches.\",\"\")","v":""},null,null,null,null,null,null,null,null,null,null,null,{"$f":"(G18+J18+M18)/$E$10*$E$7","v":0},{"$f":"A19","v":279.5},{"$f":"L18","v":0},{"$f":"IF(ISERROR(IF(AC18=W18,Q18+(AC18/T18),Q18+(AD18/T18))), \"\",IF(AC18=W18,Q18+(AC18/T18),Q18+(AD18/T18)))","v":""},{"$f":"D18","v":53},{"$f":"IF(ISERROR(Q19-R19), 0,Q19-R19)","v":0},{"$f":"IF(ISERROR((O19/P19)), 0,(O19/P19))","v":0},{"$f":"IF(ISERROR(S19*T19), \"\",S19*T19)","v":0},{"$f":"IF(ISERROR(IF(ISERROR(O19/T19), 0,O19/T19)), 0,IF(ISERROR(O19/T19), 0,O19/T19))","v":0},14.2,0.4,{"$f":"IF(ISERROR(ABS(U19)), \"\",ABS(U19))","v":0},0.15000000000000002,{"$f":"IF(ISERROR(ABS((Y19*X19)/W19)), \"\",ABS((Y19*X19)/W19))","v":0},{"$f":"IF(AA19>Z19,Z19,AA19)","v":0},{"$f":"IF(Y19>W19,W19,Y19)","v":0},{"$f":"IF(ISERROR((AC19*AB19)/AA19), \"\",(AC19*AB19)/AA19)","v":""},{"$f":"IF(ISERROR(IF(AC19=W19,0,(AC19*AB19)/AA19)), \"\",IF(AC19=W19,0,(AC19*AB19)/AA19))","v":""},{"$f":"IF(ISERROR(IF(AC19=60,Q19+(AC19/T19),Q19+(AD19/T19))), \"\",IF(AC19=60,Q19+(AC19/T19),Q19+(AD19/T19)))","v":""}]
[null,null,"Test","Target",null,1,"dr_o","Lv_in",2,"dr_o","Lv_in",3,"dr_o","Lv_in",{"$f":"A22","v":313.13461538461536},{"$f":"F21","v":0},{"$f":"C21","v":50},{"$f":"D21","v":53},{"$f":"Q20-R20","v":-3},{"$f":"IF(ISERROR(IF(ISERROR(IF(ISERROR(IF(ISERROR((O20/P20)), 0,(O20/P20))), 0,IF(ISERROR((O20/P20)), 0,(O20/P20)))), 0,IF(ISERROR(IF(ISERROR((O20/P20)), 0,(O20/P20))), 0,IF(ISERROR((O20/P20)), 0,(O20/P20))))), 0,IF(ISERROR(IF(ISERROR(IF(ISERROR((O20/P20)), 0,(O20/P20))), 0,IF(ISERROR((O20/P20)), 0,(O20/P20)))), 0,IF(ISERROR(IF(ISERROR((O20/P20)), 0,(O20/P20))), 0,IF(ISERROR((O20/P20)), 0,(O20/P20)))))","v":0},{"$f":"IF(ISERROR(IF(ISERROR(IF(ISERROR(IF(ISERROR(S20*T20), 0,S20*T20)), 0,IF(ISERROR(S20*T20), 0,S20*T20))), 0,IF(ISERROR(IF(ISERROR(S20*T20), 0,S20*T20)), 0,IF(ISERROR(S20*T20), 0,S20*T20)))), 0,IF(ISERROR(IF(ISERROR(IF(ISERROR(S20*T20), 0,S20*T20)), 0,IF(ISERROR(S20*T20), 0,S20*T20))), 0,IF(ISERROR(IF(ISERROR(S20*T20), 0,S20*T20)), 0,IF(ISERROR(S20*T20), 0,S20*T20))))","v":0},{"$f":"IF(ISERROR(IF(ISERROR(IF(ISERROR(IF(ISERROR(O20/T20), 0,O20/T20)), 0,IF(ISERROR(O20/T20), 0,O20/T20))), 0,IF(ISERROR(IF(ISERROR(O20/T20), 0,O20/T20)), 0,IF(ISERROR(O20/T20), 0,O20/T20)))), 0,IF(ISERROR(IF(ISERROR(IF(ISERROR(O20/T20), 0,O20/T20)), 0,IF(ISERROR(O20/T20), 0,O20/T20))), 0,IF(ISERROR(IF(ISERROR(O20/T20), 0,O20/T20)), 0,IF(ISERROR(O20/T20), 0,O20/T20))))","v":0},14.2,0.4,{"$f":"IF(ISERROR(IF(ISERROR(IF(ISERROR(ABS(U20)), 0,ABS(U20))), 0,IF(ISERROR(ABS(U20)), 0,ABS(U20)))), 0,IF(ISERROR(IF(ISERROR(ABS(U20)), 0,ABS(U20))), 0,IF(ISERROR(ABS(U20)), 0,ABS(U20))))","v":0},0.15000000000000002,{"$f":"IF(ISERROR(IF(ISERROR(IF(ISERROR(ABS((Y20*X20)/W20)), 0,ABS((Y20*X20)/W20))), 0,IF(ISERROR(ABS((Y20*X20)/W20)), 0,ABS((Y20*X20)/W20)))), 0,IF(ISERROR(IF(ISERROR(ABS((Y20*X20)/W20)), 0,ABS((Y20*X20)/W20))), 0,IF(ISERROR(ABS((Y20*X20)/W20)), 0,ABS((Y20*X20)/W20))))","v":0},{"$f":"IF(ISERROR(IF(ISERROR(IF(ISERROR(IF(AA20>Z20,Z20,AA20)), 0,IF(AA20>Z20,Z20,AA20))), 0,IF(ISERROR(IF(AA20>Z20,Z20,AA20)), 0,IF(AA20>Z20,Z20,AA20)))), 0,IF(ISERROR(IF(ISERROR(IF(AA20>Z20,Z20,AA20)), 0,IF(AA20>Z20,Z20,AA20))), 0,IF(ISERROR(IF(AA20>Z20,Z20,AA20)), 0,IF(AA20>Z20,Z20,AA20))))","v":0},{"$f":"IF(ISERROR(IF(ISERROR(IF(ISERROR(IF(Y20>W20,W20,Y20)), 0,IF(Y20>W20,W20,Y20))), 0,IF(ISERROR(IF(Y20>W20,W20,Y20)), 0,IF(Y20>W20,W20,Y20)))), 0,IF(ISERROR(IF(ISERROR(IF(Y20>W20,W20,Y20)), 0,IF(Y20>W20,W20,Y20))), 0,IF(ISERROR(IF(Y20>W20,W20,Y20)), 0,IF(Y20>W20,W20,Y20))))","v":0},{"$f":"IF(ISERROR((AC20*AB20)/AA20), 0,(AC20*AB20)/AA20)","v":0},{"$f":"IF(ISERROR(IF(ISERROR(IF(AC20=W20,0,(AC20*AB20)/AA20)), 0,IF(AC20=W20,0,(AC20*AB20)/AA20))), 0,IF(ISERROR(IF(AC20=W20,0,(AC20*AB20)/AA20)), 0,IF(AC20=W20,0,(AC20*AB20)/AA20)))","v":0},{"$f":"IF(ISERROR(IF(AC20=60,Q20+(AC20/T20),Q20+(AD20/T20))), 0,IF(AC20=60,Q20+(AC20/T20),Q20+(AD20/T20)))","v":0}]
["B",3,50,53,{"$f":"IF(ISERROR(Y20), 0,Y20)","v":0},null,{"$f":"IF(ISERROR(IF(ISERROR(IF(ISERROR(AB20), 0,AB20)), 0,IF(ISERROR(AB20), 0,AB20))), 0,IF(ISERROR(IF(ISERROR(AB20), 0,AB20)), 0,IF(ISERROR(AB20), 0,AB20)))","v":0},{"$f":"IF(ISERROR(IF(ISERROR(IF(ISERROR($E$10-G21), 0,$E$10-G21)), 0,IF(ISERROR($E$10-G21), 0,$E$10-G21))), 0,IF(ISERROR(IF(ISERROR($E$10-G21), 0,$E$10-G21)), 0,IF(ISERROR($E$10-G21), 0,$E$10-G21)))","v":0.4},null,{"$f":"IF(ISERROR(AB21), 0,AB21)","v":0},{"$f":"IF(ISERROR(ROUND($E$10-J21,3)), 0,ROUND($E$10-J21,3))","v":0.4},null,{"$f":"IF(ISERROR(AB22), 0,AB22)","v":0},{"$f":"IF(ISERROR($E$10-M21), 0,$E$10-M21)","v":0.4},{"$f":"A22","v":313.13461538461536},{"$f":"I21","v":0},{"$f":"IF(ISERROR(IF(AC20=W20,Q20+(AC20/T20),Q20+(AD20/T20))), 0,IF(AC20=W20,Q20+(AC20/T20),Q20+(AD20/T20)))","v":0},{"$f":"D21","v":53},{"$f":"IF(ISERROR(Q21-R21), 0,Q21-R21)","v":-53},{"$f":"IF(ISERROR(IF(ISERROR(IF(ISERROR(IF(ISERROR((O21/P21)), 0,(O21/P21))), 0,IF(ISERROR((O21/P21)), 0,(O21/P21)))), 0,IF(ISERROR(IF(ISERROR((O21/P21)), 0,(O21/P21))), 0,IF(ISERROR((O21/P21)), 0,(O21/P21))))), 0,IF(ISERROR(IF(ISERROR(IF(ISERROR((O21/P21)), 0,(O21/P21))), 0,IF(ISERROR((O21/P21)), 0,(O21/P21)))), 0,IF(ISERROR(IF(ISERROR((O21/P21)), 0,(O21/P21))), 0,IF(ISERROR((O21/P21)), 0,(O21/P21)))))","v":0},{"$f":"IF(ISERROR(S21*T21), 0,S21*T21)","v":0},{"$f":"IF(ISERROR(IF(ISERROR(IF(ISERROR(IF(ISERROR(O21/T21), 0,O21/T21)), 0,IF(ISERROR(O21/T21), 0,O21/T21))), 0,IF(ISERROR(IF(ISERROR(O21/T21), 0,O21/T21)), 0,IF(ISERROR(O21/T21), 0,O21/T21)))), 0,IF(ISERROR(IF(ISERROR(IF(ISERROR(O21/T21), 0,O21/T21)), 0,IF(ISERROR(O21/T21), 0,O21/T21))), 0,IF(ISERROR(IF(ISERROR(O21/T21), 0,O21/T21)), 0,IF(ISERROR(O21/T21), 0,O21/T21))))","v":0},14.2,0.4,{"$f":"IF(ISERROR(ABS(U21)), 0,ABS(U21))","v":0},0.15000000000000002,{"$f":"IF(ISERROR(ABS((Y21*X21)/W21)), 0,ABS((Y21*X21)/W21))","v":0},{"$f":"IF(ISERROR(IF(AA21>Z21,Z21,AA21)), 0,IF(AA21>Z21,Z21,AA21))","v":0},{"$f":"IF(ISERROR(IF(Y21>W21,W21,Y21)), 0,IF(Y21>W21,W21,Y21))","v":0},{"$f":"IF(ISERROR((AC21*AB21)/AA21), 0,(AC21*AB21)/AA21)","v":0},{"$f":"IF(ISERROR(IF(ISERROR(IF(AC21=W21,0,(AC21*AB21)/AA21)), 0,IF(AC21=W21,0,(AC21*AB21)/AA21))), 0,IF(ISERROR(IF(AC21=W21,0,(AC21*AB21)/AA21)), 0,IF(AC21=W21,0,(AC21*AB21)/AA21)))","v":0},{"$f":"IF(ISERROR(IF(AC21=60,Q21+(AC21/T21),Q21+(AD21/T21))), 0,IF(AC21=60,Q21+(AC21/T21),Q21+(AD21/T21)))","v":0}]
[{"$f":"F301","v":313.13461538461536},{"$f":"IF(AND(C21<D21, E21>$E$7),\"Ignore Drill Out Lead 1; rather pop out Lead 1 and LEAVE lead # 2 to \"&K21&\" inches.\",\"\")","v":""},null,null,null,null,null,null,null,null,null,null,null,{"$f":"IF(ISERROR((G21+J21+M21)/$E$10*$E$7), 0,(G21+J21+M21)/$E$10*$E$7)","v":0},{"$f":"A22","v":313.13461538461536},{"$f":"L21","v":0},{"$f":"IF(ISERROR(IF(AC21=W21,Q21+(AC21/T21),Q21+(AD21/T21))), 0,IF(AC21=W21,Q21+(AC21/T21),Q21+(AD21/T21)))","v":0},{"$f":"D21","v":53},{"$f":"IF(ISERROR(Q22-R22), 0,Q22-R22)","v":-53},{"$f":"IF(ISERROR(IF(ISERROR((O22/P22)), 0,(O22/P22))), 0,IF(ISERROR((O22/P22)), 0,(O22/P22)))","v":0},{"$f":"IF(ISERROR(IF(ISERROR(S22*T22), 0,S22*T22)), 0,IF(ISERROR(S22*T22), 0,S22*T22))","v":0},{"$f":"IF(ISERROR(IF(ISERROR(IF(ISERROR(O22/T22), 0,O22/T22)), 0,IF(ISERROR(O22/T22), 0,O22/T22))), 0,IF(ISERROR(IF(ISERROR(O22/T22), 0,O22/T22)), 0,IF(ISERROR(O22/T22), 0,O22/T22)))","v":0},14.2,0.4,{"$f":"IF(ISERROR(IF(ISERROR(ABS(U22)), 0,ABS(U22))), 0,IF(ISERROR(ABS(U22)), 0,ABS(U22)))","v":0},0.15000000000000002,{"$f":"IF(ISERROR(IF(ISERROR(ABS((Y22*X22)/W22)), 0,ABS((Y22*X22)/W22))), 0,IF(ISERROR(ABS((Y22*X22)/W22)), 0,ABS((Y22*X22)/W22)))","v":0},{"$f":"IF(ISERROR(IF(ISERROR(IF(AA22>Z22,Z22,AA22)), 0,IF(AA22>Z22,Z22,AA22))), 0,IF(ISERROR(IF(AA22>Z22,Z22,AA22)), 0,IF(AA22>Z22,Z22,AA22)))","v":0},{"$f":"IF(ISERROR(IF(ISERROR(IF(Y22>W22,W22,Y22)), 0,IF(Y22>W22,W22,Y22))), 0,IF(ISERROR(IF(Y22>W22,W22,Y22)), 0,IF(Y22>W22,W22,Y22)))","v":0},{"$f":"IF(ISERROR((AC22*AB22)/AA22), \"\",(AC22*AB22)/AA22)","v":""},{"$f":"IF(ISERROR(IF(AC22=W22,0,(AC22*AB22)/AA22)), \"\",IF(AC22=W22,0,(AC22*AB22)/AA22))","v":""},{"$f":"IF(ISERROR(IF(AC22=60,Q22+(AC22/T22),Q22+(AD22/T22))), \"\",IF(AC22=60,Q22+(AC22/T22),Q22+(AD22/T22)))","v":""}]
[null,null,"Test","Target",null,1,"dr_o","Lv_in",2,"dr_o","Lv_in",3,"dr_o","Lv_in",{"$f":"A25","v":311.76923076923072},{"$f":"F24","v":0},{"$f":"C24","v":50},{"$f":"D24","v":53},{"$f":"Q23-R23","v":-3},{"$f":"IF(ISERROR(IF(ISERROR(IF(ISERROR(IF(ISERROR((O23/P23)), 0,(O23/P23))), 0,IF(ISERROR((O23/P23)), 0,(O23/P23)))), 0,IF(ISERROR(IF(ISERROR((O23/P23)), 0,(O23/P23))), 0,IF(ISERROR((O23/P23)), 0,(O23/P23))))), 0,IF(ISERROR(IF(ISERROR(IF(ISERROR((O23/P23)), 0,(O23/P23))), 0,IF(ISERROR((O23/P23)), 0,(O23/P23)))), 0,IF(ISERROR(IF(ISERROR((O23/P23)), 0,(O23/P23))), 0,IF(ISERROR((O23/P23)), 0,(O23/P23)))))","v":0},{"$f":"IF(ISERROR(IF(ISERROR(IF(ISERROR(IF(ISERROR(S23*T23), 0,S23*T23)), 0,IF(ISERROR(S23*T23), 0,S23*T23))), 0,IF(ISERROR(IF(ISERROR(S23*T23), 0,S23*T23)), 0,IF(ISERROR(S23*T23), 0,S23*T23)))), 0,IF(ISERROR(IF(ISERROR(IF(ISERROR(S23*T23), 0,S23*T23)), 0,IF(ISERROR(S23*T23), 0,S23*T23))), 0,IF(ISERROR(IF(ISERROR(S23*T23), 0,S23*T23)), 0,IF(ISERROR(S23*T23), 0,S23*T23))))","v":0},{"$f":"IF(ISERROR(IF(ISERROR(IF(ISERROR(IF(ISERROR(O23/T23), 0,O23/T23)), 0,IF(ISERROR(O23/T23), 0,O23/T23))), 0,IF(ISERROR(IF(ISERROR(O23/T23), 0,O23/T23)), 0,IF(ISERROR(O23/T23), 0,O23/T23)))), 0,IF(ISERROR(IF(ISERROR(IF(ISERROR(O23/T23), 0,O23/T23)), 0,IF(ISERROR(O23/T23), 0,O23/T23))), 0,IF(ISERROR(IF(ISERROR(O23/T23), 0,O23/T23)), 0,IF(ISERROR(O23/T23), 0,O23/T23))))","v":0},14.2,0.4,{"$f":"IF(ISERROR(IF(ISERROR(IF(ISERROR(ABS(U23)), 0,ABS(U23))), 0,IF(ISERROR(ABS(U23)), 0,ABS(U23)))), 0,IF(ISERROR(IF(ISERROR(ABS(U23)), 0,ABS(U23))), 0,IF(ISERROR(ABS(U23)), 0,ABS(U23))))","v":0},0.15000000000000002,{"$f":"IF(ISERROR(IF(ISERROR(IF(ISERROR(ABS((Y23*X23)/W23)), 0,ABS((Y23*X23)/W23))), 0,IF(ISERROR(ABS((Y23*X23)/W23)), 0,ABS((Y23*X23)/W23)))), 0,IF(ISERROR(IF(ISERROR(ABS((Y23*X23)/W23)), 0,ABS((Y23*X23)/W23))), 0,IF(ISERROR(ABS((Y23*X23)/W23)), 0,ABS((Y23*X23)/W23))))","v":0},{"$f":"IF(ISERROR(IF(ISERROR(IF(ISERROR(IF(AA23>Z23,Z23,AA23)), 0,IF(AA23>Z23,Z23,AA23))), 0,IF(ISERROR(IF(AA23>Z23,Z23,AA23)), 0,IF(AA23>Z23,Z23,AA23)))), 0,IF(ISERROR(IF(ISERROR(IF(AA23>Z23,Z23,AA23)), 0,IF(AA23>Z23,Z23,AA23))), 0,IF(ISERROR(IF(AA23>Z23,Z23,AA23)), 0,IF(AA23>Z23,Z23,AA23))))","v":0},{"$f":"IF(ISERROR(IF(ISERROR(IF(ISERROR(IF(Y23>W23,W23,Y23)), 0,IF(Y23>W23,W23,Y23))), 0,IF(ISERROR(IF(Y23>W23,W23,Y23)), 0,IF(Y23>W23,W23,Y23)))), 0,IF(ISERROR(IF(ISERROR(IF(Y23>W23,W23,Y23)), 0,IF(Y23>W23,W23,Y23))), 0,IF(ISERROR(IF(Y23>W23,W23,Y23)), 0,IF(Y23>W23,W23,Y23))))","v":0},{"$f":"IF(ISERROR((AC23*AB23)/AA23), 0,(AC23*AB23)/AA23)","v":0},{"$f":"IF(ISERROR(IF(ISERROR(IF(AC23=W23,0,(AC23*AB23)/AA23)), 0,IF(AC23=W23,0,(AC23*AB23)/AA23))), 0,IF(ISERROR(IF(AC23=W23,0,(AC23*AB23)/AA23)), 0,IF(AC23=W23,0,(AC23*AB23)/AA23)))","v":0},{"$f":"IF(ISERROR(IF(AC23=60,Q23+(AC23/T23),Q23+(AD23/T23))), 0,IF(AC23=60,Q23+(AC23/T23),Q23+(AD23/T23)))","v":0}]
["C",4,50,53,{"$f":"IF(ISERROR(IF(ISERROR(IF(ISERROR(Y23), 0,Y23)), 0,IF(ISERROR(Y23), 0,Y23))), 0,IF(ISERROR(IF(ISERROR(Y23), 0,Y23)), 0,IF(ISERROR(Y23), 0,Y23)))","v":0},null,{"$f":"IF(ISERROR(IF(ISERROR(IF(ISERROR(AB23), 0,AB23)), 0,IF(ISERROR(AB23), 0,AB23))), 0,IF(ISERROR(IF(ISERROR(AB23), 0,AB23)), 0,IF(ISERROR(AB23), 0,AB23)))","v":0},{"$f":"IF(ISERROR(IF(ISERROR(IF(ISERROR($E$10-G24), 0,$E$10-G24)), 0,IF(ISERROR($E$10-G24), 0,$E$10-G24))), 0,IF(ISERROR(IF(ISERROR($E$10-G24), 0,$E$10-G24)), 0,IF(ISERROR($E$10-G24), 0,$E$10-G24)))","v":0.4},null,{"$f":"IF(ISERROR(AB24), 0,AB24)","v":0},{"$f":"IF(ISERROR(ROUND($E$10-J24,3)), 0,ROUND($E$10-J24,3))","v":0.4},null,{"$f":"IF(ISERROR(AB25), 0,AB25)","v":0},{"$f":"IF(ISERROR($E$10-M24), 0,$E$10-M24)","v":0.4},{"$f":"A25","v":311.76923076923072},{"$f":"I24","v":0},{"$f":"IF(ISERROR(IF(AC23=W23,Q23+(AC23/T23),Q23+(AD23/T23))), 0,IF(AC23=W23,Q23+(AC23/T23),Q23+(AD23/T23)))","v":0},{"$f":"D24","v":53},{"$f":"IF(ISERROR(Q24-R24), 0,Q24-R24)","v":-53},{"$f":"IF(ISERROR(IF(ISERROR(IF(ISERROR(IF(ISERROR((O24/P24)), 0,(O24/P24))), 0,IF(ISERROR((O24/P24)), 0,(O24/P24)))), 0,IF(ISERROR(IF(ISERROR((O24/P24)), 0,(O24/P24))), 0,IF(ISERROR((O24/P24)), 0,(O24/P24))))), 0,IF(ISERROR(IF(ISERROR(IF(ISERROR((O24/P24)), 0,(O24/P24))), 0,IF(ISERROR((O24/P24)), 0,(O24/P24)))), 0,IF(ISERROR(IF(ISERROR((O24/P24)), 0,(O24/P24))), 0,IF(ISERROR((O24/P24)), 0,(O24/P24)))))","v":0},{"$f":"IF(ISERROR(S24*T24), 0,S24*T24)","v":0},{"$f":"IF(ISERROR(IF(ISERROR(IF(ISERROR(IF(ISERROR(O24/T24), 0,O24/T24)), 0,IF(ISERROR(O24/T24), 0,O24/T24))), 0,IF(ISERROR(IF(ISERROR(O24/T24), 0,O24/T24)), 0,IF(ISERROR(O24/T24), 0,O24/T24)))), 0,IF(ISERROR(IF(ISERROR(IF(ISERROR(O24/T24), 0,O24/T24)), 0,IF(ISERROR(O24/T24), 0,O24/T24))), 0,IF(ISERROR(IF(ISERROR(O24/T24), 0,O24/T24)), 0,IF(ISERROR(O24/T24), 0,O24/T24))))","v":0},14.2,0.4,{"$f":"IF(ISERROR(ABS(U24)), 0,ABS(U24))","v":0},0.15000000000000002,{"$f":"IF(ISERROR(ABS((Y24*X24)/W24)), 0,ABS((Y24*X24)/W24))","v":0},{"$f":"IF(ISERROR(IF(AA24>Z24,Z24,AA24)), 0,IF(AA24>Z24,Z24,AA24))","v":0},{"$f":"IF(ISERROR(IF(Y24>W24,W24,Y24)), 0,IF(Y24>W24,W24,Y24))","v":0},{"$f":"IF(ISERROR((AC24*AB24)/AA24), 0,(AC24*AB24)/AA24)","v":0},{"$f":"IF(ISERROR(IF(ISERROR(IF(AC24=W24,0,(AC24*AB24)/AA24)), 0,IF(AC24=W24,0,(AC24*AB24)/AA24))), 0,IF(ISERROR(IF(AC24=W24,0,(AC24*AB24)/AA24)), 0,IF(AC24=W24,0,(AC24*AB24)/AA24)))","v":0},{"$f":"IF(ISERROR(IF(AC24=60,Q24+(AC24/T24),Q24+(AD24/T24))), 0,IF(AC24=60,Q24+(AC24/T24),Q24+(AD24/T24)))","v":0}]
[{"$f":"F302","v":311.76923076923072},{"$f":"IF(AND(C24<D24, E24>$E$7),\"Ignore Drill Out Lead 1; rather pop out Lead 1 and LEAVE lead # 2 to \"&K24&\" inches.\",\"\")","v":""},null,null,null,null,null,null,null,null,null,null,null,{"$f":"IF(ISERROR((G24+J24+M24)/$E$10*$E$7), 0,(G24+J24+M24)/$E$10*$E$7)","v":0},{"$f":"A25","v":311.76923076923072},{"$f":"L24","v":0},{"$f":"IF(ISERROR(IF(AC24=W24,Q24+(AC24/T24),Q24+(AD24/T24))), 0,IF(AC24=W24,Q24+(AC24/T24),Q24+(AD24/T24)))","v":0},{"$f":"D24","v":53},{"$f":"IF(ISERROR(Q25-R25), 0,Q25-R25)","v":-53},{"$f":"IF(ISERROR(IF(ISERROR((O25/P25)), 0,(O25/P25))), 0,IF(ISERROR((O25/P25)), 0,(O25/P25)))","v":0},{"$f":"IF(ISERROR(IF(ISERROR(S25*T25), 0,S25*T25)), 0,IF(ISERROR(S25*T25), 0,S25*T25))","v":0},{"$f":"IF(ISERROR(IF(ISERROR(IF(ISERROR(O25/T25), 0,O25/T25)), 0,IF(ISERROR(O25/T25), 0,O25/T25))), 0,IF(ISERROR(IF(ISERROR(O25/T25), 0,O25/T25)), 0,IF(ISERROR(O25/T25), 0,O25/T25)))","v":0},14.2,0.4,{"$f":"IF(ISERROR(IF(ISERROR(ABS(U25)), 0,ABS(U25))), 0,IF(ISERROR(ABS(U25)), 0,ABS(U25)))","v":0},0.15000000000000002,{"$f":"IF(ISERROR(IF(ISERROR(ABS((Y25*X25)/W25)), 0,ABS((Y25*X25)/W25))), 0,IF(ISERROR(ABS((Y25*X25)/W25)), 0,ABS((Y25*X25)/W25)))","v":0},{"$f":"IF(ISERROR(IF(ISERROR(IF(AA25>Z25,Z25,AA25)), 0,IF(AA25>Z25,Z25,AA25))), 0,IF(ISERROR(IF(AA25>Z25,Z25,AA25)), 0,IF(AA25>Z25,Z25,AA25)))","v":0},{"$f":"IF(ISERROR(IF(ISERROR(IF(Y25>W25,W25,Y25)), 0,IF(Y25>W25,W25,Y25))), 0,IF(ISERROR(IF(Y25>W25,W25,Y25)), 0,IF(Y25>W25,W25,Y25)))","v":0},{"$f":"IF(ISERROR((AC25*AB25)/AA25), \"\",(AC25*AB25)/AA25)","v":""},{"$f":"IF(ISERROR(IF(AC25=W25,0,(AC25*AB25)/AA25)), \"\",IF(AC25=W25,0,(AC25*AB25)/AA25))","v":""},{"$f":"IF(ISERROR(IF(AC25=60,Q25+(AC25/T25),Q25+(AD25/T25))), \"\",IF(AC25=60,Q25+(AC25/T25),Q25+(AD25/T25)))","v":""}]
[null,null,"Test","Target",null,1,"dr_o","Lv_in",2,"dr_o","Lv_in",3,"dr_o","Lv_in",{"$f":"A28","v":278.5},{"$f":"F27","v":0},{"$f":"C27","v":50},{"$f":"D27","v":53},{"$f":"Q26-R26","v":-3},{"$f":"IF(ISERROR(IF(ISERROR(IF(ISERROR(IF(ISERROR((O26/P26)), 0,(O26/P26))), 0,IF(ISERROR((O26/P26)), 0,(O26/P26)))), 0,IF(ISERROR(IF(ISERROR((O26/P26)), 0,(O26/P26))), 0,IF(ISERROR((O26/P26)), 0,(O26/P26))))), 0,IF(ISERROR(IF(ISERROR(IF(ISERROR((O26/P26)), 0,(O26/P26))), 0,IF(ISERROR((O26/P26)), 0,(O26/P26)))), 0,IF(ISERROR(IF(ISERROR((O26/P26)), 0,(O26/P26))), 0,IF(ISERROR((O26/P26)), 0,(O26/P26)))))","v":0},{"$f":"IF(ISERROR(IF(ISERROR(IF(ISERROR(IF(ISERROR(S26*T26), 0,S26*T26)), 0,IF(ISERROR(S26*T26), 0,S26*T26))), 0,IF(ISERROR(IF(ISERROR(S26*T26), 0,S26*T26)), 0,IF(ISERROR(S26*T26), 0,S26*T26)))), 0,IF(ISERROR(IF(ISERROR(IF(ISERROR(S26*T26), 0,S26*T26)), 0,IF(ISERROR(S26*T26), 0,S26*T26))), 0,IF(ISERROR(IF(ISERROR(S26*T26), 0,S26*T26)), 0,IF(ISERROR(S26*T26), 0,S26*T26))))","v":0},{"$f":"IF(ISERROR(IF(ISERROR(IF(ISERROR(IF(ISERROR(O26/T26), 0,O26/T26)), 0,IF(ISERROR(O26/T26), 0,O26/T26))), 0,IF(ISERROR(IF(ISERROR(O26/T26), 0,O26/T26)), 0,IF(ISERROR(O26/T26), 0,O26/T26)))), 0,IF(ISERROR(IF(ISERROR(IF(ISERROR(O26/T26), 0,O26/T26)), 0,IF(ISERROR(O26/T26), 0,O26/T26))), 0,IF(ISERROR(IF(ISERROR(O26/T26), 0,O26/T26)), 0,IF(ISERROR(O26/T26), 0,O26/T26))))","v":0},14.2,0.4,{"$f":"IF(ISERROR(IF(ISERROR(IF(ISERROR(ABS(U26)), 0,ABS(U26))), 0,IF(ISERROR(ABS(U26)), 0,ABS(U26)))), 0,IF(ISERROR(IF(ISERROR(ABS(U26)), 0,ABS(U26))), 0,IF(ISERROR(ABS(U26)), 0,ABS(U26))))","v":0},0.15000000000000002,{"$f":"IF(ISERROR(IF(ISERROR(IF(ISERROR(ABS((Y26*X26)/W26)), 0,ABS((Y26*X26)/W26))), 0,IF(ISERROR(ABS((Y26*X26)/W26)), 0,ABS((Y26*X26)/W26)))), 0,IF(ISERROR(IF(ISERROR(ABS((Y26*X26)/W26)), 0,ABS((Y26*X26)/W26))), 0,IF(ISERROR(ABS((Y26*X26)/W26)), 0,ABS((Y26*X26)/W26))))","v":0},{"$f":"IF(ISERROR(IF(ISERROR(IF(ISERROR(IF(AA26>Z26,Z26,AA26)), 0,IF(AA26>Z26,Z26,AA26))), 0,IF(ISERROR(IF(AA26>Z26,Z26,AA26)), 0,IF(AA26>Z26,Z26,AA26)))), 0,IF(ISERROR(IF(ISERROR(IF(AA26>Z26,Z26,AA26)), 0,IF(AA26>Z26,Z26,AA26))), 0,IF(ISERROR(IF(AA26>Z26,Z26,AA26)), 0,IF(AA26>Z26,Z26,AA26))))","v":0},{"$f":"IF(ISERROR(IF(ISERROR(IF(ISERROR(IF(Y26>W26,W26,Y26)), 0,IF(Y26>W26,W26,Y26))), 0,IF(ISERROR(IF(Y26>W26,W26,Y26)), 0,IF(Y26>W26,W26,Y26)))), 0,IF(ISERROR(IF(ISERROR(IF(Y26>W26,W26,Y26)), 0,IF(Y26>W26,W26,Y26))), 0,IF(ISERROR(IF(Y26>W26,W26,Y26)), 0,IF(Y26>W26,W26,Y26))))","v":0},{"$f":"IF(ISERROR((AC26*AB26)/AA26), 0,(AC26*AB26)/AA26)","v":0},{"$f":"IF(ISERROR(IF(ISERROR(IF(AC26=W26,0,(AC26*AB26)/AA26)), 0,IF(AC26=W26,0,(AC26*AB26)/AA26))), 0,IF(ISERROR(IF(AC26=W26,0,(AC26*AB26)/AA26)), 0,IF(AC26=W26,0,(AC26*AB26)/AA26)))","v":0},{"$f":"IF(ISERROR(IF(AC26=60,Q26+(AC26/T26),Q26+(AD26/T26))), 0,IF(AC26=60,Q26+(AC26/T26),Q26+(AD26/T26)))","v":0}]
["C#",5,50,53,{"$f":"IF(ISERROR(IF(ISERROR(IF(ISERROR(Y26), 0,Y26)), 0,IF(ISERROR(Y26), 0,Y26))), 0,IF(ISERROR(IF(ISERROR(Y26), 0,Y26)), 0,IF(ISERROR(Y26), 0,Y26)))","v":0},null,{"$f":"IF(ISERROR(IF(ISERROR(IF(ISERROR(AB26), 0,AB26)), 0,IF(ISERROR(AB26), 0,AB26))), 0,IF(ISERROR(IF(ISERROR(AB26), 0,AB26)), 0,IF(ISERROR(AB26), 0,AB26)))","v":0},{"$f":"IF(ISERROR(IF(ISERROR(IF(ISERROR($E$10-G27), 0,$E$10-G27)), 0,IF(ISERROR($E$10-G27), 0,$E$10-G27))), 0,IF(ISERROR(IF(ISERROR($E$10-G27), 0,$E$10-G27)), 0,IF(ISERROR($E$10-G27), 0,$E$10-G27)))","v":0.4},null,{"$f":"IF(ISERROR(AB27), 0,AB27)","v":0},{"$f":"IF(ISERROR(ROUND($E$10-J27,3)), 0,ROUND($E$10-J27,3))","v":0.4},null,{"$f":"IF(ISERROR(AB28), 0,AB28)","v":0},{"$f":"IF(ISERROR($E$10-M27), 0,$E$10-M27)","v":0.4},{"$f":"A28","v":278.5},{"$f":"I27","v":0},{"$f":"IF(ISERROR(IF(AC26=W26,Q26+(AC26/T26),Q26+(AD26/T26))), 0,IF(AC26=W26,Q26+(AC26/T26),Q26+(AD26/T26)))","v":0},{"$f":"D27","v":53},{"$f":"IF(ISERROR(Q27-R27), 0,Q27-R27)","v":-53},{"$f":"IF(ISERROR(IF(ISERROR(IF(ISERROR(IF(ISERROR((O27/P27)), 0,(O27/P27))), 0,IF(ISERROR((O27/P27)), 0,(O27/P27)))), 0,IF(ISERROR(IF(ISERROR((O27/P27)), 0,(O27/P27))), 0,IF(ISERROR((O27/P27)), 0,(O27/P27))))), 0,IF(ISERROR(IF(ISERROR(IF(ISERROR((O27/P27)), 0,(O27/P27))), 0,IF(ISERROR((O27/P27)), 0,(O27/P27)))), 0,IF(ISERROR(IF(ISERROR((O27/P27)), 0,(O27/P27))), 0,IF(ISERROR((O27/P27)), 0,(O27/P27)))))","v":0},{"$f":"IF(ISERROR(S27*T27), 0,S27*T27)","v":0},{"$f":"IF(ISERROR(IF(ISERROR(IF(ISERROR(IF(ISERROR(O27/T27), 0,O27/T27)), 0,IF(ISERROR(O27/T27), 0,O27/T27))), 0,IF(ISERROR(IF(ISERROR(O27/T27), 0,O27/T27)), 0,IF(ISERROR(O27/T27), 0,O27/T27)))), 0,IF(ISERROR(IF(ISERROR(IF(ISERROR(O27/T27), 0,O27/T27)), 0,IF(ISERROR(O27/T27), 0,O27/T27))), 0,IF(ISERROR(IF(ISERROR(O27/T27), 0,O27/T27)), 0,IF(ISERROR(O27/T27), 0,O27/T27))))","v":0},14.2,0.4,{"$f":"IF(ISERROR(ABS(U27)), 0,ABS(U27))","v":0},0.15000000000000002,{"$f":"IF(ISERROR(ABS((Y27*X27)/W27)), 0,ABS((Y27*X27)/W27))","v":0},{"$f":"IF(ISERROR(IF(AA27>Z27,Z27,AA27)), 0,IF(AA27>Z27,Z27,AA27))","v":0},{"$f":"IF(ISERROR(IF(Y27>W27,W27,Y27)), 0,IF(Y27>W27,W27,Y27))","v":0},{"$f":"IF(ISERROR(IF(ISERROR(IF(ISERROR((AC27*AB27)/AA27), 0,(AC27*AB27)/AA27)), 0,IF(ISERROR((AC27*AB27)/AA27), 0,(AC27*AB27)/AA27))), 0,IF(ISERROR(IF(ISERROR((AC27*AB27)/AA27), 0,(AC27*AB27)/AA27)), 0,IF(ISERROR((AC27*AB27)/AA27), 0,(AC27*AB27)/AA27)))","v":0},{"$f":"IF(ISERROR(IF(ISERROR(IF(ISERROR(IF(AC27=W27,0,(AC27*AB27)/AA27)), 0,IF(AC27=W27,0,(AC27*AB27)/AA27))), 0,IF(ISERROR(IF(AC27=W27,0,(AC27*AB27)/AA27)), 0,IF(AC27=W27,0,(AC27*AB27)/AA27)))), 0,IF(ISERROR(IF(ISERROR(IF(AC27=W27,0,(AC27*AB27)/AA27)), 0,IF(AC27=W27,0,(AC27*AB27)/AA27))), 0,IF(ISERROR(IF(AC27=W27,0,(AC27*AB27)/AA27)), 0,IF(AC27=W27,0,(AC27*AB27)/AA27))))","v":0},{"$f":"IF(ISERROR(IF(ISERROR(IF(AC27=60,Q27+(AC27/T27),Q27+(AD27/T27))), 0,IF(AC27=60,Q27+(AC27/T27),Q27+(AD27/T27)))), 0,IF(ISERROR(IF(AC27=60,Q27+(AC27/T27),Q27+(AD27/T27))), 0,IF(AC27=60,Q27+(AC27/T27),Q27+(AD27/T27))))","v":0}]
[{"$f":"R301","v":278.5},{"$f":"IF(AND(C27<D27, E27>$E$7),\"Ignore Drill Out Lead 1; rather pop out Lead 1 and LEAVE lead # 2 to \"&K27&\" inches.\",\"\")","v":""},null,null,null,null,null,null,null,null,null,null,null,{"$f":"IF(ISERROR((G27+J27+M27)/$E$10*$E$7), 0,(G27+J27+M27)/$E$10*$E$7)","v":0},{"$f":"A28","v":278.5},{"$f":"L27","v":0},{"$f":"IF(ISERROR(IF(ISERROR(IF(AC27=W27,Q27+(AC27/T27),Q27+(AD27/T27))), 0,IF(AC27=W27,Q27+(AC27/T27),Q27+(AD27/T27)))), 0,IF(ISERROR(IF(AC27=W27,Q27+(AC27/T27),Q27+(AD27/T27))), 0,IF(AC27=W27,Q27+(AC27/T27),Q27+(AD27/T27))))","v":0},{"$f":"D27","v":53},{"$f":"IF(ISERROR(Q28-R28), 0,Q28-R28)","v":-53},{"$f":"IF(ISERROR(IF(ISERROR((O28/P28)), 0,(O28/P28))), 0,IF(ISERROR((O28/P28)), 0,(O28/P28)))","v":0},{"$f":"IF(ISERROR(IF(ISERROR(S28*T28), 0,S28*T28)), 0,IF(ISERROR(S28*T28), 0,S28*T28))","v":0},{"$f":"IF(ISERROR(IF(ISERROR(IF(ISERROR(O28/T28), 0,O28/T28)), 0,IF(ISERROR(O28/T28), 0,O28/T28))), 0,IF(ISERROR(IF(ISERROR(O28/T28), 0,O28/T28)), 0,IF(ISERROR(O28/T28), 0,O28/T28)))","v":0},14.2,0.4,{"$f":"IF(ISERROR(IF(ISERROR(ABS(U28)), 0,ABS(U28))), 0,IF(ISERROR(ABS(U28)), 0,ABS(U28)))","v":0},0.15000000000000002,{"$f":"IF(ISERROR(IF(ISERROR(ABS((Y28*X28)/W28)), 0,ABS((Y28*X28)/W28))), 0,IF(ISERROR(ABS((Y28*X28)/W28)), 0,ABS((Y28*X28)/W28)))","v":0},{"$f":"IF(ISERROR(IF(ISERROR(IF(AA28>Z28,Z28,AA28)), 0,IF(AA28>Z28,Z28,AA28))), 0,IF(ISERROR(IF(AA28>Z28,Z28,AA28)), 0,IF(AA28>Z28,Z28,AA28)))","v":0},{"$f":"IF(ISERROR(IF(ISERROR(IF(Y28>W28,W28,Y28)), 0,IF(Y28>W28,W28,Y28))), 0,IF(ISERROR(IF(Y28>W28,W28,Y28)), 0,IF(Y28>W28,W28,Y28)))","v":0},{"$f":"IF(ISERROR((AC28*AB28)/AA28), \"\",(AC28*AB28)/AA28)","v":""},{"$f":"IF(ISERROR(IF(AC28=W28,0,(AC28*AB28)/AA28)), \"\",IF(AC28=W28,0,(AC28*AB28)/AA28))","v":""},{"$f":"IF(ISERROR(IF(AC28=60,Q28+(AC28/T28),Q28+(AD28/T28))), \"\",IF(AC28=60,Q28+(AC28/T28),Q28+(AD28/T28)))","v":""}]
[null,null,"Test","Target",null,1,"dr_o","Lv_in",2,"dr_o","Lv_in",3,"dr_o","Lv_in",{"$f":"A31","v":310.40384615384608},{"$f":"F30","v":0},{"$f":"C30","v":50},{"$f":"D30","v":53},{"$f":"Q29-R29","v":-3},{"$f":"IF(ISERROR(IF(ISERROR(IF(ISERROR(IF(ISERROR((O29/P29)), 0,(O29/P29))), 0,IF(ISERROR((O29/P29)), 0,(O29/P29)))), 0,IF(ISERROR(IF(ISERROR((O29/P29)), 0,(O29/P29))), 0,IF(ISERROR((O29/P29)), 0,(O29/P29))))), 0,IF(ISERROR(IF(ISERROR(IF(ISERROR((O29/P29)), 0,(O29/P29))), 0,IF(ISERROR((O29/P29)), 0,(O29/P29)))), 0,IF(ISERROR(IF(ISERROR((O29/P29)), 0,(O29/P29))), 0,IF(ISERROR((O29/P29)), 0,(O29/P29)))))","v":0},{"$f":"IF(ISERROR(IF(ISERROR(IF(ISERROR(IF(ISERROR(S29*T29), 0,S29*T29)), 0,IF(ISERROR(S29*T29), 0,S29*T29))), 0,IF(ISERROR(IF(ISERROR(S29*T29), 0,S29*T29)), 0,IF(ISERROR(S29*T29), 0,S29*T29)))), 0,IF(ISERROR(IF(ISERROR(IF(ISERROR(S29*T29), 0,S29*T29)), 0,IF(ISERROR(S29*T29), 0,S29*T29))), 0,IF(ISERROR(IF(ISERROR(S29*T29), 0,S29*T29)), 0,IF(ISERROR(S29*T29), 0,S29*T29))))","v":0},{"$f":"IF(ISERROR(IF(ISERROR(IF(ISERROR(IF(ISERROR(O29/T29), 0,O29/T29)), 0,IF(ISERROR(O29/T29), 0,O29/T29))), 0,IF(ISERROR(IF(ISERROR(O29/T29), 0,O29/T29)), 0,IF(ISERROR(O29/T29), 0,O29/T29)))), 0,IF(ISERROR(IF(ISERROR(IF(ISERROR(O29/T29), 0,O29/T29)), 0,IF(ISERROR(O29/T29), 0,O29/T29))), 0,IF(ISERROR(IF(ISERROR(O29/T29), 0,O29/T29)), 0,IF(ISERROR(O29/T29), 0,O29/T29))))","v":0},14.2,0.4,{"$f":"IF(ISERROR(IF(ISERROR(IF(ISERROR(ABS(U29)), 0,ABS(U29))), 0,IF(ISERROR(ABS(U29)), 0,ABS(U29)))), 0,IF(ISERROR(IF(ISERROR(ABS(U29)), 0,ABS(U29))), 0,IF(ISERROR(ABS(U29)), 0,ABS(U29))))","v":0},0.15000000000000002,{"$f":"IF(ISERROR(IF(ISERROR(IF(ISERROR(ABS((Y29*X29)/W29)), 0,ABS((Y29*X29)/W29))), 0,IF(ISERROR(ABS((Y29*X29)/W29)), 0,ABS((Y29*X29)/W29)))), 0,IF(ISERROR(IF(ISERROR(ABS((Y29*X29)/W29)), 0,ABS((Y29*X29)/W29))), 0,IF(ISERROR(ABS((Y29*X29)/W29)), 0,ABS((Y29*X29)/W29))))","v":0},{"$f":"IF(ISERROR(IF(ISERROR(IF(ISERROR(IF(AA29>Z29,Z29,AA29)), 0,IF(AA29>Z29,Z29,AA29))), 0,IF(ISERROR(IF(AA29>Z29,Z29,AA29)), 0,IF(AA29>Z29,Z29,AA29)))), 0,IF(ISERROR(IF(ISERROR(IF(AA29>Z29,Z29,AA29)), 0,IF(AA29>Z29,Z29,AA29))), 0,IF(ISERROR(IF(AA29>Z29,Z29,AA29)), 0,IF(AA29>Z29,Z29,AA29))))","v":0},{"$f":"IF(ISERROR(IF(ISERROR(IF(ISERROR(IF(Y29>W29,W29,Y29)), 0,IF(Y29>W29,W29,Y29))), 0,IF(ISERROR(IF(Y29>W29,W29,Y29)), 0,IF(Y29>W29,W29,Y29)))), 0,IF(ISERROR(IF(ISERROR(IF(Y29>W29,W29,Y29)), 0,IF(Y29>W29,W29,Y29))), 0,IF(ISERROR(IF(Y29>W29,W29,Y29)), 0,IF(Y29>W29,W29,Y29))))","v":0},{"$f":"IF(ISERROR((AC29*AB29)/AA29), 0,(AC29*AB29)/AA29)","v":0},{"$f":"IF(ISERROR(IF(ISERROR(IF(AC29=W29,0,(AC29*AB29)/AA29)), 0,IF(AC29=W29,0,(AC29*AB29)/AA29))), 0,IF(ISERROR(IF(AC29=W29,0,(AC29*AB29)/AA29)), 0,IF(AC29=W29,0,(AC29*AB29)/AA29)))","v":0},{"$f":"IF(ISERROR(IF(AC29=60,Q29+(AC29/T29),Q29+(AD29/T29))), 0,IF(AC29=60,Q29+(AC29/T29),Q29+(AD29/T29)))","v":0}]
["D",6,50,53,{"$f":"IF(ISERROR(IF(ISERROR(IF(ISERROR(Y29), 0,Y29)), 0,IF(ISERROR(Y29), 0,Y29))), 0,IF(ISERROR(IF(ISERROR(Y29), 0,Y29)), 0,IF(ISERROR(Y29), 0,Y29)))","v":0},null,{"$f":"IF(ISERROR(IF(ISERROR(IF(ISERROR(AB29), 0,AB29)), 0,IF(ISERROR(AB29), 0,AB29))), 0,IF(ISERROR(IF(ISERROR(AB29), 0,AB29)), 0,IF(ISERROR(AB29), 0,AB29)))","v":0},{"$f":"IF(ISERROR(IF(ISERROR(IF(ISERROR($E$10-G30), 0,$E$10-G30)), 0,IF(ISERROR($E$10-G30), 0,$E$10-G30))), 0,IF(ISERROR(IF(ISERROR($E$10-G30), 0,$E$10-G30)), 0,IF(ISERROR($E$10-G30), 0,$E$10-G30)))","v":0.4},null,{"$f":"IF(ISERROR(AB30), 0,AB30)","v":0},{"$f":"IF(ISERROR(ROUND($E$10-J30,3)), 0,ROUND($E$10-J30,3))","v":0.4},null,{"$f":"IF(ISERROR(AB31), 0,AB31)","v":0},{"$f":"IF(ISERROR($E$10-M30), 0,$E$10-M30)","v":0.4},{"$f":"A31","v":310.40384615384608},{"$f":"I30","v":0},{"$f":"IF(ISERROR(IF(AC29=W29,Q29+(AC29/T29),Q29+(AD29/T29))), 0,IF(AC29=W29,Q29+(AC29/T29),Q29+(AD29/T29)))","v":0},{"$f":"D30","v":53},{"$f":"IF(ISERROR(Q30-R30), 0,Q30-R30)","v":-53},{"$f":"IF(ISERROR(IF(ISERROR(IF(ISERROR(IF(ISERROR((O30/P30)), 0,(O30/P30))), 0,IF(ISERROR((O30/P30)), 0,(O30/P30)))), 0,IF(ISERROR(IF(ISERROR((O30/P30)), 0,(O30/P30))), 0,IF(ISERROR((O30/P30)), 0,(O30/P30))))), 0,IF(ISERROR(IF(ISERROR(IF(ISERROR((O30/P30)), 0,(O30/P30))), 0,IF(ISERROR((O30/P30)), 0,(O30/P30)))), 0,IF(ISERROR(IF(ISERROR((O30/P30)), 0,(O30/P30))), 0,IF(ISERROR((O30/P30)), 0,(O30/P30)))))","v":0},{"$f":"IF(ISERROR(S30*T30), 0,S30*T30)","v":0},{"$f":"IF(ISERROR(IF(ISERROR(IF(ISERROR(IF(ISERROR(O30/T30), 0,O30/T30)), 0,IF(ISERROR(O30/T30), 0,O30/T30))), 0,IF(ISERROR(IF(ISERROR(O30/T30), 0,O30/T30)), 0,IF(ISERROR(O30/T30), 0,O30/T30)))), 0,IF(ISERROR(IF(ISERROR(IF(ISERROR(O30/T30), 0,O30/T30)), 0,IF(ISERROR(O30/T30), 0,O30/T30))), 0,IF(ISERROR(IF(ISERROR(O30/T30), 0,O30/T30)), 0,IF(ISERROR(O30/T30), 0,O30/T30))))","v":0},14.2,0.4,{"$f":"IF(ISERROR(ABS(U30)), 0,ABS(U30))","v":0},0.15000000000000002,{"$f":"IF(ISERROR(ABS((Y30*X30)/W30)), 0,ABS((Y30*X30)/W30))","v":0},{"$f":"IF(ISERROR(IF(AA30>Z30,Z30,AA30)), 0,IF(AA30>Z30,Z30,AA30))","v":0},{"$f":"IF(ISERROR(IF(Y30>W30,W30,Y30)), 0,IF(Y30>W30,W30,Y30))","v":0},{"$f":"IF(ISERROR(IF(ISERROR(IF(ISERROR(IF(ISERROR((AC30*AB30)/AA30), 0,(AC30*AB30)/AA30)), 0,IF(ISERROR((AC30*AB30)/AA30), 0,(AC30*AB30)/AA30))), 0,IF(ISERROR(IF(ISERROR((AC30*AB30)/AA30), 0,(AC30*AB30)/AA30)), 0,IF(ISERROR((AC30*AB30)/AA30), 0,(AC30*AB30)/AA30)))), 0,IF(ISERROR(IF(ISERROR(IF(ISERROR((AC30*AB30)/AA30), 0,(AC30*AB30)/AA30)), 0,IF(ISERROR((AC30*AB30)/AA30), 0,(AC30*AB30)/AA30))), 0,IF(ISERROR(IF(ISERROR((AC30*AB30)/AA30), 0,(AC30*AB30)/AA30)), 0,IF(ISERROR((AC30*AB30)/AA30), 0,(AC30*AB30)/AA30))))","v":0},{"$f":"IF(ISERROR(IF(ISERROR(IF(ISERROR(IF(AC30=W30,0,(AC30*AB30)/AA30)), 0,IF(AC30=W30,0,(AC30*AB30)/AA30))), 0,IF(ISERROR(IF(AC30=W30,0,(AC30*AB30)/AA30)), 0,IF(AC30=W30,0,(AC30*AB30)/AA30)))), 0,IF(ISERROR(IF(ISERROR(IF(AC30=W30,0,(AC30*AB30)/AA30)), 0,IF(AC30=W30,0,(AC30*AB30)/AA30))), 0,IF(ISERROR(IF(AC30=W30,0,(AC30*AB30)/AA30)), 0,IF(AC30=W30,0,(AC30*AB30)/AA30))))","v":0},{"$f":"IF(ISERROR(IF(ISERROR(IF(AC30=60,Q30+(AC30/T30),Q30+(AD30/T30))), 0,IF(AC30=60,Q30+(AC30/T30),Q30+(AD30/T30)))), 0,IF(ISERROR(IF(AC30=60,Q30+(AC30/T30),Q30+(AD30/T30))), 0,IF(AC30=60,Q30+(AC30/T30),Q30+(AD30/T30))))","v":0}]
[{"$f":"F303","v":310.40384615384608},{"$f":"IF(AND(C30<D30, E30>$E$7),\"Ignore Drill Out Lead 1; rather pop out Lead 1 and LEAVE lead # 2 to \"&K30&\" inches.\",\"\")","v":""},null,null,null,null,null,null,null,null,null,null,null,{"$f":"IF(ISERROR((G30+J30+M30)/$E$10*$E$7), 0,(G30+J30+M30)/$E$10*$E$7)","v":0},{"$f":"A31","v":310.40384615384608},{"$f":"L30","v":0},{"$f":"IF(ISERROR(IF(ISERROR(IF(AC30=W30,Q30+(AC30/T30),Q30+(AD30/T30))), 0,IF(AC30=W30,Q30+(AC30/T30),Q30+(AD30/T30)))), 0,IF(ISERROR(IF(AC30=W30,Q30+(AC30/T30),Q30+(AD30/T30))), 0,IF(AC30=W30,Q30+(AC30/T30),Q30+(AD30/T30))))","v":0},{"$f":"D30","v":53},{"$f":"IF(ISERROR(Q31-R31), 0,Q31-R31)","v":-53},{"$f":"IF(ISERROR(IF(ISERROR((O31/P31)), 0,(O31/P31))), 0,IF(ISERROR((O31/P31)), 0,(O31/P31)))","v":0},{"$f":"IF(ISERROR(IF(ISERROR(S31*T31), 0,S31*T31)), 0,IF(ISERROR(S31*T31), 0,S31*T31))","v":0},{"$f":"IF(ISERROR(IF(ISERROR(IF(ISERROR(O31/T31), 0,O31/T31)), 0,IF(ISERROR(O31/T31), 0,O31/T31))), 0,IF(ISERROR(IF(ISERROR(O31/T31), 0,O31/T31)), 0,IF(ISERROR(O31/T31), 0,O31/T31)))","v":0},14.2,0.4,{"$f":"IF(ISERROR(IF(ISERROR(ABS(U31)), 0,ABS(U31))), 0,IF(ISERROR(ABS(U31)), 0,ABS(U31)))","v":0},0.15000000000000002,{"$f":"IF(ISERROR(IF(ISERROR(ABS((Y31*X31)/W31)), 0,ABS((Y31*X31)/W31))), 0,IF(ISERROR(ABS((Y31*X31)/W31)), 0,ABS((Y31*X31)/W31)))","v":0},{"$f":"IF(ISERROR(IF(ISERROR(IF(AA31>Z31,Z31,AA31)), 0,IF(AA31>Z31,Z31,AA31))), 0,IF(ISERROR(IF(AA31>Z31,Z31,AA31)), 0,IF(AA31>Z31,Z31,AA31)))","v":0},{"$f":"IF(ISERROR(IF(ISERROR(IF(Y31>W31,W31,Y31)), 0,IF(Y31>W31,W31,Y31))), 0,IF(ISERROR(IF(Y31>W31,W31,Y31)), 0,IF(Y31>W31,W31,Y31)))","v":0},{"$f":"IF(ISERROR((AC31*AB31)/AA31), \"\",(AC31*AB31)/AA31)","v":""},{"$f":"IF(ISERROR(IF(AC31=W31,0,(AC31*AB31)/AA31)), \"\",IF(AC31=W31,0,(AC31*AB31)/AA31))","v":""},{"$f":"IF(ISERROR(IF(AC31=60,Q31+(AC31/T31),Q31+(AD31/T31))), \"\",IF(AC31=60,Q31+(AC31/T31),Q31+(AD31/T31)))","v":""}]
[null,null,"Test","Target",null,1,"dr_o","Lv_in",2,"dr_o","Lv_in",3,"dr_o","Lv_in",{"$f":"A34","v":277.5},{"$f":"F33","v":0},{"$f":"C33","v":50},{"$f":"D33","v":53},{"$f":"Q32-R32","v":-3},{"$f":"IF(ISERROR(IF(ISERROR(IF(ISERROR(IF(ISERROR((O32/P32)), 0,(O32/P32))), 0,IF(ISERROR((O32/P32)), 0,(O32/P32)))), 0,IF(ISERROR(IF(ISERROR((O32/P32)), 0,(O32/P32))), 0,IF(ISERROR((O32/P32)), 0,(O32/P32))))), 0,IF(ISERROR(IF(ISERROR(IF(ISERROR((O32/P32)), 0,(O32/P32))), 0,IF(ISERROR((O32/P32)), 0,(O32/P32)))), 0,IF(ISERROR(IF(ISERROR((O32/P32)), 0,(O32/P32))), 0,IF(ISERROR((O32/P32)), 0,(O32/P32)))))","v":0},{"$f":"IF(ISERROR(IF(ISERROR(IF(ISERROR(IF(ISERROR(S32*T32), 0,S32*T32)), 0,IF(ISERROR(S32*T32), 0,S32*T32))), 0,IF(ISERROR(IF(ISERROR(S32*T32), 0,S32*T32)), 0,IF(ISERROR(S32*T32), 0,S32*T32)))), 0,IF(ISERROR(IF(ISERROR(IF(ISERROR(S32*T32), 0,S32*T32)), 0,IF(ISERROR(S32*T32), 0,S32*T32))), 0,IF(ISERROR(IF(ISERROR(S32*T32), 0,S32*T32)), 0,IF(ISERROR(S32*T32), 0,S32*T32))))","v":0},{"$f":"IF(ISERROR(IF(ISERROR(IF(ISERROR(IF(ISERROR(O32/T32), 0,O32/T32)), 0,IF(ISERROR(O32/T32), 0,O32/T32))), 0,IF(ISERROR(IF(ISERROR(O32/T32), 0,O32/T32)), 0,IF(ISERROR(O32/T32), 0,O32/T32)))), 0,IF(ISERROR(IF(ISERROR(IF(ISERROR(O32/T32), 0,O32/T32)), 0,IF(ISERROR(O32/T32), 0,O32/T32))), 0,IF(ISERROR(IF(ISERROR(O32/T32), 0,O32/T32)), 0,IF(ISERROR(O32/T32), 0,O32/T32))))","v":0},14.2,0.4,{"$f":"IF(ISERROR(IF(ISERROR(IF(ISERROR(ABS(U32)), 0,ABS(U32))), 0,IF(ISERROR(ABS(U32)), 0,ABS(U32)))), 0,IF(ISERROR(IF(ISERROR(ABS(U32)), 0,ABS(U32))), 0,IF(ISERROR(ABS(U32)), 0,ABS(U32))))","v":0},0.15000000000000002,{"$f":"IF(ISERROR(IF(ISERROR(IF(ISERROR(ABS((Y32*X32)/W32)), 0,ABS((Y32*X32)/W32))), 0,IF(ISERROR(ABS((Y32*X32)/W32)), 0,ABS((Y32*X32)/W32)))), 0,IF(ISERROR(IF(ISERROR(ABS((Y32*X32)/W32)), 0,ABS((Y32*X32)/W32))), 0,IF(ISERROR(ABS((Y32*X32)/W32)), 0,ABS((Y32*X32)/W32))))","v":0},{"$f":"IF(ISERROR(IF(ISERROR(IF(ISERROR(IF(AA32>Z32,Z32,AA32)), 0,IF(AA32>Z32,Z32,AA32))), 0,IF(ISERROR(IF(AA32>Z32,Z32,AA32)), 0,IF(AA32>Z32,Z32,AA32)))), 0,IF(ISERROR(IF(ISERROR(IF(AA32>Z32,Z32,AA32)), 0,IF(AA32>Z32,Z32,AA32))), 0,IF(ISERROR(IF(AA32>Z32,Z32,AA32)), 0,IF(AA32>Z32,Z32,AA32))))","v":0},{"$f":"IF(ISERROR(IF(ISERROR(IF(ISERROR(IF(Y32>W32,W32,Y32)), 0,IF(Y32>W32,W32,Y32))), 0,IF(ISERROR(IF(Y32>W32,W32,Y32)), 0,IF(Y32>W32,W32,Y32)))), 0,IF(ISERROR(IF(ISERROR(IF(Y32>W32,W32,Y32)), 0,IF(Y32>W32,W32,Y32))), 0,IF(ISERROR(IF(Y32>W32,W32,Y32)), 0,IF(Y32>W32,W32,Y32))))","v":0},{"$f":"IF(ISERROR((AC32*AB32)/AA32), 0,(AC32*AB32)/AA32)","v":0},{"$f":"IF(ISERROR(IF(ISERROR(IF(AC32=W32,0,(AC32*AB32)/AA32)), 0,IF(AC32=W32,0,(AC32*AB32)/AA32))), 0,IF(ISERROR(IF(AC32=W32,0,(AC32*AB32)/AA32)), 0,IF(AC32=W32,0,(AC32*AB32)/AA32)))","v":0},{"$f":"IF(ISERROR(IF(AC32=60,Q32+(AC32/T32),Q32+(AD32/T32))), 0,IF(AC32=60,Q32+(AC32/T32),Q32+(AD32/T32)))","v":0}]
["D#",7,50,53,{"$f":"IF(ISERROR(IF(ISERROR(IF(ISERROR(Y32), 0,Y32)), 0,IF(ISERROR(Y32), 0,Y32))), 0,IF(ISERROR(IF(ISERROR(Y32), 0,Y32)), 0,IF(ISERROR(Y32), 0,Y32)))","v":0},null,{"$f":"IF(ISERROR(IF(ISERROR(IF(ISERROR(AB32), 0,AB32)), 0,IF(ISERROR(AB32), 0,AB32))), 0,IF(ISERROR(IF(ISERROR(AB32), 0,AB32)), 0,IF(ISERROR(AB32), 0,AB32)))","v":0},{"$f":"IF(ISERROR(IF(ISERROR(IF(ISERROR($E$10-G33), 0,$E$10-G33)), 0,IF(ISERROR($E$10-G33), 0,$E$10-G33))), 0,IF(ISERROR(IF(ISERROR($E$10-G33), 0,$E$10-G33)), 0,IF(ISERROR($E$10-G33), 0,$E$10-G33)))","v":0.4},null,{"$f":"IF(ISERROR(AB33), 0,AB33)","v":0},{"$f":"IF(ISERROR(ROUND($E$10-J33,3)), 0,ROUND($E$10-J33,3))","v":0.4},null,{"$f":"IF(ISERROR(AB34), \"\",AB34)","v":0},{"$f":"IF(ISERROR($E$10-M33), \"\",$E$10-M33)","v":0.4},{"$f":"A34","v":277.5},{"$f":"I33","v":0},{"$f":"IF(ISERROR(IF(AC32=W32,Q32+(AC32/T32),Q32+(AD32/T32))), 0,IF(AC32=W32,Q32+(AC32/T32),Q32+(AD32/T32)))","v":0},{"$f":"D33","v":53},{"$f":"IF(ISERROR(Q33-R33), 0,Q33-R33)","v":-53},{"$f":"IF(ISERROR(IF(ISERROR(IF(ISERROR(IF(ISERROR((O33/P33)), 0,(O33/P33))), 0,IF(ISERROR((O33/P33)), 0,(O33/P33)))), 0,IF(ISERROR(IF(ISERROR((O33/P33)), 0,(O33/P33))), 0,IF(ISERROR((O33/P33)), 0,(O33/P33))))), 0,IF(ISERROR(IF(ISERROR(IF(ISERROR((O33/P33)), 0,(O33/P33))), 0,IF(ISERROR((O33/P33)), 0,(O33/P33)))), 0,IF(ISERROR(IF(ISERROR((O33/P33)), 0,(O33/P33))), 0,IF(ISERROR((O33/P33)), 0,(O33/P33)))))","v":0},{"$f":"IF(ISERROR(S33*T33), 0,S33*T33)","v":0},{"$f":"IF(ISERROR(IF(ISERROR(IF(ISERROR(IF(ISERROR(O33/T33), 0,O33/T33)), 0,IF(ISERROR(O33/T33), 0,O33/T33))), 0,IF(ISERROR(IF(ISERROR(O33/T33), 0,O33/T33)), 0,IF(ISERROR(O33/T33), 0,O33/T33)))), 0,IF(ISERROR(IF(ISERROR(IF(ISERROR(O33/T33), 0,O33/T33)), 0,IF(ISERROR(O33/T33), 0,O33/T33))), 0,IF(ISERROR(IF(ISERROR(O33/T33), 0,O33/T33)), 0,IF(ISERROR(O33/T33), 0,O33/T33))))","v":0},14.2,0.4,{"$f":"IF(ISERROR(ABS(U33)), 0,ABS(U33))","v":0},0.15000000000000002,{"$f":"IF(ISERROR(ABS((Y33*X33)/W33)), 0,ABS((Y33*X33)/W33))","v":0},{"$f":"IF(ISERROR(IF(AA33>Z33,Z33,AA33)), 0,IF(AA33>Z33,Z33,AA33))","v":0},{"$f":"IF(ISERROR(IF(Y33>W33,W33,Y33)), 0,IF(Y33>W33,W33,Y33))","v":0},{"$f":"IF(ISERROR((AC33*AB33)/AA33), \"\",(AC33*AB33)/AA33)","v":""},{"$f":"IF(ISERROR(IF(AC33=W33,0,(AC33*AB33)/AA33)), \"\",IF(AC33=W33,0,(AC33*AB33)/AA33))","v":""},{"$f":"IF(ISERROR(IF(AC33=60,Q33+(AC33/T33),Q33+(AD33/T33))), \"\",IF(AC33=60,Q33+(AC33/T33),Q33+(AD33/T33)))","v":""}]
[{"$f":"R302","v":277.5},{"$f":"IF(AND(C33<D33, E33>$E$7),\"Ignore Drill Out Lead 1; rather pop out Lead 1 and LEAVE lead # 2 to \"&K33&\" inches.\",\"\")","v":""},null,null,null,null,null,null,null,null,null,null,null,{"$f":"IF(ISERROR((G33+J33+M33)/$E$10*$E$7), 0,(G33+J33+M33)/$E$10*$E$7)","v":0},{"$f":"A34","v":277.5},{"$f":"L33","v":0},{"$f":"IF(ISERROR(IF(AC33=W33,Q33+(AC33/T33),Q33+(AD33/T33))), \"\",IF(AC33=W33,Q33+(AC33/T33),Q33+(AD33/T33)))","v":""},{"$f":"D33","v":53},{"$f":"IF(ISERROR(Q34-R34), 0,Q34-R34)","v":0},{"$f":"IF(ISERROR((O34/P34)), 0,(O34/P34))","v":0},{"$f":"IF(ISERROR(S34*T34), \"\",S34*T34)","v":0},{"$f":"IF(ISERROR(IF(ISERROR(O34/T34), 0,O34/T34)), 0,IF(ISERROR(O34/T34), 0,O34/T34))","v":0},14.2,0.4,{"$f":"IF(ISERROR(ABS(U34)), \"\",ABS(U34))","v":0},0.15000000000000002,{"$f":"IF(ISERROR(ABS((Y34*X34)/W34)), \"\",ABS((Y34*X34)/W34))","v":0},{"$f":"IF(ISERROR(IF(AA34>Z34,Z34,AA34)), \"\",IF(AA34>Z34,Z34,AA34))","v":0},{"$f":"IF(ISERROR(IF(Y34>W34,W34,Y34)), \"\",IF(Y34>W34,W34,Y34))","v":0},{"$f":"IF(ISERROR((AC34*AB34)/AA34), \"\",(AC34*AB34)/AA34)","v":""},{"$f":"IF(ISERROR(IF(AC34=W34,0,(AC34*AB34)/AA34)), \"\",IF(AC34=W34,0,(AC34*AB34)/AA34))","v":""},{"$f":"IF(ISERROR(IF(AC34=60,Q34+(AC34/T34),Q34+(AD34/T34))), \"\",IF(AC34=60,Q34+(AC34/T34),Q34+(AD34/T34)))","v":""}]
[null,null,"Test","Target",null,1,"dr_o","Lv_in",2,"dr_o","Lv_in",3,"dr_o","Lv_in",{"$f":"A37","v":309.03846153846143},{"$f":"F36","v":0},{"$f":"C36","v":53},{"$f":"D36","v":53},{"$f":"Q35-R35","v":0},{"$f":"IF(ISERROR(IF(ISERROR(IF(ISERROR(IF(ISERROR((O35/P35)), 0,(O35/P35))), 0,IF(ISERROR((O35/P35)), 0,(O35/P35)))), 0,IF(ISERROR(IF(ISERROR((O35/P35)), 0,(O35/P35))), 0,IF(ISERROR((O35/P35)), 0,(O35/P35))))), 0,IF(ISERROR(IF(ISERROR(IF(ISERROR((O35/P35)), 0,(O35/P35))), 0,IF(ISERROR((O35/P35)), 0,(O35/P35)))), 0,IF(ISERROR(IF(ISERROR((O35/P35)), 0,(O35/P35))), 0,IF(ISERROR((O35/P35)), 0,(O35/P35)))))","v":0},{"$f":"IF(ISERROR(IF(ISERROR(IF(ISERROR(IF(ISERROR(S35*T35), 0,S35*T35)), 0,IF(ISERROR(S35*T35), 0,S35*T35))), 0,IF(ISERROR(IF(ISERROR(S35*T35), 0,S35*T35)), 0,IF(ISERROR(S35*T35), 0,S35*T35)))), 0,IF(ISERROR(IF(ISERROR(IF(ISERROR(S35*T35), 0,S35*T35)), 0,IF(ISERROR(S35*T35), 0,S35*T35))), 0,IF(ISERROR(IF(ISERROR(S35*T35), 0,S35*T35)), 0,IF(ISERROR(S35*T35), 0,S35*T35))))","v":0},{"$f":"IF(ISERROR(IF(ISERROR(IF(ISERROR(IF(ISERROR(O35/T35), 0,O35/T35)), 0,IF(ISERROR(O35/T35), 0,O35/T35))), 0,IF(ISERROR(IF(ISERROR(O35/T35), 0,O35/T35)), 0,IF(ISERROR(O35/T35), 0,O35/T35)))), 0,IF(ISERROR(IF(ISERROR(IF(ISERROR(O35/T35), 0,O35/T35)), 0,IF(ISERROR(O35/T35), 0,O35/T35))), 0,IF(ISERROR(IF(ISERROR(O35/T35), 0,O35/T35)), 0,IF(ISERROR(O35/T35), 0,O35/T35))))","v":0},14.2,0.4,{"$f":"IF(ISERROR(IF(ISERROR(IF(ISERROR(ABS(U35)), 0,ABS(U35))), 0,IF(ISERROR(ABS(U35)), 0,ABS(U35)))), 0,IF(ISERROR(IF(ISERROR(ABS(U35)), 0,ABS(U35))), 0,IF(ISERROR(ABS(U35)), 0,ABS(U35))))","v":0},0.15000000000000002,{"$f":"IF(ISERROR(IF(ISERROR(IF(ISERROR(ABS((Y35*X35)/W35)), 0,ABS((Y35*X35)/W35))), 0,IF(ISERROR(ABS((Y35*X35)/W35)), 0,ABS((Y35*X35)/W35)))), 0,IF(ISERROR(IF(ISERROR(ABS((Y35*X35)/W35)), 0,ABS((Y35*X35)/W35))), 0,IF(ISERROR(ABS((Y35*X35)/W35)), 0,ABS((Y35*X35)/W35))))","v":0},{"$f":"IF(ISERROR(IF(ISERROR(IF(ISERROR(IF(AA35>Z35,Z35,AA35)), 0,IF(AA35>Z35,Z35,AA35))), 0,IF(ISERROR(IF(AA35>Z35,Z35,AA35)), 0,IF(AA35>Z35,Z35,AA35)))), 0,IF(ISERROR(IF(ISERROR(IF(AA35>Z35,Z35,AA35)), 0,IF(AA35>Z35,Z35,AA35))), 0,IF(ISERROR(IF(AA35>Z35,Z35,AA35)), 0,IF(AA35>Z35,Z35,AA35))))","v":0},{"$f":"IF(ISERROR(IF(ISERROR(IF(ISERROR(IF(Y35>W35,W35,Y35)), 0,IF(Y35>W35,W35,Y35))), 0,IF(ISERROR(IF(Y35>W35,W35,Y35)), 0,IF(Y35>W35,W35,Y35)))), 0,IF(ISERROR(IF(ISERROR(IF(Y35>W35,W35,Y35)), 0,IF(Y35>W35,W35,Y35))), 0,IF(ISERROR(IF(Y35>W35,W35,Y35)), 0,IF(Y35>W35,W35,Y35))))","v":0},{"$f":"IF(ISERROR((AC35*AB35)/AA35), 0,(AC35*AB35)/AA35)","v":0},{"$f":"IF(ISERROR(IF(ISERROR(IF(AC35=W35,0,(AC35*AB35)/AA35)), 0,IF(AC35=W35,0,(AC35*AB35)/AA35))), 0,IF(ISERROR(IF(AC35=W35,0,(AC35*AB35)/AA35)), 0,IF(AC35=W35,0,(AC35*AB35)/AA35)))","v":0},{"$f":"IF(ISERROR(IF(AC35=60,Q35+(AC35/T35),Q35+(AD35/T35))), 0,IF(AC35=60,Q35+(AC35/T35),Q35+(AD35/T35)))","v":0}]
["E",8,53,53,{"$f":"IF(ISERROR(IF(ISERROR(IF(ISERROR(Y35), 0,Y35)), 0,IF(ISERROR(Y35), 0,Y35))), 0,IF(ISERROR(IF(ISERROR(Y35), 0,Y35)), 0,IF(ISERROR(Y35), 0,Y35)))","v":0},null,{"$f":"IF(ISERROR(IF(ISERROR(IF(ISERROR(AB35), 0,AB35)), 0,IF(ISERROR(AB35), 0,AB35))), 0,IF(ISERROR(IF(ISERROR(AB35), 0,AB35)), 0,IF(ISERROR(AB35), 0,AB35)))","v":0},{"$f":"IF(ISERROR(IF(ISERROR(IF(ISERROR($E$10-G36), 0,$E$10-G36)), 0,IF(ISERROR($E$10-G36), 0,$E$10-G36))), 0,IF(ISERROR(IF(ISERROR($E$10-G36), 0,$E$10-G36)), 0,IF(ISERROR($E$10-G36), 0,$E$10-G36)))","v":0.4},null,{"$f":"IF(ISERROR(AB36), 0,AB36)","v":0},{"$f":"IF(ISERROR(ROUND($E$10-J36,3)), 0,ROUND($E$10-J36,3))","v":0.4},null,{"$f":"IF(ISERROR(AB37), \"\",AB37)","v":0},{"$f":"IF(ISERROR($E$10-M36), \"\",$E$10-M36)","v":0.4},{"$f":"A37","v":309.03846153846143},{"$f":"I36","v":0},{"$f":"IF(ISERROR(IF(AC35=W35,Q35+(AC35/T35),Q35+(AD35/T35))), 0,IF(AC35=W35,Q35+(AC35/T35),Q35+(AD35/T35)))","v":0},{"$f":"D36","v":53},{"$f":"IF(ISERROR(Q36-R36), 0,Q36-R36)","v":-53},{"$f":"IF(ISERROR(IF(ISERROR(IF(ISERROR(IF(ISERROR((O36/P36)), 0,(O36/P36))), 0,IF(ISERROR((O36/P36)), 0,(O36/P36)))), 0,IF(ISERROR(IF(ISERROR((O36/P36)), 0,(O36/P36))), 0,IF(ISERROR((O36/P36)), 0,(O36/P36))))), 0,IF(ISERROR(IF(ISERROR(IF(ISERROR((O36/P36)), 0,(O36/P36))), 0,IF(ISERROR((O36/P36)), 0,(O36/P36)))), 0,IF(ISERROR(IF(ISERROR((O36/P36)), 0,(O36/P36))), 0,IF(ISERROR((O36/P36)), 0,(O36/P36)))))","v":0},{"$f":"IF(ISERROR(S36*T36), 0,S36*T36)","v":0},{"$f":"IF(ISERROR(IF(ISERROR(IF(ISERROR(IF(ISERROR(O36/T36), 0,O36/T36)), 0,IF(ISERROR(O36/T36), 0,O36/T36))), 0,IF(ISERROR(IF(ISERROR(O36/T36), 0,O36/T36)), 0,IF(ISERROR(O36/T36), 0,O36/T36)))), 0,IF(ISERROR(IF(ISERROR(IF(ISERROR(O36/T36), 0,O36/T36)), 0,IF(ISERROR(O36/T36), 0,O36/T36))), 0,IF(ISERROR(IF(ISERROR(O36/T36), 0,O36/T36)), 0,IF(ISERROR(O36/T36), 0,O36/T36))))","v":0},14.2,0.4,{"$f":"IF(ISERROR(ABS(U36)), 0,ABS(U36))","v":0},0.15000000000000002,{"$f":"IF(ISERROR(ABS((Y36*X36)/W36)), 0,ABS((Y36*X36)/W36))","v":0},{"$f":"IF(ISERROR(IF(AA36>Z36,Z36,AA36)), 0,IF(AA36>Z36,Z36,AA36))","v":0},{"$f":"IF(ISERROR(IF(Y36>W36,W36,Y36)), 0,IF(Y36>W36,W36,Y36))","v":0},{"$f":"IF(ISERROR((AC36*AB36)/AA36), \"\",(AC36*AB36)/AA36)","v":""},{"$f":"IF(ISERROR(IF(AC36=W36,0,(AC36*AB36)/AA36)), \"\",IF(AC36=W36,0,(AC36*AB36)/AA36))","v":""},{"$f":"IF(ISERROR(IF(AC36=60,Q36+(AC36/T36),Q36+(AD36/T36))), \"\",IF(AC36=60,Q36+(AC36/T36),Q36+(AD36/T36)))","v":""}]
[{"$f":"F304","v":309.03846153846143},{"$f":"IF(AND(C36<D36, E36>$E$7),\"Ignore Drill Out Lead 1; rather pop out Lead 1 and LEAVE lead # 2 to \"&K36&\" inches.\",\"\")","v":""},null,null,null,null,null,null,null,null,null,null,null,{"$f":"IF(ISERROR((G36+J36+M36)/$E$10*$E$7), 0,(G36+J36+M36)/$E$10*$E$7)","v":0},{"$f":"A37","v":309.03846153846143},{"$f":"L36","v":0},{"$f":"IF(ISERROR(IF(AC36=W36,Q36+(AC36/T36),Q36+(AD36/T36))), \"\",IF(AC36=W36,Q36+(AC36/T36),Q36+(AD36/T36)))","v":""},{"$f":"D36","v":53},{"$f":"IF(ISERROR(Q37-R37), 0,Q37-R37)","v":0},{"$f":"IF(ISERROR(IF(ISERROR(IF(ISERROR((O37/P37)), 0,(O37/P37))), 0,IF(ISERROR((O37/P37)), 0,(O37/P37)))), 0,IF(ISERROR(IF(ISERROR((O37/P37)), 0,(O37/P37))), 0,IF(ISERROR((O37/P37)), 0,(O37/P37))))","v":0},{"$f":"IF(ISERROR(S37*T37), \"\",S37*T37)","v":0},{"$f":"IF(ISERROR(IF(ISERROR(IF(ISERROR(IF(ISERROR(O37/T37), 0,O37/T37)), 0,IF(ISERROR(O37/T37), 0,O37/T37))), 0,IF(ISERROR(IF(ISERROR(O37/T37), 0,O37/T37)), 0,IF(ISERROR(O37/T37), 0,O37/T37)))), 0,IF(ISERROR(IF(ISERROR(IF(ISERROR(O37/T37), 0,O37/T37)), 0,IF(ISERROR(O37/T37), 0,O37/T37))), 0,IF(ISERROR(IF(ISERROR(O37/T37), 0,O37/T37)), 0,IF(ISERROR(O37/T37), 0,O37/T37))))","v":0},14.2,0.4,{"$f":"IF(ISERROR(ABS(U37)), \"\",ABS(U37))","v":0},0.15000000000000002,{"$f":"IF(ISERROR(ABS((Y37*X37)/W37)), \"\",ABS((Y37*X37)/W37))","v":0},{"$f":"IF(ISERROR(IF(AA37>Z37,Z37,AA37)), \"\",IF(AA37>Z37,Z37,AA37))","v":0},{"$f":"IF(ISERROR(IF(Y37>W37,W37,Y37)), \"\",IF(Y37>W37,W37,Y37))","v":0},{"$f":"IF(ISERROR((AC37*AB37)/AA37), \"\",(AC37*AB37)/AA37)","v":""},{"$f":"IF(ISERROR(IF(AC37=W37,0,(AC37*AB37)/AA37)), \"\",IF(AC37=W37,0,(AC37*AB37)/AA37))","v":""},{"$f":"IF(ISERROR(IF(AC37=60,Q37+(AC37/T37),Q37+(AD37/T37))), \"\",IF(AC37=60,Q37+(AC37/T37),Q37+(AD37/T37)))","v":""}]
[null,null,"Test","Target",null,1,"dr_o","Lv_in",2,"dr_o","Lv_in",3,"dr_o","Lv_in",{"$f":"A40","v":307.67307692307679},{"$f":"F39","v":0},{"$f":"C39","v":52},{"$f":"D39","v":53},{"$f":"Q38-R38","v":-1},{"$f":"IF(ISERROR(IF(ISERROR(IF(ISERROR(IF(ISERROR((O38/P38)), 0,(O38/P38))), 0,IF(ISERROR((O38/P38)), 0,(O38/P38)))), 0,IF(ISERROR(IF(ISERROR((O38/P38)), 0,(O38/P38))), 0,IF(ISERROR((O38/P38)), 0,(O38/P38))))), 0,IF(ISERROR(IF(ISERROR(IF(ISERROR((O38/P38)), 0,(O38/P38))), 0,IF(ISERROR((O38/P38)), 0,(O38/P38)))), 0,IF(ISERROR(IF(ISERROR((O38/P38)), 0,(O38/P38))), 0,IF(ISERROR((O38/P38)), 0,(O38/P38)))))","v":0},{"$f":"IF(ISERROR(IF(ISERROR(IF(ISERROR(IF(ISERROR(S38*T38), 0,S38*T38)), 0,IF(ISERROR(S38*T38), 0,S38*T38))), 0,IF(ISERROR(IF(ISERROR(S38*T38), 0,S38*T38)), 0,IF(ISERROR(S38*T38), 0,S38*T38)))), 0,IF(ISERROR(IF(ISERROR(IF(ISERROR(S38*T38), 0,S38*T38)), 0,IF(ISERROR(S38*T38), 0,S38*T38))), 0,IF(ISERROR(IF(ISERROR(S38*T38), 0,S38*T38)), 0,IF(ISERROR(S38*T38), 0,S38*T38))))","v":0},{"$f":"IF(ISERROR(IF(ISERROR(IF(ISERROR(IF(ISERROR(O38/T38), 0,O38/T38)), 0,IF(ISERROR(O38/T38), 0,O38/T38))), 0,IF(ISERROR(IF(ISERROR(O38/T38), 0,O38/T38)), 0,IF(ISERROR(O38/T38), 0,O38/T38)))), 0,IF(ISERROR(IF(ISERROR(IF(ISERROR(O38/T38), 0,O38/T38)), 0,IF(ISERROR(O38/T38), 0,O38/T38))), 0,IF(ISERROR(IF(ISERROR(O38/T38), 0,O38/T38)), 0,IF(ISERROR(O38/T38), 0,O38/T38))))","v":0},14.2,0.4,{"$f":"IF(ISERROR(IF(ISERROR(IF(ISERROR(ABS(U38)), 0,ABS(U38))), 0,IF(ISERROR(ABS(U38)), 0,ABS(U38)))), 0,IF(ISERROR(IF(ISERROR(ABS(U38)), 0,ABS(U38))), 0,IF(ISERROR(ABS(U38)), 0,ABS(U38))))","v":0},0.15000000000000002,{"$f":"IF(ISERROR(IF(ISERROR(IF(ISERROR(ABS((Y38*X38)/W38)), 0,ABS((Y38*X38)/W38))), 0,IF(ISERROR(ABS((Y38*X38)/W38)), 0,ABS((Y38*X38)/W38)))), 0,IF(ISERROR(IF(ISERROR(ABS((Y38*X38)/W38)), 0,ABS((Y38*X38)/W38))), 0,IF(ISERROR(ABS((Y38*X38)/W38)), 0,ABS((Y38*X38)/W38))))","v":0},{"$f":"IF(ISERROR(IF(ISERROR(IF(ISERROR(IF(AA38>Z38,Z38,AA38)), 0,IF(AA38>Z38,Z38,AA38))), 0,IF(ISERROR(IF(AA38>Z38,Z38,AA38)), 0,IF(AA38>Z38,Z38,AA38)))), 0,IF(ISERROR(IF(ISERROR(IF(AA38>Z38,Z38,AA38)), 0,IF(AA38>Z38,Z38,AA38))), 0,IF(ISERROR(IF(AA38>Z38,Z38,AA38)), 0,IF(AA38>Z38,Z38,AA38))))","v":0},{"$f":"IF(ISERROR(IF(ISERROR(IF(ISERROR(IF(Y38>W38,W38,Y38)), 0,IF(Y38>W38,W38,Y38))), 0,IF(ISERROR(IF(Y38>W38,W38,Y38)), 0,IF(Y38>W38,W38,Y38)))), 0,IF(ISERROR(IF(ISERROR(IF(Y38>W38,W38,Y38)), 0,IF(Y38>W38,W38,Y38))), 0,IF(ISERROR(IF(Y38>W38,W38,Y38)), 0,IF(Y38>W38,W38,Y38))))","v":0},{"$f":"IF(ISERROR((AC38*AB38)/AA38), 0,(AC38*AB38)/AA38)","v":0},{"$f":"IF(ISERROR(IF(ISERROR(IF(AC38=W38,0,(AC38*AB38)/AA38)), 0,IF(AC38=W38,0,(AC38*AB38)/AA38))), 0,IF(ISERROR(IF(AC38=W38,0,(AC38*AB38)/AA38)), 0,IF(AC38=W38,0,(AC38*AB38)/AA38)))","v":0},{"$f":"IF(ISERROR(IF(AC38=60,Q38+(AC38/T38),Q38+(AD38/T38))), 0,IF(AC38=60,Q38+(AC38/T38),Q38+(AD38/T38)))","v":0}]
["F",9,52,53,{"$f":"IF(ISERROR(IF(ISERROR(IF(ISERROR(Y38), 0,Y38)), 0,IF(ISERROR(Y38), 0,Y38))), 0,IF(ISERROR(IF(ISERROR(Y38), 0,Y38)), 0,IF(ISERROR(Y38), 0,Y38)))","v":0},null,{"$f":"IF(ISERROR(IF(ISERROR(IF(ISERROR(AB38), 0,AB38)), 0,IF(ISERROR(AB38), 0,AB38))), 0,IF(ISERROR(IF(ISERROR(AB38), 0,AB38)), 0,IF(ISERROR(AB38), 0,AB38)))","v":0},{"$f":"IF(ISERROR(IF(ISERROR(IF(ISERROR($E$10-G39), 0,$E$10-G39)), 0,IF(ISERROR($E$10-G39), 0,$E$10-G39))), 0,IF(ISERROR(IF(ISERROR($E$10-G39), 0,$E$10-G39)), 0,IF(ISERROR($E$10-G39), 0,$E$10-G39)))","v":0.4},null,{"$f":"IF(ISERROR(AB39), 0,AB39)","v":0},{"$f":"IF(ISERROR(ROUND($E$10-J39,3)), 0,ROUND($E$10-J39,3))","v":0.4},null,{"$f":"IF(ISERROR(AB40), 0,AB40)","v":0},{"$f":"IF(ISERROR($E$10-M39), 0,$E$10-M39)","v":0.4},{"$f":"A40","v":307.67307692307679},{"$f":"I39","v":0},{"$f":"IF(ISERROR(IF(AC38=W38,Q38+(AC38/T38),Q38+(AD38/T38))), 0,IF(AC38=W38,Q38+(AC38/T38),Q38+(AD38/T38)))","v":0},{"$f":"D39","v":53},{"$f":"IF(ISERROR(Q39-R39), 0,Q39-R39)","v":-53},{"$f":"IF(ISERROR(IF(ISERROR(IF(ISERROR(IF(ISERROR((O39/P39)), 0,(O39/P39))), 0,IF(ISERROR((O39/P39)), 0,(O39/P39)))), 0,IF(ISERROR(IF(ISERROR((O39/P39)), 0,(O39/P39))), 0,IF(ISERROR((O39/P39)), 0,(O39/P39))))), 0,IF(ISERROR(IF(ISERROR(IF(ISERROR((O39/P39)), 0,(O39/P39))), 0,IF(ISERROR((O39/P39)), 0,(O39/P39)))), 0,IF(ISERROR(IF(ISERROR((O39/P39)), 0,(O39/P39))), 0,IF(ISERROR((O39/P39)), 0,(O39/P39)))))","v":0},{"$f":"IF(ISERROR(S39*T39), 0,S39*T39)","v":0},{"$f":"IF(ISERROR(IF(ISERROR(IF(ISERROR(IF(ISERROR(O39/T39), 0,O39/T39)), 0,IF(ISERROR(O39/T39), 0,O39/T39))), 0,IF(ISERROR(IF(ISERROR(O39/T39), 0,O39/T39)), 0,IF(ISERROR(O39/T39), 0,O39/T39)))), 0,IF(ISERROR(IF(ISERROR(IF(ISERROR(O39/T39), 0,O39/T39)), 0,IF(ISERROR(O39/T39), 0,O39/T39))), 0,IF(ISERROR(IF(ISERROR(O39/T39), 0,O39/T39)), 0,IF(ISERROR(O39/T39), 0,O39/T39))))","v":0},14.2,0.4,{"$f":"IF(ISERROR(ABS(U39)), 0,ABS(U39))","v":0},0.15000000000000002,{"$f":"IF(ISERROR(ABS((Y39*X39)/W39)), 0,ABS((Y39*X39)/W39))","v":0},{"$f":"IF(ISERROR(IF(AA39>Z39,Z39,AA39)), 0,IF(AA39>Z39,Z39,AA39))","v":0},{"$f":"IF(ISERROR(IF(Y39>W39,W39,Y39)), 0,IF(Y39>W39,W39,Y39))","v":0},{"$f":"IF(ISERROR((AC39*AB39)/AA39), 0,(AC39*AB39)/AA39)","v":0},{"$f":"IF(ISERROR(IF(ISERROR(IF(AC39=W39,0,(AC39*AB39)/AA39)), 0,IF(AC39=W39,0,(AC39*AB39)/AA39))), 0,IF(ISERROR(IF(AC39=W39,0,(AC39*AB39)/AA39)), 0,IF(AC39=W39,0,(AC39*AB39)/AA39)))","v":0},{"$f":"IF(ISERROR(IF(AC39=60,Q39+(AC39/T39),Q39+(AD39/T39))), 0,IF(AC39=60,Q39+(AC39/T39),Q39+(AD39/T39)))","v":0}]
[{"$f":"F305","v":307.67307692307679},{"$f":"IF(AND(C39<D39, E39>$E$7),\"Ignore Drill Out Lead 1; rather pop out Lead 1 and LEAVE lead # 2 to \"&K39&\" inches.\",\"\")","v":""},null,null,null,null,null,null,null,null,null,null,null,{"$f":"IF(ISERROR((G39+J39+M39)/$E$10*$E$7), 0,(G39+J39+M39)/$E$10*$E$7)","v":0},{"$f":"A40","v":307.67307692307679},{"$f":"L39","v":0},{"$f":"IF(ISERROR(IF(AC39=W39,Q39+(AC39/T39),Q39+(AD39/T39))), 0,IF(AC39=W39,Q39+(AC39/T39),Q39+(AD39/T39)))","v":0},{"$f":"D39","v":53},{"$f":"IF(ISERROR(Q40-R40), 0,Q40-R40)","v":-53},{"$f":"IF(ISERROR(IF(ISERROR((O40/P40)), 0,(O40/P40))), 0,IF(ISERROR((O40/P40)), 0,(O40/P40)))","v":0},{"$f":"IF(ISERROR(IF(ISERROR(S40*T40), 0,S40*T40)), 0,IF(ISERROR(S40*T40), 0,S40*T40))","v":0},{"$f":"IF(ISERROR(IF(ISERROR(IF(ISERROR(O40/T40), 0,O40/T40)), 0,IF(ISERROR(O40/T40), 0,O40/T40))), 0,IF(ISERROR(IF(ISERROR(O40/T40), 0,O40/T40)), 0,IF(ISERROR(O40/T40), 0,O40/T40)))","v":0},14.2,0.4,{"$f":"IF(ISERROR(IF(ISERROR(ABS(U40)), 0,ABS(U40))), 0,IF(ISERROR(ABS(U40)), 0,ABS(U40)))","v":0},0.15000000000000002,{"$f":"IF(ISERROR(IF(ISERROR(ABS((Y40*X40)/W40)), 0,ABS((Y40*X40)/W40))), 0,IF(ISERROR(ABS((Y40*X40)/W40)), 0,ABS((Y40*X40)/W40)))","v":0},{"$f":"IF(ISERROR(IF(ISERROR(IF(AA40>Z40,Z40,AA40)), 0,IF(AA40>Z40,Z40,AA40))), 0,IF(ISERROR(IF(AA40>Z40,Z40,AA40)), 0,IF(AA40>Z40,Z40,AA40)))","v":0},{"$f":"IF(ISERROR(IF(ISERROR(IF(Y40>W40,W40,Y40)), 0,IF(Y40>W40,W40,Y40))), 0,IF(ISERROR(IF(Y40>W40,W40,Y40)), 0,IF(Y40>W40,W40,Y40)))","v":0},{"$f":"IF(ISERROR((AC40*AB40)/AA40), \"\",(AC40*AB40)/AA40)","v":""},{"$f":"IF(ISERROR(IF(AC40=W40,0,(AC40*AB40)/AA40)), \"\",IF(AC40=W40,0,(AC40*AB40)/AA40))","v":""},{"$f":"IF(ISERROR(IF(AC40=60,Q40+(AC40/T40),Q40+(AD40/T40))), \"\",IF(AC40=60,Q40+(AC40/T40),Q40+(AD40/T40)))","v":""}]
[null,null,"Test","Target",null,1,"dr_o","Lv_in",2,"dr_o","Lv_in",3,"dr_o","Lv_in",{"$f":"A43","v":276.5},{"$f":"F42","v":0},{"$f":"C42","v":52},{"$f":"D42","v":53},{"$f":"Q41-R41","v":-1},{"$f":"IF(ISERROR(IF(ISERROR(IF(ISERROR(IF(ISERROR((O41/P41)), 0,(O41/P41))), 0,IF(ISERROR((O41/P41)), 0,(O41/P41)))), 0,IF(ISERROR(IF(ISERROR((O41/P41)), 0,(O41/P41))), 0,IF(ISERROR((O41/P41)), 0,(O41/P41))))), 0,IF(ISERROR(IF(ISERROR(IF(ISERROR((O41/P41)), 0,(O41/P41))), 0,IF(ISERROR((O41/P41)), 0,(O41/P41)))), 0,IF(ISERROR(IF(ISERROR((O41/P41)), 0,(O41/P41))), 0,IF(ISERROR((O41/P41)), 0,(O41/P41)))))","v":0},{"$f":"IF(ISERROR(IF(ISERROR(IF(ISERROR(IF(ISERROR(S41*T41), 0,S41*T41)), 0,IF(ISERROR(S41*T41), 0,S41*T41))), 0,IF(ISERROR(IF(ISERROR(S41*T41), 0,S41*T41)), 0,IF(ISERROR(S41*T41), 0,S41*T41)))), 0,IF(ISERROR(IF(ISERROR(IF(ISERROR(S41*T41), 0,S41*T41)), 0,IF(ISERROR(S41*T41), 0,S41*T41))), 0,IF(ISERROR(IF(ISERROR(S41*T41), 0,S41*T41)), 0,IF(ISERROR(S41*T41), 0,S41*T41))))","v":0},{"$f":"IF(ISERROR(IF(ISERROR(IF(ISERROR(IF(ISERROR(O41/T41), 0,O41/T41)), 0,IF(ISERROR(O41/T41), 0,O41/T41))), 0,IF(ISERROR(IF(ISERROR(O41/T41), 0,O41/T41)), 0,IF(ISERROR(O41/T41), 0,O41/T41)))), 0,IF(ISERROR(IF(ISERROR(IF(ISERROR(O41/T41), 0,O41/T41)), 0,IF(ISERROR(O41/T41), 0,O41/T41))), 0,IF(ISERROR(IF(ISERROR(O41/T41), 0,O41/T41)), 0,IF(ISERROR(O41/T41), 0,O41/T41))))","v":0},14.2,0.4,{"$f":"IF(ISERROR(IF(ISERROR(IF(ISERROR(ABS(U41)), 0,ABS(U41))), 0,IF(ISERROR(ABS(U41)), 0,ABS(U41)))), 0,IF(ISERROR(IF(ISERROR(ABS(U41)), 0,ABS(U41))), 0,IF(ISERROR(ABS(U41)), 0,ABS(U41))))","v":0},0.15000000000000002,{"$f":"IF(ISERROR(IF(ISERROR(IF(ISERROR(ABS((Y41*X41)/W41)), 0,ABS((Y41*X41)/W41))), 0,IF(ISERROR(ABS((Y41*X41)/W41)), 0,ABS((Y41*X41)/W41)))), 0,IF(ISERROR(IF(ISERROR(ABS((Y41*X41)/W41)), 0,ABS((Y41*X41)/W41))), 0,IF(ISERROR(ABS((Y41*X41)/W41)), 0,ABS((Y41*X41)/W41))))","v":0},{"$f":"IF(ISERROR(IF(ISERROR(IF(ISERROR(IF(AA41>Z41,Z41,AA41)), 0,IF(AA41>Z41,Z41,AA41))), 0,IF(ISERROR(IF(AA41>Z41,Z41,AA41)), 0,IF(AA41>Z41,Z41,AA41)))), 0,IF(ISERROR(IF(ISERROR(IF(AA41>Z41,Z41,AA41)), 0,IF(AA41>Z41,Z41,AA41))), 0,IF(ISERROR(IF(AA41>Z41,Z41,AA41)), 0,IF(AA41>Z41,Z41,AA41))))","v":0},{"$f":"IF(ISERROR(IF(ISERROR(IF(ISERROR(IF(Y41>W41,W41,Y41)), 0,IF(Y41>W41,W41,Y41))), 0,IF(ISERROR(IF(Y41>W41,W41,Y41)), 0,IF(Y41>W41,W41,Y41)))), 0,IF(ISERROR(IF(ISERROR(IF(Y41>W41,W41,Y41)), 0,IF(Y41>W41,W41,Y41))), 0,IF(ISERROR(IF(Y41>W41,W41,Y41)), 0,IF(Y41>W41,W41,Y41))))","v":0},{"$f":"IF(ISERROR((AC41*AB41)/AA41), \"\",(AC41*AB41)/AA41)","v":""},{"$f":"IF(ISERROR(IF(AC41=W41,0,(AC41*AB41)/AA41)), \"\",IF(AC41=W41,0,(AC41*AB41)/AA41))","v":""},{"$f":"IF(ISERROR(IF(AC41=60,Q41+(AC41/T41),Q41+(AD41/T41))), \"\",IF(AC41=60,Q41+(AC41/T41),Q41+(AD41/T41)))","v":""}]
["F#",10,52,53,{"$f":"IF(ISERROR(IF(ISERROR(IF(ISERROR(Y41), 0,Y41)), 0,IF(ISERROR(Y41), 0,Y41))), 0,IF(ISERROR(IF(ISERROR(Y41), 0,Y41)), 0,IF(ISERROR(Y41), 0,Y41)))","v":0},null,{"$f":"IF(ISERROR(IF(ISERROR(IF(ISERROR(AB41), 0,AB41)), 0,IF(ISERROR(AB41), 0,AB41))), 0,IF(ISERROR(IF(ISERROR(AB41), 0,AB41)), 0,IF(ISERROR(AB41), 0,AB41)))","v":0},{"$f":"IF(ISERROR(IF(ISERROR(IF(ISERROR($E$10-G42), 0,$E$10-G42)), 0,IF(ISERROR($E$10-G42), 0,$E$10-G42))), 0,IF(ISERROR(IF(ISERROR($E$10-G42), 0,$E$10-G42)), 0,IF(ISERROR($E$10-G42), 0,$E$10-G42)))","v":0.4},null,{"$f":"IF(ISERROR(AB42), \"\",AB42)","v":0},{"$f":"IF(ISERROR(ROUND($E$10-J42,3)), \"\",ROUND($E$10-J42,3))","v":0.4},null,{"$f":"IF(ISERROR(AB43), \"\",AB43)","v":0},{"$f":"IF(ISERROR($E$10-M42), \"\",$E$10-M42)","v":0.4},{"$f":"A43","v":276.5},{"$f":"I42","v":0},{"$f":"IF(ISERROR(IF(AC41=W41,Q41+(AC41/T41),Q41+(AD41/T41))), \"\",IF(AC41=W41,Q41+(AC41/T41),Q41+(AD41/T41)))","v":""},{"$f":"D42","v":53},{"$f":"IF(ISERROR(Q42-R42), \"\",Q42-R42)","v":""},{"$f":"IF(ISERROR(IF(ISERROR(IF(ISERROR(IF(ISERROR((O42/P42)), 0,(O42/P42))), 0,IF(ISERROR((O42/P42)), 0,(O42/P42)))), 0,IF(ISERROR(IF(ISERROR((O42/P42)), 0,(O42/P42))), 0,IF(ISERROR((O42/P42)), 0,(O42/P42))))), 0,IF(ISERROR(IF(ISERROR(IF(ISERROR((O42/P42)), 0,(O42/P42))), 0,IF(ISERROR((O42/P42)), 0,(O42/P42)))), 0,IF(ISERROR(IF(ISERROR((O42/P42)), 0,(O42/P42))), 0,IF(ISERROR((O42/P42)), 0,(O42/P42)))))","v":0},{"$f":"IF(ISERROR(S42*T42), \"\",S42*T42)","v":""},{"$f":"IF(ISERROR(IF(ISERROR(IF(ISERROR(IF(ISERROR(O42/T42), 0,O42/T42)), 0,IF(ISERROR(O42/T42), 0,O42/T42))), 0,IF(ISERROR(IF(ISERROR(O42/T42), 0,O42/T42)), 0,IF(ISERROR(O42/T42), 0,O42/T42)))), 0,IF(ISERROR(IF(ISERROR(IF(ISERROR(O42/T42), 0,O42/T42)), 0,IF(ISERROR(O42/T42), 0,O42/T42))), 0,IF(ISERROR(IF(ISERROR(O42/T42), 0,O42/T42)), 0,IF(ISERROR(O42/T42), 0,O42/T42))))","v":0},14.2,0.4,{"$f":"IF(ISERROR(ABS(U42)), \"\",ABS(U42))","v":""},0.15000000000000002,{"$f":"IF(ISERROR(ABS((Y42*X42)/W42)), 0,ABS((Y42*X42)/W42))","v":0},{"$f":"IF(ISERROR(IF(AA42>Z42,Z42,AA42)), \"\",IF(AA42>Z42,Z42,AA42))","v":0},{"$f":"IF(ISERROR(IF(Y42>W42,W42,Y42)), \"\",IF(Y42>W42,W42,Y42))","v":14.2},{"$f":"IF(ISERROR((AC42*AB42)/AA42), \"\",(AC42*AB42)/AA42)","v":""},{"$f":"IF(ISERROR(IF(AC42=W42,0,(AC42*AB42)/AA42)), \"\",IF(AC42=W42,0,(AC42*AB42)/AA42))","v":0},{"$f":"IF(ISERROR(IF(AC42=60,Q42+(AC42/T42),Q42+(AD42/T42))), \"\",IF(AC42=60,Q42+(AC42/T42),Q42+(AD42/T42)))","v":""}]
[{"$f":"R303","v":276.5},{"$f":"IF(AND(C42<D42, E42>$E$7),\"Ignore Drill Out Lead 1; rather pop out Lead 1 and LEAVE lead # 2 to \"&K42&\" inches.\",\"\")","v":""},null,null,null,null,null,null,null,null,null,null,null,{"$f":"(G42+J42+M42)/$E$10*$E$7","v":0},{"$f":"A43","v":276.5},{"$f":"L42","v":0},{"$f":"IF(ISERROR(IF(AC42=W42,Q42+(AC42/T42),Q42+(AD42/T42))), \"\",IF(AC42=W42,Q42+(AC42/T42),Q42+(AD42/T42)))","v":""},{"$f":"D42","v":53},{"$f":"IF(ISERROR(Q43-R43), 0,Q43-R43)","v":0},{"$f":"IF(ISERROR((O43/P43)), 0,(O43/P43))","v":0},{"$f":"IF(ISERROR(S43*T43), \"\",S43*T43)","v":0},{"$f":"IF(ISERROR(IF(ISERROR(O43/T43), 0,O43/T43)), 0,IF(ISERROR(O43/T43), 0,O43/T43))","v":0},14.2,0.4,{"$f":"IF(ISERROR(ABS(U43)), \"\",ABS(U43))","v":0},0.15000000000000002,{"$f":"IF(ISERROR(ABS((Y43*X43)/W43)), \"\",ABS((Y43*X43)/W43))","v":0},{"$f":"IF(ISERROR(IF(AA43>Z43,Z43,AA43)), \"\",IF(AA43>Z43,Z43,AA43))","v":0},{"$f":"IF(ISERROR(IF(Y43>W43,W43,Y43)), \"\",IF(Y43>W43,W43,Y43))","v":0},{"$f":"IF(ISERROR((AC43*AB43)/AA43), \"\",(AC43*AB43)/AA43)","v":""},{"$f":"IF(ISERROR(IF(AC43=W43,0,(AC43*AB43)/AA43)), \"\",IF(AC43=W43,0,(AC43*AB43)/AA43))","v":""},{"$f":"IF(ISERROR(IF(AC43=60,Q43+(AC43/T43),Q43+(AD43/T43))), \"\",IF(AC43=60,Q43+(AC43/T43),Q43+(AD43/T43)))","v":""}]
[null,null,"Test","Target",null,1,"dr_o","Lv_in",2,"dr_o","Lv_in",3,"dr_o","Lv_in",{"$f":"A46","v":306.30769230769215},{"$f":"F45","v":0},{"$f":"C45","v":53},{"$f":"D45","v":53},{"$f":"Q44-R44","v":0},{"$f":"IF(ISERROR(IF(ISERROR(IF(ISERROR(IF(ISERROR((O44/P44)), 0,(O44/P44))), 0,IF(ISERROR((O44/P44)), 0,(O44/P44)))), 0,IF(ISERROR(IF(ISERROR((O44/P44)), 0,(O44/P44))), 0,IF(ISERROR((O44/P44)), 0,(O44/P44))))), 0,IF(ISERROR(IF(ISERROR(IF(ISERROR((O44/P44)), 0,(O44/P44))), 0,IF(ISERROR((O44/P44)), 0,(O44/P44)))), 0,IF(ISERROR(IF(ISERROR((O44/P44)), 0,(O44/P44))), 0,IF(ISERROR((O44/P44)), 0,(O44/P44)))))","v":0},{"$f":"IF(ISERROR(IF(ISERROR(IF(ISERROR(IF(ISERROR(S44*T44), 0,S44*T44)), 0,IF(ISERROR(S44*T44), 0,S44*T44))), 0,IF(ISERROR(IF(ISERROR(S44*T44), 0,S44*T44)), 0,IF(ISERROR(S44*T44), 0,S44*T44)))), 0,IF(ISERROR(IF(ISERROR(IF(ISERROR(S44*T44), 0,S44*T44)), 0,IF(ISERROR(S44*T44), 0,S44*T44))), 0,IF(ISERROR(IF(ISERROR(S44*T44), 0,S44*T44)), 0,IF(ISERROR(S44*T44), 0,S44*T44))))","v":0},{"$f":"IF(ISERROR(IF(ISERROR(IF(ISERROR(IF(ISERROR(O44/T44), 0,O44/T44)), 0,IF(ISERROR(O44/T44), 0,O44/T44))), 0,IF(ISERROR(IF(ISERROR(O44/T44), 0,O44/T44)), 0,IF(ISERROR(O44/T44), 0,O44/T44)))), 0,IF(ISERROR(IF(ISERROR(IF(ISERROR(O44/T44), 0,O44/T44)), 0,IF(ISERROR(O44/T44), 0,O44/T44))), 0,IF(ISERROR(IF(ISERROR(O44/T44), 0,O44/T44)), 0,IF(ISERROR(O44/T44), 0,O44/T44))))","v":0},14.2,0.4,{"$f":"IF(ISERROR(IF(ISERROR(IF(ISERROR(ABS(U44)), 0,ABS(U44))), 0,IF(ISERROR(ABS(U44)), 0,ABS(U44)))), 0,IF(ISERROR(IF(ISERROR(ABS(U44)), 0,ABS(U44))), 0,IF(ISERROR(ABS(U44)), 0,ABS(U44))))","v":0},0.15000000000000002,{"$f":"IF(ISERROR(IF(ISERROR(IF(ISERROR(ABS((Y44*X44)/W44)), 0,ABS((Y44*X44)/W44))), 0,IF(ISERROR(ABS((Y44*X44)/W44)), 0,ABS((Y44*X44)/W44)))), 0,IF(ISERROR(IF(ISERROR(ABS((Y44*X44)/W44)), 0,ABS((Y44*X44)/W44))), 0,IF(ISERROR(ABS((Y44*X44)/W44)), 0,ABS((Y44*X44)/W44))))","v":0},{"$f":"IF(ISERROR(IF(ISERROR(IF(ISERROR(IF(AA44>Z44,Z44,AA44)), 0,IF(AA44>Z44,Z44,AA44))), 0,IF(ISERROR(IF(AA44>Z44,Z44,AA44)), 0,IF(AA44>Z44,Z44,AA44)))), 0,IF(ISERROR(IF(ISERROR(IF(AA44>Z44,Z44,AA44)), 0,IF(AA44>Z44,Z44,AA44))), 0,IF(ISERROR(IF(AA44>Z44,Z44,AA44)), 0,IF(AA44>Z44,Z44,AA44))))","v":0},{"$f":"IF(ISERROR(IF(ISERROR(IF(ISERROR(IF(Y44>W44,W44,Y44)), 0,IF(Y44>W44,W44,Y44))), 0,IF(ISERROR(IF(Y44>W44,W44,Y44)), 0,IF(Y44>W44,W44,Y44)))), 0,IF(ISERROR(IF(ISERROR(IF(Y44>W44,W44,Y44)), 0,IF(Y44>W44,W44,Y44))), 0,IF(ISERROR(IF(Y44>W44,W44,Y44)), 0,IF(Y44>W44,W44,Y44))))","v":0},{"$f":"IF(ISERROR((AC44*AB44)/AA44), 0,(AC44*AB44)/AA44)","v":0},{"$f":"IF(ISERROR(IF(ISERROR(IF(AC44=W44,0,(AC44*AB44)/AA44)), 0,IF(AC44=W44,0,(AC44*AB44)/AA44))), 0,IF(ISERROR(IF(AC44=W44,0,(AC44*AB44)/AA44)), 0,IF(AC44=W44,0,(AC44*AB44)/AA44)))","v":0},{"$f":"IF(ISERROR(IF(AC44=60,Q44+(AC44/T44),Q44+(AD44/T44))), 0,IF(AC44=60,Q44+(AC44/T44),Q44+(AD44/T44)))","v":0}]
["G",11,53,53,{"$f":"IF(ISERROR(IF(ISERROR(IF(ISERROR(Y44), 0,Y44)), 0,IF(ISERROR(Y44), 0,Y44))), 0,IF(ISERROR(IF(ISERROR(Y44), 0,Y44)), 0,IF(ISERROR(Y44), 0,Y44)))","v":0},null,{"$f":"IF(ISERROR(IF(ISERROR(IF(ISERROR(AB44), 0,AB44)), 0,IF(ISERROR(AB44), 0,AB44))), 0,IF(ISERROR(IF(ISERROR(AB44), 0,AB44)), 0,IF(ISERROR(AB44), 0,AB44)))","v":0},{"$f":"IF(ISERROR(IF(ISERROR(IF(ISERROR($E$10-G45), 0,$E$10-G45)), 0,IF(ISERROR($E$10-G45), 0,$E$10-G45))), 0,IF(ISERROR(IF(ISERROR($E$10-G45), 0,$E$10-G45)), 0,IF(ISERROR($E$10-G45), 0,$E$10-G45)))","v":0.4},null,{"$f":"IF(ISERROR(AB45), 0,AB45)","v":0},{"$f":"IF(ISERROR(ROUND($E$10-J45,3)), 0,ROUND($E$10-J45,3))","v":0.4},null,{"$f":"IF(ISERROR(AB46), 0,AB46)","v":0},{"$f":"IF(ISERROR($E$10-M45), 0,$E$10-M45)","v":0.4},{"$f":"A46","v":306.30769230769215},{"$f":"I45","v":0},{"$f":"IF(ISERROR(IF(AC44=W44,Q44+(AC44/T44),Q44+(AD44/T44))), 0,IF(AC44=W44,Q44+(AC44/T44),Q44+(AD44/T44)))","v":0},{"$f":"D45","v":53},{"$f":"IF(ISERROR(Q45-R45), 0,Q45-R45)","v":-53},{"$f":"IF(ISERROR(IF(ISERROR(IF(ISERROR(IF(ISERROR((O45/P45)), 0,(O45/P45))), 0,IF(ISERROR((O45/P45)), 0,(O45/P45)))), 0,IF(ISERROR(IF(ISERROR((O45/P45)), 0,(O45/P45))), 0,IF(ISERROR((O45/P45)), 0,(O45/P45))))), 0,IF(ISERROR(IF(ISERROR(IF(ISERROR((O45/P45)), 0,(O45/P45))), 0,IF(ISERROR((O45/P45)), 0,(O45/P45)))), 0,IF(ISERROR(IF(ISERROR((O45/P45)), 0,(O45/P45))), 0,IF(ISERROR((O45/P45)), 0,(O45/P45)))))","v":0},{"$f":"IF(ISERROR(S45*T45), 0,S45*T45)","v":0},{"$f":"IF(ISERROR(IF(ISERROR(IF(ISERROR(IF(ISERROR(O45/T45), 0,O45/T45)), 0,IF(ISERROR(O45/T45), 0,O45/T45))), 0,IF(ISERROR(IF(ISERROR(O45/T45), 0,O45/T45)), 0,IF(ISERROR(O45/T45), 0,O45/T45)))), 0,IF(ISERROR(IF(ISERROR(IF(ISERROR(O45/T45), 0,O45/T45)), 0,IF(ISERROR(O45/T45), 0,O45/T45))), 0,IF(ISERROR(IF(ISERROR(O45/T45), 0,O45/T45)), 0,IF(ISERROR(O45/T45), 0,O45/T45))))","v":0},14.2,0.4,{"$f":"IF(ISERROR(ABS(U45)), 0,ABS(U45))","v":0},0.15000000000000002,{"$f":"IF(ISERROR(ABS((Y45*X45)/W45)), 0,ABS((Y45*X45)/W45))","v":0},{"$f":"IF(ISERROR(IF(AA45>Z45,Z45,AA45)), 0,IF(AA45>Z45,Z45,AA45))","v":0},{"$f":"IF(ISERROR(IF(Y45>W45,W45,Y45)), 0,IF(Y45>W45,W45,Y45))","v":0},{"$f":"IF(ISERROR((AC45*AB45)/AA45), 0,(AC45*AB45)/AA45)","v":0},{"$f":"IF(ISERROR(IF(ISERROR(IF(AC45=W45,0,(AC45*AB45)/AA45)), 0,IF(AC45=W45,0,(AC45*AB45)/AA45))), 0,IF(ISERROR(IF(AC45=W45,0,(AC45*AB45)/AA45)), 0,IF(AC45=W45,0,(AC45*AB45)/AA45)))","v":0},{"$f":"IF(ISERROR(IF(AC45=60,Q45+(AC45/T45),Q45+(AD45/T45))), 0,IF(AC45=60,Q45+(AC45/T45),Q45+(AD45/T45)))","v":0}]
[{"$f":"F306","v":306.30769230769215},{"$f":"IF(AND(C45<D45, E45>$E$7),\"Ignore Drill Out Lead 1; rather pop out Lead 1 and LEAVE lead # 2 to \"&K45&\" inches.\",\"\")","v":""},null,null,null,null,null,null,null,null,null,null,null,{"$f":"IF(ISERROR((G45+J45+M45)/$E$10*$E$7), 0,(G45+J45+M45)/$E$10*$E$7)","v":0},{"$f":"A46","v":306.30769230769215},{"$f":"L45","v":0},{"$f":"IF(ISERROR(IF(AC45=W45,Q45+(AC45/T45),Q45+(AD45/T45))), 0,IF(AC45=W45,Q45+(AC45/T45),Q45+(AD45/T45)))","v":0},{"$f":"D45","v":53},{"$f":"IF(ISERROR(Q46-R46), 0,Q46-R46)","v":-53},{"$f":"IF(ISERROR(IF(ISERROR((O46/P46)), 0,(O46/P46))), 0,IF(ISERROR((O46/P46)), 0,(O46/P46)))","v":0},{"$f":"IF(ISERROR(IF(ISERROR(S46*T46), 0,S46*T46)), 0,IF(ISERROR(S46*T46), 0,S46*T46))","v":0},{"$f":"IF(ISERROR(IF(ISERROR(IF(ISERROR(O46/T46), 0,O46/T46)), 0,IF(ISERROR(O46/T46), 0,O46/T46))), 0,IF(ISERROR(IF(ISERROR(O46/T46), 0,O46/T46)), 0,IF(ISERROR(O46/T46), 0,O46/T46)))","v":0},14.2,0.4,{"$f":"IF(ISERROR(IF(ISERROR(ABS(U46)), 0,ABS(U46))), 0,IF(ISERROR(ABS(U46)), 0,ABS(U46)))","v":0},0.15000000000000002,{"$f":"IF(ISERROR(IF(ISERROR(ABS((Y46*X46)/W46)), 0,ABS((Y46*X46)/W46))), 0,IF(ISERROR(ABS((Y46*X46)/W46)), 0,ABS((Y46*X46)/W46)))","v":0},{"$f":"IF(ISERROR(IF(ISERROR(IF(AA46>Z46,Z46,AA46)), 0,IF(AA46>Z46,Z46,AA46))), 0,IF(ISERROR(IF(AA46>Z46,Z46,AA46)), 0,IF(AA46>Z46,Z46,AA46)))","v":0},{"$f":"IF(ISERROR(IF(ISERROR(IF(Y46>W46,W46,Y46)), 0,IF(Y46>W46,W46,Y46))), 0,IF(ISERROR(IF(Y46>W46,W46,Y46)), 0,IF(Y46>W46,W46,Y46)))","v":0},{"$f":"IF(ISERROR((AC46*AB46)/AA46), \"\",(AC46*AB46)/AA46)","v":""},{"$f":"IF(ISERROR(IF(AC46=W46,0,(AC46*AB46)/AA46)), \"\",IF(AC46=W46,0,(AC46*AB46)/AA46))","v":""},{"$f":"IF(ISERROR(IF(AC46=60,Q46+(AC46/T46),Q46+(AD46/T46))), \"\",IF(AC46=60,Q46+(AC46/T46),Q46+(AD46/T46)))","v":""}]
[null,null,"Test","Target",null,1,"dr_o","Lv_in",2,"dr_o","Lv_in",3,"dr_o","Lv_in",{"$f":"A49","v":275.5},{"$f":"F48","v":0},{"$f":"C48","v":53},{"$f":"D48","v":53},{"$f":"Q47-R47","v":0},{"$f":"IF(ISERROR(IF(ISERROR(IF(ISERROR(IF(ISERROR((O47/P47)), 0,(O47/P47))), 0,IF(ISERROR((O47/P47)), 0,(O47/P47)))), 0,IF(ISERROR(IF(ISERROR((O47/P47)), 0,(O47/P47))), 0,IF(ISERROR((O47/P47)), 0,(O47/P47))))), 0,IF(ISERROR(IF(ISERROR(IF(ISERROR((O47/P47)), 0,(O47/P47))), 0,IF(ISERROR((O47/P47)), 0,(O47/P47)))), 0,IF(ISERROR(IF(ISERROR((O47/P47)), 0,(O47/P47))), 0,IF(ISERROR((O47/P47)), 0,(O47/P47)))))","v":0},{"$f":"IF(ISERROR(IF(ISERROR(IF(ISERROR(IF(ISERROR(S47*T47), 0,S47*T47)), 0,IF(ISERROR(S47*T47), 0,S47*T47))), 0,IF(ISERROR(IF(ISERROR(S47*T47), 0,S47*T47)), 0,IF(ISERROR(S47*T47), 0,S47*T47)))), 0,IF(ISERROR(IF(ISERROR(IF(ISERROR(S47*T47), 0,S47*T47)), 0,IF(ISERROR(S47*T47), 0,S47*T47))), 0,IF(ISERROR(IF(ISERROR(S47*T47), 0,S47*T47)), 0,IF(ISERROR(S47*T47), 0,S47*T47))))","v":0},{"$f":"IF(ISERROR(IF(ISERROR(IF(ISERROR(IF(ISERROR(O47/T47), 0,O47/T47)), 0,IF(ISERROR(O47/T47), 0,O47/T47))), 0,IF(ISERROR(IF(ISERROR(O47/T47), 0,O47/T47)), 0,IF(ISERROR(O47/T47), 0,O47/T47)))), 0,IF(ISERROR(IF(ISERROR(IF(ISERROR(O47/T47), 0,O47/T47)), 0,IF(ISERROR(O47/T47), 0,O47/T47))), 0,IF(ISERROR(IF(ISERROR(O47/T47), 0,O47/T47)), 0,IF(ISERROR(O47/T47), 0,O47/T47))))","v":0},14.2,0.4,{"$f":"IF(ISERROR(IF(ISERROR(IF(ISERROR(ABS(U47)), 0,ABS(U47))), 0,IF(ISERROR(ABS(U47)), 0,ABS(U47)))), 0,IF(ISERROR(IF(ISERROR(ABS(U47)), 0,ABS(U47))), 0,IF(ISERROR(ABS(U47)), 0,ABS(U47))))","v":0},0.15000000000000002,{"$f":"IF(ISERROR(IF(ISERROR(IF(ISERROR(ABS((Y47*X47)/W47)), 0,ABS((Y47*X47)/W47))), 0,IF(ISERROR(ABS((Y47*X47)/W47)), 0,ABS((Y47*X47)/W47)))), 0,IF(ISERROR(IF(ISERROR(ABS((Y47*X47)/W47)), 0,ABS((Y47*X47)/W47))), 0,IF(ISERROR(ABS((Y47*X47)/W47)), 0,ABS((Y47*X47)/W47))))","v":0},{"$f":"IF(ISERROR(IF(ISERROR(IF(ISERROR(IF(AA47>Z47,Z47,AA47)), 0,IF(AA47>Z47,Z47,AA47))), 0,IF(ISERROR(IF(AA47>Z47,Z47,AA47)), 0,IF(AA47>Z47,Z47,AA47)))), 0,IF(ISERROR(IF(ISERROR(IF(AA47>Z47,Z47,AA47)), 0,IF(AA47>Z47,Z47,AA47))), 0,IF(ISERROR(IF(AA47>Z47,Z47,AA47)), 0,IF(AA47>Z47,Z47,AA47))))","v":0},{"$f":"IF(ISERROR(IF(ISERROR(IF(ISERROR(IF(Y47>W47,W47,Y47)), 0,IF(Y47>W47,W47,Y47))), 0,IF(ISERROR(IF(Y47>W47,W47,Y47)), 0,IF(Y47>W47,W47,Y47)))), 0,IF(ISERROR(IF(ISERROR(IF(Y47>W47,W47,Y47)), 0,IF(Y47>W47,W47,Y47))), 0,IF(ISERROR(IF(Y47>W47,W47,Y47)), 0,IF(Y47>W47,W47,Y47))))","v":0},{"$f":"IF(ISERROR((AC47*AB47)/AA47), 0,(AC47*AB47)/AA47)","v":0},{"$f":"IF(ISERROR(IF(ISERROR(IF(AC47=W47,0,(AC47*AB47)/AA47)), 0,IF(AC47=W47,0,(AC47*AB47)/AA47))), 0,IF(ISERROR(IF(AC47=W47,0,(AC47*AB47)/AA47)), 0,IF(AC47=W47,0,(AC47*AB47)/AA47)))","v":0},{"$f":"IF(ISERROR(IF(AC47=60,Q47+(AC47/T47),Q47+(AD47/T47))), 0,IF(AC47=60,Q47+(AC47/T47),Q47+(AD47/T47)))","v":0}]
["G#",12,53,53,{"$f":"IF(ISERROR(IF(ISERROR(IF(ISERROR(Y47), 0,Y47)), 0,IF(ISERROR(Y47), 0,Y47))), 0,IF(ISERROR(IF(ISERROR(Y47), 0,Y47)), 0,IF(ISERROR(Y47), 0,Y47)))","v":0},null,{"$f":"IF(ISERROR(IF(ISERROR(IF(ISERROR(AB47), 0,AB47)), 0,IF(ISERROR(AB47), 0,AB47))), 0,IF(ISERROR(IF(ISERROR(AB47), 0,AB47)), 0,IF(ISERROR(AB47), 0,AB47)))","v":0},{"$f":"IF(ISERROR(IF(ISERROR(IF(ISERROR($E$10-G48), 0,$E$10-G48)), 0,IF(ISERROR($E$10-G48), 0,$E$10-G48))), 0,IF(ISERROR(IF(ISERROR($E$10-G48), 0,$E$10-G48)), 0,IF(ISERROR($E$10-G48), 0,$E$10-G48)))","v":0.4},null,{"$f":"IF(ISERROR(AB48), 0,AB48)","v":0},{"$f":"IF(ISERROR(ROUND($E$10-J48,3)), 0,ROUND($E$10-J48,3))","v":0.4},null,{"$f":"IF(ISERROR(AB49), \"\",AB49)","v":0},{"$f":"IF(ISERROR($E$10-M48), \"\",$E$10-M48)","v":0.4},{"$f":"A49","v":275.5},{"$f":"I48","v":0},{"$f":"IF(ISERROR(IF(AC47=W47,Q47+(AC47/T47),Q47+(AD47/T47))), 0,IF(AC47=W47,Q47+(AC47/T47),Q47+(AD47/T47)))","v":0},{"$f":"D48","v":53},{"$f":"IF(ISERROR(Q48-R48), 0,Q48-R48)","v":-53},{"$f":"IF(ISERROR(IF(ISERROR(IF(ISERROR(IF(ISERROR((O48/P48)), 0,(O48/P48))), 0,IF(ISERROR((O48/P48)), 0,(O48/P48)))), 0,IF(ISERROR(IF(ISERROR((O48/P48)), 0,(O48/P48))), 0,IF(ISERROR((O48/P48)), 0,(O48/P48))))), 0,IF(ISERROR(IF(ISERROR(IF(ISERROR((O48/P48)), 0,(O48/P48))), 0,IF(ISERROR((O48/P48)), 0,(O48/P48)))), 0,IF(ISERROR(IF(ISERROR((O48/P48)), 0,(O48/P48))), 0,IF(ISERROR((O48/P48)), 0,(O48/P48)))))","v":0},{"$f":"IF(ISERROR(S48*T48), 0,S48*T48)","v":0},{"$f":"IF(ISERROR(IF(ISERROR(IF(ISERROR(IF(ISERROR(O48/T48), 0,O48/T48)), 0,IF(ISERROR(O48/T48), 0,O48/T48))), 0,IF(ISERROR(IF(ISERROR(O48/T48), 0,O48/T48)), 0,IF(ISERROR(O48/T48), 0,O48/T48)))), 0,IF(ISERROR(IF(ISERROR(IF(ISERROR(O48/T48), 0,O48/T48)), 0,IF(ISERROR(O48/T48), 0,O48/T48))), 0,IF(ISERROR(IF(ISERROR(O48/T48), 0,O48/T48)), 0,IF(ISERROR(O48/T48), 0,O48/T48))))","v":0},14.2,0.4,{"$f":"IF(ISERROR(ABS(U48)), 0,ABS(U48))","v":0},0.15000000000000002,{"$f":"IF(ISERROR(ABS((Y48*X48)/W48)), 0,ABS((Y48*X48)/W48))","v":0},{"$f":"IF(ISERROR(IF(AA48>Z48,Z48,AA48)), 0,IF(AA48>Z48,Z48,AA48))","v":0},{"$f":"IF(ISERROR(IF(Y48>W48,W48,Y48)), 0,IF(Y48>W48,W48,Y48))","v":0},{"$f":"IF(ISERROR((AC48*AB48)/AA48), \"\",(AC48*AB48)/AA48)","v":""},{"$f":"IF(ISERROR(IF(AC48=W48,0,(AC48*AB48)/AA48)), \"\",IF(AC48=W48,0,(AC48*AB48)/AA48))","v":""},{"$f":"IF(ISERROR(IF(AC48=60,Q48+(AC48/T48),Q48+(AD48/T48))), \"\",IF(AC48=60,Q48+(AC48/T48),Q48+(AD48/T48)))","v":""}]
[{"$f":"R304","v":275.5},{"$f":"IF(AND(C48<D48, E48>$E$7),\"Ignore Drill Out Lead 1; rather pop out Lead 1 and LEAVE lead # 2 to \"&K48&\" inches.\",\"\")","v":""},null,null,null,null,null,null,null,null,null,null,null,{"$f":"IF(ISERROR((G48+J48+M48)/$E$10*$E$7), 0,(G48+J48+M48)/$E$10*$E$7)","v":0},{"$f":"A49","v":275.5},{"$f":"L48","v":0},{"$f":"IF(ISERROR(IF(AC48=W48,Q48+(AC48/T48),Q48+(AD48/T48))), \"\",IF(AC48=W48,Q48+(AC48/T48),Q48+(AD48/T48)))","v":""},{"$f":"D48","v":53},{"$f":"IF(ISERROR(Q49-R49), 0,Q49-R49)","v":0},{"$f":"IF(ISERROR((O49/P49)), 0,(O49/P49))","v":0},{"$f":"IF(ISERROR(S49*T49), \"\",S49*T49)","v":0},{"$f":"IF(ISERROR(IF(ISERROR(O49/T49), 0,O49/T49)), 0,IF(ISERROR(O49/T49), 0,O49/T49))","v":0},14.2,0.4,{"$f":"IF(ISERROR(ABS(U49)), \"\",ABS(U49))","v":0},0.15000000000000002,{"$f":"IF(ISERROR(ABS((Y49*X49)/W49)), \"\",ABS((Y49*X49)/W49))","v":0},{"$f":"IF(ISERROR(IF(AA49>Z49,Z49,AA49)), \"\",IF(AA49>Z49,Z49,AA49))","v":0},{"$f":"IF(ISERROR(IF(Y49>W49,W49,Y49)), \"\",IF(Y49>W49,W49,Y49))","v":0},{"$f":"IF(ISERROR((AC49*AB49)/AA49), \"\",(AC49*AB49)/AA49)","v":""},{"$f":"IF(ISERROR(IF(AC49=W49,0,(AC49*AB49)/AA49)), \"\",IF(AC49=W49,0,(AC49*AB49)/AA49))","v":""},{"$f":"IF(ISERROR(IF(AC49=60,Q49+(AC49/T49),Q49+(AD49/T49))), \"\",IF(AC49=60,Q49+(AC49/T49),Q49+(AD49/T49)))","v":""}]
[]
[null,null,"Gram Test","Desired DW","Total Lead to remove","Location mm","Drill Depth Inches","Leave this much lead","Location mm","Depth","Leave this much lead","Location mm","Depth","Leave this much lead",null,null,"delta DW","ddw","dif_dw","key_ro","reqd_ld","key_div","slugs","lead_wid","reqd_ld","max_drill","tot_drill","act_drill","lead_out","fac","slug_rmn","delta_DW"]
[null,"Key #","DW","DDW","Ld. Out","Lead 1","Drill Out ","LEAVE","2nd","Drill  ","LEAVE","3rd","Drill  ","LEAVE",{"$f":"A54","v":304.94230769230751},{"$f":"F53","v":0},{"$f":"C53","v":52},{"$f":"D53","v":52},{"$f":"Q52-R52","v":0},{"$f":"IF(ISERROR(IF(ISERROR(IF(ISERROR(IF(ISERROR((O52/P52)), 0,(O52/P52))), 0,IF(ISERROR((O52/P52)), 0,(O52/P52)))), 0,IF(ISERROR(IF(ISERROR((O52/P52)), 0,(O52/P52))), 0,IF(ISERROR((O52/P52)), 0,(O52/P52))))), 0,IF(ISERROR(IF(ISERROR(IF(ISERROR((O52/P52)), 0,(O52/P52))), 0,IF(ISERROR((O52/P52)), 0,(O52/P52)))), 0,IF(ISERROR(IF(ISERROR((O52/P52)), 0,(O52/P52))), 0,IF(ISERROR((O52/P52)), 0,(O52/P52)))))","v":0},{"$f":"IF(ISERROR(IF(ISERROR(IF(ISERROR(IF(ISERROR(S52*T52), 0,S52*T52)), 0,IF(ISERROR(S52*T52), 0,S52*T52))), 0,IF(ISERROR(IF(ISERROR(S52*T52), 0,S52*T52)), 0,IF(ISERROR(S52*T52), 0,S52*T52)))), 0,IF(ISERROR(IF(ISERROR(IF(ISERROR(S52*T52), 0,S52*T52)), 0,IF(ISERROR(S52*T52), 0,S52*T52))), 0,IF(ISERROR(IF(ISERROR(S52*T52), 0,S52*T52)), 0,IF(ISERROR(S52*T52), 0,S52*T52))))","v":0},{"$f":"IF(ISERROR(IF(ISERROR(IF(ISERROR(IF(ISERROR(O52/T52), 0,O52/T52)), 0,IF(ISERROR(O52/T52), 0,O52/T52))), 0,IF(ISERROR(IF(ISERROR(O52/T52), 0,O52/T52)), 0,IF(ISERROR(O52/T52), 0,O52/T52)))), 0,IF(ISERROR(IF(ISERROR(IF(ISERROR(O52/T52), 0,O52/T52)), 0,IF(ISERROR(O52/T52), 0,O52/T52))), 0,IF(ISERROR(IF(ISERROR(O52/T52), 0,O52/T52)), 0,IF(ISERROR(O52/T52), 0,O52/T52))))","v":0},{"$f":"$E$7","v":14.2},{"$f":"$E$10","v":0.4},{"$f":"IF(ISERROR(IF(ISERROR(IF(ISERROR(ABS(U52)), 0,ABS(U52))), 0,IF(ISERROR(ABS(U52)), 0,ABS(U52)))), 0,IF(ISERROR(IF(ISERROR(ABS(U52)), 0,ABS(U52))), 0,IF(ISERROR(ABS(U52)), 0,ABS(U52))))","v":0},{"$f":"$X$14-$G$11","v":0.15000000000000002},{"$f":"IF(ISERROR(IF(ISERROR(IF(ISERROR(ABS((Y52*X52)/W52)), 0,ABS((Y52*X52)/W52))), 0,IF(ISERROR(ABS((Y52*X52)/W52)), 0,ABS((Y52*X52)/W52)))), 0,IF(ISERROR(IF(ISERROR(ABS((Y52*X52)/W52)), 0,ABS((Y52*X52)/W52))), 0,IF(ISERROR(ABS((Y52*X52)/W52)), 0,ABS((Y52*X52)/W52))))","v":0},{"$f":"IF(ISERROR(IF(ISERROR(IF(ISERROR(IF(AA52>Z52,Z52,AA52)), 0,IF(AA52>Z52,Z52,AA52))), 0,IF(ISERROR(IF(AA52>Z52,Z52,AA52)), 0,IF(AA52>Z52,Z52,AA52)))), 0,IF(ISERROR(IF(ISERROR(IF(AA52>Z52,Z52,AA52)), 0,IF(AA52>Z52,Z52,AA52))), 0,IF(ISERROR(IF(AA52>Z52,Z52,AA52)), 0,IF(AA52>Z52,Z52,AA52))))","v":0},{"$f":"IF(ISERROR(IF(ISERROR(IF(ISERROR(IF(Y52>W52,W52,Y52)), 0,IF(Y52>W52,W52,Y52))), 0,IF(ISERROR(IF(Y52>W52,W52,Y52)), 0,IF(Y52>W52,W52,Y52)))), 0,IF(ISERROR(IF(ISERROR(IF(Y52>W52,W52,Y52)), 0,IF(Y52>W52,W52,Y52))), 0,IF(ISERROR(IF(Y52>W52,W52,Y52)), 0,IF(Y52>W52,W52,Y52))))","v":0},{"$f":"IF(ISERROR((AC52*AB52)/AA52), 0,(AC52*AB52)/AA52)","v":0},{"$f":"IF(ISERROR(IF(ISERROR(IF(AC52=W52,0,(AC52*AB52)/AA52)), 0,IF(AC52=W52,0,(AC52*AB52)/AA52))), 0,IF(ISERROR(IF(AC52=W52,0,(AC52*AB52)/AA52)), 0,IF(AC52=W52,0,(AC52*AB52)/AA52)))","v":0},{"$f":"IF(ISERROR(IF(AC52=60,Q52+(AC52/T52),Q52+(AD52/T52))), 0,IF(AC52=60,Q52+(AC52/T52),Q52+(AD52/T52)))","v":0}]
["A",13,52,52,{"$f":"IF(ISERROR(IF(ISERROR(IF(ISERROR(Y52), 0,Y52)), 0,IF(ISERROR(Y52), 0,Y52))), 0,IF(ISERROR(IF(ISERROR(Y52), 0,Y52)), 0,IF(ISERROR(Y52), 0,Y52)))","v":0},null,{"$f":"IF(ISERROR(IF(ISERROR(IF(ISERROR(AB52), 0,AB52)), 0,IF(ISERROR(AB52), 0,AB52))), 0,IF(ISERROR(IF(ISERROR(AB52), 0,AB52)), 0,IF(ISERROR(AB52), 0,AB52)))","v":0},{"$f":"IF(ISERROR(IF(ISERROR(IF(ISERROR($E$10-G53), 0,$E$10-G53)), 0,IF(ISERROR($E$10-G53), 0,$E$10-G53))), 0,IF(ISERROR(IF(ISERROR($E$10-G53), 0,$E$10-G53)), 0,IF(ISERROR($E$10-G53), 0,$E$10-G53)))","v":0.4},null,{"$f":"IF(ISERROR(AB53), 0,AB53)","v":0},{"$f":"IF(ISERROR(ROUND($E$10-J53,3)), 0,ROUND($E$10-J53,3))","v":0.4},null,{"$f":"IF(ISERROR(AB54), 0,AB54)","v":0},{"$f":"IF(ISERROR($E$10-M53), 0,$E$10-M53)","v":0.4},{"$f":"A54","v":304.94230769230751},{"$f":"I53","v":0},{"$f":"IF(ISERROR(IF(AC52=W52,Q52+(AC52/T52),Q52+(AD52/T52))), 0,IF(AC52=W52,Q52+(AC52/T52),Q52+(AD52/T52)))","v":0},{"$f":"D53","v":52},{"$f":"IF(ISERROR(Q53-R53), 0,Q53-R53)","v":-52},{"$f":"IF(ISERROR(IF(ISERROR(IF(ISERROR(IF(ISERROR((O53/P53)), 0,(O53/P53))), 0,IF(ISERROR((O53/P53)), 0,(O53/P53)))), 0,IF(ISERROR(IF(ISERROR((O53/P53)), 0,(O53/P53))), 0,IF(ISERROR((O53/P53)), 0,(O53/P53))))), 0,IF(ISERROR(IF(ISERROR(IF(ISERROR((O53/P53)), 0,(O53/P53))), 0,IF(ISERROR((O53/P53)), 0,(O53/P53)))), 0,IF(ISERROR(IF(ISERROR((O53/P53)), 0,(O53/P53))), 0,IF(ISERROR((O53/P53)), 0,(O53/P53)))))","v":0},{"$f":"IF(ISERROR(S53*T53), 0,S53*T53)","v":0},{"$f":"IF(ISERROR(IF(ISERROR(IF(ISERROR(IF(ISERROR(O53/T53), 0,O53/T53)), 0,IF(ISERROR(O53/T53), 0,O53/T53))), 0,IF(ISERROR(IF(ISERROR(O53/T53), 0,O53/T53)), 0,IF(ISERROR(O53/T53), 0,O53/T53)))), 0,IF(ISERROR(IF(ISERROR(IF(ISERROR(O53/T53), 0,O53/T53)), 0,IF(ISERROR(O53/T53), 0,O53/T53))), 0,IF(ISERROR(IF(ISERROR(O53/T53), 0,O53/T53)), 0,IF(ISERROR(O53/T53), 0,O53/T53))))","v":0},14.2,0.4,{"$f":"IF(ISERROR(ABS(U53)), 0,ABS(U53))","v":0},0.15000000000000002,{"$f":"IF(ISERROR(ABS((Y53*X53)/W53)), 0,ABS((Y53*X53)/W53))","v":0},{"$f":"IF(ISERROR(IF(AA53>Z53,Z53,AA53)), 0,IF(AA53>Z53,Z53,AA53))","v":0},{"$f":"IF(ISERROR(IF(Y53>W53,W53,Y53)), 0,IF(Y53>W53,W53,Y53))","v":0},{"$f":"IF(ISERROR((AC53*AB53)/AA53), 0,(AC53*AB53)/AA53)","v":0},{"$f":"IF(ISERROR(IF(ISERROR(IF(AC53=W53,0,(AC53*AB53)/AA53)), 0,IF(AC53=W53,0,(AC53*AB53)/AA53))), 0,IF(ISERROR(IF(AC53=W53,0,(AC53*AB53)/AA53)), 0,IF(AC53=W53,0,(AC53*AB53)/AA53)))","v":0},{"$f":"IF(ISERROR(IF(AC53=60,Q53+(AC53/T53),Q53+(AD53/T53))), 0,IF(AC53=60,Q53+(AC53/T53),Q53+(AD53/T53)))","v":0}]
[{"$f":"F307","v":304.94230769230751},{"$f":"IF(AND(C53<D53, E53>$E$7),\"Ignore Drill Out Lead 1; rather pop out Lead 1 and LEAVE lead # 2 to \"&K53&\" inches.\",\"\")","v":""},null,null,null,null,null,null,null,null,null,null,null,{"$f":"(G53+J53+M53)/$E$10*$E$7","v":0},{"$f":"A54","v":304.94230769230751},{"$f":"L53","v":0},{"$f":"IF(ISERROR(IF(AC53=W53,Q53+(AC53/T53),Q53+(AD53/T53))), 0,IF(AC53=W53,Q53+(AC53/T53),Q53+(AD53/T53)))","v":0},{"$f":"D53","v":52},{"$f":"IF(ISERROR(Q54-R54), 0,Q54-R54)","v":-52},{"$f":"IF(ISERROR(IF(ISERROR((O54/P54)), 0,(O54/P54))), 0,IF(ISERROR((O54/P54)), 0,(O54/P54)))","v":0},{"$f":"IF(ISERROR(IF(ISERROR(S54*T54), 0,S54*T54)), 0,IF(ISERROR(S54*T54), 0,S54*T54))","v":0},{"$f":"IF(ISERROR(IF(ISERROR(IF(ISERROR(O54/T54), 0,O54/T54)), 0,IF(ISERROR(O54/T54), 0,O54/T54))), 0,IF(ISERROR(IF(ISERROR(O54/T54), 0,O54/T54)), 0,IF(ISERROR(O54/T54), 0,O54/T54)))","v":0},14.2,0.4,{"$f":"IF(ISERROR(IF(ISERROR(ABS(U54)), 0,ABS(U54))), 0,IF(ISERROR(ABS(U54)), 0,ABS(U54)))","v":0},0.15000000000000002,{"$f":"IF(ISERROR(IF(ISERROR(ABS((Y54*X54)/W54)), 0,ABS((Y54*X54)/W54))), 0,IF(ISERROR(ABS((Y54*X54)/W54)), 0,ABS((Y54*X54)/W54)))","v":0},{"$f":"IF(ISERROR(IF(ISERROR(IF(AA54>Z54,Z54,AA54)), 0,IF(AA54>Z54,Z54,AA54))), 0,IF(ISERROR(IF(AA54>Z54,Z54,AA54)), 0,IF(AA54>Z54,Z54,AA54)))","v":0},{"$f":"IF(ISERROR(IF(ISERROR(IF(Y54>W54,W54,Y54)), 0,IF(Y54>W54,W54,Y54))), 0,IF(ISERROR(IF(Y54>W54,W54,Y54)), 0,IF(Y54>W54,W54,Y54)))","v":0},{"$f":"IF(ISERROR((AC54*AB54)/AA54), \"\",(AC54*AB54)/AA54)","v":""},{"$f":"IF(ISERROR(IF(AC54=W54,0,(AC54*AB54)/AA54)), \"\",IF(AC54=W54,0,(AC54*AB54)/AA54))","v":""},{"$f":"IF(ISERROR(IF(AC54=60,Q54+(AC54/T54),Q54+(AD54/T54))), \"\",IF(AC54=60,Q54+(AC54/T54),Q54+(AD54/T54)))","v":""}]
[null,null,"Test","Target",null,1,"dr_o","Lv_in",2,"dr_o","Lv_in",3,"dr_o","Lv_in",{"$f":"A57","v":274.5},{"$f":"F56","v":0},{"$f":"C56","v":49},{"$f":"D56","v":52},{"$f":"Q55-R55","v":-3},{"$f":"IF(ISERROR(IF(ISERROR(IF(ISERROR(IF(ISERROR((O55/P55)), 0,(O55/P55))), 0,IF(ISERROR((O55/P55)), 0,(O55/P55)))), 0,IF(ISERROR(IF(ISERROR((O55/P55)), 0,(O55/P55))), 0,IF(ISERROR((O55/P55)), 0,(O55/P55))))), 0,IF(ISERROR(IF(ISERROR(IF(ISERROR((O55/P55)), 0,(O55/P55))), 0,IF(ISERROR((O55/P55)), 0,(O55/P55)))), 0,IF(ISERROR(IF(ISERROR((O55/P55)), 0,(O55/P55))), 0,IF(ISERROR((O55/P55)), 0,(O55/P55)))))","v":0},{"$f":"IF(ISERROR(IF(ISERROR(IF(ISERROR(IF(ISERROR(S55*T55), 0,S55*T55)), 0,IF(ISERROR(S55*T55), 0,S55*T55))), 0,IF(ISERROR(IF(ISERROR(S55*T55), 0,S55*T55)), 0,IF(ISERROR(S55*T55), 0,S55*T55)))), 0,IF(ISERROR(IF(ISERROR(IF(ISERROR(S55*T55), 0,S55*T55)), 0,IF(ISERROR(S55*T55), 0,S55*T55))), 0,IF(ISERROR(IF(ISERROR(S55*T55), 0,S55*T55)), 0,IF(ISERROR(S55*T55), 0,S55*T55))))","v":0},{"$f":"IF(ISERROR(IF(ISERROR(IF(ISERROR(IF(ISERROR(O55/T55), 0,O55/T55)), 0,IF(ISERROR(O55/T55), 0,O55/T55))), 0,IF(ISERROR(IF(ISERROR(O55/T55), 0,O55/T55)), 0,IF(ISERROR(O55/T55), 0,O55/T55)))), 0,IF(ISERROR(IF(ISERROR(IF(ISERROR(O55/T55), 0,O55/T55)), 0,IF(ISERROR(O55/T55), 0,O55/T55))), 0,IF(ISERROR(IF(ISERROR(O55/T55), 0,O55/T55)), 0,IF(ISERROR(O55/T55), 0,O55/T55))))","v":0},14.2,0.4,{"$f":"IF(ISERROR(IF(ISERROR(IF(ISERROR(ABS(U55)), 0,ABS(U55))), 0,IF(ISERROR(ABS(U55)), 0,ABS(U55)))), 0,IF(ISERROR(IF(ISERROR(ABS(U55)), 0,ABS(U55))), 0,IF(ISERROR(ABS(U55)), 0,ABS(U55))))","v":0},0.15000000000000002,{"$f":"IF(ISERROR(IF(ISERROR(IF(ISERROR(ABS((Y55*X55)/W55)), 0,ABS((Y55*X55)/W55))), 0,IF(ISERROR(ABS((Y55*X55)/W55)), 0,ABS((Y55*X55)/W55)))), 0,IF(ISERROR(IF(ISERROR(ABS((Y55*X55)/W55)), 0,ABS((Y55*X55)/W55))), 0,IF(ISERROR(ABS((Y55*X55)/W55)), 0,ABS((Y55*X55)/W55))))","v":0},{"$f":"IF(ISERROR(IF(ISERROR(IF(ISERROR(IF(AA55>Z55,Z55,AA55)), 0,IF(AA55>Z55,Z55,AA55))), 0,IF(ISERROR(IF(AA55>Z55,Z55,AA55)), 0,IF(AA55>Z55,Z55,AA55)))), 0,IF(ISERROR(IF(ISERROR(IF(AA55>Z55,Z55,AA55)), 0,IF(AA55>Z55,Z55,AA55))), 0,IF(ISERROR(IF(AA55>Z55,Z55,AA55)), 0,IF(AA55>Z55,Z55,AA55))))","v":0},{"$f":"IF(ISERROR(IF(ISERROR(IF(ISERROR(IF(Y55>W55,W55,Y55)), 0,IF(Y55>W55,W55,Y55))), 0,IF(ISERROR(IF(Y55>W55,W55,Y55)), 0,IF(Y55>W55,W55,Y55)))), 0,IF(ISERROR(IF(ISERROR(IF(Y55>W55,W55,Y55)), 0,IF(Y55>W55,W55,Y55))), 0,IF(ISERROR(IF(Y55>W55,W55,Y55)), 0,IF(Y55>W55,W55,Y55))))","v":0},{"$f":"IF(ISERROR((AC55*AB55)/AA55), 0,(AC55*AB55)/AA55)","v":0},{"$f":"IF(ISERROR(IF(ISERROR(IF(AC55=W55,0,(AC55*AB55)/AA55)), 0,IF(AC55=W55,0,(AC55*AB55)/AA55))), 0,IF(ISERROR(IF(AC55=W55,0,(AC55*AB55)/AA55)), 0,IF(AC55=W55,0,(AC55*AB55)/AA55)))","v":0},{"$f":"IF(ISERROR(IF(AC55=60,Q55+(AC55/T55),Q55+(AD55/T55))), 0,IF(AC55=60,Q55+(AC55/T55),Q55+(AD55/T55)))","v":0}]
["A#",14,49,52,{"$f":"IF(ISERROR(IF(ISERROR(IF(ISERROR(Y55), 0,Y55)), 0,IF(ISERROR(Y55), 0,Y55))), 0,IF(ISERROR(IF(ISERROR(Y55), 0,Y55)), 0,IF(ISERROR(Y55), 0,Y55)))","v":0},null,{"$f":"IF(ISERROR(IF(ISERROR(IF(ISERROR(AB55), 0,AB55)), 0,IF(ISERROR(AB55), 0,AB55))), 0,IF(ISERROR(IF(ISERROR(AB55), 0,AB55)), 0,IF(ISERROR(AB55), 0,AB55)))","v":0},{"$f":"IF(ISERROR(IF(ISERROR(IF(ISERROR($E$10-G56), 0,$E$10-G56)), 0,IF(ISERROR($E$10-G56), 0,$E$10-G56))), 0,IF(ISERROR(IF(ISERROR($E$10-G56), 0,$E$10-G56)), 0,IF(ISERROR($E$10-G56), 0,$E$10-G56)))","v":0.4},null,{"$f":"IF(ISERROR(AB56), 0,AB56)","v":0},{"$f":"IF(ISERROR(ROUND($E$10-J56,3)), 0,ROUND($E$10-J56,3))","v":0.4},null,{"$f":"IF(ISERROR(AB57), \"\",AB57)","v":0},{"$f":"IF(ISERROR($E$10-M56), \"\",$E$10-M56)","v":0.4},{"$f":"A57","v":274.5},{"$f":"I56","v":0},{"$f":"IF(ISERROR(IF(AC55=W55,Q55+(AC55/T55),Q55+(AD55/T55))), 0,IF(AC55=W55,Q55+(AC55/T55),Q55+(AD55/T55)))","v":0},{"$f":"D56","v":52},{"$f":"IF(ISERROR(Q56-R56), 0,Q56-R56)","v":-52},{"$f":"IF(ISERROR(IF(ISERROR(IF(ISERROR(IF(ISERROR((O56/P56)), 0,(O56/P56))), 0,IF(ISERROR((O56/P56)), 0,(O56/P56)))), 0,IF(ISERROR(IF(ISERROR((O56/P56)), 0,(O56/P56))), 0,IF(ISERROR((O56/P56)), 0,(O56/P56))))), 0,IF(ISERROR(IF(ISERROR(IF(ISERROR((O56/P56)), 0,(O56/P56))), 0,IF(ISERROR((O56/P56)), 0,(O56/P56)))), 0,IF(ISERROR(IF(ISERROR((O56/P56)), 0,(O56/P56))), 0,IF(ISERROR((O56/P56)), 0,(O56/P56)))))","v":0},{"$f":"IF(ISERROR(S56*T56), 0,S56*T56)","v":0},{"$f":"IF(ISERROR(IF(ISERROR(IF(ISERROR(IF(ISERROR(O56/T56), 0,O56/T56)), 0,IF(ISERROR(O56/T56), 0,O56/T56))), 0,IF(ISERROR(IF(ISERROR(O56/T56), 0,O56/T56)), 0,IF(ISERROR(O56/T56), 0,O56/T56)))), 0,IF(ISERROR(IF(ISERROR(IF(ISERROR(O56/T56), 0,O56/T56)), 0,IF(ISERROR(O56/T56), 0,O56/T56))), 0,IF(ISERROR(IF(ISERROR(O56/T56), 0,O56/T56)), 0,IF(ISERROR(O56/T56), 0,O56/T56))))","v":0},14.2,0.4,{"$f":"IF(ISERROR(ABS(U56)), 0,ABS(U56))","v":0},0.15000000000000002,{"$f":"IF(ISERROR(ABS((Y56*X56)/W56)), 0,ABS((Y56*X56)/W56))","v":0},{"$f":"IF(ISERROR(IF(AA56>Z56,Z56,AA56)), 0,IF(AA56>Z56,Z56,AA56))","v":0},{"$f":"IF(ISERROR(IF(Y56>W56,W56,Y56)), 0,IF(Y56>W56,W56,Y56))","v":0},{"$f":"IF(ISERROR((AC56*AB56)/AA56), \"\",(AC56*AB56)/AA56)","v":""},{"$f":"IF(ISERROR(IF(AC56=W56,0,(AC56*AB56)/AA56)), \"\",IF(AC56=W56,0,(AC56*AB56)/AA56))","v":""},{"$f":"IF(ISERROR(IF(AC56=60,Q56+(AC56/T56),Q56+(AD56/T56))), \"\",IF(AC56=60,Q56+(AC56/T56),Q56+(AD56/T56)))","v":""}]
[{"$f":"R305","v":274.5},{"$f":"IF(AND(C56<D56, E56>$E$7),\"Ignore Drill Out Lead 1; rather pop out Lead 1 and LEAVE lead # 2 to \"&K56&\" inches.\",\"\")","v":""},null,null,null,null,null,null,null,null,null,null,null,{"$f":"IF(ISERROR((G56+J56+M56)/$E$10*$E$7), 0,(G56+J56+M56)/$E$10*$E$7)","v":0},{"$f":"A57","v":274.5},{"$f":"L56","v":0},{"$f":"IF(ISERROR(IF(AC56=W56,Q56+(AC56/T56),Q56+(AD56/T56))), \"\",IF(AC56=W56,Q56+(AC56/T56),Q56+(AD56/T56)))","v":""},{"$f":"D56","v":52},{"$f":"IF(ISERROR(Q57-R57), 0,Q57-R57)","v":0},{"$f":"IF(ISERROR((O57/P57)), 0,(O57/P57))","v":0},{"$f":"IF(ISERROR(S57*T57), \"\",S57*T57)","v":0},{"$f":"IF(ISERROR(IF(ISERROR(O57/T57), 0,O57/T57)), 0,IF(ISERROR(O57/T57), 0,O57/T57))","v":0},14.2,0.4,{"$f":"IF(ISERROR(ABS(U57)), \"\",ABS(U57))","v":0},0.15000000000000002,{"$f":"IF(ISERROR(ABS((Y57*X57)/W57)), \"\",ABS((Y57*X57)/W57))","v":0},{"$f":"IF(ISERROR(IF(AA57>Z57,Z57,AA57)), \"\",IF(AA57>Z57,Z57,AA57))","v":0},{"$f":"IF(ISERROR(IF(Y57>W57,W57,Y57)), \"\",IF(Y57>W57,W57,Y57))","v":0},{"$f":"IF(ISERROR((AC57*AB57)/AA57), \"\",(AC57*AB57)/AA57)","v":""},{"$f":"IF(ISERROR(IF(AC57=W57,0,(AC57*AB57)/AA57)), \"\",IF(AC57=W57,0,(AC57*AB57)/AA57))","v":""},{"$f":"IF(ISERROR(IF(AC57=60,Q57+(AC57/T57),Q57+(AD57/T57))), \"\",IF(AC57=60,Q57+(AC57/T57),Q57+(AD57/T57)))","v":""}]
[null,null,"Test","Target",null,1,"dr_o","Lv_in",2,"dr_o","Lv_in",3,"dr_o","Lv_in",{"$f":"A60","v":303.57692307692287},{"$f":"F59","v":0},{"$f":"C59","v":52},{"$f":"D59","v":52},{"$f":"Q58-R58","v":0},{"$f":"IF(ISERROR(IF(ISERROR(IF(ISERROR(IF(ISERROR((O58/P58)), 0,(O58/P58))), 0,IF(ISERROR((O58/P58)), 0,(O58/P58)))), 0,IF(ISERROR(IF(ISERROR((O58/P58)), 0,(O58/P58))), 0,IF(ISERROR((O58/P58)), 0,(O58/P58))))), 0,IF(ISERROR(IF(ISERROR(IF(ISERROR((O58/P58)), 0,(O58/P58))), 0,IF(ISERROR((O58/P58)), 0,(O58/P58)))), 0,IF(ISERROR(IF(ISERROR((O58/P58)), 0,(O58/P58))), 0,IF(ISERROR((O58/P58)), 0,(O58/P58)))))","v":0},{"$f":"IF(ISERROR(IF(ISERROR(IF(ISERROR(IF(ISERROR(S58*T58), 0,S58*T58)), 0,IF(ISERROR(S58*T58), 0,S58*T58))), 0,IF(ISERROR(IF(ISERROR(S58*T58), 0,S58*T58)), 0,IF(ISERROR(S58*T58), 0,S58*T58)))), 0,IF(ISERROR(IF(ISERROR(IF(ISERROR(S58*T58), 0,S58*T58)), 0,IF(ISERROR(S58*T58), 0,S58*T58))), 0,IF(ISERROR(IF(ISERROR(S58*T58), 0,S58*T58)), 0,IF(ISERROR(S58*T58), 0,S58*T58))))","v":0},{"$f":"IF(ISERROR(IF(ISERROR(IF(ISERROR(IF(ISERROR(O58/T58), 0,O58/T58)), 0,IF(ISERROR(O58/T58), 0,O58/T58))), 0,IF(ISERROR(IF(ISERROR(O58/T58), 0,O58/T58)), 0,IF(ISERROR(O58/T58), 0,O58/T58)))), 0,IF(ISERROR(IF(ISERROR(IF(ISERROR(O58/T58), 0,O58/T58)), 0,IF(ISERROR(O58/T58), 0,O58/T58))), 0,IF(ISERROR(IF(ISERROR(O58/T58), 0,O58/T58)), 0,IF(ISERROR(O58/T58), 0,O58/T58))))","v":0},14.2,0.4,{"$f":"IF(ISERROR(IF(ISERROR(IF(ISERROR(ABS(U58)), 0,ABS(U58))), 0,IF(ISERROR(ABS(U58)), 0,ABS(U58)))), 0,IF(ISERROR(IF(ISERROR(ABS(U58)), 0,ABS(U58))), 0,IF(ISERROR(ABS(U58)), 0,ABS(U58))))","v":0},0.15000000000000002,{"$f":"IF(ISERROR(IF(ISERROR(IF(ISERROR(ABS((Y58*X58)/W58)), 0,ABS((Y58*X58)/W58))), 0,IF(ISERROR(ABS((Y58*X58)/W58)), 0,ABS((Y58*X58)/W58)))), 0,IF(ISERROR(IF(ISERROR(ABS((Y58*X58)/W58)), 0,ABS((Y58*X58)/W58))), 0,IF(ISERROR(ABS((Y58*X58)/W58)), 0,ABS((Y58*X58)/W58))))","v":0},{"$f":"IF(ISERROR(IF(ISERROR(IF(ISERROR(IF(AA58>Z58,Z58,AA58)), 0,IF(AA58>Z58,Z58,AA58))), 0,IF(ISERROR(IF(AA58>Z58,Z58,AA58)), 0,IF(AA58>Z58,Z58,AA58)))), 0,IF(ISERROR(IF(ISERROR(IF(AA58>Z58,Z58,AA58)), 0,IF(AA58>Z58,Z58,AA58))), 0,IF(ISERROR(IF(AA58>Z58,Z58,AA58)), 0,IF(AA58>Z58,Z58,AA58))))","v":0},{"$f":"IF(ISERROR(IF(ISERROR(IF(ISERROR(IF(Y58>W58,W58,Y58)), 0,IF(Y58>W58,W58,Y58))), 0,IF(ISERROR(IF(Y58>W58,W58,Y58)), 0,IF(Y58>W58,W58,Y58)))), 0,IF(ISERROR(IF(ISERROR(IF(Y58>W58,W58,Y58)), 0,IF(Y58>W58,W58,Y58))), 0,IF(ISERROR(IF(Y58>W58,W58,Y58)), 0,IF(Y58>W58,W58,Y58))))","v":0},{"$f":"IF(ISERROR((AC58*AB58)/AA58), 0,(AC58*AB58)/AA58)","v":0},{"$f":"IF(ISERROR(IF(ISERROR(IF(AC58=W58,0,(AC58*AB58)/AA58)), 0,IF(AC58=W58,0,(AC58*AB58)/AA58))), 0,IF(ISERROR(IF(AC58=W58,0,(AC58*AB58)/AA58)), 0,IF(AC58=W58,0,(AC58*AB58)/AA58)))","v":0},{"$f":"IF(ISERROR(IF(AC58=60,Q58+(AC58/T58),Q58+(AD58/T58))), 0,IF(AC58=60,Q58+(AC58/T58),Q58+(AD58/T58)))","v":0}]
["B",15,52,52,{"$f":"IF(ISERROR(IF(ISERROR(IF(ISERROR(Y58), 0,Y58)), 0,IF(ISERROR(Y58), 0,Y58))), 0,IF(ISERROR(IF(ISERROR(Y58), 0,Y58)), 0,IF(ISERROR(Y58), 0,Y58)))","v":0},null,{"$f":"IF(ISERROR(IF(ISERROR(IF(ISERROR(AB58), 0,AB58)), 0,IF(ISERROR(AB58), 0,AB58))), 0,IF(ISERROR(IF(ISERROR(AB58), 0,AB58)), 0,IF(ISERROR(AB58), 0,AB58)))","v":0},{"$f":"IF(ISERROR(IF(ISERROR(IF(ISERROR($E$10-G59), 0,$E$10-G59)), 0,IF(ISERROR($E$10-G59), 0,$E$10-G59))), 0,IF(ISERROR(IF(ISERROR($E$10-G59), 0,$E$10-G59)), 0,IF(ISERROR($E$10-G59), 0,$E$10-G59)))","v":0.4},null,{"$f":"IF(ISERROR(AB59), 0,AB59)","v":0},{"$f":"IF(ISERROR(ROUND($E$10-J59,3)), 0,ROUND($E$10-J59,3))","v":0.4},null,{"$f":"IF(ISERROR(AB60), \"\",AB60)","v":0},{"$f":"IF(ISERROR($E$10-M59), \"\",$E$10-M59)","v":0.4},{"$f":"A60","v":303.57692307692287},{"$f":"I59","v":0},{"$f":"IF(ISERROR(IF(AC58=W58,Q58+(AC58/T58),Q58+(AD58/T58))), 0,IF(AC58=W58,Q58+(AC58/T58),Q58+(AD58/T58)))","v":0},{"$f":"D59","v":52},{"$f":"IF(ISERROR(Q59-R59), 0,Q59-R59)","v":-52},{"$f":"IF(ISERROR(IF(ISERROR(IF(ISERROR(IF(ISERROR((O59/P59)), 0,(O59/P59))), 0,IF(ISERROR((O59/P59)), 0,(O59/P59)))), 0,IF(ISERROR(IF(ISERROR((O59/P59)), 0,(O59/P59))), 0,IF(ISERROR((O59/P59)), 0,(O59/P59))))), 0,IF(ISERROR(IF(ISERROR(IF(ISERROR((O59/P59)), 0,(O59/P59))), 0,IF(ISERROR((O59/P59)), 0,(O59/P59)))), 0,IF(ISERROR(IF(ISERROR((O59/P59)), 0,(O59/P59))), 0,IF(ISERROR((O59/P59)), 0,(O59/P59)))))","v":0},{"$f":"IF(ISERROR(S59*T59), 0,S59*T59)","v":0},{"$f":"IF(ISERROR(IF(ISERROR(IF(ISERROR(IF(ISERROR(O59/T59), 0,O59/T59)), 0,IF(ISERROR(O59/T59), 0,O59/T59))), 0,IF(ISERROR(IF(ISERROR(O59/T59), 0,O59/T59)), 0,IF(ISERROR(O59/T59), 0,O59/T59)))), 0,IF(ISERROR(IF(ISERROR(IF(ISERROR(O59/T59), 0,O59/T59)), 0,IF(ISERROR(O59/T59), 0,O59/T59))), 0,IF(ISERROR(IF(ISERROR(O59/T59), 0,O59/T59)), 0,IF(ISERROR(O59/T59), 0,O59/T59))))","v":0},14.2,0.4,{"$f":"IF(ISERROR(ABS(U59)), 0,ABS(U59))","v":0},0.15000000000000002,{"$f":"IF(ISERROR(ABS((Y59*X59)/W59)), 0,ABS((Y59*X59)/W59))","v":0},{"$f":"IF(ISERROR(IF(AA59>Z59,Z59,AA59)), 0,IF(AA59>Z59,Z59,AA59))","v":0},{"$f":"IF(ISERROR(IF(Y59>W59,W59,Y59)), 0,IF(Y59>W59,W59,Y59))","v":0},{"$f":"IF(ISERROR((AC59*AB59)/AA59), \"\",(AC59*AB59)/AA59)","v":""},{"$f":"IF(ISERROR(IF(AC59=W59,0,(AC59*AB59)/AA59)), \"\",IF(AC59=W59,0,(AC59*AB59)/AA59))","v":""},{"$f":"IF(ISERROR(IF(AC59=60,Q59+(AC59/T59),Q59+(AD59/T59))), \"\",IF(AC59=60,Q59+(AC59/T59),Q59+(AD59/T59)))","v":""}]
[{"$f":"F308","v":303.57692307692287},{"$f":"IF(AND(C59<D59, E59>$E$7),\"Ignore Drill Out Lead 1; rather pop out Lead 1 and LEAVE lead # 2 to \"&K59&\" inches.\",\"\")","v":""},null,null,null,null,null,null,null,null,null,null,null,{"$f":"IF(ISERROR((G59+J59+M59)/$E$10*$E$7), 0,(G59+J59+M59)/$E$10*$E$7)","v":0},{"$f":"A60","v":303.57692307692287},{"$f":"L59","v":0},{"$f":"IF(ISERROR(IF(AC59=W59,Q59+(AC59/T59),Q59+(AD59/T59))), \"\",IF(AC59=W59,Q59+(AC59/T59),Q59+(AD59/T59)))","v":""},{"$f":"D59","v":52},{"$f":"IF(ISERROR(Q60-R60), 0,Q60-R60)","v":0},{"$f":"IF(ISERROR((O60/P60)), 0,(O60/P60))","v":0},{"$f":"IF(ISERROR(S60*T60), \"\",S60*T60)","v":0},{"$f":"IF(ISERROR(IF(ISERROR(O60/T60), 0,O60/T60)), 0,IF(ISERROR(O60/T60), 0,O60/T60))","v":0},14.2,0.4,{"$f":"IF(ISERROR(ABS(U60)), \"\",ABS(U60))","v":0},0.15000000000000002,{"$f":"IF(ISERROR(ABS((Y60*X60)/W60)), \"\",ABS((Y60*X60)/W60))","v":0},{"$f":"IF(ISERROR(IF(AA60>Z60,Z60,AA60)), \"\",IF(AA60>Z60,Z60,AA60))","v":0},{"$f":"IF(ISERROR(IF(Y60>W60,W60,Y60)), \"\",IF(Y60>W60,W60,Y60))","v":0},{"$f":"IF(ISERROR((AC60*AB60)/AA60), \"\",(AC60*AB60)/AA60)","v":""},{"$f":"IF(ISERROR(IF(AC60=W60,0,(AC60*AB60)/AA60)), \"\",IF(AC60=W60,0,(AC60*AB60)/AA60))","v":""},{"$f":"IF(ISERROR(IF(AC60=60,Q60+(AC60/T60),Q60+(AD60/T60))), \"\",IF(AC60=60,Q60+(AC60/T60),Q60+(AD60/T60)))","v":""}]
[null,null,"Test","Target",null,1,"dr_o","Lv_in",2,"dr_o","Lv_in",3,"dr_o","Lv_in",{"$f":"A63","v":302.21153846153823},{"$f":"F62","v":0},{"$f":"C62","v":48},{"$f":"D62","v":52},{"$f":"Q61-R61","v":-4},{"$f":"IF(ISERROR(IF(ISERROR(IF(ISERROR(IF(ISERROR((O61/P61)), 0,(O61/P61))), 0,IF(ISERROR((O61/P61)), 0,(O61/P61)))), 0,IF(ISERROR(IF(ISERROR((O61/P61)), 0,(O61/P61))), 0,IF(ISERROR((O61/P61)), 0,(O61/P61))))), 0,IF(ISERROR(IF(ISERROR(IF(ISERROR((O61/P61)), 0,(O61/P61))), 0,IF(ISERROR((O61/P61)), 0,(O61/P61)))), 0,IF(ISERROR(IF(ISERROR((O61/P61)), 0,(O61/P61))), 0,IF(ISERROR((O61/P61)), 0,(O61/P61)))))","v":0},{"$f":"IF(ISERROR(IF(ISERROR(IF(ISERROR(IF(ISERROR(S61*T61), 0,S61*T61)), 0,IF(ISERROR(S61*T61), 0,S61*T61))), 0,IF(ISERROR(IF(ISERROR(S61*T61), 0,S61*T61)), 0,IF(ISERROR(S61*T61), 0,S61*T61)))), 0,IF(ISERROR(IF(ISERROR(IF(ISERROR(S61*T61), 0,S61*T61)), 0,IF(ISERROR(S61*T61), 0,S61*T61))), 0,IF(ISERROR(IF(ISERROR(S61*T61), 0,S61*T61)), 0,IF(ISERROR(S61*T61), 0,S61*T61))))","v":0},{"$f":"IF(ISERROR(IF(ISERROR(IF(ISERROR(IF(ISERROR(O61/T61), 0,O61/T61)), 0,IF(ISERROR(O61/T61), 0,O61/T61))), 0,IF(ISERROR(IF(ISERROR(O61/T61), 0,O61/T61)), 0,IF(ISERROR(O61/T61), 0,O61/T61)))), 0,IF(ISERROR(IF(ISERROR(IF(ISERROR(O61/T61), 0,O61/T61)), 0,IF(ISERROR(O61/T61), 0,O61/T61))), 0,IF(ISERROR(IF(ISERROR(O61/T61), 0,O61/T61)), 0,IF(ISERROR(O61/T61), 0,O61/T61))))","v":0},14.2,0.4,{"$f":"IF(ISERROR(IF(ISERROR(IF(ISERROR(ABS(U61)), 0,ABS(U61))), 0,IF(ISERROR(ABS(U61)), 0,ABS(U61)))), 0,IF(ISERROR(IF(ISERROR(ABS(U61)), 0,ABS(U61))), 0,IF(ISERROR(ABS(U61)), 0,ABS(U61))))","v":0},0.15000000000000002,{"$f":"IF(ISERROR(IF(ISERROR(IF(ISERROR(ABS((Y61*X61)/W61)), 0,ABS((Y61*X61)/W61))), 0,IF(ISERROR(ABS((Y61*X61)/W61)), 0,ABS((Y61*X61)/W61)))), 0,IF(ISERROR(IF(ISERROR(ABS((Y61*X61)/W61)), 0,ABS((Y61*X61)/W61))), 0,IF(ISERROR(ABS((Y61*X61)/W61)), 0,ABS((Y61*X61)/W61))))","v":0},{"$f":"IF(ISERROR(IF(ISERROR(IF(ISERROR(IF(AA61>Z61,Z61,AA61)), 0,IF(AA61>Z61,Z61,AA61))), 0,IF(ISERROR(IF(AA61>Z61,Z61,AA61)), 0,IF(AA61>Z61,Z61,AA61)))), 0,IF(ISERROR(IF(ISERROR(IF(AA61>Z61,Z61,AA61)), 0,IF(AA61>Z61,Z61,AA61))), 0,IF(ISERROR(IF(AA61>Z61,Z61,AA61)), 0,IF(AA61>Z61,Z61,AA61))))","v":0},{"$f":"IF(ISERROR(IF(ISERROR(IF(ISERROR(IF(Y61>W61,W61,Y61)), 0,IF(Y61>W61,W61,Y61))), 0,IF(ISERROR(IF(Y61>W61,W61,Y61)), 0,IF(Y61>W61,W61,Y61)))), 0,IF(ISERROR(IF(ISERROR(IF(Y61>W61,W61,Y61)), 0,IF(Y61>W61,W61,Y61))), 0,IF(ISERROR(IF(Y61>W61,W61,Y61)), 0,IF(Y61>W61,W61,Y61))))","v":0},{"$f":"IF(ISERROR(IF(ISERROR(IF(ISERROR((AC61*AB61)/AA61), 0,(AC61*AB61)/AA61)), 0,IF(ISERROR((AC61*AB61)/AA61), 0,(AC61*AB61)/AA61))), 0,IF(ISERROR(IF(ISERROR((AC61*AB61)/AA61), 0,(AC61*AB61)/AA61)), 0,IF(ISERROR((AC61*AB61)/AA61), 0,(AC61*AB61)/AA61)))","v":0},{"$f":"IF(ISERROR(IF(ISERROR(IF(ISERROR(IF(AC61=W61,0,(AC61*AB61)/AA61)), 0,IF(AC61=W61,0,(AC61*AB61)/AA61))), 0,IF(ISERROR(IF(AC61=W61,0,(AC61*AB61)/AA61)), 0,IF(AC61=W61,0,(AC61*AB61)/AA61)))), 0,IF(ISERROR(IF(ISERROR(IF(AC61=W61,0,(AC61*AB61)/AA61)), 0,IF(AC61=W61,0,(AC61*AB61)/AA61))), 0,IF(ISERROR(IF(AC61=W61,0,(AC61*AB61)/AA61)), 0,IF(AC61=W61,0,(AC61*AB61)/AA61))))","v":0},{"$f":"IF(ISERROR(IF(ISERROR(IF(AC61=60,Q61+(AC61/T61),Q61+(AD61/T61))), 0,IF(AC61=60,Q61+(AC61/T61),Q61+(AD61/T61)))), 0,IF(ISERROR(IF(AC61=60,Q61+(AC61/T61),Q61+(AD61/T61))), 0,IF(AC61=60,Q61+(AC61/T61),Q61+(AD61/T61))))","v":0}]
["C",16,48,52,{"$f":"IF(ISERROR(IF(ISERROR(IF(ISERROR(Y61), 0,Y61)), 0,IF(ISERROR(Y61), 0,Y61))), 0,IF(ISERROR(IF(ISERROR(Y61), 0,Y61)), 0,IF(ISERROR(Y61), 0,Y61)))","v":0},null,{"$f":"IF(ISERROR(IF(ISERROR(IF(ISERROR(AB61), 0,AB61)), 0,IF(ISERROR(AB61), 0,AB61))), 0,IF(ISERROR(IF(ISERROR(AB61), 0,AB61)), 0,IF(ISERROR(AB61), 0,AB61)))","v":0},{"$f":"IF(ISERROR(IF(ISERROR(IF(ISERROR($E$10-G62), 0,$E$10-G62)), 0,IF(ISERROR($E$10-G62), 0,$E$10-G62))), 0,IF(ISERROR(IF(ISERROR($E$10-G62), 0,$E$10-G62)), 0,IF(ISERROR($E$10-G62), 0,$E$10-G62)))","v":0.4},null,{"$f":"IF(ISERROR(IF(ISERROR(AB62), 0,AB62)), 0,IF(ISERROR(AB62), 0,AB62))","v":0},{"$f":"IF(ISERROR(IF(ISERROR(ROUND($E$10-J62,3)), 0,ROUND($E$10-J62,3))), 0,IF(ISERROR(ROUND($E$10-J62,3)), 0,ROUND($E$10-J62,3)))","v":0.4},null,{"$f":"IF(ISERROR(AB63), 0,AB63)","v":0},{"$f":"IF(ISERROR($E$10-M62), 0,$E$10-M62)","v":0.4},{"$f":"A63","v":302.21153846153823},{"$f":"I62","v":0},{"$f":"IF(ISERROR(IF(ISERROR(IF(AC61=W61,Q61+(AC61/T61),Q61+(AD61/T61))), 0,IF(AC61=W61,Q61+(AC61/T61),Q61+(AD61/T61)))), 0,IF(ISERROR(IF(AC61=W61,Q61+(AC61/T61),Q61+(AD61/T61))), 0,IF(AC61=W61,Q61+(AC61/T61),Q61+(AD61/T61))))","v":0},{"$f":"D62","v":52},{"$f":"IF(ISERROR(IF(ISERROR(Q62-R62), 0,Q62-R62)), 0,IF(ISERROR(Q62-R62), 0,Q62-R62))","v":-52},{"$f":"IF(ISERROR(IF(ISERROR(IF(ISERROR(IF(ISERROR((O62/P62)), 0,(O62/P62))), 0,IF(ISERROR((O62/P62)), 0,(O62/P62)))), 0,IF(ISERROR(IF(ISERROR((O62/P62)), 0,(O62/P62))), 0,IF(ISERROR((O62/P62)), 0,(O62/P62))))), 0,IF(ISERROR(IF(ISERROR(IF(ISERROR((O62/P62)), 0,(O62/P62))), 0,IF(ISERROR((O62/P62)), 0,(O62/P62)))), 0,IF(ISERROR(IF(ISERROR((O62/P62)), 0,(O62/P62))), 0,IF(ISERROR((O62/P62)), 0,(O62/P62)))))","v":0},{"$f":"IF(ISERROR(IF(ISERROR(S62*T62), 0,S62*T62)), 0,IF(ISERROR(S62*T62), 0,S62*T62))","v":0},{"$f":"IF(ISERROR(IF(ISERROR(IF(ISERROR(IF(ISERROR(O62/T62), 0,O62/T62)), 0,IF(ISERROR(O62/T62), 0,O62/T62))), 0,IF(ISERROR(IF(ISERROR(O62/T62), 0,O62/T62)), 0,IF(ISERROR(O62/T62), 0,O62/T62)))), 0,IF(ISERROR(IF(ISERROR(IF(ISERROR(O62/T62), 0,O62/T62)), 0,IF(ISERROR(O62/T62), 0,O62/T62))), 0,IF(ISERROR(IF(ISERROR(O62/T62), 0,O62/T62)), 0,IF(ISERROR(O62/T62), 0,O62/T62))))","v":0},14.2,0.4,{"$f":"IF(ISERROR(IF(ISERROR(ABS(U62)), 0,ABS(U62))), 0,IF(ISERROR(ABS(U62)), 0,ABS(U62)))","v":0},0.15000000000000002,{"$f":"IF(ISERROR(IF(ISERROR(ABS((Y62*X62)/W62)), 0,ABS((Y62*X62)/W62))), 0,IF(ISERROR(ABS((Y62*X62)/W62)), 0,ABS((Y62*X62)/W62)))","v":0},{"$f":"IF(ISERROR(IF(ISERROR(IF(AA62>Z62,Z62,AA62)), 0,IF(AA62>Z62,Z62,AA62))), 0,IF(ISERROR(IF(AA62>Z62,Z62,AA62)), 0,IF(AA62>Z62,Z62,AA62)))","v":0},{"$f":"IF(ISERROR(IF(ISERROR(IF(Y62>W62,W62,Y62)), 0,IF(Y62>W62,W62,Y62))), 0,IF(ISERROR(IF(Y62>W62,W62,Y62)), 0,IF(Y62>W62,W62,Y62)))","v":0},{"$f":"IF(ISERROR((AC62*AB62)/AA62), 0,(AC62*AB62)/AA62)","v":0},{"$f":"IF(ISERROR(IF(ISERROR(IF(AC62=W62,0,(AC62*AB62)/AA62)), 0,IF(AC62=W62,0,(AC62*AB62)/AA62))), 0,IF(ISERROR(IF(AC62=W62,0,(AC62*AB62)/AA62)), 0,IF(AC62=W62,0,(AC62*AB62)/AA62)))","v":0},{"$f":"IF(ISERROR(IF(AC62=60,Q62+(AC62/T62),Q62+(AD62/T62))), 0,IF(AC62=60,Q62+(AC62/T62),Q62+(AD62/T62)))","v":0}]
[{"$f":"F309","v":302.21153846153823},{"$f":"IF(AND(C62<D62, E62>$E$7),\"Ignore Drill Out Lead 1; rather pop out Lead 1 and LEAVE lead # 2 to \"&K62&\" inches.\",\"\")","v":""},null,null,null,null,null,null,null,null,null,null,null,{"$f":"IF(ISERROR(IF(ISERROR((G62+J62+M62)/$E$10*$E$7), 0,(G62+J62+M62)/$E$10*$E$7)), 0,IF(ISERROR((G62+J62+M62)/$E$10*$E$7), 0,(G62+J62+M62)/$E$10*$E$7))","v":0},{"$f":"A63","v":302.21153846153823},{"$f":"L62","v":0},{"$f":"IF(ISERROR(IF(AC62=W62,Q62+(AC62/T62),Q62+(AD62/T62))), 0,IF(AC62=W62,Q62+(AC62/T62),Q62+(AD62/T62)))","v":0},{"$f":"D62","v":52},{"$f":"IF(ISERROR(Q63-R63), 0,Q63-R63)","v":-52},{"$f":"IF(ISERROR(IF(ISERROR((O63/P63)), 0,(O63/P63))), 0,IF(ISERROR((O63/P63)), 0,(O63/P63)))","v":0},{"$f":"IF(ISERROR(IF(ISERROR(S63*T63), 0,S63*T63)), 0,IF(ISERROR(S63*T63), 0,S63*T63))","v":0},{"$f":"IF(ISERROR(IF(ISERROR(IF(ISERROR(O63/T63), 0,O63/T63)), 0,IF(ISERROR(O63/T63), 0,O63/T63))), 0,IF(ISERROR(IF(ISERROR(O63/T63), 0,O63/T63)), 0,IF(ISERROR(O63/T63), 0,O63/T63)))","v":0},14.2,0.4,{"$f":"IF(ISERROR(IF(ISERROR(ABS(U63)), 0,ABS(U63))), 0,IF(ISERROR(ABS(U63)), 0,ABS(U63)))","v":0},0.15000000000000002,{"$f":"IF(ISERROR(IF(ISERROR(ABS((Y63*X63)/W63)), 0,ABS((Y63*X63)/W63))), 0,IF(ISERROR(ABS((Y63*X63)/W63)), 0,ABS((Y63*X63)/W63)))","v":0},{"$f":"IF(ISERROR(IF(ISERROR(IF(AA63>Z63,Z63,AA63)), 0,IF(AA63>Z63,Z63,AA63))), 0,IF(ISERROR(IF(AA63>Z63,Z63,AA63)), 0,IF(AA63>Z63,Z63,AA63)))","v":0},{"$f":"IF(ISERROR(IF(ISERROR(IF(Y63>W63,W63,Y63)), 0,IF(Y63>W63,W63,Y63))), 0,IF(ISERROR(IF(Y63>W63,W63,Y63)), 0,IF(Y63>W63,W63,Y63)))","v":0},{"$f":"IF(ISERROR((AC63*AB63)/AA63), \"\",(AC63*AB63)/AA63)","v":""},{"$f":"IF(ISERROR(IF(AC63=W63,0,(AC63*AB63)/AA63)), \"\",IF(AC63=W63,0,(AC63*AB63)/AA63))","v":""},{"$f":"IF(ISERROR(IF(AC63=60,Q63+(AC63/T63),Q63+(AD63/T63))), \"\",IF(AC63=60,Q63+(AC63/T63),Q63+(AD63/T63)))","v":""}]
[null,null,"Test","Target",null,1,"dr_o","Lv_in",2,"dr_o","Lv_in",3,"dr_o","Lv_in",{"$f":"A66","v":273.5},{"$f":"F65","v":0},{"$f":"C65","v":45},{"$f":"D65","v":52},{"$f":"Q64-R64","v":-7},{"$f":"IF(ISERROR(IF(ISERROR(IF(ISERROR(IF(ISERROR((O64/P64)), 0,(O64/P64))), 0,IF(ISERROR((O64/P64)), 0,(O64/P64)))), 0,IF(ISERROR(IF(ISERROR((O64/P64)), 0,(O64/P64))), 0,IF(ISERROR((O64/P64)), 0,(O64/P64))))), 0,IF(ISERROR(IF(ISERROR(IF(ISERROR((O64/P64)), 0,(O64/P64))), 0,IF(ISERROR((O64/P64)), 0,(O64/P64)))), 0,IF(ISERROR(IF(ISERROR((O64/P64)), 0,(O64/P64))), 0,IF(ISERROR((O64/P64)), 0,(O64/P64)))))","v":0},{"$f":"IF(ISERROR(IF(ISERROR(IF(ISERROR(IF(ISERROR(S64*T64), 0,S64*T64)), 0,IF(ISERROR(S64*T64), 0,S64*T64))), 0,IF(ISERROR(IF(ISERROR(S64*T64), 0,S64*T64)), 0,IF(ISERROR(S64*T64), 0,S64*T64)))), 0,IF(ISERROR(IF(ISERROR(IF(ISERROR(S64*T64), 0,S64*T64)), 0,IF(ISERROR(S64*T64), 0,S64*T64))), 0,IF(ISERROR(IF(ISERROR(S64*T64), 0,S64*T64)), 0,IF(ISERROR(S64*T64), 0,S64*T64))))","v":0},{"$f":"IF(ISERROR(IF(ISERROR(IF(ISERROR(IF(ISERROR(O64/T64), 0,O64/T64)), 0,IF(ISERROR(O64/T64), 0,O64/T64))), 0,IF(ISERROR(IF(ISERROR(O64/T64), 0,O64/T64)), 0,IF(ISERROR(O64/T64), 0,O64/T64)))), 0,IF(ISERROR(IF(ISERROR(IF(ISERROR(O64/T64), 0,O64/T64)), 0,IF(ISERROR(O64/T64), 0,O64/T64))), 0,IF(ISERROR(IF(ISERROR(O64/T64), 0,O64/T64)), 0,IF(ISERROR(O64/T64), 0,O64/T64))))","v":0},14.2,0.4,{"$f":"IF(ISERROR(IF(ISERROR(IF(ISERROR(ABS(U64)), 0,ABS(U64))), 0,IF(ISERROR(ABS(U64)), 0,ABS(U64)))), 0,IF(ISERROR(IF(ISERROR(ABS(U64)), 0,ABS(U64))), 0,IF(ISERROR(ABS(U64)), 0,ABS(U64))))","v":0},0.15000000000000002,{"$f":"IF(ISERROR(IF(ISERROR(IF(ISERROR(ABS((Y64*X64)/W64)), 0,ABS((Y64*X64)/W64))), 0,IF(ISERROR(ABS((Y64*X64)/W64)), 0,ABS((Y64*X64)/W64)))), 0,IF(ISERROR(IF(ISERROR(ABS((Y64*X64)/W64)), 0,ABS((Y64*X64)/W64))), 0,IF(ISERROR(ABS((Y64*X64)/W64)), 0,ABS((Y64*X64)/W64))))","v":0},{"$f":"IF(ISERROR(IF(ISERROR(IF(ISERROR(IF(AA64>Z64,Z64,AA64)), 0,IF(AA64>Z64,Z64,AA64))), 0,IF(ISERROR(IF(AA64>Z64,Z64,AA64)), 0,IF(AA64>Z64,Z64,AA64)))), 0,IF(ISERROR(IF(ISERROR(IF(AA64>Z64,Z64,AA64)), 0,IF(AA64>Z64,Z64,AA64))), 0,IF(ISERROR(IF(AA64>Z64,Z64,AA64)), 0,IF(AA64>Z64,Z64,AA64))))","v":0},{"$f":"IF(ISERROR(IF(ISERROR(IF(ISERROR(IF(Y64>W64,W64,Y64)), 0,IF(Y64>W64,W64,Y64))), 0,IF(ISERROR(IF(Y64>W64,W64,Y64)), 0,IF(Y64>W64,W64,Y64)))), 0,IF(ISERROR(IF(ISERROR(IF(Y64>W64,W64,Y64)), 0,IF(Y64>W64,W64,Y64))), 0,IF(ISERROR(IF(Y64>W64,W64,Y64)), 0,IF(Y64>W64,W64,Y64))))","v":0},{"$f":"IF(ISERROR(IF(ISERROR(IF(ISERROR(IF(ISERROR((AC64*AB64)/AA64), 0,(AC64*AB64)/AA64)), 0,IF(ISERROR((AC64*AB64)/AA64), 0,(AC64*AB64)/AA64))), 0,IF(ISERROR(IF(ISERROR((AC64*AB64)/AA64), 0,(AC64*AB64)/AA64)), 0,IF(ISERROR((AC64*AB64)/AA64), 0,(AC64*AB64)/AA64)))), 0,IF(ISERROR(IF(ISERROR(IF(ISERROR((AC64*AB64)/AA64), 0,(AC64*AB64)/AA64)), 0,IF(ISERROR((AC64*AB64)/AA64), 0,(AC64*AB64)/AA64))), 0,IF(ISERROR(IF(ISERROR((AC64*AB64)/AA64), 0,(AC64*AB64)/AA64)), 0,IF(ISERROR((AC64*AB64)/AA64), 0,(AC64*AB64)/AA64))))","v":0},{"$f":"IF(ISERROR(IF(ISERROR(IF(ISERROR(IF(AC64=W64,0,(AC64*AB64)/AA64)), 0,IF(AC64=W64,0,(AC64*AB64)/AA64))), 0,IF(ISERROR(IF(AC64=W64,0,(AC64*AB64)/AA64)), 0,IF(AC64=W64,0,(AC64*AB64)/AA64)))), 0,IF(ISERROR(IF(ISERROR(IF(AC64=W64,0,(AC64*AB64)/AA64)), 0,IF(AC64=W64,0,(AC64*AB64)/AA64))), 0,IF(ISERROR(IF(AC64=W64,0,(AC64*AB64)/AA64)), 0,IF(AC64=W64,0,(AC64*AB64)/AA64))))","v":0},{"$f":"IF(ISERROR(IF(ISERROR(IF(AC64=60,Q64+(AC64/T64),Q64+(AD64/T64))), 0,IF(AC64=60,Q64+(AC64/T64),Q64+(AD64/T64)))), 0,IF(ISERROR(IF(AC64=60,Q64+(AC64/T64),Q64+(AD64/T64))), 0,IF(AC64=60,Q64+(AC64/T64),Q64+(AD64/T64))))","v":0}]
["C#",17,45,52,{"$f":"IF(ISERROR(IF(ISERROR(IF(ISERROR(Y64), 0,Y64)), 0,IF(ISERROR(Y64), 0,Y64))), 0,IF(ISERROR(IF(ISERROR(Y64), 0,Y64)), 0,IF(ISERROR(Y64), 0,Y64)))","v":0},null,{"$f":"IF(ISERROR(IF(ISERROR(IF(ISERROR(AB64), 0,AB64)), 0,IF(ISERROR(AB64), 0,AB64))), 0,IF(ISERROR(IF(ISERROR(AB64), 0,AB64)), 0,IF(ISERROR(AB64), 0,AB64)))","v":0},{"$f":"IF(ISERROR(IF(ISERROR(IF(ISERROR($E$10-G65), 0,$E$10-G65)), 0,IF(ISERROR($E$10-G65), 0,$E$10-G65))), 0,IF(ISERROR(IF(ISERROR($E$10-G65), 0,$E$10-G65)), 0,IF(ISERROR($E$10-G65), 0,$E$10-G65)))","v":0.4},null,{"$f":"IF(ISERROR(IF(ISERROR(AB65), 0,AB65)), 0,IF(ISERROR(AB65), 0,AB65))","v":0},{"$f":"IF(ISERROR(IF(ISERROR(ROUND($E$10-J65,3)), 0,ROUND($E$10-J65,3))), 0,IF(ISERROR(ROUND($E$10-J65,3)), 0,ROUND($E$10-J65,3)))","v":0.4},null,{"$f":"IF(ISERROR(AB66), \"\",AB66)","v":0},{"$f":"IF(ISERROR($E$10-M65), \"\",$E$10-M65)","v":0.4},{"$f":"A66","v":273.5},{"$f":"I65","v":0},{"$f":"IF(ISERROR(IF(ISERROR(IF(AC64=W64,Q64+(AC64/T64),Q64+(AD64/T64))), 0,IF(AC64=W64,Q64+(AC64/T64),Q64+(AD64/T64)))), 0,IF(ISERROR(IF(AC64=W64,Q64+(AC64/T64),Q64+(AD64/T64))), 0,IF(AC64=W64,Q64+(AC64/T64),Q64+(AD64/T64))))","v":0},{"$f":"D65","v":52},{"$f":"IF(ISERROR(IF(ISERROR(Q65-R65), 0,Q65-R65)), 0,IF(ISERROR(Q65-R65), 0,Q65-R65))","v":-52},0,{"$f":"IF(ISERROR(IF(ISERROR(S65*T65), 0,S65*T65)), 0,IF(ISERROR(S65*T65), 0,S65*T65))","v":0},0,14.2,0.4,{"$f":"IF(ISERROR(IF(ISERROR(ABS(U65)), 0,ABS(U65))), 0,IF(ISERROR(ABS(U65)), 0,ABS(U65)))","v":0},0.15000000000000002,{"$f":"IF(ISERROR(IF(ISERROR(ABS((Y65*X65)/W65)), 0,ABS((Y65*X65)/W65))), 0,IF(ISERROR(ABS((Y65*X65)/W65)), 0,ABS((Y65*X65)/W65)))","v":0},{"$f":"IF(ISERROR(IF(ISERROR(IF(AA65>Z65,Z65,AA65)), 0,IF(AA65>Z65,Z65,AA65))), 0,IF(ISERROR(IF(AA65>Z65,Z65,AA65)), 0,IF(AA65>Z65,Z65,AA65)))","v":0},{"$f":"IF(ISERROR(IF(ISERROR(IF(Y65>W65,W65,Y65)), 0,IF(Y65>W65,W65,Y65))), 0,IF(ISERROR(IF(Y65>W65,W65,Y65)), 0,IF(Y65>W65,W65,Y65)))","v":0},{"$f":"IF(ISERROR((AC65*AB65)/AA65), \"\",(AC65*AB65)/AA65)","v":""},{"$f":"IF(ISERROR(IF(AC65=W65,0,(AC65*AB65)/AA65)), \"\",IF(AC65=W65,0,(AC65*AB65)/AA65))","v":""},{"$f":"IF(ISERROR(IF(AC65=60,Q65+(AC65/T65),Q65+(AD65/T65))), \"\",IF(AC65=60,Q65+(AC65/T65),Q65+(AD65/T65)))","v":""}]
[{"$f":"R306","v":273.5},{"$f":"IF(AND(C65<D65, E65>$E$7),\"Ignore Drill Out Lead 1; rather pop out Lead 1 and LEAVE lead # 2 to \"&K65&\" inches.\",\"\")","v":""},null,null,null,null,null,null,null,null,null,null,null,{"$f":"IF(ISERROR(IF(ISERROR((G65+J65+M65)/$E$10*$E$7), 0,(G65+J65+M65)/$E$10*$E$7)), 0,IF(ISERROR((G65+J65+M65)/$E$10*$E$7), 0,(G65+J65+M65)/$E$10*$E$7))","v":0},{"$f":"A66","v":273.5},{"$f":"L65","v":0},{"$f":"IF(ISERROR(IF(AC65=W65,Q65+(AC65/T65),Q65+(AD65/T65))), \"\",IF(AC65=W65,Q65+(AC65/T65),Q65+(AD65/T65)))","v":""},{"$f":"D65","v":52},{"$f":"IF(ISERROR(Q66-R66), 0,Q66-R66)","v":0},0,{"$f":"IF(ISERROR(S66*T66), \"\",S66*T66)","v":0},0,14.2,0.4,{"$f":"IF(ISERROR(ABS(U66)), \"\",ABS(U66))","v":0},0.15000000000000002,{"$f":"IF(ISERROR(ABS((Y66*X66)/W66)), \"\",ABS((Y66*X66)/W66))","v":0},{"$f":"IF(ISERROR(IF(AA66>Z66,Z66,AA66)), \"\",IF(AA66>Z66,Z66,AA66))","v":0},{"$f":"IF(ISERROR(IF(Y66>W66,W66,Y66)), \"\",IF(Y66>W66,W66,Y66))","v":0},{"$f":"IF(ISERROR((AC66*AB66)/AA66), \"\",(AC66*AB66)/AA66)","v":""},{"$f":"IF(ISERROR(IF(AC66=W66,0,(AC66*AB66)/AA66)), \"\",IF(AC66=W66,0,(AC66*AB66)/AA66))","v":""},{"$f":"IF(ISERROR(IF(AC66=60,Q66+(AC66/T66),Q66+(AD66/T66))), \"\",IF(AC66=60,Q66+(AC66/T66),Q66+(AD66/T66)))","v":""}]
[null,null,"Test","Target",null,1,"dr_o","Lv_in",2,"dr_o","Lv_in",3,"dr_o","Lv_in",{"$f":"A69","v":300.84615384615358},{"$f":"F68","v":0},{"$f":"C68","v":53},{"$f":"D68","v":52},{"$f":"Q67-R67","v":1},0,{"$f":"IF(ISERROR(IF(ISERROR(IF(ISERROR(IF(ISERROR(S67*T67), 0,S67*T67)), 0,IF(ISERROR(S67*T67), 0,S67*T67))), 0,IF(ISERROR(IF(ISERROR(S67*T67), 0,S67*T67)), 0,IF(ISERROR(S67*T67), 0,S67*T67)))), 0,IF(ISERROR(IF(ISERROR(IF(ISERROR(S67*T67), 0,S67*T67)), 0,IF(ISERROR(S67*T67), 0,S67*T67))), 0,IF(ISERROR(IF(ISERROR(S67*T67), 0,S67*T67)), 0,IF(ISERROR(S67*T67), 0,S67*T67))))","v":0},0,14.2,0.4,{"$f":"IF(ISERROR(IF(ISERROR(IF(ISERROR(ABS(U67)), 0,ABS(U67))), 0,IF(ISERROR(ABS(U67)), 0,ABS(U67)))), 0,IF(ISERROR(IF(ISERROR(ABS(U67)), 0,ABS(U67))), 0,IF(ISERROR(ABS(U67)), 0,ABS(U67))))","v":0},0.15000000000000002,{"$f":"IF(ISERROR(IF(ISERROR(IF(ISERROR(ABS((Y67*X67)/W67)), 0,ABS((Y67*X67)/W67))), 0,IF(ISERROR(ABS((Y67*X67)/W67)), 0,ABS((Y67*X67)/W67)))), 0,IF(ISERROR(IF(ISERROR(ABS((Y67*X67)/W67)), 0,ABS((Y67*X67)/W67))), 0,IF(ISERROR(ABS((Y67*X67)/W67)), 0,ABS((Y67*X67)/W67))))","v":0},{"$f":"IF(ISERROR(IF(ISERROR(IF(ISERROR(IF(AA67>Z67,Z67,AA67)), 0,IF(AA67>Z67,Z67,AA67))), 0,IF(ISERROR(IF(AA67>Z67,Z67,AA67)), 0,IF(AA67>Z67,Z67,AA67)))), 0,IF(ISERROR(IF(ISERROR(IF(AA67>Z67,Z67,AA67)), 0,IF(AA67>Z67,Z67,AA67))), 0,IF(ISERROR(IF(AA67>Z67,Z67,AA67)), 0,IF(AA67>Z67,Z67,AA67))))","v":0},{"$f":"IF(ISERROR(IF(ISERROR(IF(ISERROR(IF(Y67>W67,W67,Y67)), 0,IF(Y67>W67,W67,Y67))), 0,IF(ISERROR(IF(Y67>W67,W67,Y67)), 0,IF(Y67>W67,W67,Y67)))), 0,IF(ISERROR(IF(ISERROR(IF(Y67>W67,W67,Y67)), 0,IF(Y67>W67,W67,Y67))), 0,IF(ISERROR(IF(Y67>W67,W67,Y67)), 0,IF(Y67>W67,W67,Y67))))","v":0},{"$f":"IF(ISERROR(IF(ISERROR(IF(ISERROR(IF(ISERROR((AC67*AB67)/AA67), 0,(AC67*AB67)/AA67)), 0,IF(ISERROR((AC67*AB67)/AA67), 0,(AC67*AB67)/AA67))), 0,IF(ISERROR(IF(ISERROR((AC67*AB67)/AA67), 0,(AC67*AB67)/AA67)), 0,IF(ISERROR((AC67*AB67)/AA67), 0,(AC67*AB67)/AA67)))), 0,IF(ISERROR(IF(ISERROR(IF(ISERROR((AC67*AB67)/AA67), 0,(AC67*AB67)/AA67)), 0,IF(ISERROR((AC67*AB67)/AA67), 0,(AC67*AB67)/AA67))), 0,IF(ISERROR(IF(ISERROR((AC67*AB67)/AA67), 0,(AC67*AB67)/AA67)), 0,IF(ISERROR((AC67*AB67)/AA67), 0,(AC67*AB67)/AA67))))","v":0},{"$f":"IF(ISERROR(IF(ISERROR(IF(ISERROR(IF(AC67=W67,0,(AC67*AB67)/AA67)), 0,IF(AC67=W67,0,(AC67*AB67)/AA67))), 0,IF(ISERROR(IF(AC67=W67,0,(AC67*AB67)/AA67)), 0,IF(AC67=W67,0,(AC67*AB67)/AA67)))), 0,IF(ISERROR(IF(ISERROR(IF(AC67=W67,0,(AC67*AB67)/AA67)), 0,IF(AC67=W67,0,(AC67*AB67)/AA67))), 0,IF(ISERROR(IF(AC67=W67,0,(AC67*AB67)/AA67)), 0,IF(AC67=W67,0,(AC67*AB67)/AA67))))","v":0},{"$f":"IF(ISERROR(IF(ISERROR(IF(AC67=60,Q67+(AC67/T67),Q67+(AD67/T67))), 0,IF(AC67=60,Q67+(AC67/T67),Q67+(AD67/T67)))), 0,IF(ISERROR(IF(AC67=60,Q67+(AC67/T67),Q67+(AD67/T67))), 0,IF(AC67=60,Q67+(AC67/T67),Q67+(AD67/T67))))","v":0}]
["D",18,53,52,{"$f":"IF(ISERROR(IF(ISERROR(IF(ISERROR(Y67), 0,Y67)), 0,IF(ISERROR(Y67), 0,Y67))), 0,IF(ISERROR(IF(ISERROR(Y67), 0,Y67)), 0,IF(ISERROR(Y67), 0,Y67)))","v":0},null,{"$f":"IF(ISERROR(IF(ISERROR(IF(ISERROR(AB67), 0,AB67)), 0,IF(ISERROR(AB67), 0,AB67))), 0,IF(ISERROR(IF(ISERROR(AB67), 0,AB67)), 0,IF(ISERROR(AB67), 0,AB67)))","v":0},{"$f":"IF(ISERROR(IF(ISERROR(IF(ISERROR($E$10-G68), 0,$E$10-G68)), 0,IF(ISERROR($E$10-G68), 0,$E$10-G68))), 0,IF(ISERROR(IF(ISERROR($E$10-G68), 0,$E$10-G68)), 0,IF(ISERROR($E$10-G68), 0,$E$10-G68)))","v":0.4},null,{"$f":"IF(ISERROR(IF(ISERROR(AB68), 0,AB68)), 0,IF(ISERROR(AB68), 0,AB68))","v":0},{"$f":"IF(ISERROR(IF(ISERROR(ROUND($E$10-J68,3)), 0,ROUND($E$10-J68,3))), 0,IF(ISERROR(ROUND($E$10-J68,3)), 0,ROUND($E$10-J68,3)))","v":0.4},null,{"$f":"IF(ISERROR(IF(ISERROR(IF(ISERROR(IF(ISERROR(AB69), 0,AB69)), 0,IF(ISERROR(AB69), 0,AB69))), 0,IF(ISERROR(IF(ISERROR(AB69), 0,AB69)), 0,IF(ISERROR(AB69), 0,AB69)))), 0,IF(ISERROR(IF(ISERROR(IF(ISERROR(AB69), 0,AB69)), 0,IF(ISERROR(AB69), 0,AB69))), 0,IF(ISERROR(IF(ISERROR(AB69), 0,AB69)), 0,IF(ISERROR(AB69), 0,AB69))))","v":0},{"$f":"IF(ISERROR(IF(ISERROR(IF(ISERROR(IF(ISERROR($E$10-M68), 0,$E$10-M68)), 0,IF(ISERROR($E$10-M68), 0,$E$10-M68))), 0,IF(ISERROR(IF(ISERROR($E$10-M68), 0,$E$10-M68)), 0,IF(ISERROR($E$10-M68), 0,$E$10-M68)))), 0,IF(ISERROR(IF(ISERROR(IF(ISERROR($E$10-M68), 0,$E$10-M68)), 0,IF(ISERROR($E$10-M68), 0,$E$10-M68))), 0,IF(ISERROR(IF(ISERROR($E$10-M68), 0,$E$10-M68)), 0,IF(ISERROR($E$10-M68), 0,$E$10-M68))))","v":0.4},{"$f":"A69","v":300.84615384615358},{"$f":"I68","v":0},{"$f":"IF(ISERROR(IF(ISERROR(IF(AC67=W67,Q67+(AC67/T67),Q67+(AD67/T67))), 0,IF(AC67=W67,Q67+(AC67/T67),Q67+(AD67/T67)))), 0,IF(ISERROR(IF(AC67=W67,Q67+(AC67/T67),Q67+(AD67/T67))), 0,IF(AC67=W67,Q67+(AC67/T67),Q67+(AD67/T67))))","v":0},{"$f":"D68","v":52},{"$f":"IF(ISERROR(IF(ISERROR(Q68-R68), 0,Q68-R68)), 0,IF(ISERROR(Q68-R68), 0,Q68-R68))","v":-52},0,{"$f":"IF(ISERROR(IF(ISERROR(S68*T68), 0,S68*T68)), 0,IF(ISERROR(S68*T68), 0,S68*T68))","v":0},0,14.2,0.4,{"$f":"IF(ISERROR(IF(ISERROR(ABS(U68)), 0,ABS(U68))), 0,IF(ISERROR(ABS(U68)), 0,ABS(U68)))","v":0},0.15000000000000002,{"$f":"IF(ISERROR(IF(ISERROR(ABS((Y68*X68)/W68)), 0,ABS((Y68*X68)/W68))), 0,IF(ISERROR(ABS((Y68*X68)/W68)), 0,ABS((Y68*X68)/W68)))","v":0},{"$f":"IF(ISERROR(IF(ISERROR(IF(AA68>Z68,Z68,AA68)), 0,IF(AA68>Z68,Z68,AA68))), 0,IF(ISERROR(IF(AA68>Z68,Z68,AA68)), 0,IF(AA68>Z68,Z68,AA68)))","v":0},{"$f":"IF(ISERROR(IF(ISERROR(IF(Y68>W68,W68,Y68)), 0,IF(Y68>W68,W68,Y68))), 0,IF(ISERROR(IF(Y68>W68,W68,Y68)), 0,IF(Y68>W68,W68,Y68)))","v":0},{"$f":"IF(ISERROR((AC68*AB68)/AA68), 0,(AC68*AB68)/AA68)","v":0},{"$f":"IF(ISERROR(IF(ISERROR(IF(AC68=W68,0,(AC68*AB68)/AA68)), 0,IF(AC68=W68,0,(AC68*AB68)/AA68))), 0,IF(ISERROR(IF(AC68=W68,0,(AC68*AB68)/AA68)), 0,IF(AC68=W68,0,(AC68*AB68)/AA68)))","v":0},{"$f":"IF(ISERROR(IF(AC68=60,Q68+(AC68/T68),Q68+(AD68/T68))), 0,IF(AC68=60,Q68+(AC68/T68),Q68+(AD68/T68)))","v":0}]
[{"$f":"F310","v":300.84615384615358},{"$f":"IF(AND(C68<D68, E68>$E$7),\"Ignore Drill Out Lead 1; rather pop out Lead 1 and LEAVE lead # 2 to \"&K68&\" inches.\",\"\")","v":""},null,null,null,null,null,null,null,null,null,null,null,{"$f":"IF(ISERROR(IF(ISERROR((G68+J68+M68)/$E$10*$E$7), 0,(G68+J68+M68)/$E$10*$E$7)), 0,IF(ISERROR((G68+J68+M68)/$E$10*$E$7), 0,(G68+J68+M68)/$E$10*$E$7))","v":0},{"$f":"A69","v":300.84615384615358},{"$f":"L68","v":0},{"$f":"IF(ISERROR(IF(AC68=W68,Q68+(AC68/T68),Q68+(AD68/T68))), 0,IF(AC68=W68,Q68+(AC68/T68),Q68+(AD68/T68)))","v":0},{"$f":"D68","v":52},{"$f":"IF(ISERROR(Q69-R69), 0,Q69-R69)","v":-52},0,{"$f":"IF(ISERROR(IF(ISERROR(IF(ISERROR(IF(ISERROR(S69*T69), 0,S69*T69)), 0,IF(ISERROR(S69*T69), 0,S69*T69))), 0,IF(ISERROR(IF(ISERROR(S69*T69), 0,S69*T69)), 0,IF(ISERROR(S69*T69), 0,S69*T69)))), 0,IF(ISERROR(IF(ISERROR(IF(ISERROR(S69*T69), 0,S69*T69)), 0,IF(ISERROR(S69*T69), 0,S69*T69))), 0,IF(ISERROR(IF(ISERROR(S69*T69), 0,S69*T69)), 0,IF(ISERROR(S69*T69), 0,S69*T69))))","v":0},0,14.2,0.4,{"$f":"IF(ISERROR(IF(ISERROR(IF(ISERROR(ABS(U69)), 0,ABS(U69))), 0,IF(ISERROR(ABS(U69)), 0,ABS(U69)))), 0,IF(ISERROR(IF(ISERROR(ABS(U69)), 0,ABS(U69))), 0,IF(ISERROR(ABS(U69)), 0,ABS(U69))))","v":0},0.15000000000000002,{"$f":"IF(ISERROR(IF(ISERROR(IF(ISERROR(ABS((Y69*X69)/W69)), 0,ABS((Y69*X69)/W69))), 0,IF(ISERROR(ABS((Y69*X69)/W69)), 0,ABS((Y69*X69)/W69)))), 0,IF(ISERROR(IF(ISERROR(ABS((Y69*X69)/W69)), 0,ABS((Y69*X69)/W69))), 0,IF(ISERROR(ABS((Y69*X69)/W69)), 0,ABS((Y69*X69)/W69))))","v":0},{"$f":"IF(ISERROR(IF(ISERROR(IF(ISERROR(IF(AA69>Z69,Z69,AA69)), 0,IF(AA69>Z69,Z69,AA69))), 0,IF(ISERROR(IF(AA69>Z69,Z69,AA69)), 0,IF(AA69>Z69,Z69,AA69)))), 0,IF(ISERROR(IF(ISERROR(IF(AA69>Z69,Z69,AA69)), 0,IF(AA69>Z69,Z69,AA69))), 0,IF(ISERROR(IF(AA69>Z69,Z69,AA69)), 0,IF(AA69>Z69,Z69,AA69))))","v":0},{"$f":"IF(ISERROR(IF(ISERROR(IF(ISERROR(IF(Y69>W69,W69,Y69)), 0,IF(Y69>W69,W69,Y69))), 0,IF(ISERROR(IF(Y69>W69,W69,Y69)), 0,IF(Y69>W69,W69,Y69)))), 0,IF(ISERROR(IF(ISERROR(IF(Y69>W69,W69,Y69)), 0,IF(Y69>W69,W69,Y69))), 0,IF(ISERROR(IF(Y69>W69,W69,Y69)), 0,IF(Y69>W69,W69,Y69))))","v":0},{"$f":"IF(ISERROR((AC69*AB69)/AA69), \"\",(AC69*AB69)/AA69)","v":""},{"$f":"IF(ISERROR(IF(AC69=W69,0,(AC69*AB69)/AA69)), \"\",IF(AC69=W69,0,(AC69*AB69)/AA69))","v":""},{"$f":"IF(ISERROR(IF(AC69=60,Q69+(AC69/T69),Q69+(AD69/T69))), \"\",IF(AC69=60,Q69+(AC69/T69),Q69+(AD69/T69)))","v":""}]
[null,null,"Test","Target",null,1,"dr_o","Lv_in",2,"dr_o","Lv_in",3,"dr_o","Lv_in",{"$f":"A72","v":272.5},{"$f":"F71","v":0},{"$f":"C71","v":53},{"$f":"D71","v":52},{"$f":"Q70-R70","v":1},0,{"$f":"IF(ISERROR(IF(ISERROR(IF(ISERROR(IF(ISERROR(S70*T70), 0,S70*T70)), 0,IF(ISERROR(S70*T70), 0,S70*T70))), 0,IF(ISERROR(IF(ISERROR(S70*T70), 0,S70*T70)), 0,IF(ISERROR(S70*T70), 0,S70*T70)))), 0,IF(ISERROR(IF(ISERROR(IF(ISERROR(S70*T70), 0,S70*T70)), 0,IF(ISERROR(S70*T70), 0,S70*T70))), 0,IF(ISERROR(IF(ISERROR(S70*T70), 0,S70*T70)), 0,IF(ISERROR(S70*T70), 0,S70*T70))))","v":0},0,14.2,0.4,{"$f":"IF(ISERROR(IF(ISERROR(IF(ISERROR(ABS(U70)), 0,ABS(U70))), 0,IF(ISERROR(ABS(U70)), 0,ABS(U70)))), 0,IF(ISERROR(IF(ISERROR(ABS(U70)), 0,ABS(U70))), 0,IF(ISERROR(ABS(U70)), 0,ABS(U70))))","v":0},0.15000000000000002,{"$f":"IF(ISERROR(IF(ISERROR(IF(ISERROR(ABS((Y70*X70)/W70)), 0,ABS((Y70*X70)/W70))), 0,IF(ISERROR(ABS((Y70*X70)/W70)), 0,ABS((Y70*X70)/W70)))), 0,IF(ISERROR(IF(ISERROR(ABS((Y70*X70)/W70)), 0,ABS((Y70*X70)/W70))), 0,IF(ISERROR(ABS((Y70*X70)/W70)), 0,ABS((Y70*X70)/W70))))","v":0},{"$f":"IF(ISERROR(IF(ISERROR(IF(ISERROR(IF(AA70>Z70,Z70,AA70)), 0,IF(AA70>Z70,Z70,AA70))), 0,IF(ISERROR(IF(AA70>Z70,Z70,AA70)), 0,IF(AA70>Z70,Z70,AA70)))), 0,IF(ISERROR(IF(ISERROR(IF(AA70>Z70,Z70,AA70)), 0,IF(AA70>Z70,Z70,AA70))), 0,IF(ISERROR(IF(AA70>Z70,Z70,AA70)), 0,IF(AA70>Z70,Z70,AA70))))","v":0},{"$f":"IF(ISERROR(IF(ISERROR(IF(ISERROR(IF(Y70>W70,W70,Y70)), 0,IF(Y70>W70,W70,Y70))), 0,IF(ISERROR(IF(Y70>W70,W70,Y70)), 0,IF(Y70>W70,W70,Y70)))), 0,IF(ISERROR(IF(ISERROR(IF(Y70>W70,W70,Y70)), 0,IF(Y70>W70,W70,Y70))), 0,IF(ISERROR(IF(Y70>W70,W70,Y70)), 0,IF(Y70>W70,W70,Y70))))","v":0},{"$f":"IF(ISERROR(IF(ISERROR(IF(ISERROR(IF(ISERROR((AC70*AB70)/AA70), 0,(AC70*AB70)/AA70)), 0,IF(ISERROR((AC70*AB70)/AA70), 0,(AC70*AB70)/AA70))), 0,IF(ISERROR(IF(ISERROR((AC70*AB70)/AA70), 0,(AC70*AB70)/AA70)), 0,IF(ISERROR((AC70*AB70)/AA70), 0,(AC70*AB70)/AA70)))), 0,IF(ISERROR(IF(ISERROR(IF(ISERROR((AC70*AB70)/AA70), 0,(AC70*AB70)/AA70)), 0,IF(ISERROR((AC70*AB70)/AA70), 0,(AC70*AB70)/AA70))), 0,IF(ISERROR(IF(ISERROR((AC70*AB70)/AA70), 0,(AC70*AB70)/AA70)), 0,IF(ISERROR((AC70*AB70)/AA70), 0,(AC70*AB70)/AA70))))","v":0},{"$f":"IF(ISERROR(IF(ISERROR(IF(ISERROR(IF(AC70=W70,0,(AC70*AB70)/AA70)), 0,IF(AC70=W70,0,(AC70*AB70)/AA70))), 0,IF(ISERROR(IF(AC70=W70,0,(AC70*AB70)/AA70)), 0,IF(AC70=W70,0,(AC70*AB70)/AA70)))), 0,IF(ISERROR(IF(ISERROR(IF(AC70=W70,0,(AC70*AB70)/AA70)), 0,IF(AC70=W70,0,(AC70*AB70)/AA70))), 0,IF(ISERROR(IF(AC70=W70,0,(AC70*AB70)/AA70)), 0,IF(AC70=W70,0,(AC70*AB70)/AA70))))","v":0},{"$f":"IF(ISERROR(IF(ISERROR(IF(AC70=60,Q70+(AC70/T70),Q70+(AD70/T70))), 0,IF(AC70=60,Q70+(AC70/T70),Q70+(AD70/T70)))), 0,IF(ISERROR(IF(AC70=60,Q70+(AC70/T70),Q70+(AD70/T70))), 0,IF(AC70=60,Q70+(AC70/T70),Q70+(AD70/T70))))","v":0}]
["D#",19,53,52,{"$f":"IF(ISERROR(IF(ISERROR(IF(ISERROR(Y70), 0,Y70)), 0,IF(ISERROR(Y70), 0,Y70))), 0,IF(ISERROR(IF(ISERROR(Y70), 0,Y70)), 0,IF(ISERROR(Y70), 0,Y70)))","v":0},null,{"$f":"IF(ISERROR(IF(ISERROR(IF(ISERROR(AB70), 0,AB70)), 0,IF(ISERROR(AB70), 0,AB70))), 0,IF(ISERROR(IF(ISERROR(AB70), 0,AB70)), 0,IF(ISERROR(AB70), 0,AB70)))","v":0},{"$f":"IF(ISERROR(IF(ISERROR(IF(ISERROR($E$10-G71), 0,$E$10-G71)), 0,IF(ISERROR($E$10-G71), 0,$E$10-G71))), 0,IF(ISERROR(IF(ISERROR($E$10-G71), 0,$E$10-G71)), 0,IF(ISERROR($E$10-G71), 0,$E$10-G71)))","v":0.4},null,{"$f":"IF(ISERROR(IF(ISERROR(AB71), 0,AB71)), 0,IF(ISERROR(AB71), 0,AB71))","v":0},{"$f":"IF(ISERROR(IF(ISERROR(ROUND($E$10-J71,3)), 0,ROUND($E$10-J71,3))), 0,IF(ISERROR(ROUND($E$10-J71,3)), 0,ROUND($E$10-J71,3)))","v":0.4},null,{"$f":"IF(ISERROR(AB72), \"\",AB72)","v":0},{"$f":"IF(ISERROR($E$10-M71), \"\",$E$10-M71)","v":0.4},{"$f":"A72","v":272.5},{"$f":"I71","v":0},{"$f":"IF(ISERROR(IF(ISERROR(IF(AC70=W70,Q70+(AC70/T70),Q70+(AD70/T70))), 0,IF(AC70=W70,Q70+(AC70/T70),Q70+(AD70/T70)))), 0,IF(ISERROR(IF(AC70=W70,Q70+(AC70/T70),Q70+(AD70/T70))), 0,IF(AC70=W70,Q70+(AC70/T70),Q70+(AD70/T70))))","v":0},{"$f":"D71","v":52},{"$f":"IF(ISERROR(IF(ISERROR(Q71-R71), 0,Q71-R71)), 0,IF(ISERROR(Q71-R71), 0,Q71-R71))","v":-52},0,{"$f":"IF(ISERROR(IF(ISERROR(S71*T71), 0,S71*T71)), 0,IF(ISERROR(S71*T71), 0,S71*T71))","v":0},0,14.2,0.4,{"$f":"IF(ISERROR(IF(ISERROR(ABS(U71)), 0,ABS(U71))), 0,IF(ISERROR(ABS(U71)), 0,ABS(U71)))","v":0},0.15000000000000002,{"$f":"IF(ISERROR(IF(ISERROR(ABS((Y71*X71)/W71)), 0,ABS((Y71*X71)/W71))), 0,IF(ISERROR(ABS((Y71*X71)/W71)), 0,ABS((Y71*X71)/W71)))","v":0},{"$f":"IF(ISERROR(IF(ISERROR(IF(AA71>Z71,Z71,AA71)), 0,IF(AA71>Z71,Z71,AA71))), 0,IF(ISERROR(IF(AA71>Z71,Z71,AA71)), 0,IF(AA71>Z71,Z71,AA71)))","v":0},{"$f":"IF(ISERROR(IF(ISERROR(IF(Y71>W71,W71,Y71)), 0,IF(Y71>W71,W71,Y71))), 0,IF(ISERROR(IF(Y71>W71,W71,Y71)), 0,IF(Y71>W71,W71,Y71)))","v":0},{"$f":"IF(ISERROR((AC71*AB71)/AA71), \"\",(AC71*AB71)/AA71)","v":""},{"$f":"IF(ISERROR(IF(AC71=W71,0,(AC71*AB71)/AA71)), \"\",IF(AC71=W71,0,(AC71*AB71)/AA71))","v":""},{"$f":"IF(ISERROR(IF(AC71=60,Q71+(AC71/T71),Q71+(AD71/T71))), \"\",IF(AC71=60,Q71+(AC71/T71),Q71+(AD71/T71)))","v":""}]
[{"$f":"R307","v":272.5},{"$f":"IF(AND(C71<D71, E71>$E$7),\"Ignore Drill Out Lead 1; rather pop out Lead 1 and LEAVE lead # 2 to \"&K71&\" inches.\",\"\")","v":""},null,null,null,null,null,null,null,null,null,null,null,{"$f":"IF(ISERROR(IF(ISERROR((G71+J71+M71)/$E$10*$E$7), 0,(G71+J71+M71)/$E$10*$E$7)), 0,IF(ISERROR((G71+J71+M71)/$E$10*$E$7), 0,(G71+J71+M71)/$E$10*$E$7))","v":0},{"$f":"A72","v":272.5},{"$f":"L71","v":0},{"$f":"IF(ISERROR(IF(AC71=W71,Q71+(AC71/T71),Q71+(AD71/T71))), \"\",IF(AC71=W71,Q71+(AC71/T71),Q71+(AD71/T71)))","v":""},{"$f":"D71","v":52},{"$f":"IF(ISERROR(Q72-R72), 0,Q72-R72)","v":0},0,{"$f":"IF(ISERROR(S72*T72), \"\",S72*T72)","v":0},0,14.2,0.4,{"$f":"IF(ISERROR(ABS(U72)), \"\",ABS(U72))","v":0},0.15000000000000002,{"$f":"IF(ISERROR(ABS((Y72*X72)/W72)), \"\",ABS((Y72*X72)/W72))","v":0},{"$f":"IF(ISERROR(IF(AA72>Z72,Z72,AA72)), \"\",IF(AA72>Z72,Z72,AA72))","v":0},{"$f":"IF(ISERROR(IF(Y72>W72,W72,Y72)), \"\",IF(Y72>W72,W72,Y72))","v":0},{"$f":"IF(ISERROR((AC72*AB72)/AA72), \"\",(AC72*AB72)/AA72)","v":""},{"$f":"IF(ISERROR(IF(AC72=W72,0,(AC72*AB72)/AA72)), \"\",IF(AC72=W72,0,(AC72*AB72)/AA72))","v":""},{"$f":"IF(ISERROR(IF(AC72=60,Q72+(AC72/T72),Q72+(AD72/T72))), \"\",IF(AC72=60,Q72+(AC72/T72),Q72+(AD72/T72)))","v":""}]
[null,null,"Test","Target",null,1,"dr_o","Lv_in",2,"dr_o","Lv_in",3,"dr_o","Lv_in",{"$f":"A75","v":299.48076923076894},{"$f":"F74","v":0},{"$f":"C74","v":52},{"$f":"D74","v":52},{"$f":"Q73-R73","v":0},0,{"$f":"IF(ISERROR(IF(ISERROR(IF(ISERROR(IF(ISERROR(S73*T73), 0,S73*T73)), 0,IF(ISERROR(S73*T73), 0,S73*T73))), 0,IF(ISERROR(IF(ISERROR(S73*T73), 0,S73*T73)), 0,IF(ISERROR(S73*T73), 0,S73*T73)))), 0,IF(ISERROR(IF(ISERROR(IF(ISERROR(S73*T73), 0,S73*T73)), 0,IF(ISERROR(S73*T73), 0,S73*T73))), 0,IF(ISERROR(IF(ISERROR(S73*T73), 0,S73*T73)), 0,IF(ISERROR(S73*T73), 0,S73*T73))))","v":0},0,14.2,0.4,{"$f":"IF(ISERROR(IF(ISERROR(IF(ISERROR(ABS(U73)), 0,ABS(U73))), 0,IF(ISERROR(ABS(U73)), 0,ABS(U73)))), 0,IF(ISERROR(IF(ISERROR(ABS(U73)), 0,ABS(U73))), 0,IF(ISERROR(ABS(U73)), 0,ABS(U73))))","v":0},0.15000000000000002,{"$f":"IF(ISERROR(IF(ISERROR(IF(ISERROR(ABS((Y73*X73)/W73)), 0,ABS((Y73*X73)/W73))), 0,IF(ISERROR(ABS((Y73*X73)/W73)), 0,ABS((Y73*X73)/W73)))), 0,IF(ISERROR(IF(ISERROR(ABS((Y73*X73)/W73)), 0,ABS((Y73*X73)/W73))), 0,IF(ISERROR(ABS((Y73*X73)/W73)), 0,ABS((Y73*X73)/W73))))","v":0},{"$f":"IF(ISERROR(IF(ISERROR(IF(ISERROR(IF(AA73>Z73,Z73,AA73)), 0,IF(AA73>Z73,Z73,AA73))), 0,IF(ISERROR(IF(AA73>Z73,Z73,AA73)), 0,IF(AA73>Z73,Z73,AA73)))), 0,IF(ISERROR(IF(ISERROR(IF(AA73>Z73,Z73,AA73)), 0,IF(AA73>Z73,Z73,AA73))), 0,IF(ISERROR(IF(AA73>Z73,Z73,AA73)), 0,IF(AA73>Z73,Z73,AA73))))","v":0},{"$f":"IF(ISERROR(IF(ISERROR(IF(ISERROR(IF(Y73>W73,W73,Y73)), 0,IF(Y73>W73,W73,Y73))), 0,IF(ISERROR(IF(Y73>W73,W73,Y73)), 0,IF(Y73>W73,W73,Y73)))), 0,IF(ISERROR(IF(ISERROR(IF(Y73>W73,W73,Y73)), 0,IF(Y73>W73,W73,Y73))), 0,IF(ISERROR(IF(Y73>W73,W73,Y73)), 0,IF(Y73>W73,W73,Y73))))","v":0},{"$f":"IF(ISERROR(IF(ISERROR(IF(ISERROR(IF(ISERROR((AC73*AB73)/AA73), 0,(AC73*AB73)/AA73)), 0,IF(ISERROR((AC73*AB73)/AA73), 0,(AC73*AB73)/AA73))), 0,IF(ISERROR(IF(ISERROR((AC73*AB73)/AA73), 0,(AC73*AB73)/AA73)), 0,IF(ISERROR((AC73*AB73)/AA73), 0,(AC73*AB73)/AA73)))), 0,IF(ISERROR(IF(ISERROR(IF(ISERROR((AC73*AB73)/AA73), 0,(AC73*AB73)/AA73)), 0,IF(ISERROR((AC73*AB73)/AA73), 0,(AC73*AB73)/AA73))), 0,IF(ISERROR(IF(ISERROR((AC73*AB73)/AA73), 0,(AC73*AB73)/AA73)), 0,IF(ISERROR((AC73*AB73)/AA73), 0,(AC73*AB73)/AA73))))","v":0},{"$f":"IF(ISERROR(IF(ISERROR(IF(ISERROR(IF(AC73=W73,0,(AC73*AB73)/AA73)), 0,IF(AC73=W73,0,(AC73*AB73)/AA73))), 0,IF(ISERROR(IF(AC73=W73,0,(AC73*AB73)/AA73)), 0,IF(AC73=W73,0,(AC73*AB73)/AA73)))), 0,IF(ISERROR(IF(ISERROR(IF(AC73=W73,0,(AC73*AB73)/AA73)), 0,IF(AC73=W73,0,(AC73*AB73)/AA73))), 0,IF(ISERROR(IF(AC73=W73,0,(AC73*AB73)/AA73)), 0,IF(AC73=W73,0,(AC73*AB73)/AA73))))","v":0},{"$f":"IF(ISERROR(IF(ISERROR(IF(AC73=60,Q73+(AC73/T73),Q73+(AD73/T73))), 0,IF(AC73=60,Q73+(AC73/T73),Q73+(AD73/T73)))), 0,IF(ISERROR(IF(AC73=60,Q73+(AC73/T73),Q73+(AD73/T73))), 0,IF(AC73=60,Q73+(AC73/T73),Q73+(AD73/T73))))","v":0}]
["E",20,52,52,{"$f":"IF(ISERROR(IF(ISERROR(IF(ISERROR(Y73), 0,Y73)), 0,IF(ISERROR(Y73), 0,Y73))), 0,IF(ISERROR(IF(ISERROR(Y73), 0,Y73)), 0,IF(ISERROR(Y73), 0,Y73)))","v":0},null,{"$f":"IF(ISERROR(IF(ISERROR(IF(ISERROR(AB73), 0,AB73)), 0,IF(ISERROR(AB73), 0,AB73))), 0,IF(ISERROR(IF(ISERROR(AB73), 0,AB73)), 0,IF(ISERROR(AB73), 0,AB73)))","v":0},{"$f":"IF(ISERROR(IF(ISERROR(IF(ISERROR($E$10-G74), 0,$E$10-G74)), 0,IF(ISERROR($E$10-G74), 0,$E$10-G74))), 0,IF(ISERROR(IF(ISERROR($E$10-G74), 0,$E$10-G74)), 0,IF(ISERROR($E$10-G74), 0,$E$10-G74)))","v":0.4},null,{"$f":"IF(ISERROR(IF(ISERROR(AB74), 0,AB74)), 0,IF(ISERROR(AB74), 0,AB74))","v":0},{"$f":"IF(ISERROR(IF(ISERROR(ROUND($E$10-J74,3)), 0,ROUND($E$10-J74,3))), 0,IF(ISERROR(ROUND($E$10-J74,3)), 0,ROUND($E$10-J74,3)))","v":0.4},null,{"$f":"IF(ISERROR(AB75), \"\",AB75)","v":0},{"$f":"IF(ISERROR($E$10-M74), \"\",$E$10-M74)","v":0.4},{"$f":"A75","v":299.48076923076894},{"$f":"I74","v":0},{"$f":"IF(ISERROR(IF(ISERROR(IF(AC73=W73,Q73+(AC73/T73),Q73+(AD73/T73))), 0,IF(AC73=W73,Q73+(AC73/T73),Q73+(AD73/T73)))), 0,IF(ISERROR(IF(AC73=W73,Q73+(AC73/T73),Q73+(AD73/T73))), 0,IF(AC73=W73,Q73+(AC73/T73),Q73+(AD73/T73))))","v":0},{"$f":"D74","v":52},{"$f":"IF(ISERROR(IF(ISERROR(Q74-R74), 0,Q74-R74)), 0,IF(ISERROR(Q74-R74), 0,Q74-R74))","v":-52},0,{"$f":"IF(ISERROR(IF(ISERROR(S74*T74), 0,S74*T74)), 0,IF(ISERROR(S74*T74), 0,S74*T74))","v":0},0,14.2,0.4,{"$f":"IF(ISERROR(IF(ISERROR(ABS(U74)), 0,ABS(U74))), 0,IF(ISERROR(ABS(U74)), 0,ABS(U74)))","v":0},0.15000000000000002,{"$f":"IF(ISERROR(IF(ISERROR(ABS((Y74*X74)/W74)), 0,ABS((Y74*X74)/W74))), 0,IF(ISERROR(ABS((Y74*X74)/W74)), 0,ABS((Y74*X74)/W74)))","v":0},{"$f":"IF(ISERROR(IF(ISERROR(IF(AA74>Z74,Z74,AA74)), 0,IF(AA74>Z74,Z74,AA74))), 0,IF(ISERROR(IF(AA74>Z74,Z74,AA74)), 0,IF(AA74>Z74,Z74,AA74)))","v":0},{"$f":"IF(ISERROR(IF(ISERROR(IF(Y74>W74,W74,Y74)), 0,IF(Y74>W74,W74,Y74))), 0,IF(ISERROR(IF(Y74>W74,W74,Y74)), 0,IF(Y74>W74,W74,Y74)))","v":0},{"$f":"IF(ISERROR((AC74*AB74)/AA74), \"\",(AC74*AB74)/AA74)","v":""},{"$f":"IF(ISERROR(IF(AC74=W74,0,(AC74*AB74)/AA74)), \"\",IF(AC74=W74,0,(AC74*AB74)/AA74))","v":""},{"$f":"IF(ISERROR(IF(AC74=60,Q74+(AC74/T74),Q74+(AD74/T74))), \"\",IF(AC74=60,Q74+(AC74/T74),Q74+(AD74/T74)))","v":""}]
[{"$f":"F311","v":299.48076923076894},{"$f":"IF(AND(C74<D74, E74>$E$7),\"Ignore Drill Out Lead 1; rather pop out Lead 1 and LEAVE lead # 2 to \"&K74&\" inches.\",\"\")","v":""},null,null,null,null,null,null,null,null,null,null,null,{"$f":"IF(ISERROR(IF(ISERROR((G74+J74+M74)/$E$10*$E$7), 0,(G74+J74+M74)/$E$10*$E$7)), 0,IF(ISERROR((G74+J74+M74)/$E$10*$E$7), 0,(G74+J74+M74)/$E$10*$E$7))","v":0},{"$f":"A75","v":299.48076923076894},{"$f":"L74","v":0},{"$f":"IF(ISERROR(IF(AC74=W74,Q74+(AC74/T74),Q74+(AD74/T74))), \"\",IF(AC74=W74,Q74+(AC74/T74),Q74+(AD74/T74)))","v":""},{"$f":"D74","v":52},{"$f":"IF(ISERROR(Q75-R75), 0,Q75-R75)","v":0},0,{"$f":"IF(ISERROR(S75*T75), \"\",S75*T75)","v":0},0,14.2,0.4,{"$f":"IF(ISERROR(ABS(U75)), \"\",ABS(U75))","v":0},0.15000000000000002,{"$f":"IF(ISERROR(ABS((Y75*X75)/W75)), \"\",ABS((Y75*X75)/W75))","v":0},{"$f":"IF(ISERROR(IF(AA75>Z75,Z75,AA75)), \"\",IF(AA75>Z75,Z75,AA75))","v":0},{"$f":"IF(ISERROR(IF(Y75>W75,W75,Y75)), \"\",IF(Y75>W75,W75,Y75))","v":0},{"$f":"IF(ISERROR((AC75*AB75)/AA75), \"\",(AC75*AB75)/AA75)","v":""},{"$f":"IF(ISERROR(IF(AC75=W75,0,(AC75*AB75)/AA75)), \"\",IF(AC75=W75,0,(AC75*AB75)/AA75))","v":""},{"$f":"IF(ISERROR(IF(AC75=60,Q75+(AC75/T75),Q75+(AD75/T75))), \"\",IF(AC75=60,Q75+(AC75/T75),Q75+(AD75/T75)))","v":""}]
[null,null,"Test","Target",null,1,"dr_o","Lv_in",2,"dr_o","Lv_in",3,"dr_o","Lv_in",{"$f":"A78","v":298.1153846153843},{"$f":"F77","v":0},{"$f":"C77","v":50},{"$f":"D77","v":52},{"$f":"Q76-R76","v":-2},0,{"$f":"IF(ISERROR(IF(ISERROR(IF(ISERROR(IF(ISERROR(S76*T76), 0,S76*T76)), 0,IF(ISERROR(S76*T76), 0,S76*T76))), 0,IF(ISERROR(IF(ISERROR(S76*T76), 0,S76*T76)), 0,IF(ISERROR(S76*T76), 0,S76*T76)))), 0,IF(ISERROR(IF(ISERROR(IF(ISERROR(S76*T76), 0,S76*T76)), 0,IF(ISERROR(S76*T76), 0,S76*T76))), 0,IF(ISERROR(IF(ISERROR(S76*T76), 0,S76*T76)), 0,IF(ISERROR(S76*T76), 0,S76*T76))))","v":0},0,14.2,0.4,{"$f":"IF(ISERROR(IF(ISERROR(IF(ISERROR(ABS(U76)), 0,ABS(U76))), 0,IF(ISERROR(ABS(U76)), 0,ABS(U76)))), 0,IF(ISERROR(IF(ISERROR(ABS(U76)), 0,ABS(U76))), 0,IF(ISERROR(ABS(U76)), 0,ABS(U76))))","v":0},0.15000000000000002,{"$f":"IF(ISERROR(IF(ISERROR(IF(ISERROR(ABS((Y76*X76)/W76)), 0,ABS((Y76*X76)/W76))), 0,IF(ISERROR(ABS((Y76*X76)/W76)), 0,ABS((Y76*X76)/W76)))), 0,IF(ISERROR(IF(ISERROR(ABS((Y76*X76)/W76)), 0,ABS((Y76*X76)/W76))), 0,IF(ISERROR(ABS((Y76*X76)/W76)), 0,ABS((Y76*X76)/W76))))","v":0},{"$f":"IF(ISERROR(IF(ISERROR(IF(ISERROR(IF(AA76>Z76,Z76,AA76)), 0,IF(AA76>Z76,Z76,AA76))), 0,IF(ISERROR(IF(AA76>Z76,Z76,AA76)), 0,IF(AA76>Z76,Z76,AA76)))), 0,IF(ISERROR(IF(ISERROR(IF(AA76>Z76,Z76,AA76)), 0,IF(AA76>Z76,Z76,AA76))), 0,IF(ISERROR(IF(AA76>Z76,Z76,AA76)), 0,IF(AA76>Z76,Z76,AA76))))","v":0},{"$f":"IF(ISERROR(IF(ISERROR(IF(ISERROR(IF(Y76>W76,W76,Y76)), 0,IF(Y76>W76,W76,Y76))), 0,IF(ISERROR(IF(Y76>W76,W76,Y76)), 0,IF(Y76>W76,W76,Y76)))), 0,IF(ISERROR(IF(ISERROR(IF(Y76>W76,W76,Y76)), 0,IF(Y76>W76,W76,Y76))), 0,IF(ISERROR(IF(Y76>W76,W76,Y76)), 0,IF(Y76>W76,W76,Y76))))","v":0},{"$f":"IF(ISERROR(IF(ISERROR(IF(ISERROR(IF(ISERROR((AC76*AB76)/AA76), 0,(AC76*AB76)/AA76)), 0,IF(ISERROR((AC76*AB76)/AA76), 0,(AC76*AB76)/AA76))), 0,IF(ISERROR(IF(ISERROR((AC76*AB76)/AA76), 0,(AC76*AB76)/AA76)), 0,IF(ISERROR((AC76*AB76)/AA76), 0,(AC76*AB76)/AA76)))), 0,IF(ISERROR(IF(ISERROR(IF(ISERROR((AC76*AB76)/AA76), 0,(AC76*AB76)/AA76)), 0,IF(ISERROR((AC76*AB76)/AA76), 0,(AC76*AB76)/AA76))), 0,IF(ISERROR(IF(ISERROR((AC76*AB76)/AA76), 0,(AC76*AB76)/AA76)), 0,IF(ISERROR((AC76*AB76)/AA76), 0,(AC76*AB76)/AA76))))","v":0},{"$f":"IF(ISERROR(IF(ISERROR(IF(ISERROR(IF(AC76=W76,0,(AC76*AB76)/AA76)), 0,IF(AC76=W76,0,(AC76*AB76)/AA76))), 0,IF(ISERROR(IF(AC76=W76,0,(AC76*AB76)/AA76)), 0,IF(AC76=W76,0,(AC76*AB76)/AA76)))), 0,IF(ISERROR(IF(ISERROR(IF(AC76=W76,0,(AC76*AB76)/AA76)), 0,IF(AC76=W76,0,(AC76*AB76)/AA76))), 0,IF(ISERROR(IF(AC76=W76,0,(AC76*AB76)/AA76)), 0,IF(AC76=W76,0,(AC76*AB76)/AA76))))","v":0},{"$f":"IF(ISERROR(IF(ISERROR(IF(AC76=60,Q76+(AC76/T76),Q76+(AD76/T76))), 0,IF(AC76=60,Q76+(AC76/T76),Q76+(AD76/T76)))), 0,IF(ISERROR(IF(AC76=60,Q76+(AC76/T76),Q76+(AD76/T76))), 0,IF(AC76=60,Q76+(AC76/T76),Q76+(AD76/T76))))","v":0}]
["F",21,50,52,{"$f":"IF(ISERROR(IF(ISERROR(IF(ISERROR(Y76), 0,Y76)), 0,IF(ISERROR(Y76), 0,Y76))), 0,IF(ISERROR(IF(ISERROR(Y76), 0,Y76)), 0,IF(ISERROR(Y76), 0,Y76)))","v":0},null,{"$f":"IF(ISERROR(IF(ISERROR(IF(ISERROR(AB76), 0,AB76)), 0,IF(ISERROR(AB76), 0,AB76))), 0,IF(ISERROR(IF(ISERROR(AB76), 0,AB76)), 0,IF(ISERROR(AB76), 0,AB76)))","v":0},{"$f":"IF(ISERROR(IF(ISERROR(IF(ISERROR($E$10-G77), 0,$E$10-G77)), 0,IF(ISERROR($E$10-G77), 0,$E$10-G77))), 0,IF(ISERROR(IF(ISERROR($E$10-G77), 0,$E$10-G77)), 0,IF(ISERROR($E$10-G77), 0,$E$10-G77)))","v":0.4},null,{"$f":"IF(ISERROR(IF(ISERROR(AB77), 0,AB77)), 0,IF(ISERROR(AB77), 0,AB77))","v":0},{"$f":"IF(ISERROR(IF(ISERROR(ROUND($E$10-J77,3)), 0,ROUND($E$10-J77,3))), 0,IF(ISERROR(ROUND($E$10-J77,3)), 0,ROUND($E$10-J77,3)))","v":0.4},null,{"$f":"IF(ISERROR(IF(ISERROR(IF(ISERROR(IF(ISERROR(AB78), 0,AB78)), 0,IF(ISERROR(AB78), 0,AB78))), 0,IF(ISERROR(IF(ISERROR(AB78), 0,AB78)), 0,IF(ISERROR(AB78), 0,AB78)))), 0,IF(ISERROR(IF(ISERROR(IF(ISERROR(AB78), 0,AB78)), 0,IF(ISERROR(AB78), 0,AB78))), 0,IF(ISERROR(IF(ISERROR(AB78), 0,AB78)), 0,IF(ISERROR(AB78), 0,AB78))))","v":0},{"$f":"IF(ISERROR(IF(ISERROR(IF(ISERROR(IF(ISERROR($E$10-M77), 0,$E$10-M77)), 0,IF(ISERROR($E$10-M77), 0,$E$10-M77))), 0,IF(ISERROR(IF(ISERROR($E$10-M77), 0,$E$10-M77)), 0,IF(ISERROR($E$10-M77), 0,$E$10-M77)))), 0,IF(ISERROR(IF(ISERROR(IF(ISERROR($E$10-M77), 0,$E$10-M77)), 0,IF(ISERROR($E$10-M77), 0,$E$10-M77))), 0,IF(ISERROR(IF(ISERROR($E$10-M77), 0,$E$10-M77)), 0,IF(ISERROR($E$10-M77), 0,$E$10-M77))))","v":0.4},{"$f":"A78","v":298.1153846153843},{"$f":"I77","v":0},{"$f":"IF(ISERROR(IF(ISERROR(IF(AC76=W76,Q76+(AC76/T76),Q76+(AD76/T76))), 0,IF(AC76=W76,Q76+(AC76/T76),Q76+(AD76/T76)))), 0,IF(ISERROR(IF(AC76=W76,Q76+(AC76/T76),Q76+(AD76/T76))), 0,IF(AC76=W76,Q76+(AC76/T76),Q76+(AD76/T76))))","v":0},{"$f":"D77","v":52},{"$f":"IF(ISERROR(IF(ISERROR(Q77-R77), 0,Q77-R77)), 0,IF(ISERROR(Q77-R77), 0,Q77-R77))","v":-52},0,{"$f":"IF(ISERROR(IF(ISERROR(S77*T77), 0,S77*T77)), 0,IF(ISERROR(S77*T77), 0,S77*T77))","v":0},0,14.2,0.4,{"$f":"IF(ISERROR(IF(ISERROR(ABS(U77)), 0,ABS(U77))), 0,IF(ISERROR(ABS(U77)), 0,ABS(U77)))","v":0},0.15000000000000002,{"$f":"IF(ISERROR(IF(ISERROR(ABS((Y77*X77)/W77)), 0,ABS((Y77*X77)/W77))), 0,IF(ISERROR(ABS((Y77*X77)/W77)), 0,ABS((Y77*X77)/W77)))","v":0},{"$f":"IF(ISERROR(IF(ISERROR(IF(AA77>Z77,Z77,AA77)), 0,IF(AA77>Z77,Z77,AA77))), 0,IF(ISERROR(IF(AA77>Z77,Z77,AA77)), 0,IF(AA77>Z77,Z77,AA77)))","v":0},{"$f":"IF(ISERROR(IF(ISERROR(IF(Y77>W77,W77,Y77)), 0,IF(Y77>W77,W77,Y77))), 0,IF(ISERROR(IF(Y77>W77,W77,Y77)), 0,IF(Y77>W77,W77,Y77)))","v":0},{"$f":"IF(ISERROR((AC77*AB77)/AA77), 0,(AC77*AB77)/AA77)","v":0},{"$f":"IF(ISERROR(IF(ISERROR(IF(AC77=W77,0,(AC77*AB77)/AA77)), 0,IF(AC77=W77,0,(AC77*AB77)/AA77))), 0,IF(ISERROR(IF(AC77=W77,0,(AC77*AB77)/AA77)), 0,IF(AC77=W77,0,(AC77*AB77)/AA77)))","v":0},{"$f":"IF(ISERROR(IF(AC77=60,Q77+(AC77/T77),Q77+(AD77/T77))), 0,IF(AC77=60,Q77+(AC77/T77),Q77+(AD77/T77)))","v":0}]
[{"$f":"F312","v":298.1153846153843},{"$f":"IF(AND(C77<D77, E77>$E$7),\"Ignore Drill Out Lead 1; rather pop out Lead 1 and LEAVE lead # 2 to \"&K77&\" inches.\",\"\")","v":""},null,null,null,null,null,null,null,null,null,null,null,{"$f":"IF(ISERROR(IF(ISERROR((G77+J77+M77)/$E$10*$E$7), 0,(G77+J77+M77)/$E$10*$E$7)), 0,IF(ISERROR((G77+J77+M77)/$E$10*$E$7), 0,(G77+J77+M77)/$E$10*$E$7))","v":0},{"$f":"A78","v":298.1153846153843},{"$f":"L77","v":0},{"$f":"IF(ISERROR(IF(AC77=W77,Q77+(AC77/T77),Q77+(AD77/T77))), 0,IF(AC77=W77,Q77+(AC77/T77),Q77+(AD77/T77)))","v":0},{"$f":"D77","v":52},{"$f":"IF(ISERROR(Q78-R78), 0,Q78-R78)","v":-52},0,{"$f":"IF(ISERROR(IF(ISERROR(IF(ISERROR(IF(ISERROR(S78*T78), 0,S78*T78)), 0,IF(ISERROR(S78*T78), 0,S78*T78))), 0,IF(ISERROR(IF(ISERROR(S78*T78), 0,S78*T78)), 0,IF(ISERROR(S78*T78), 0,S78*T78)))), 0,IF(ISERROR(IF(ISERROR(IF(ISERROR(S78*T78), 0,S78*T78)), 0,IF(ISERROR(S78*T78), 0,S78*T78))), 0,IF(ISERROR(IF(ISERROR(S78*T78), 0,S78*T78)), 0,IF(ISERROR(S78*T78), 0,S78*T78))))","v":0},0,14.2,0.4,{"$f":"IF(ISERROR(IF(ISERROR(IF(ISERROR(ABS(U78)), 0,ABS(U78))), 0,IF(ISERROR(ABS(U78)), 0,ABS(U78)))), 0,IF(ISERROR(IF(ISERROR(ABS(U78)), 0,ABS(U78))), 0,IF(ISERROR(ABS(U78)), 0,ABS(U78))))","v":0},0.15000000000000002,{"$f":"IF(ISERROR(IF(ISERROR(IF(ISERROR(ABS((Y78*X78)/W78)), 0,ABS((Y78*X78)/W78))), 0,IF(ISERROR(ABS((Y78*X78)/W78)), 0,ABS((Y78*X78)/W78)))), 0,IF(ISERROR(IF(ISERROR(ABS((Y78*X78)/W78)), 0,ABS((Y78*X78)/W78))), 0,IF(ISERROR(ABS((Y78*X78)/W78)), 0,ABS((Y78*X78)/W78))))","v":0},{"$f":"IF(ISERROR(IF(ISERROR(IF(ISERROR(IF(AA78>Z78,Z78,AA78)), 0,IF(AA78>Z78,Z78,AA78))), 0,IF(ISERROR(IF(AA78>Z78,Z78,AA78)), 0,IF(AA78>Z78,Z78,AA78)))), 0,IF(ISERROR(IF(ISERROR(IF(AA78>Z78,Z78,AA78)), 0,IF(AA78>Z78,Z78,AA78))), 0,IF(ISERROR(IF(AA78>Z78,Z78,AA78)), 0,IF(AA78>Z78,Z78,AA78))))","v":0},{"$f":"IF(ISERROR(IF(ISERROR(IF(ISERROR(IF(Y78>W78,W78,Y78)), 0,IF(Y78>W78,W78,Y78))), 0,IF(ISERROR(IF(Y78>W78,W78,Y78)), 0,IF(Y78>W78,W78,Y78)))), 0,IF(ISERROR(IF(ISERROR(IF(Y78>W78,W78,Y78)), 0,IF(Y78>W78,W78,Y78))), 0,IF(ISERROR(IF(Y78>W78,W78,Y78)), 0,IF(Y78>W78,W78,Y78))))","v":0},{"$f":"IF(ISERROR((AC78*AB78)/AA78), \"\",(AC78*AB78)/AA78)","v":""},{"$f":"IF(ISERROR(IF(AC78=W78,0,(AC78*AB78)/AA78)), \"\",IF(AC78=W78,0,(AC78*AB78)/AA78))","v":""},{"$f":"IF(ISERROR(IF(AC78=60,Q78+(AC78/T78),Q78+(AD78/T78))), \"\",IF(AC78=60,Q78+(AC78/T78),Q78+(AD78/T78)))","v":""}]
[null,null,"Test","Target",null,1,"dr_o","Lv_in",2,"dr_o","Lv_in",3,"dr_o","Lv_in",{"$f":"A81","v":271.5},{"$f":"F80","v":0},{"$f":"C80","v":52},{"$f":"D80","v":52},{"$f":"Q79-R79","v":0},0,{"$f":"IF(ISERROR(IF(ISERROR(IF(ISERROR(IF(ISERROR(S79*T79), 0,S79*T79)), 0,IF(ISERROR(S79*T79), 0,S79*T79))), 0,IF(ISERROR(IF(ISERROR(S79*T79), 0,S79*T79)), 0,IF(ISERROR(S79*T79), 0,S79*T79)))), 0,IF(ISERROR(IF(ISERROR(IF(ISERROR(S79*T79), 0,S79*T79)), 0,IF(ISERROR(S79*T79), 0,S79*T79))), 0,IF(ISERROR(IF(ISERROR(S79*T79), 0,S79*T79)), 0,IF(ISERROR(S79*T79), 0,S79*T79))))","v":0},0,14.2,0.4,{"$f":"IF(ISERROR(IF(ISERROR(IF(ISERROR(ABS(U79)), 0,ABS(U79))), 0,IF(ISERROR(ABS(U79)), 0,ABS(U79)))), 0,IF(ISERROR(IF(ISERROR(ABS(U79)), 0,ABS(U79))), 0,IF(ISERROR(ABS(U79)), 0,ABS(U79))))","v":0},0.15000000000000002,{"$f":"IF(ISERROR(IF(ISERROR(IF(ISERROR(ABS((Y79*X79)/W79)), 0,ABS((Y79*X79)/W79))), 0,IF(ISERROR(ABS((Y79*X79)/W79)), 0,ABS((Y79*X79)/W79)))), 0,IF(ISERROR(IF(ISERROR(ABS((Y79*X79)/W79)), 0,ABS((Y79*X79)/W79))), 0,IF(ISERROR(ABS((Y79*X79)/W79)), 0,ABS((Y79*X79)/W79))))","v":0},{"$f":"IF(ISERROR(IF(ISERROR(IF(ISERROR(IF(AA79>Z79,Z79,AA79)), 0,IF(AA79>Z79,Z79,AA79))), 0,IF(ISERROR(IF(AA79>Z79,Z79,AA79)), 0,IF(AA79>Z79,Z79,AA79)))), 0,IF(ISERROR(IF(ISERROR(IF(AA79>Z79,Z79,AA79)), 0,IF(AA79>Z79,Z79,AA79))), 0,IF(ISERROR(IF(AA79>Z79,Z79,AA79)), 0,IF(AA79>Z79,Z79,AA79))))","v":0},{"$f":"IF(ISERROR(IF(ISERROR(IF(ISERROR(IF(Y79>W79,W79,Y79)), 0,IF(Y79>W79,W79,Y79))), 0,IF(ISERROR(IF(Y79>W79,W79,Y79)), 0,IF(Y79>W79,W79,Y79)))), 0,IF(ISERROR(IF(ISERROR(IF(Y79>W79,W79,Y79)), 0,IF(Y79>W79,W79,Y79))), 0,IF(ISERROR(IF(Y79>W79,W79,Y79)), 0,IF(Y79>W79,W79,Y79))))","v":0},{"$f":"IF(ISERROR(IF(ISERROR(IF(ISERROR(IF(ISERROR((AC79*AB79)/AA79), 0,(AC79*AB79)/AA79)), 0,IF(ISERROR((AC79*AB79)/AA79), 0,(AC79*AB79)/AA79))), 0,IF(ISERROR(IF(ISERROR((AC79*AB79)/AA79), 0,(AC79*AB79)/AA79)), 0,IF(ISERROR((AC79*AB79)/AA79), 0,(AC79*AB79)/AA79)))), 0,IF(ISERROR(IF(ISERROR(IF(ISERROR((AC79*AB79)/AA79), 0,(AC79*AB79)/AA79)), 0,IF(ISERROR((AC79*AB79)/AA79), 0,(AC79*AB79)/AA79))), 0,IF(ISERROR(IF(ISERROR((AC79*AB79)/AA79), 0,(AC79*AB79)/AA79)), 0,IF(ISERROR((AC79*AB79)/AA79), 0,(AC79*AB79)/AA79))))","v":0},{"$f":"IF(ISERROR(IF(ISERROR(IF(ISERROR(IF(AC79=W79,0,(AC79*AB79)/AA79)), 0,IF(AC79=W79,0,(AC79*AB79)/AA79))), 0,IF(ISERROR(IF(AC79=W79,0,(AC79*AB79)/AA79)), 0,IF(AC79=W79,0,(AC79*AB79)/AA79)))), 0,IF(ISERROR(IF(ISERROR(IF(AC79=W79,0,(AC79*AB79)/AA79)), 0,IF(AC79=W79,0,(AC79*AB79)/AA79))), 0,IF(ISERROR(IF(AC79=W79,0,(AC79*AB79)/AA79)), 0,IF(AC79=W79,0,(AC79*AB79)/AA79))))","v":0},{"$f":"IF(ISERROR(IF(ISERROR(IF(AC79=60,Q79+(AC79/T79),Q79+(AD79/T79))), 0,IF(AC79=60,Q79+(AC79/T79),Q79+(AD79/T79)))), 0,IF(ISERROR(IF(AC79=60,Q79+(AC79/T79),Q79+(AD79/T79))), 0,IF(AC79=60,Q79+(AC79/T79),Q79+(AD79/T79))))","v":0}]
["F#",22,52,52,{"$f":"IF(ISERROR(IF(ISERROR(IF(ISERROR(Y79), 0,Y79)), 0,IF(ISERROR(Y79), 0,Y79))), 0,IF(ISERROR(IF(ISERROR(Y79), 0,Y79)), 0,IF(ISERROR(Y79), 0,Y79)))","v":0},null,{"$f":"IF(ISERROR(IF(ISERROR(IF(ISERROR(AB79), 0,AB79)), 0,IF(ISERROR(AB79), 0,AB79))), 0,IF(ISERROR(IF(ISERROR(AB79), 0,AB79)), 0,IF(ISERROR(AB79), 0,AB79)))","v":0},{"$f":"IF(ISERROR(IF(ISERROR(IF(ISERROR($E$10-G80), 0,$E$10-G80)), 0,IF(ISERROR($E$10-G80), 0,$E$10-G80))), 0,IF(ISERROR(IF(ISERROR($E$10-G80), 0,$E$10-G80)), 0,IF(ISERROR($E$10-G80), 0,$E$10-G80)))","v":0.4},null,{"$f":"IF(ISERROR(IF(ISERROR(AB80), 0,AB80)), 0,IF(ISERROR(AB80), 0,AB80))","v":0},{"$f":"IF(ISERROR(IF(ISERROR(ROUND($E$10-J80,3)), 0,ROUND($E$10-J80,3))), 0,IF(ISERROR(ROUND($E$10-J80,3)), 0,ROUND($E$10-J80,3)))","v":0.4},null,{"$f":"IF(ISERROR(IF(ISERROR(IF(ISERROR(IF(ISERROR(AB81), 0,AB81)), 0,IF(ISERROR(AB81), 0,AB81))), 0,IF(ISERROR(IF(ISERROR(AB81), 0,AB81)), 0,IF(ISERROR(AB81), 0,AB81)))), 0,IF(ISERROR(IF(ISERROR(IF(ISERROR(AB81), 0,AB81)), 0,IF(ISERROR(AB81), 0,AB81))), 0,IF(ISERROR(IF(ISERROR(AB81), 0,AB81)), 0,IF(ISERROR(AB81), 0,AB81))))","v":0},{"$f":"IF(ISERROR(IF(ISERROR(IF(ISERROR(IF(ISERROR($E$10-M80), 0,$E$10-M80)), 0,IF(ISERROR($E$10-M80), 0,$E$10-M80))), 0,IF(ISERROR(IF(ISERROR($E$10-M80), 0,$E$10-M80)), 0,IF(ISERROR($E$10-M80), 0,$E$10-M80)))), 0,IF(ISERROR(IF(ISERROR(IF(ISERROR($E$10-M80), 0,$E$10-M80)), 0,IF(ISERROR($E$10-M80), 0,$E$10-M80))), 0,IF(ISERROR(IF(ISERROR($E$10-M80), 0,$E$10-M80)), 0,IF(ISERROR($E$10-M80), 0,$E$10-M80))))","v":0.4},{"$f":"A81","v":271.5},{"$f":"I80","v":0},{"$f":"IF(ISERROR(IF(ISERROR(IF(AC79=W79,Q79+(AC79/T79),Q79+(AD79/T79))), 0,IF(AC79=W79,Q79+(AC79/T79),Q79+(AD79/T79)))), 0,IF(ISERROR(IF(AC79=W79,Q79+(AC79/T79),Q79+(AD79/T79))), 0,IF(AC79=W79,Q79+(AC79/T79),Q79+(AD79/T79))))","v":0},{"$f":"D80","v":52},{"$f":"IF(ISERROR(IF(ISERROR(Q80-R80), 0,Q80-R80)), 0,IF(ISERROR(Q80-R80), 0,Q80-R80))","v":-52},0,{"$f":"IF(ISERROR(IF(ISERROR(S80*T80), 0,S80*T80)), 0,IF(ISERROR(S80*T80), 0,S80*T80))","v":0},0,14.2,0.4,{"$f":"IF(ISERROR(IF(ISERROR(ABS(U80)), 0,ABS(U80))), 0,IF(ISERROR(ABS(U80)), 0,ABS(U80)))","v":0},0.15000000000000002,{"$f":"IF(ISERROR(IF(ISERROR(ABS((Y80*X80)/W80)), 0,ABS((Y80*X80)/W80))), 0,IF(ISERROR(ABS((Y80*X80)/W80)), 0,ABS((Y80*X80)/W80)))","v":0},{"$f":"IF(ISERROR(IF(ISERROR(IF(AA80>Z80,Z80,AA80)), 0,IF(AA80>Z80,Z80,AA80))), 0,IF(ISERROR(IF(AA80>Z80,Z80,AA80)), 0,IF(AA80>Z80,Z80,AA80)))","v":0},{"$f":"IF(ISERROR(IF(ISERROR(IF(Y80>W80,W80,Y80)), 0,IF(Y80>W80,W80,Y80))), 0,IF(ISERROR(IF(Y80>W80,W80,Y80)), 0,IF(Y80>W80,W80,Y80)))","v":0},{"$f":"IF(ISERROR((AC80*AB80)/AA80), 0,(AC80*AB80)/AA80)","v":0},{"$f":"IF(ISERROR(IF(ISERROR(IF(AC80=W80,0,(AC80*AB80)/AA80)), 0,IF(AC80=W80,0,(AC80*AB80)/AA80))), 0,IF(ISERROR(IF(AC80=W80,0,(AC80*AB80)/AA80)), 0,IF(AC80=W80,0,(AC80*AB80)/AA80)))","v":0},{"$f":"IF(ISERROR(IF(AC80=60,Q80+(AC80/T80),Q80+(AD80/T80))), 0,IF(AC80=60,Q80+(AC80/T80),Q80+(AD80/T80)))","v":0}]
[{"$f":"R308","v":271.5},{"$f":"IF(AND(C80<D80, E80>$E$7),\"Ignore Drill Out Lead 1; rather pop out Lead 1 and LEAVE lead # 2 to \"&K80&\" inches.\",\"\")","v":""},null,null,null,null,null,null,null,null,null,null,null,{"$f":"IF(ISERROR(IF(ISERROR((G80+J80+M80)/$E$10*$E$7), 0,(G80+J80+M80)/$E$10*$E$7)), 0,IF(ISERROR((G80+J80+M80)/$E$10*$E$7), 0,(G80+J80+M80)/$E$10*$E$7))","v":0},{"$f":"A81","v":271.5},{"$f":"L80","v":0},{"$f":"IF(ISERROR(IF(AC80=W80,Q80+(AC80/T80),Q80+(AD80/T80))), 0,IF(AC80=W80,Q80+(AC80/T80),Q80+(AD80/T80)))","v":0},{"$f":"D80","v":52},{"$f":"IF(ISERROR(Q81-R81), 0,Q81-R81)","v":-52},0,{"$f":"IF(ISERROR(IF(ISERROR(IF(ISERROR(IF(ISERROR(S81*T81), 0,S81*T81)), 0,IF(ISERROR(S81*T81), 0,S81*T81))), 0,IF(ISERROR(IF(ISERROR(S81*T81), 0,S81*T81)), 0,IF(ISERROR(S81*T81), 0,S81*T81)))), 0,IF(ISERROR(IF(ISERROR(IF(ISERROR(S81*T81), 0,S81*T81)), 0,IF(ISERROR(S81*T81), 0,S81*T81))), 0,IF(ISERROR(IF(ISERROR(S81*T81), 0,S81*T81)), 0,IF(ISERROR(S81*T81), 0,S81*T81))))","v":0},0,14.2,0.4,{"$f":"IF(ISERROR(IF(ISERROR(IF(ISERROR(ABS(U81)), 0,ABS(U81))), 0,IF(ISERROR(ABS(U81)), 0,ABS(U81)))), 0,IF(ISERROR(IF(ISERROR(ABS(U81)), 0,ABS(U81))), 0,IF(ISERROR(ABS(U81)), 0,ABS(U81))))","v":0},0.15000000000000002,{"$f":"IF(ISERROR(IF(ISERROR(IF(ISERROR(ABS((Y81*X81)/W81)), 0,ABS((Y81*X81)/W81))), 0,IF(ISERROR(ABS((Y81*X81)/W81)), 0,ABS((Y81*X81)/W81)))), 0,IF(ISERROR(IF(ISERROR(ABS((Y81*X81)/W81)), 0,ABS((Y81*X81)/W81))), 0,IF(ISERROR(ABS((Y81*X81)/W81)), 0,ABS((Y81*X81)/W81))))","v":0},{"$f":"IF(ISERROR(IF(ISERROR(IF(ISERROR(IF(AA81>Z81,Z81,AA81)), 0,IF(AA81>Z81,Z81,AA81))), 0,IF(ISERROR(IF(AA81>Z81,Z81,AA81)), 0,IF(AA81>Z81,Z81,AA81)))), 0,IF(ISERROR(IF(ISERROR(IF(AA81>Z81,Z81,AA81)), 0,IF(AA81>Z81,Z81,AA81))), 0,IF(ISERROR(IF(AA81>Z81,Z81,AA81)), 0,IF(AA81>Z81,Z81,AA81))))","v":0},{"$f":"IF(ISERROR(IF(ISERROR(IF(ISERROR(IF(Y81>W81,W81,Y81)), 0,IF(Y81>W81,W81,Y81))), 0,IF(ISERROR(IF(Y81>W81,W81,Y81)), 0,IF(Y81>W81,W81,Y81)))), 0,IF(ISERROR(IF(ISERROR(IF(Y81>W81,W81,Y81)), 0,IF(Y81>W81,W81,Y81))), 0,IF(ISERROR(IF(Y81>W81,W81,Y81)), 0,IF(Y81>W81,W81,Y81))))","v":0},{"$f":"IF(ISERROR((AC81*AB81)/AA81), \"\",(AC81*AB81)/AA81)","v":""},{"$f":"IF(ISERROR(IF(AC81=W81,0,(AC81*AB81)/AA81)), \"\",IF(AC81=W81,0,(AC81*AB81)/AA81))","v":""},{"$f":"IF(ISERROR(IF(AC81=60,Q81+(AC81/T81),Q81+(AD81/T81))), \"\",IF(AC81=60,Q81+(AC81/T81),Q81+(AD81/T81)))","v":""}]
[null,null,"Test","Target",null,1,"dr_o","Lv_in",2,"dr_o","Lv_in",3,"dr_o","Lv_in",{"$f":"A84","v":296.74999999999966},{"$f":"F83","v":0},{"$f":"C83","v":48},{"$f":"D83","v":52},{"$f":"Q82-R82","v":-4},0,{"$f":"IF(ISERROR(IF(ISERROR(IF(ISERROR(IF(ISERROR(S82*T82), 0,S82*T82)), 0,IF(ISERROR(S82*T82), 0,S82*T82))), 0,IF(ISERROR(IF(ISERROR(S82*T82), 0,S82*T82)), 0,IF(ISERROR(S82*T82), 0,S82*T82)))), 0,IF(ISERROR(IF(ISERROR(IF(ISERROR(S82*T82), 0,S82*T82)), 0,IF(ISERROR(S82*T82), 0,S82*T82))), 0,IF(ISERROR(IF(ISERROR(S82*T82), 0,S82*T82)), 0,IF(ISERROR(S82*T82), 0,S82*T82))))","v":0},0,14.2,0.4,{"$f":"IF(ISERROR(IF(ISERROR(IF(ISERROR(ABS(U82)), 0,ABS(U82))), 0,IF(ISERROR(ABS(U82)), 0,ABS(U82)))), 0,IF(ISERROR(IF(ISERROR(ABS(U82)), 0,ABS(U82))), 0,IF(ISERROR(ABS(U82)), 0,ABS(U82))))","v":0},0.15000000000000002,{"$f":"IF(ISERROR(IF(ISERROR(IF(ISERROR(ABS((Y82*X82)/W82)), 0,ABS((Y82*X82)/W82))), 0,IF(ISERROR(ABS((Y82*X82)/W82)), 0,ABS((Y82*X82)/W82)))), 0,IF(ISERROR(IF(ISERROR(ABS((Y82*X82)/W82)), 0,ABS((Y82*X82)/W82))), 0,IF(ISERROR(ABS((Y82*X82)/W82)), 0,ABS((Y82*X82)/W82))))","v":0},{"$f":"IF(ISERROR(IF(ISERROR(IF(ISERROR(IF(AA82>Z82,Z82,AA82)), 0,IF(AA82>Z82,Z82,AA82))), 0,IF(ISERROR(IF(AA82>Z82,Z82,AA82)), 0,IF(AA82>Z82,Z82,AA82)))), 0,IF(ISERROR(IF(ISERROR(IF(AA82>Z82,Z82,AA82)), 0,IF(AA82>Z82,Z82,AA82))), 0,IF(ISERROR(IF(AA82>Z82,Z82,AA82)), 0,IF(AA82>Z82,Z82,AA82))))","v":0},{"$f":"IF(ISERROR(IF(ISERROR(IF(ISERROR(IF(Y82>W82,W82,Y82)), 0,IF(Y82>W82,W82,Y82))), 0,IF(ISERROR(IF(Y82>W82,W82,Y82)), 0,IF(Y82>W82,W82,Y82)))), 0,IF(ISERROR(IF(ISERROR(IF(Y82>W82,W82,Y82)), 0,IF(Y82>W82,W82,Y82))), 0,IF(ISERROR(IF(Y82>W82,W82,Y82)), 0,IF(Y82>W82,W82,Y82))))","v":0},{"$f":"IF(ISERROR(IF(ISERROR(IF(ISERROR(IF(ISERROR((AC82*AB82)/AA82), 0,(AC82*AB82)/AA82)), 0,IF(ISERROR((AC82*AB82)/AA82), 0,(AC82*AB82)/AA82))), 0,IF(ISERROR(IF(ISERROR((AC82*AB82)/AA82), 0,(AC82*AB82)/AA82)), 0,IF(ISERROR((AC82*AB82)/AA82), 0,(AC82*AB82)/AA82)))), 0,IF(ISERROR(IF(ISERROR(IF(ISERROR((AC82*AB82)/AA82), 0,(AC82*AB82)/AA82)), 0,IF(ISERROR((AC82*AB82)/AA82), 0,(AC82*AB82)/AA82))), 0,IF(ISERROR(IF(ISERROR((AC82*AB82)/AA82), 0,(AC82*AB82)/AA82)), 0,IF(ISERROR((AC82*AB82)/AA82), 0,(AC82*AB82)/AA82))))","v":0},{"$f":"IF(ISERROR(IF(ISERROR(IF(ISERROR(IF(AC82=W82,0,(AC82*AB82)/AA82)), 0,IF(AC82=W82,0,(AC82*AB82)/AA82))), 0,IF(ISERROR(IF(AC82=W82,0,(AC82*AB82)/AA82)), 0,IF(AC82=W82,0,(AC82*AB82)/AA82)))), 0,IF(ISERROR(IF(ISERROR(IF(AC82=W82,0,(AC82*AB82)/AA82)), 0,IF(AC82=W82,0,(AC82*AB82)/AA82))), 0,IF(ISERROR(IF(AC82=W82,0,(AC82*AB82)/AA82)), 0,IF(AC82=W82,0,(AC82*AB82)/AA82))))","v":0},{"$f":"IF(ISERROR(IF(ISERROR(IF(AC82=60,Q82+(AC82/T82),Q82+(AD82/T82))), 0,IF(AC82=60,Q82+(AC82/T82),Q82+(AD82/T82)))), 0,IF(ISERROR(IF(AC82=60,Q82+(AC82/T82),Q82+(AD82/T82))), 0,IF(AC82=60,Q82+(AC82/T82),Q82+(AD82/T82))))","v":0}]
["G",23,48,52,{"$f":"IF(ISERROR(IF(ISERROR(IF(ISERROR(Y82), 0,Y82)), 0,IF(ISERROR(Y82), 0,Y82))), 0,IF(ISERROR(IF(ISERROR(Y82), 0,Y82)), 0,IF(ISERROR(Y82), 0,Y82)))","v":0},null,{"$f":"IF(ISERROR(IF(ISERROR(IF(ISERROR(AB82), 0,AB82)), 0,IF(ISERROR(AB82), 0,AB82))), 0,IF(ISERROR(IF(ISERROR(AB82), 0,AB82)), 0,IF(ISERROR(AB82), 0,AB82)))","v":0},{"$f":"IF(ISERROR(IF(ISERROR(IF(ISERROR($E$10-G83), 0,$E$10-G83)), 0,IF(ISERROR($E$10-G83), 0,$E$10-G83))), 0,IF(ISERROR(IF(ISERROR($E$10-G83), 0,$E$10-G83)), 0,IF(ISERROR($E$10-G83), 0,$E$10-G83)))","v":0.4},null,{"$f":"IF(ISERROR(IF(ISERROR(AB83), 0,AB83)), 0,IF(ISERROR(AB83), 0,AB83))","v":0},{"$f":"IF(ISERROR(IF(ISERROR(ROUND($E$10-J83,3)), 0,ROUND($E$10-J83,3))), 0,IF(ISERROR(ROUND($E$10-J83,3)), 0,ROUND($E$10-J83,3)))","v":0.4},null,{"$f":"IF(ISERROR(AB84), \"\",AB84)","v":0},{"$f":"IF(ISERROR($E$10-M83), \"\",$E$10-M83)","v":0.4},{"$f":"A84","v":296.74999999999966},{"$f":"I83","v":0},{"$f":"IF(ISERROR(IF(ISERROR(IF(AC82=W82,Q82+(AC82/T82),Q82+(AD82/T82))), 0,IF(AC82=W82,Q82+(AC82/T82),Q82+(AD82/T82)))), 0,IF(ISERROR(IF(AC82=W82,Q82+(AC82/T82),Q82+(AD82/T82))), 0,IF(AC82=W82,Q82+(AC82/T82),Q82+(AD82/T82))))","v":0},{"$f":"D83","v":52},{"$f":"IF(ISERROR(IF(ISERROR(Q83-R83), 0,Q83-R83)), 0,IF(ISERROR(Q83-R83), 0,Q83-R83))","v":-52},0,{"$f":"IF(ISERROR(IF(ISERROR(S83*T83), 0,S83*T83)), 0,IF(ISERROR(S83*T83), 0,S83*T83))","v":0},0,14.2,0.4,{"$f":"IF(ISERROR(IF(ISERROR(ABS(U83)), 0,ABS(U83))), 0,IF(ISERROR(ABS(U83)), 0,ABS(U83)))","v":0},0.15000000000000002,{"$f":"IF(ISERROR(IF(ISERROR(ABS((Y83*X83)/W83)), 0,ABS((Y83*X83)/W83))), 0,IF(ISERROR(ABS((Y83*X83)/W83)), 0,ABS((Y83*X83)/W83)))","v":0},{"$f":"IF(ISERROR(IF(ISERROR(IF(AA83>Z83,Z83,AA83)), 0,IF(AA83>Z83,Z83,AA83))), 0,IF(ISERROR(IF(AA83>Z83,Z83,AA83)), 0,IF(AA83>Z83,Z83,AA83)))","v":0},{"$f":"IF(ISERROR(IF(ISERROR(IF(Y83>W83,W83,Y83)), 0,IF(Y83>W83,W83,Y83))), 0,IF(ISERROR(IF(Y83>W83,W83,Y83)), 0,IF(Y83>W83,W83,Y83)))","v":0},{"$f":"IF(ISERROR((AC83*AB83)/AA83), \"\",(AC83*AB83)/AA83)","v":""},{"$f":"IF(ISERROR(IF(AC83=W83,0,(AC83*AB83)/AA83)), \"\",IF(AC83=W83,0,(AC83*AB83)/AA83))","v":""},{"$f":"IF(ISERROR(IF(AC83=60,Q83+(AC83/T83),Q83+(AD83/T83))), \"\",IF(AC83=60,Q83+(AC83/T83),Q83+(AD83/T83)))","v":""}]
[{"$f":"F313","v":296.74999999999966},{"$f":"IF(AND(C83<D83, E83>$E$7),\"Ignore Drill Out Lead 1; rather pop out Lead 1 and LEAVE lead # 2 to \"&K83&\" inches.\",\"\")","v":""},null,null,null,null,null,null,null,null,null,null,null,{"$f":"IF(ISERROR(IF(ISERROR((G83+J83+M83)/$E$10*$E$7), 0,(G83+J83+M83)/$E$10*$E$7)), 0,IF(ISERROR((G83+J83+M83)/$E$10*$E$7), 0,(G83+J83+M83)/$E$10*$E$7))","v":0},{"$f":"A84","v":296.74999999999966},{"$f":"L83","v":0},{"$f":"IF(ISERROR(IF(AC83=W83,Q83+(AC83/T83),Q83+(AD83/T83))), \"\",IF(AC83=W83,Q83+(AC83/T83),Q83+(AD83/T83)))","v":""},{"$f":"D83","v":52},{"$f":"IF(ISERROR(Q84-R84), 0,Q84-R84)","v":0},0,{"$f":"IF(ISERROR(S84*T84), \"\",S84*T84)","v":0},0,14.2,0.4,{"$f":"IF(ISERROR(ABS(U84)), \"\",ABS(U84))","v":0},0.15000000000000002,{"$f":"IF(ISERROR(ABS((Y84*X84)/W84)), \"\",ABS((Y84*X84)/W84))","v":0},{"$f":"IF(ISERROR(IF(AA84>Z84,Z84,AA84)), \"\",IF(AA84>Z84,Z84,AA84))","v":0},{"$f":"IF(ISERROR(IF(Y84>W84,W84,Y84)), \"\",IF(Y84>W84,W84,Y84))","v":0},{"$f":"IF(ISERROR((AC84*AB84)/AA84), \"\",(AC84*AB84)/AA84)","v":""},{"$f":"IF(ISERROR(IF(AC84=W84,0,(AC84*AB84)/AA84)), \"\",IF(AC84=W84,0,(AC84*AB84)/AA84))","v":""},{"$f":"IF(ISERROR(IF(AC84=60,Q84+(AC84/T84),Q84+(AD84/T84))), \"\",IF(AC84=60,Q84+(AC84/T84),Q84+(AD84/T84)))","v":""}]
[null,null,"Test","Target",null,1,"dr_o","Lv_in",2,"dr_o","Lv_in",3,"dr_o","Lv_in",{"$f":"A87","v":270.5},{"$f":"F86","v":0},{"$f":"C86","v":52},{"$f":"D86","v":52},{"$f":"Q85-R85","v":0},0,{"$f":"IF(ISERROR(IF(ISERROR(IF(ISERROR(IF(ISERROR(S85*T85), 0,S85*T85)), 0,IF(ISERROR(S85*T85), 0,S85*T85))), 0,IF(ISERROR(IF(ISERROR(S85*T85), 0,S85*T85)), 0,IF(ISERROR(S85*T85), 0,S85*T85)))), 0,IF(ISERROR(IF(ISERROR(IF(ISERROR(S85*T85), 0,S85*T85)), 0,IF(ISERROR(S85*T85), 0,S85*T85))), 0,IF(ISERROR(IF(ISERROR(S85*T85), 0,S85*T85)), 0,IF(ISERROR(S85*T85), 0,S85*T85))))","v":0},0,14.2,0.4,{"$f":"IF(ISERROR(IF(ISERROR(IF(ISERROR(ABS(U85)), 0,ABS(U85))), 0,IF(ISERROR(ABS(U85)), 0,ABS(U85)))), 0,IF(ISERROR(IF(ISERROR(ABS(U85)), 0,ABS(U85))), 0,IF(ISERROR(ABS(U85)), 0,ABS(U85))))","v":0},0.15000000000000002,{"$f":"IF(ISERROR(IF(ISERROR(IF(ISERROR(ABS((Y85*X85)/W85)), 0,ABS((Y85*X85)/W85))), 0,IF(ISERROR(ABS((Y85*X85)/W85)), 0,ABS((Y85*X85)/W85)))), 0,IF(ISERROR(IF(ISERROR(ABS((Y85*X85)/W85)), 0,ABS((Y85*X85)/W85))), 0,IF(ISERROR(ABS((Y85*X85)/W85)), 0,ABS((Y85*X85)/W85))))","v":0},{"$f":"IF(ISERROR(IF(ISERROR(IF(ISERROR(IF(AA85>Z85,Z85,AA85)), 0,IF(AA85>Z85,Z85,AA85))), 0,IF(ISERROR(IF(AA85>Z85,Z85,AA85)), 0,IF(AA85>Z85,Z85,AA85)))), 0,IF(ISERROR(IF(ISERROR(IF(AA85>Z85,Z85,AA85)), 0,IF(AA85>Z85,Z85,AA85))), 0,IF(ISERROR(IF(AA85>Z85,Z85,AA85)), 0,IF(AA85>Z85,Z85,AA85))))","v":0},{"$f":"IF(ISERROR(IF(ISERROR(IF(ISERROR(IF(Y85>W85,W85,Y85)), 0,IF(Y85>W85,W85,Y85))), 0,IF(ISERROR(IF(Y85>W85,W85,Y85)), 0,IF(Y85>W85,W85,Y85)))), 0,IF(ISERROR(IF(ISERROR(IF(Y85>W85,W85,Y85)), 0,IF(Y85>W85,W85,Y85))), 0,IF(ISERROR(IF(Y85>W85,W85,Y85)), 0,IF(Y85>W85,W85,Y85))))","v":0},{"$f":"IF(ISERROR(IF(ISERROR(IF(ISERROR(IF(ISERROR((AC85*AB85)/AA85), 0,(AC85*AB85)/AA85)), 0,IF(ISERROR((AC85*AB85)/AA85), 0,(AC85*AB85)/AA85))), 0,IF(ISERROR(IF(ISERROR((AC85*AB85)/AA85), 0,(AC85*AB85)/AA85)), 0,IF(ISERROR((AC85*AB85)/AA85), 0,(AC85*AB85)/AA85)))), 0,IF(ISERROR(IF(ISERROR(IF(ISERROR((AC85*AB85)/AA85), 0,(AC85*AB85)/AA85)), 0,IF(ISERROR((AC85*AB85)/AA85), 0,(AC85*AB85)/AA85))), 0,IF(ISERROR(IF(ISERROR((AC85*AB85)/AA85), 0,(AC85*AB85)/AA85)), 0,IF(ISERROR((AC85*AB85)/AA85), 0,(AC85*AB85)/AA85))))","v":0},{"$f":"IF(ISERROR(IF(ISERROR(IF(ISERROR(IF(AC85=W85,0,(AC85*AB85)/AA85)), 0,IF(AC85=W85,0,(AC85*AB85)/AA85))), 0,IF(ISERROR(IF(AC85=W85,0,(AC85*AB85)/AA85)), 0,IF(AC85=W85,0,(AC85*AB85)/AA85)))), 0,IF(ISERROR(IF(ISERROR(IF(AC85=W85,0,(AC85*AB85)/AA85)), 0,IF(AC85=W85,0,(AC85*AB85)/AA85))), 0,IF(ISERROR(IF(AC85=W85,0,(AC85*AB85)/AA85)), 0,IF(AC85=W85,0,(AC85*AB85)/AA85))))","v":0},{"$f":"IF(ISERROR(IF(ISERROR(IF(AC85=60,Q85+(AC85/T85),Q85+(AD85/T85))), 0,IF(AC85=60,Q85+(AC85/T85),Q85+(AD85/T85)))), 0,IF(ISERROR(IF(AC85=60,Q85+(AC85/T85),Q85+(AD85/T85))), 0,IF(AC85=60,Q85+(AC85/T85),Q85+(AD85/T85))))","v":0}]
["G#",24,52,52,{"$f":"IF(ISERROR(IF(ISERROR(IF(ISERROR(Y85), 0,Y85)), 0,IF(ISERROR(Y85), 0,Y85))), 0,IF(ISERROR(IF(ISERROR(Y85), 0,Y85)), 0,IF(ISERROR(Y85), 0,Y85)))","v":0},null,{"$f":"IF(ISERROR(IF(ISERROR(IF(ISERROR(AB85), 0,AB85)), 0,IF(ISERROR(AB85), 0,AB85))), 0,IF(ISERROR(IF(ISERROR(AB85), 0,AB85)), 0,IF(ISERROR(AB85), 0,AB85)))","v":0},{"$f":"IF(ISERROR(IF(ISERROR(IF(ISERROR($E$10-G86), 0,$E$10-G86)), 0,IF(ISERROR($E$10-G86), 0,$E$10-G86))), 0,IF(ISERROR(IF(ISERROR($E$10-G86), 0,$E$10-G86)), 0,IF(ISERROR($E$10-G86), 0,$E$10-G86)))","v":0.4},null,{"$f":"IF(ISERROR(IF(ISERROR(AB86), 0,AB86)), 0,IF(ISERROR(AB86), 0,AB86))","v":0},{"$f":"IF(ISERROR(IF(ISERROR(ROUND($E$10-J86,3)), 0,ROUND($E$10-J86,3))), 0,IF(ISERROR(ROUND($E$10-J86,3)), 0,ROUND($E$10-J86,3)))","v":0.4},null,{"$f":"IF(ISERROR(IF(ISERROR(IF(ISERROR(IF(ISERROR(AB87), 0,AB87)), 0,IF(ISERROR(AB87), 0,AB87))), 0,IF(ISERROR(IF(ISERROR(AB87), 0,AB87)), 0,IF(ISERROR(AB87), 0,AB87)))), 0,IF(ISERROR(IF(ISERROR(IF(ISERROR(AB87), 0,AB87)), 0,IF(ISERROR(AB87), 0,AB87))), 0,IF(ISERROR(IF(ISERROR(AB87), 0,AB87)), 0,IF(ISERROR(AB87), 0,AB87))))","v":0},{"$f":"IF(ISERROR(IF(ISERROR(IF(ISERROR(IF(ISERROR($E$10-M86), 0,$E$10-M86)), 0,IF(ISERROR($E$10-M86), 0,$E$10-M86))), 0,IF(ISERROR(IF(ISERROR($E$10-M86), 0,$E$10-M86)), 0,IF(ISERROR($E$10-M86), 0,$E$10-M86)))), 0,IF(ISERROR(IF(ISERROR(IF(ISERROR($E$10-M86), 0,$E$10-M86)), 0,IF(ISERROR($E$10-M86), 0,$E$10-M86))), 0,IF(ISERROR(IF(ISERROR($E$10-M86), 0,$E$10-M86)), 0,IF(ISERROR($E$10-M86), 0,$E$10-M86))))","v":0.4},{"$f":"A87","v":270.5},{"$f":"I86","v":0},{"$f":"IF(ISERROR(IF(ISERROR(IF(AC85=W85,Q85+(AC85/T85),Q85+(AD85/T85))), 0,IF(AC85=W85,Q85+(AC85/T85),Q85+(AD85/T85)))), 0,IF(ISERROR(IF(AC85=W85,Q85+(AC85/T85),Q85+(AD85/T85))), 0,IF(AC85=W85,Q85+(AC85/T85),Q85+(AD85/T85))))","v":0},{"$f":"D86","v":52},{"$f":"IF(ISERROR(IF(ISERROR(Q86-R86), 0,Q86-R86)), 0,IF(ISERROR(Q86-R86), 0,Q86-R86))","v":-52},0,{"$f":"IF(ISERROR(IF(ISERROR(S86*T86), 0,S86*T86)), 0,IF(ISERROR(S86*T86), 0,S86*T86))","v":0},0,14.2,0.4,{"$f":"IF(ISERROR(IF(ISERROR(ABS(U86)), 0,ABS(U86))), 0,IF(ISERROR(ABS(U86)), 0,ABS(U86)))","v":0},0.15000000000000002,{"$f":"IF(ISERROR(IF(ISERROR(ABS((Y86*X86)/W86)), 0,ABS((Y86*X86)/W86))), 0,IF(ISERROR(ABS((Y86*X86)/W86)), 0,ABS((Y86*X86)/W86)))","v":0},{"$f":"IF(ISERROR(IF(ISERROR(IF(AA86>Z86,Z86,AA86)), 0,IF(AA86>Z86,Z86,AA86))), 0,IF(ISERROR(IF(AA86>Z86,Z86,AA86)), 0,IF(AA86>Z86,Z86,AA86)))","v":0},{"$f":"IF(ISERROR(IF(ISERROR(IF(Y86>W86,W86,Y86)), 0,IF(Y86>W86,W86,Y86))), 0,IF(ISERROR(IF(Y86>W86,W86,Y86)), 0,IF(Y86>W86,W86,Y86)))","v":0},{"$f":"IF(ISERROR((AC86*AB86)/AA86), 0,(AC86*AB86)/AA86)","v":0},{"$f":"IF(ISERROR(IF(ISERROR(IF(AC86=W86,0,(AC86*AB86)/AA86)), 0,IF(AC86=W86,0,(AC86*AB86)/AA86))), 0,IF(ISERROR(IF(AC86=W86,0,(AC86*AB86)/AA86)), 0,IF(AC86=W86,0,(AC86*AB86)/AA86)))","v":0},{"$f":"IF(ISERROR(IF(AC86=60,Q86+(AC86/T86),Q86+(AD86/T86))), 0,IF(AC86=60,Q86+(AC86/T86),Q86+(AD86/T86)))","v":0}]
[{"$f":"R309","v":270.5},{"$f":"IF(AND(C86<D86, E86>$E$7),\"Ignore Drill Out Lead 1; rather pop out Lead 1 and LEAVE lead # 2 to \"&K86&\" inches.\",\"\")","v":""},null,null,null,null,null,null,null,null,null,null,null,{"$f":"IF(ISERROR(IF(ISERROR((G86+J86+M86)/$E$10*$E$7), 0,(G86+J86+M86)/$E$10*$E$7)), 0,IF(ISERROR((G86+J86+M86)/$E$10*$E$7), 0,(G86+J86+M86)/$E$10*$E$7))","v":0},{"$f":"A87","v":270.5},{"$f":"L86","v":0},{"$f":"IF(ISERROR(IF(AC86=W86,Q86+(AC86/T86),Q86+(AD86/T86))), 0,IF(AC86=W86,Q86+(AC86/T86),Q86+(AD86/T86)))","v":0},{"$f":"D86","v":52},{"$f":"IF(ISERROR(Q87-R87), 0,Q87-R87)","v":-52},0,{"$f":"IF(ISERROR(IF(ISERROR(IF(ISERROR(IF(ISERROR(S87*T87), 0,S87*T87)), 0,IF(ISERROR(S87*T87), 0,S87*T87))), 0,IF(ISERROR(IF(ISERROR(S87*T87), 0,S87*T87)), 0,IF(ISERROR(S87*T87), 0,S87*T87)))), 0,IF(ISERROR(IF(ISERROR(IF(ISERROR(S87*T87), 0,S87*T87)), 0,IF(ISERROR(S87*T87), 0,S87*T87))), 0,IF(ISERROR(IF(ISERROR(S87*T87), 0,S87*T87)), 0,IF(ISERROR(S87*T87), 0,S87*T87))))","v":0},0,14.2,0.4,{"$f":"IF(ISERROR(IF(ISERROR(IF(ISERROR(ABS(U87)), 0,ABS(U87))), 0,IF(ISERROR(ABS(U87)), 0,ABS(U87)))), 0,IF(ISERROR(IF(ISERROR(ABS(U87)), 0,ABS(U87))), 0,IF(ISERROR(ABS(U87)), 0,ABS(U87))))","v":0},0.15000000000000002,{"$f":"IF(ISERROR(IF(ISERROR(IF(ISERROR(ABS((Y87*X87)/W87)), 0,ABS((Y87*X87)/W87))), 0,IF(ISERROR(ABS((Y87*X87)/W87)), 0,ABS((Y87*X87)/W87)))), 0,IF(ISERROR(IF(ISERROR(ABS((Y87*X87)/W87)), 0,ABS((Y87*X87)/W87))), 0,IF(ISERROR(ABS((Y87*X87)/W87)), 0,ABS((Y87*X87)/W87))))","v":0},{"$f":"IF(ISERROR(IF(ISERROR(IF(ISERROR(IF(AA87>Z87,Z87,AA87)), 0,IF(AA87>Z87,Z87,AA87))), 0,IF(ISERROR(IF(AA87>Z87,Z87,AA87)), 0,IF(AA87>Z87,Z87,AA87)))), 0,IF(ISERROR(IF(ISERROR(IF(AA87>Z87,Z87,AA87)), 0,IF(AA87>Z87,Z87,AA87))), 0,IF(ISERROR(IF(AA87>Z87,Z87,AA87)), 0,IF(AA87>Z87,Z87,AA87))))","v":0},{"$f":"IF(ISERROR(IF(ISERROR(IF(ISERROR(IF(Y87>W87,W87,Y87)), 0,IF(Y87>W87,W87,Y87))), 0,IF(ISERROR(IF(Y87>W87,W87,Y87)), 0,IF(Y87>W87,W87,Y87)))), 0,IF(ISERROR(IF(ISERROR(IF(Y87>W87,W87,Y87)), 0,IF(Y87>W87,W87,Y87))), 0,IF(ISERROR(IF(Y87>W87,W87,Y87)), 0,IF(Y87>W87,W87,Y87))))","v":0},{"$f":"IF(ISERROR((AC87*AB87)/AA87), \"\",(AC87*AB87)/AA87)","v":""},{"$f":"IF(ISERROR(IF(AC87=W87,0,(AC87*AB87)/AA87)), \"\",IF(AC87=W87,0,(AC87*AB87)/AA87))","v":""},{"$f":"IF(ISERROR(IF(AC87=60,Q87+(AC87/T87),Q87+(AD87/T87))), \"\",IF(AC87=60,Q87+(AC87/T87),Q87+(AD87/T87)))","v":""}]
[]
[null,null,"Gram Test","Desired DW","Total Lead to remove","Location mm","Drill Depth Inches","Leave this much lead","Location mm","Depth","Leave this much lead","Location mm","Depth","Leave this much lead",null,null,"delta DW","ddw","dif_dw","key_ro","reqd_ld","key_div","slugs","lead_wid","reqd_ld","max_drill","tot_drill","act_drill","lead_out","fac","slug_rmn","delta_DW"]
[null,"Key #","DW","DDW","Ld. Out","Lead 1","Drill Out ","LEAVE","2nd","Drill  ","LEAVE","3rd","Drill  ","LEAVE",{"$f":"A92","v":295.38461538461502},{"$f":"F91","v":0},{"$f":"C91","v":56},{"$f":"D91","v":51},{"$f":"Q90-R90","v":5},{"$f":"IF(ISERROR(IF(ISERROR(IF(ISERROR(IF(ISERROR((O90/P90)), 0,(O90/P90))), 0,IF(ISERROR((O90/P90)), 0,(O90/P90)))), 0,IF(ISERROR(IF(ISERROR((O90/P90)), 0,(O90/P90))), 0,IF(ISERROR((O90/P90)), 0,(O90/P90))))), 0,IF(ISERROR(IF(ISERROR(IF(ISERROR((O90/P90)), 0,(O90/P90))), 0,IF(ISERROR((O90/P90)), 0,(O90/P90)))), 0,IF(ISERROR(IF(ISERROR((O90/P90)), 0,(O90/P90))), 0,IF(ISERROR((O90/P90)), 0,(O90/P90)))))","v":0},{"$f":"IF(ISERROR(IF(ISERROR(IF(ISERROR(IF(ISERROR(S90*T90), 0,S90*T90)), 0,IF(ISERROR(S90*T90), 0,S90*T90))), 0,IF(ISERROR(IF(ISERROR(S90*T90), 0,S90*T90)), 0,IF(ISERROR(S90*T90), 0,S90*T90)))), 0,IF(ISERROR(IF(ISERROR(IF(ISERROR(S90*T90), 0,S90*T90)), 0,IF(ISERROR(S90*T90), 0,S90*T90))), 0,IF(ISERROR(IF(ISERROR(S90*T90), 0,S90*T90)), 0,IF(ISERROR(S90*T90), 0,S90*T90))))","v":0},{"$f":"IF(ISERROR(IF(ISERROR(IF(ISERROR(IF(ISERROR(O90/T90), 0,O90/T90)), 0,IF(ISERROR(O90/T90), 0,O90/T90))), 0,IF(ISERROR(IF(ISERROR(O90/T90), 0,O90/T90)), 0,IF(ISERROR(O90/T90), 0,O90/T90)))), 0,IF(ISERROR(IF(ISERROR(IF(ISERROR(O90/T90), 0,O90/T90)), 0,IF(ISERROR(O90/T90), 0,O90/T90))), 0,IF(ISERROR(IF(ISERROR(O90/T90), 0,O90/T90)), 0,IF(ISERROR(O90/T90), 0,O90/T90))))","v":0},{"$f":"$E$7","v":14.2},{"$f":"$E$10","v":0.4},{"$f":"IF(ISERROR(IF(ISERROR(IF(ISERROR(ABS(U90)), 0,ABS(U90))), 0,IF(ISERROR(ABS(U90)), 0,ABS(U90)))), 0,IF(ISERROR(IF(ISERROR(ABS(U90)), 0,ABS(U90))), 0,IF(ISERROR(ABS(U90)), 0,ABS(U90))))","v":0},{"$f":"$X$14-$G$11","v":0.15000000000000002},{"$f":"IF(ISERROR(IF(ISERROR(IF(ISERROR(ABS((Y90*X90)/W90)), 0,ABS((Y90*X90)/W90))), 0,IF(ISERROR(ABS((Y90*X90)/W90)), 0,ABS((Y90*X90)/W90)))), 0,IF(ISERROR(IF(ISERROR(ABS((Y90*X90)/W90)), 0,ABS((Y90*X90)/W90))), 0,IF(ISERROR(ABS((Y90*X90)/W90)), 0,ABS((Y90*X90)/W90))))","v":0},{"$f":"IF(ISERROR(IF(ISERROR(IF(ISERROR(IF(AA90>Z90,Z90,AA90)), 0,IF(AA90>Z90,Z90,AA90))), 0,IF(ISERROR(IF(AA90>Z90,Z90,AA90)), 0,IF(AA90>Z90,Z90,AA90)))), 0,IF(ISERROR(IF(ISERROR(IF(AA90>Z90,Z90,AA90)), 0,IF(AA90>Z90,Z90,AA90))), 0,IF(ISERROR(IF(AA90>Z90,Z90,AA90)), 0,IF(AA90>Z90,Z90,AA90))))","v":0},{"$f":"IF(ISERROR(IF(ISERROR(IF(ISERROR(IF(Y90>W90,W90,Y90)), 0,IF(Y90>W90,W90,Y90))), 0,IF(ISERROR(IF(Y90>W90,W90,Y90)), 0,IF(Y90>W90,W90,Y90)))), 0,IF(ISERROR(IF(ISERROR(IF(Y90>W90,W90,Y90)), 0,IF(Y90>W90,W90,Y90))), 0,IF(ISERROR(IF(Y90>W90,W90,Y90)), 0,IF(Y90>W90,W90,Y90))))","v":0},{"$f":"IF(ISERROR(IF(ISERROR(IF(ISERROR(IF(ISERROR((AC90*AB90)/AA90), 0,(AC90*AB90)/AA90)), 0,IF(ISERROR((AC90*AB90)/AA90), 0,(AC90*AB90)/AA90))), 0,IF(ISERROR(IF(ISERROR((AC90*AB90)/AA90), 0,(AC90*AB90)/AA90)), 0,IF(ISERROR((AC90*AB90)/AA90), 0,(AC90*AB90)/AA90)))), 0,IF(ISERROR(IF(ISERROR(IF(ISERROR((AC90*AB90)/AA90), 0,(AC90*AB90)/AA90)), 0,IF(ISERROR((AC90*AB90)/AA90), 0,(AC90*AB90)/AA90))), 0,IF(ISERROR(IF(ISERROR((AC90*AB90)/AA90), 0,(AC90*AB90)/AA90)), 0,IF(ISERROR((AC90*AB90)/AA90), 0,(AC90*AB90)/AA90))))","v":0},{"$f":"IF(ISERROR(IF(ISERROR(IF(ISERROR(IF(AC90=W90,0,(AC90*AB90)/AA90)), 0,IF(AC90=W90,0,(AC90*AB90)/AA90))), 0,IF(ISERROR(IF(AC90=W90,0,(AC90*AB90)/AA90)), 0,IF(AC90=W90,0,(AC90*AB90)/AA90)))), 0,IF(ISERROR(IF(ISERROR(IF(AC90=W90,0,(AC90*AB90)/AA90)), 0,IF(AC90=W90,0,(AC90*AB90)/AA90))), 0,IF(ISERROR(IF(AC90=W90,0,(AC90*AB90)/AA90)), 0,IF(AC90=W90,0,(AC90*AB90)/AA90))))","v":0},{"$f":"IF(ISERROR(IF(ISERROR(IF(AC90=60,Q90+(AC90/T90),Q90+(AD90/T90))), 0,IF(AC90=60,Q90+(AC90/T90),Q90+(AD90/T90)))), 0,IF(ISERROR(IF(AC90=60,Q90+(AC90/T90),Q90+(AD90/T90))), 0,IF(AC90=60,Q90+(AC90/T90),Q90+(AD90/T90))))","v":0}]
["A",25,56,51,{"$f":"IF(ISERROR(IF(ISERROR(IF(ISERROR(Y90), 0,Y90)), 0,IF(ISERROR(Y90), 0,Y90))), 0,IF(ISERROR(IF(ISERROR(Y90), 0,Y90)), 0,IF(ISERROR(Y90), 0,Y90)))","v":0},null,{"$f":"IF(ISERROR(IF(ISERROR(IF(ISERROR(AB90), 0,AB90)), 0,IF(ISERROR(AB90), 0,AB90))), 0,IF(ISERROR(IF(ISERROR(AB90), 0,AB90)), 0,IF(ISERROR(AB90), 0,AB90)))","v":0},{"$f":"IF(ISERROR(IF(ISERROR(IF(ISERROR($E$10-G91), 0,$E$10-G91)), 0,IF(ISERROR($E$10-G91), 0,$E$10-G91))), 0,IF(ISERROR(IF(ISERROR($E$10-G91), 0,$E$10-G91)), 0,IF(ISERROR($E$10-G91), 0,$E$10-G91)))","v":0.4},null,{"$f":"IF(ISERROR(IF(ISERROR(AB91), 0,AB91)), 0,IF(ISERROR(AB91), 0,AB91))","v":0},{"$f":"IF(ISERROR(IF(ISERROR(ROUND($E$10-J91,3)), 0,ROUND($E$10-J91,3))), 0,IF(ISERROR(ROUND($E$10-J91,3)), 0,ROUND($E$10-J91,3)))","v":0.4},null,{"$f":"IF(ISERROR(AB92), \"\",AB92)","v":0},{"$f":"IF(ISERROR($E$10-M91), \"\",$E$10-M91)","v":0.4},{"$f":"A92","v":295.38461538461502},{"$f":"I91","v":0},{"$f":"IF(ISERROR(IF(ISERROR(IF(AC90=W90,Q90+(AC90/T90),Q90+(AD90/T90))), 0,IF(AC90=W90,Q90+(AC90/T90),Q90+(AD90/T90)))), 0,IF(ISERROR(IF(AC90=W90,Q90+(AC90/T90),Q90+(AD90/T90))), 0,IF(AC90=W90,Q90+(AC90/T90),Q90+(AD90/T90))))","v":0},{"$f":"D91","v":51},{"$f":"IF(ISERROR(IF(ISERROR(Q91-R91), 0,Q91-R91)), 0,IF(ISERROR(Q91-R91), 0,Q91-R91))","v":-51},{"$f":"IF(ISERROR(IF(ISERROR(IF(ISERROR(IF(ISERROR((O91/P91)), 0,(O91/P91))), 0,IF(ISERROR((O91/P91)), 0,(O91/P91)))), 0,IF(ISERROR(IF(ISERROR((O91/P91)), 0,(O91/P91))), 0,IF(ISERROR((O91/P91)), 0,(O91/P91))))), 0,IF(ISERROR(IF(ISERROR(IF(ISERROR((O91/P91)), 0,(O91/P91))), 0,IF(ISERROR((O91/P91)), 0,(O91/P91)))), 0,IF(ISERROR(IF(ISERROR((O91/P91)), 0,(O91/P91))), 0,IF(ISERROR((O91/P91)), 0,(O91/P91)))))","v":0},{"$f":"IF(ISERROR(IF(ISERROR(S91*T91), 0,S91*T91)), 0,IF(ISERROR(S91*T91), 0,S91*T91))","v":0},{"$f":"IF(ISERROR(IF(ISERROR(IF(ISERROR(IF(ISERROR(O91/T91), 0,O91/T91)), 0,IF(ISERROR(O91/T91), 0,O91/T91))), 0,IF(ISERROR(IF(ISERROR(O91/T91), 0,O91/T91)), 0,IF(ISERROR(O91/T91), 0,O91/T91)))), 0,IF(ISERROR(IF(ISERROR(IF(ISERROR(O91/T91), 0,O91/T91)), 0,IF(ISERROR(O91/T91), 0,O91/T91))), 0,IF(ISERROR(IF(ISERROR(O91/T91), 0,O91/T91)), 0,IF(ISERROR(O91/T91), 0,O91/T91))))","v":0},14.2,0.4,{"$f":"IF(ISERROR(IF(ISERROR(ABS(U91)), 0,ABS(U91))), 0,IF(ISERROR(ABS(U91)), 0,ABS(U91)))","v":0},0.15000000000000002,{"$f":"IF(ISERROR(IF(ISERROR(ABS((Y91*X91)/W91)), 0,ABS((Y91*X91)/W91))), 0,IF(ISERROR(ABS((Y91*X91)/W91)), 0,ABS((Y91*X91)/W91)))","v":0},{"$f":"IF(ISERROR(IF(ISERROR(IF(AA91>Z91,Z91,AA91)), 0,IF(AA91>Z91,Z91,AA91))), 0,IF(ISERROR(IF(AA91>Z91,Z91,AA91)), 0,IF(AA91>Z91,Z91,AA91)))","v":0},{"$f":"IF(ISERROR(IF(ISERROR(IF(Y91>W91,W91,Y91)), 0,IF(Y91>W91,W91,Y91))), 0,IF(ISERROR(IF(Y91>W91,W91,Y91)), 0,IF(Y91>W91,W91,Y91)))","v":0},{"$f":"IF(ISERROR((AC91*AB91)/AA91), \"\",(AC91*AB91)/AA91)","v":""},{"$f":"IF(ISERROR(IF(AC91=W91,0,(AC91*AB91)/AA91)), \"\",IF(AC91=W91,0,(AC91*AB91)/AA91))","v":""},{"$f":"IF(ISERROR(IF(AC91=60,Q91+(AC91/T91),Q91+(AD91/T91))), \"\",IF(AC91=60,Q91+(AC91/T91),Q91+(AD91/T91)))","v":""}]
[{"$f":"F314","v":295.38461538461502},{"$f":"IF(AND(C91<D91, E91>$E$7),\"Ignore Drill Out Lead 1; rather pop out Lead 1 and LEAVE lead # 2 to \"&K91&\" inches.\",\"\")","v":""},null,null,null,null,null,null,null,null,null,null,null,{"$f":"IF(ISERROR(IF(ISERROR((G91+J91+M91)/$E$10*$E$7), 0,(G91+J91+M91)/$E$10*$E$7)), 0,IF(ISERROR((G91+J91+M91)/$E$10*$E$7), 0,(G91+J91+M91)/$E$10*$E$7))","v":0},{"$f":"A92","v":295.38461538461502},{"$f":"L91","v":0},{"$f":"IF(ISERROR(IF(AC91=W91,Q91+(AC91/T91),Q91+(AD91/T91))), \"\",IF(AC91=W91,Q91+(AC91/T91),Q91+(AD91/T91)))","v":""},{"$f":"D91","v":51},{"$f":"IF(ISERROR(Q92-R92), 0,Q92-R92)","v":0},{"$f":"IF(ISERROR((O92/P92)), 0,(O92/P92))","v":0},{"$f":"IF(ISERROR(S92*T92), \"\",S92*T92)","v":0},{"$f":"IF(ISERROR(IF(ISERROR(O92/T92), 0,O92/T92)), 0,IF(ISERROR(O92/T92), 0,O92/T92))","v":0},14.2,0.4,{"$f":"IF(ISERROR(ABS(U92)), \"\",ABS(U92))","v":0},0.15000000000000002,{"$f":"IF(ISERROR(ABS((Y92*X92)/W92)), \"\",ABS((Y92*X92)/W92))","v":0},{"$f":"IF(ISERROR(IF(AA92>Z92,Z92,AA92)), \"\",IF(AA92>Z92,Z92,AA92))","v":0},{"$f":"IF(ISERROR(IF(Y92>W92,W92,Y92)), \"\",IF(Y92>W92,W92,Y92))","v":0},{"$f":"IF(ISERROR((AC92*AB92)/AA92), \"\",(AC92*AB92)/AA92)","v":""},{"$f":"IF(ISERROR(IF(AC92=W92,0,(AC92*AB92)/AA92)), \"\",IF(AC92=W92,0,(AC92*AB92)/AA92))","v":""},{"$f":"IF(ISERROR(IF(AC92=60,Q92+(AC92/T92),Q92+(AD92/T92))), \"\",IF(AC92=60,Q92+(AC92/T92),Q92+(AD92/T92)))","v":""}]
[null,null,"Test","Target",null,1,"dr_o","Lv_in",2,"dr_o","Lv_in",3,"dr_o","Lv_in",{"$f":"A95","v":269.5},{"$f":"F94","v":0},{"$f":"C94","v":56},{"$f":"D94","v":51},{"$f":"Q93-R93","v":5},{"$f":"IF(ISERROR(IF(ISERROR(IF(ISERROR(IF(ISERROR((O93/P93)), 0,(O93/P93))), 0,IF(ISERROR((O93/P93)), 0,(O93/P93)))), 0,IF(ISERROR(IF(ISERROR((O93/P93)), 0,(O93/P93))), 0,IF(ISERROR((O93/P93)), 0,(O93/P93))))), 0,IF(ISERROR(IF(ISERROR(IF(ISERROR((O93/P93)), 0,(O93/P93))), 0,IF(ISERROR((O93/P93)), 0,(O93/P93)))), 0,IF(ISERROR(IF(ISERROR((O93/P93)), 0,(O93/P93))), 0,IF(ISERROR((O93/P93)), 0,(O93/P93)))))","v":0},{"$f":"IF(ISERROR(IF(ISERROR(IF(ISERROR(IF(ISERROR(S93*T93), 0,S93*T93)), 0,IF(ISERROR(S93*T93), 0,S93*T93))), 0,IF(ISERROR(IF(ISERROR(S93*T93), 0,S93*T93)), 0,IF(ISERROR(S93*T93), 0,S93*T93)))), 0,IF(ISERROR(IF(ISERROR(IF(ISERROR(S93*T93), 0,S93*T93)), 0,IF(ISERROR(S93*T93), 0,S93*T93))), 0,IF(ISERROR(IF(ISERROR(S93*T93), 0,S93*T93)), 0,IF(ISERROR(S93*T93), 0,S93*T93))))","v":0},{"$f":"IF(ISERROR(IF(ISERROR(IF(ISERROR(IF(ISERROR(O93/T93), 0,O93/T93)), 0,IF(ISERROR(O93/T93), 0,O93/T93))), 0,IF(ISERROR(IF(ISERROR(O93/T93), 0,O93/T93)), 0,IF(ISERROR(O93/T93), 0,O93/T93)))), 0,IF(ISERROR(IF(ISERROR(IF(ISERROR(O93/T93), 0,O93/T93)), 0,IF(ISERROR(O93/T93), 0,O93/T93))), 0,IF(ISERROR(IF(ISERROR(O93/T93), 0,O93/T93)), 0,IF(ISERROR(O93/T93), 0,O93/T93))))","v":0},14.2,0.4,{"$f":"IF(ISERROR(IF(ISERROR(IF(ISERROR(ABS(U93)), 0,ABS(U93))), 0,IF(ISERROR(ABS(U93)), 0,ABS(U93)))), 0,IF(ISERROR(IF(ISERROR(ABS(U93)), 0,ABS(U93))), 0,IF(ISERROR(ABS(U93)), 0,ABS(U93))))","v":0},0.15000000000000002,{"$f":"IF(ISERROR(IF(ISERROR(IF(ISERROR(ABS((Y93*X93)/W93)), 0,ABS((Y93*X93)/W93))), 0,IF(ISERROR(ABS((Y93*X93)/W93)), 0,ABS((Y93*X93)/W93)))), 0,IF(ISERROR(IF(ISERROR(ABS((Y93*X93)/W93)), 0,ABS((Y93*X93)/W93))), 0,IF(ISERROR(ABS((Y93*X93)/W93)), 0,ABS((Y93*X93)/W93))))","v":0},{"$f":"IF(ISERROR(IF(ISERROR(IF(ISERROR(IF(AA93>Z93,Z93,AA93)), 0,IF(AA93>Z93,Z93,AA93))), 0,IF(ISERROR(IF(AA93>Z93,Z93,AA93)), 0,IF(AA93>Z93,Z93,AA93)))), 0,IF(ISERROR(IF(ISERROR(IF(AA93>Z93,Z93,AA93)), 0,IF(AA93>Z93,Z93,AA93))), 0,IF(ISERROR(IF(AA93>Z93,Z93,AA93)), 0,IF(AA93>Z93,Z93,AA93))))","v":0},{"$f":"IF(ISERROR(IF(ISERROR(IF(ISERROR(IF(Y93>W93,W93,Y93)), 0,IF(Y93>W93,W93,Y93))), 0,IF(ISERROR(IF(Y93>W93,W93,Y93)), 0,IF(Y93>W93,W93,Y93)))), 0,IF(ISERROR(IF(ISERROR(IF(Y93>W93,W93,Y93)), 0,IF(Y93>W93,W93,Y93))), 0,IF(ISERROR(IF(Y93>W93,W93,Y93)), 0,IF(Y93>W93,W93,Y93))))","v":0},{"$f":"IF(ISERROR(IF(ISERROR(IF(ISERROR(IF(ISERROR((AC93*AB93)/AA93), 0,(AC93*AB93)/AA93)), 0,IF(ISERROR((AC93*AB93)/AA93), 0,(AC93*AB93)/AA93))), 0,IF(ISERROR(IF(ISERROR((AC93*AB93)/AA93), 0,(AC93*AB93)/AA93)), 0,IF(ISERROR((AC93*AB93)/AA93), 0,(AC93*AB93)/AA93)))), 0,IF(ISERROR(IF(ISERROR(IF(ISERROR((AC93*AB93)/AA93), 0,(AC93*AB93)/AA93)), 0,IF(ISERROR((AC93*AB93)/AA93), 0,(AC93*AB93)/AA93))), 0,IF(ISERROR(IF(ISERROR((AC93*AB93)/AA93), 0,(AC93*AB93)/AA93)), 0,IF(ISERROR((AC93*AB93)/AA93), 0,(AC93*AB93)/AA93))))","v":0},{"$f":"IF(ISERROR(IF(ISERROR(IF(ISERROR(IF(AC93=W93,0,(AC93*AB93)/AA93)), 0,IF(AC93=W93,0,(AC93*AB93)/AA93))), 0,IF(ISERROR(IF(AC93=W93,0,(AC93*AB93)/AA93)), 0,IF(AC93=W93,0,(AC93*AB93)/AA93)))), 0,IF(ISERROR(IF(ISERROR(IF(AC93=W93,0,(AC93*AB93)/AA93)), 0,IF(AC93=W93,0,(AC93*AB93)/AA93))), 0,IF(ISERROR(IF(AC93=W93,0,(AC93*AB93)/AA93)), 0,IF(AC93=W93,0,(AC93*AB93)/AA93))))","v":0},{"$f":"IF(ISERROR(IF(ISERROR(IF(AC93=60,Q93+(AC93/T93),Q93+(AD93/T93))), 0,IF(AC93=60,Q93+(AC93/T93),Q93+(AD93/T93)))), 0,IF(ISERROR(IF(AC93=60,Q93+(AC93/T93),Q93+(AD93/T93))), 0,IF(AC93=60,Q93+(AC93/T93),Q93+(AD93/T93))))","v":0}]
["A#",26,56,51,{"$f":"IF(ISERROR(IF(ISERROR(IF(ISERROR(Y93), 0,Y93)), 0,IF(ISERROR(Y93), 0,Y93))), 0,IF(ISERROR(IF(ISERROR(Y93), 0,Y93)), 0,IF(ISERROR(Y93), 0,Y93)))","v":0},null,{"$f":"IF(ISERROR(IF(ISERROR(IF(ISERROR(AB93), 0,AB93)), 0,IF(ISERROR(AB93), 0,AB93))), 0,IF(ISERROR(IF(ISERROR(AB93), 0,AB93)), 0,IF(ISERROR(AB93), 0,AB93)))","v":0},{"$f":"IF(ISERROR(IF(ISERROR(IF(ISERROR($E$10-G94), 0,$E$10-G94)), 0,IF(ISERROR($E$10-G94), 0,$E$10-G94))), 0,IF(ISERROR(IF(ISERROR($E$10-G94), 0,$E$10-G94)), 0,IF(ISERROR($E$10-G94), 0,$E$10-G94)))","v":0.4},null,{"$f":"IF(ISERROR(IF(ISERROR(AB94), 0,AB94)), 0,IF(ISERROR(AB94), 0,AB94))","v":0},{"$f":"IF(ISERROR(IF(ISERROR(ROUND($E$10-J94,3)), 0,ROUND($E$10-J94,3))), 0,IF(ISERROR(ROUND($E$10-J94,3)), 0,ROUND($E$10-J94,3)))","v":0.4},null,{"$f":"IF(ISERROR(AB95), \"\",AB95)","v":0},{"$f":"IF(ISERROR($E$10-M94), \"\",$E$10-M94)","v":0.4},{"$f":"A95","v":269.5},{"$f":"I94","v":0},{"$f":"IF(ISERROR(IF(ISERROR(IF(AC93=W93,Q93+(AC93/T93),Q93+(AD93/T93))), 0,IF(AC93=W93,Q93+(AC93/T93),Q93+(AD93/T93)))), 0,IF(ISERROR(IF(AC93=W93,Q93+(AC93/T93),Q93+(AD93/T93))), 0,IF(AC93=W93,Q93+(AC93/T93),Q93+(AD93/T93))))","v":0},{"$f":"D94","v":51},{"$f":"IF(ISERROR(IF(ISERROR(Q94-R94), 0,Q94-R94)), 0,IF(ISERROR(Q94-R94), 0,Q94-R94))","v":-51},{"$f":"IF(ISERROR(IF(ISERROR(IF(ISERROR(IF(ISERROR((O94/P94)), 0,(O94/P94))), 0,IF(ISERROR((O94/P94)), 0,(O94/P94)))), 0,IF(ISERROR(IF(ISERROR((O94/P94)), 0,(O94/P94))), 0,IF(ISERROR((O94/P94)), 0,(O94/P94))))), 0,IF(ISERROR(IF(ISERROR(IF(ISERROR((O94/P94)), 0,(O94/P94))), 0,IF(ISERROR((O94/P94)), 0,(O94/P94)))), 0,IF(ISERROR(IF(ISERROR((O94/P94)), 0,(O94/P94))), 0,IF(ISERROR((O94/P94)), 0,(O94/P94)))))","v":0},{"$f":"IF(ISERROR(IF(ISERROR(S94*T94), 0,S94*T94)), 0,IF(ISERROR(S94*T94), 0,S94*T94))","v":0},0,14.2,0.4,{"$f":"IF(ISERROR(IF(ISERROR(ABS(U94)), 0,ABS(U94))), 0,IF(ISERROR(ABS(U94)), 0,ABS(U94)))","v":0},0.15000000000000002,{"$f":"IF(ISERROR(IF(ISERROR(ABS((Y94*X94)/W94)), 0,ABS((Y94*X94)/W94))), 0,IF(ISERROR(ABS((Y94*X94)/W94)), 0,ABS((Y94*X94)/W94)))","v":0},{"$f":"IF(ISERROR(IF(ISERROR(IF(AA94>Z94,Z94,AA94)), 0,IF(AA94>Z94,Z94,AA94))), 0,IF(ISERROR(IF(AA94>Z94,Z94,AA94)), 0,IF(AA94>Z94,Z94,AA94)))","v":0},{"$f":"IF(ISERROR(IF(ISERROR(IF(Y94>W94,W94,Y94)), 0,IF(Y94>W94,W94,Y94))), 0,IF(ISERROR(IF(Y94>W94,W94,Y94)), 0,IF(Y94>W94,W94,Y94)))","v":0},{"$f":"IF(ISERROR((AC94*AB94)/AA94), \"\",(AC94*AB94)/AA94)","v":""},{"$f":"IF(ISERROR(IF(AC94=W94,0,(AC94*AB94)/AA94)), \"\",IF(AC94=W94,0,(AC94*AB94)/AA94))","v":""},{"$f":"IF(ISERROR(IF(AC94=60,Q94+(AC94/T94),Q94+(AD94/T94))), \"\",IF(AC94=60,Q94+(AC94/T94),Q94+(AD94/T94)))","v":""}]
[{"$f":"R310","v":269.5},{"$f":"IF(AND(C94<D94, E94>$E$7),\"Ignore Drill Out Lead 1; rather pop out Lead 1 and LEAVE lead # 2 to \"&K94&\" inches.\",\"\")","v":""},null,null,null,null,null,null,null,null,null,null,null,{"$f":"IF(ISERROR(IF(ISERROR((G94+J94+M94)/$E$10*$E$7), 0,(G94+J94+M94)/$E$10*$E$7)), 0,IF(ISERROR((G94+J94+M94)/$E$10*$E$7), 0,(G94+J94+M94)/$E$10*$E$7))","v":0},{"$f":"A95","v":269.5},{"$f":"L94","v":0},{"$f":"IF(ISERROR(IF(AC94=W94,Q94+(AC94/T94),Q94+(AD94/T94))), \"\",IF(AC94=W94,Q94+(AC94/T94),Q94+(AD94/T94)))","v":""},{"$f":"D94","v":51},{"$f":"IF(ISERROR(Q95-R95), 0,Q95-R95)","v":0},{"$f":"IF(ISERROR(IF(ISERROR(IF(ISERROR((O95/P95)), 0,(O95/P95))), 0,IF(ISERROR((O95/P95)), 0,(O95/P95)))), 0,IF(ISERROR(IF(ISERROR((O95/P95)), 0,(O95/P95))), 0,IF(ISERROR((O95/P95)), 0,(O95/P95))))","v":0},{"$f":"IF(ISERROR(S95*T95), \"\",S95*T95)","v":0},0,14.2,0.4,{"$f":"IF(ISERROR(ABS(U95)), \"\",ABS(U95))","v":0},0.15000000000000002,{"$f":"IF(ISERROR(ABS((Y95*X95)/W95)), \"\",ABS((Y95*X95)/W95))","v":0},{"$f":"IF(ISERROR(IF(AA95>Z95,Z95,AA95)), \"\",IF(AA95>Z95,Z95,AA95))","v":0},{"$f":"IF(ISERROR(IF(Y95>W95,W95,Y95)), \"\",IF(Y95>W95,W95,Y95))","v":0},{"$f":"IF(ISERROR((AC95*AB95)/AA95), \"\",(AC95*AB95)/AA95)","v":""},{"$f":"IF(ISERROR(IF(AC95=W95,0,(AC95*AB95)/AA95)), \"\",IF(AC95=W95,0,(AC95*AB95)/AA95))","v":""},{"$f":"IF(ISERROR(IF(AC95=60,Q95+(AC95/T95),Q95+(AD95/T95))), \"\",IF(AC95=60,Q95+(AC95/T95),Q95+(AD95/T95)))","v":""}]
[null,null,"Test","Target",null,1,"dr_o","Lv_in",2,"dr_o","Lv_in",3,"dr_o","Lv_in",{"$f":"A98","v":294.01923076923038},{"$f":"F97","v":0},{"$f":"C97","v":56},{"$f":"D97","v":51},{"$f":"Q96-R96","v":5},{"$f":"IF(ISERROR(IF(ISERROR(IF(ISERROR(IF(ISERROR((O96/P96)), 0,(O96/P96))), 0,IF(ISERROR((O96/P96)), 0,(O96/P96)))), 0,IF(ISERROR(IF(ISERROR((O96/P96)), 0,(O96/P96))), 0,IF(ISERROR((O96/P96)), 0,(O96/P96))))), 0,IF(ISERROR(IF(ISERROR(IF(ISERROR((O96/P96)), 0,(O96/P96))), 0,IF(ISERROR((O96/P96)), 0,(O96/P96)))), 0,IF(ISERROR(IF(ISERROR((O96/P96)), 0,(O96/P96))), 0,IF(ISERROR((O96/P96)), 0,(O96/P96)))))","v":0},{"$f":"IF(ISERROR(IF(ISERROR(IF(ISERROR(IF(ISERROR(S96*T96), 0,S96*T96)), 0,IF(ISERROR(S96*T96), 0,S96*T96))), 0,IF(ISERROR(IF(ISERROR(S96*T96), 0,S96*T96)), 0,IF(ISERROR(S96*T96), 0,S96*T96)))), 0,IF(ISERROR(IF(ISERROR(IF(ISERROR(S96*T96), 0,S96*T96)), 0,IF(ISERROR(S96*T96), 0,S96*T96))), 0,IF(ISERROR(IF(ISERROR(S96*T96), 0,S96*T96)), 0,IF(ISERROR(S96*T96), 0,S96*T96))))","v":0},0,14.2,0.4,{"$f":"IF(ISERROR(IF(ISERROR(IF(ISERROR(ABS(U96)), 0,ABS(U96))), 0,IF(ISERROR(ABS(U96)), 0,ABS(U96)))), 0,IF(ISERROR(IF(ISERROR(ABS(U96)), 0,ABS(U96))), 0,IF(ISERROR(ABS(U96)), 0,ABS(U96))))","v":0},0.15000000000000002,{"$f":"IF(ISERROR(IF(ISERROR(IF(ISERROR(ABS((Y96*X96)/W96)), 0,ABS((Y96*X96)/W96))), 0,IF(ISERROR(ABS((Y96*X96)/W96)), 0,ABS((Y96*X96)/W96)))), 0,IF(ISERROR(IF(ISERROR(ABS((Y96*X96)/W96)), 0,ABS((Y96*X96)/W96))), 0,IF(ISERROR(ABS((Y96*X96)/W96)), 0,ABS((Y96*X96)/W96))))","v":0},{"$f":"IF(ISERROR(IF(ISERROR(IF(ISERROR(IF(AA96>Z96,Z96,AA96)), 0,IF(AA96>Z96,Z96,AA96))), 0,IF(ISERROR(IF(AA96>Z96,Z96,AA96)), 0,IF(AA96>Z96,Z96,AA96)))), 0,IF(ISERROR(IF(ISERROR(IF(AA96>Z96,Z96,AA96)), 0,IF(AA96>Z96,Z96,AA96))), 0,IF(ISERROR(IF(AA96>Z96,Z96,AA96)), 0,IF(AA96>Z96,Z96,AA96))))","v":0},{"$f":"IF(ISERROR(IF(ISERROR(IF(ISERROR(IF(Y96>W96,W96,Y96)), 0,IF(Y96>W96,W96,Y96))), 0,IF(ISERROR(IF(Y96>W96,W96,Y96)), 0,IF(Y96>W96,W96,Y96)))), 0,IF(ISERROR(IF(ISERROR(IF(Y96>W96,W96,Y96)), 0,IF(Y96>W96,W96,Y96))), 0,IF(ISERROR(IF(Y96>W96,W96,Y96)), 0,IF(Y96>W96,W96,Y96))))","v":0},{"$f":"IF(ISERROR(IF(ISERROR(IF(ISERROR(IF(ISERROR((AC96*AB96)/AA96), 0,(AC96*AB96)/AA96)), 0,IF(ISERROR((AC96*AB96)/AA96), 0,(AC96*AB96)/AA96))), 0,IF(ISERROR(IF(ISERROR((AC96*AB96)/AA96), 0,(AC96*AB96)/AA96)), 0,IF(ISERROR((AC96*AB96)/AA96), 0,(AC96*AB96)/AA96)))), 0,IF(ISERROR(IF(ISERROR(IF(ISERROR((AC96*AB96)/AA96), 0,(AC96*AB96)/AA96)), 0,IF(ISERROR((AC96*AB96)/AA96), 0,(AC96*AB96)/AA96))), 0,IF(ISERROR(IF(ISERROR((AC96*AB96)/AA96), 0,(AC96*AB96)/AA96)), 0,IF(ISERROR((AC96*AB96)/AA96), 0,(AC96*AB96)/AA96))))","v":0},{"$f":"IF(ISERROR(IF(ISERROR(IF(ISERROR(IF(AC96=W96,0,(AC96*AB96)/AA96)), 0,IF(AC96=W96,0,(AC96*AB96)/AA96))), 0,IF(ISERROR(IF(AC96=W96,0,(AC96*AB96)/AA96)), 0,IF(AC96=W96,0,(AC96*AB96)/AA96)))), 0,IF(ISERROR(IF(ISERROR(IF(AC96=W96,0,(AC96*AB96)/AA96)), 0,IF(AC96=W96,0,(AC96*AB96)/AA96))), 0,IF(ISERROR(IF(AC96=W96,0,(AC96*AB96)/AA96)), 0,IF(AC96=W96,0,(AC96*AB96)/AA96))))","v":0},{"$f":"IF(ISERROR(IF(ISERROR(IF(AC96=60,Q96+(AC96/T96),Q96+(AD96/T96))), 0,IF(AC96=60,Q96+(AC96/T96),Q96+(AD96/T96)))), 0,IF(ISERROR(IF(AC96=60,Q96+(AC96/T96),Q96+(AD96/T96))), 0,IF(AC96=60,Q96+(AC96/T96),Q96+(AD96/T96))))","v":0}]
["B",27,56,51,{"$f":"IF(ISERROR(IF(ISERROR(IF(ISERROR(Y96), 0,Y96)), 0,IF(ISERROR(Y96), 0,Y96))), 0,IF(ISERROR(IF(ISERROR(Y96), 0,Y96)), 0,IF(ISERROR(Y96), 0,Y96)))","v":0},null,{"$f":"IF(ISERROR(IF(ISERROR(IF(ISERROR(AB96), 0,AB96)), 0,IF(ISERROR(AB96), 0,AB96))), 0,IF(ISERROR(IF(ISERROR(AB96), 0,AB96)), 0,IF(ISERROR(AB96), 0,AB96)))","v":0},{"$f":"IF(ISERROR(IF(ISERROR(IF(ISERROR($E$10-G97), 0,$E$10-G97)), 0,IF(ISERROR($E$10-G97), 0,$E$10-G97))), 0,IF(ISERROR(IF(ISERROR($E$10-G97), 0,$E$10-G97)), 0,IF(ISERROR($E$10-G97), 0,$E$10-G97)))","v":0.4},null,{"$f":"IF(ISERROR(IF(ISERROR(AB97), 0,AB97)), 0,IF(ISERROR(AB97), 0,AB97))","v":0},{"$f":"IF(ISERROR(IF(ISERROR(ROUND($E$10-J97,3)), 0,ROUND($E$10-J97,3))), 0,IF(ISERROR(ROUND($E$10-J97,3)), 0,ROUND($E$10-J97,3)))","v":0.4},null,{"$f":"IF(ISERROR(IF(ISERROR(IF(ISERROR(IF(ISERROR(AB98), 0,AB98)), 0,IF(ISERROR(AB98), 0,AB98))), 0,IF(ISERROR(IF(ISERROR(AB98), 0,AB98)), 0,IF(ISERROR(AB98), 0,AB98)))), 0,IF(ISERROR(IF(ISERROR(IF(ISERROR(AB98), 0,AB98)), 0,IF(ISERROR(AB98), 0,AB98))), 0,IF(ISERROR(IF(ISERROR(AB98), 0,AB98)), 0,IF(ISERROR(AB98), 0,AB98))))","v":0},{"$f":"IF(ISERROR(IF(ISERROR(IF(ISERROR(IF(ISERROR($E$10-M97), 0,$E$10-M97)), 0,IF(ISERROR($E$10-M97), 0,$E$10-M97))), 0,IF(ISERROR(IF(ISERROR($E$10-M97), 0,$E$10-M97)), 0,IF(ISERROR($E$10-M97), 0,$E$10-M97)))), 0,IF(ISERROR(IF(ISERROR(IF(ISERROR($E$10-M97), 0,$E$10-M97)), 0,IF(ISERROR($E$10-M97), 0,$E$10-M97))), 0,IF(ISERROR(IF(ISERROR($E$10-M97), 0,$E$10-M97)), 0,IF(ISERROR($E$10-M97), 0,$E$10-M97))))","v":0.4},{"$f":"A98","v":294.01923076923038},{"$f":"I97","v":0},{"$f":"IF(ISERROR(IF(ISERROR(IF(AC96=W96,Q96+(AC96/T96),Q96+(AD96/T96))), 0,IF(AC96=W96,Q96+(AC96/T96),Q96+(AD96/T96)))), 0,IF(ISERROR(IF(AC96=W96,Q96+(AC96/T96),Q96+(AD96/T96))), 0,IF(AC96=W96,Q96+(AC96/T96),Q96+(AD96/T96))))","v":0},{"$f":"D97","v":51},{"$f":"IF(ISERROR(IF(ISERROR(Q97-R97), 0,Q97-R97)), 0,IF(ISERROR(Q97-R97), 0,Q97-R97))","v":-51},0,{"$f":"IF(ISERROR(IF(ISERROR(S97*T97), 0,S97*T97)), 0,IF(ISERROR(S97*T97), 0,S97*T97))","v":0},0,14.2,0.4,{"$f":"IF(ISERROR(IF(ISERROR(ABS(U97)), 0,ABS(U97))), 0,IF(ISERROR(ABS(U97)), 0,ABS(U97)))","v":0},0.15000000000000002,{"$f":"IF(ISERROR(IF(ISERROR(ABS((Y97*X97)/W97)), 0,ABS((Y97*X97)/W97))), 0,IF(ISERROR(ABS((Y97*X97)/W97)), 0,ABS((Y97*X97)/W97)))","v":0},{"$f":"IF(ISERROR(IF(ISERROR(IF(AA97>Z97,Z97,AA97)), 0,IF(AA97>Z97,Z97,AA97))), 0,IF(ISERROR(IF(AA97>Z97,Z97,AA97)), 0,IF(AA97>Z97,Z97,AA97)))","v":0},{"$f":"IF(ISERROR(IF(ISERROR(IF(Y97>W97,W97,Y97)), 0,IF(Y97>W97,W97,Y97))), 0,IF(ISERROR(IF(Y97>W97,W97,Y97)), 0,IF(Y97>W97,W97,Y97)))","v":0},{"$f":"IF(ISERROR((AC97*AB97)/AA97), 0,(AC97*AB97)/AA97)","v":0},{"$f":"IF(ISERROR(IF(ISERROR(IF(AC97=W97,0,(AC97*AB97)/AA97)), 0,IF(AC97=W97,0,(AC97*AB97)/AA97))), 0,IF(ISERROR(IF(AC97=W97,0,(AC97*AB97)/AA97)), 0,IF(AC97=W97,0,(AC97*AB97)/AA97)))","v":0},{"$f":"IF(ISERROR(IF(AC97=60,Q97+(AC97/T97),Q97+(AD97/T97))), 0,IF(AC97=60,Q97+(AC97/T97),Q97+(AD97/T97)))","v":0}]
[{"$f":"F315","v":294.01923076923038},{"$f":"IF(AND(C97<D97, E97>$E$7),\"Ignore Drill Out Lead 1; rather pop out Lead 1 and LEAVE lead # 2 to \"&K97&\" inches.\",\"\")","v":""},null,null,null,null,null,null,null,null,null,null,null,{"$f":"IF(ISERROR(IF(ISERROR((G97+J97+M97)/$E$10*$E$7), 0,(G97+J97+M97)/$E$10*$E$7)), 0,IF(ISERROR((G97+J97+M97)/$E$10*$E$7), 0,(G97+J97+M97)/$E$10*$E$7))","v":0},{"$f":"A98","v":294.01923076923038},{"$f":"L97","v":0},{"$f":"IF(ISERROR(IF(AC97=W97,Q97+(AC97/T97),Q97+(AD97/T97))), 0,IF(AC97=W97,Q97+(AC97/T97),Q97+(AD97/T97)))","v":0},{"$f":"D97","v":51},{"$f":"IF(ISERROR(Q98-R98), 0,Q98-R98)","v":-51},0,{"$f":"IF(ISERROR(IF(ISERROR(IF(ISERROR(IF(ISERROR(S98*T98), 0,S98*T98)), 0,IF(ISERROR(S98*T98), 0,S98*T98))), 0,IF(ISERROR(IF(ISERROR(S98*T98), 0,S98*T98)), 0,IF(ISERROR(S98*T98), 0,S98*T98)))), 0,IF(ISERROR(IF(ISERROR(IF(ISERROR(S98*T98), 0,S98*T98)), 0,IF(ISERROR(S98*T98), 0,S98*T98))), 0,IF(ISERROR(IF(ISERROR(S98*T98), 0,S98*T98)), 0,IF(ISERROR(S98*T98), 0,S98*T98))))","v":0},0,14.2,0.4,{"$f":"IF(ISERROR(IF(ISERROR(IF(ISERROR(ABS(U98)), 0,ABS(U98))), 0,IF(ISERROR(ABS(U98)), 0,ABS(U98)))), 0,IF(ISERROR(IF(ISERROR(ABS(U98)), 0,ABS(U98))), 0,IF(ISERROR(ABS(U98)), 0,ABS(U98))))","v":0},0.15000000000000002,{"$f":"IF(ISERROR(IF(ISERROR(IF(ISERROR(ABS((Y98*X98)/W98)), 0,ABS((Y98*X98)/W98))), 0,IF(ISERROR(ABS((Y98*X98)/W98)), 0,ABS((Y98*X98)/W98)))), 0,IF(ISERROR(IF(ISERROR(ABS((Y98*X98)/W98)), 0,ABS((Y98*X98)/W98))), 0,IF(ISERROR(ABS((Y98*X98)/W98)), 0,ABS((Y98*X98)/W98))))","v":0},{"$f":"IF(ISERROR(IF(ISERROR(IF(ISERROR(IF(AA98>Z98,Z98,AA98)), 0,IF(AA98>Z98,Z98,AA98))), 0,IF(ISERROR(IF(AA98>Z98,Z98,AA98)), 0,IF(AA98>Z98,Z98,AA98)))), 0,IF(ISERROR(IF(ISERROR(IF(AA98>Z98,Z98,AA98)), 0,IF(AA98>Z98,Z98,AA98))), 0,IF(ISERROR(IF(AA98>Z98,Z98,AA98)), 0,IF(AA98>Z98,Z98,AA98))))","v":0},{"$f":"IF(ISERROR(IF(ISERROR(IF(ISERROR(IF(Y98>W98,W98,Y98)), 0,IF(Y98>W98,W98,Y98))), 0,IF(ISERROR(IF(Y98>W98,W98,Y98)), 0,IF(Y98>W98,W98,Y98)))), 0,IF(ISERROR(IF(ISERROR(IF(Y98>W98,W98,Y98)), 0,IF(Y98>W98,W98,Y98))), 0,IF(ISERROR(IF(Y98>W98,W98,Y98)), 0,IF(Y98>W98,W98,Y98))))","v":0},{"$f":"IF(ISERROR((AC98*AB98)/AA98), \"\",(AC98*AB98)/AA98)","v":""},{"$f":"IF(ISERROR(IF(AC98=W98,0,(AC98*AB98)/AA98)), \"\",IF(AC98=W98,0,(AC98*AB98)/AA98))","v":""},{"$f":"IF(ISERROR(IF(AC98=60,Q98+(AC98/T98),Q98+(AD98/T98))), \"\",IF(AC98=60,Q98+(AC98/T98),Q98+(AD98/T98)))","v":""}]
[null,null,"Test","Target",null,1,"dr_o","Lv_in",2,"dr_o","Lv_in",3,"dr_o","Lv_in",{"$f":"A101","v":292.65384615384573},{"$f":"F100","v":0},{"$f":"C100","v":56},{"$f":"D100","v":51},{"$f":"Q99-R99","v":5},0,{"$f":"IF(ISERROR(IF(ISERROR(IF(ISERROR(IF(ISERROR(S99*T99), 0,S99*T99)), 0,IF(ISERROR(S99*T99), 0,S99*T99))), 0,IF(ISERROR(IF(ISERROR(S99*T99), 0,S99*T99)), 0,IF(ISERROR(S99*T99), 0,S99*T99)))), 0,IF(ISERROR(IF(ISERROR(IF(ISERROR(S99*T99), 0,S99*T99)), 0,IF(ISERROR(S99*T99), 0,S99*T99))), 0,IF(ISERROR(IF(ISERROR(S99*T99), 0,S99*T99)), 0,IF(ISERROR(S99*T99), 0,S99*T99))))","v":0},0,14.2,0.4,{"$f":"IF(ISERROR(IF(ISERROR(IF(ISERROR(ABS(U99)), 0,ABS(U99))), 0,IF(ISERROR(ABS(U99)), 0,ABS(U99)))), 0,IF(ISERROR(IF(ISERROR(ABS(U99)), 0,ABS(U99))), 0,IF(ISERROR(ABS(U99)), 0,ABS(U99))))","v":0},0.15000000000000002,{"$f":"IF(ISERROR(IF(ISERROR(IF(ISERROR(ABS((Y99*X99)/W99)), 0,ABS((Y99*X99)/W99))), 0,IF(ISERROR(ABS((Y99*X99)/W99)), 0,ABS((Y99*X99)/W99)))), 0,IF(ISERROR(IF(ISERROR(ABS((Y99*X99)/W99)), 0,ABS((Y99*X99)/W99))), 0,IF(ISERROR(ABS((Y99*X99)/W99)), 0,ABS((Y99*X99)/W99))))","v":0},{"$f":"IF(ISERROR(IF(ISERROR(IF(ISERROR(IF(AA99>Z99,Z99,AA99)), 0,IF(AA99>Z99,Z99,AA99))), 0,IF(ISERROR(IF(AA99>Z99,Z99,AA99)), 0,IF(AA99>Z99,Z99,AA99)))), 0,IF(ISERROR(IF(ISERROR(IF(AA99>Z99,Z99,AA99)), 0,IF(AA99>Z99,Z99,AA99))), 0,IF(ISERROR(IF(AA99>Z99,Z99,AA99)), 0,IF(AA99>Z99,Z99,AA99))))","v":0},{"$f":"IF(ISERROR(IF(ISERROR(IF(ISERROR(IF(Y99>W99,W99,Y99)), 0,IF(Y99>W99,W99,Y99))), 0,IF(ISERROR(IF(Y99>W99,W99,Y99)), 0,IF(Y99>W99,W99,Y99)))), 0,IF(ISERROR(IF(ISERROR(IF(Y99>W99,W99,Y99)), 0,IF(Y99>W99,W99,Y99))), 0,IF(ISERROR(IF(Y99>W99,W99,Y99)), 0,IF(Y99>W99,W99,Y99))))","v":0},{"$f":"IF(ISERROR(IF(ISERROR(IF(ISERROR(IF(ISERROR((AC99*AB99)/AA99), 0,(AC99*AB99)/AA99)), 0,IF(ISERROR((AC99*AB99)/AA99), 0,(AC99*AB99)/AA99))), 0,IF(ISERROR(IF(ISERROR((AC99*AB99)/AA99), 0,(AC99*AB99)/AA99)), 0,IF(ISERROR((AC99*AB99)/AA99), 0,(AC99*AB99)/AA99)))), 0,IF(ISERROR(IF(ISERROR(IF(ISERROR((AC99*AB99)/AA99), 0,(AC99*AB99)/AA99)), 0,IF(ISERROR((AC99*AB99)/AA99), 0,(AC99*AB99)/AA99))), 0,IF(ISERROR(IF(ISERROR((AC99*AB99)/AA99), 0,(AC99*AB99)/AA99)), 0,IF(ISERROR((AC99*AB99)/AA99), 0,(AC99*AB99)/AA99))))","v":0},{"$f":"IF(ISERROR(IF(ISERROR(IF(ISERROR(IF(AC99=W99,0,(AC99*AB99)/AA99)), 0,IF(AC99=W99,0,(AC99*AB99)/AA99))), 0,IF(ISERROR(IF(AC99=W99,0,(AC99*AB99)/AA99)), 0,IF(AC99=W99,0,(AC99*AB99)/AA99)))), 0,IF(ISERROR(IF(ISERROR(IF(AC99=W99,0,(AC99*AB99)/AA99)), 0,IF(AC99=W99,0,(AC99*AB99)/AA99))), 0,IF(ISERROR(IF(AC99=W99,0,(AC99*AB99)/AA99)), 0,IF(AC99=W99,0,(AC99*AB99)/AA99))))","v":0},{"$f":"IF(ISERROR(IF(ISERROR(IF(AC99=60,Q99+(AC99/T99),Q99+(AD99/T99))), 0,IF(AC99=60,Q99+(AC99/T99),Q99+(AD99/T99)))), 0,IF(ISERROR(IF(AC99=60,Q99+(AC99/T99),Q99+(AD99/T99))), 0,IF(AC99=60,Q99+(AC99/T99),Q99+(AD99/T99))))","v":0}]
["C",28,56,51,{"$f":"IF(ISERROR(IF(ISERROR(IF(ISERROR(Y99), 0,Y99)), 0,IF(ISERROR(Y99), 0,Y99))), 0,IF(ISERROR(IF(ISERROR(Y99), 0,Y99)), 0,IF(ISERROR(Y99), 0,Y99)))","v":0},null,{"$f":"IF(ISERROR(IF(ISERROR(IF(ISERROR(AB99), 0,AB99)), 0,IF(ISERROR(AB99), 0,AB99))), 0,IF(ISERROR(IF(ISERROR(AB99), 0,AB99)), 0,IF(ISERROR(AB99), 0,AB99)))","v":0},{"$f":"IF(ISERROR(IF(ISERROR(IF(ISERROR($E$10-G100), 0,$E$10-G100)), 0,IF(ISERROR($E$10-G100), 0,$E$10-G100))), 0,IF(ISERROR(IF(ISERROR($E$10-G100), 0,$E$10-G100)), 0,IF(ISERROR($E$10-G100), 0,$E$10-G100)))","v":0.4},null,{"$f":"IF(ISERROR(IF(ISERROR(AB100), 0,AB100)), 0,IF(ISERROR(AB100), 0,AB100))","v":0},{"$f":"IF(ISERROR(IF(ISERROR(ROUND($E$10-J100,3)), 0,ROUND($E$10-J100,3))), 0,IF(ISERROR(ROUND($E$10-J100,3)), 0,ROUND($E$10-J100,3)))","v":0.4},null,{"$f":"IF(ISERROR(AB101), \"\",AB101)","v":0},{"$f":"IF(ISERROR($E$10-M100), \"\",$E$10-M100)","v":0.4},{"$f":"A101","v":292.65384615384573},{"$f":"I100","v":0},{"$f":"IF(ISERROR(IF(ISERROR(IF(AC99=W99,Q99+(AC99/T99),Q99+(AD99/T99))), 0,IF(AC99=W99,Q99+(AC99/T99),Q99+(AD99/T99)))), 0,IF(ISERROR(IF(AC99=W99,Q99+(AC99/T99),Q99+(AD99/T99))), 0,IF(AC99=W99,Q99+(AC99/T99),Q99+(AD99/T99))))","v":0},{"$f":"D100","v":51},{"$f":"IF(ISERROR(IF(ISERROR(Q100-R100), 0,Q100-R100)), 0,IF(ISERROR(Q100-R100), 0,Q100-R100))","v":-51},0,{"$f":"IF(ISERROR(IF(ISERROR(S100*T100), 0,S100*T100)), 0,IF(ISERROR(S100*T100), 0,S100*T100))","v":0},0,14.2,0.4,{"$f":"IF(ISERROR(IF(ISERROR(ABS(U100)), 0,ABS(U100))), 0,IF(ISERROR(ABS(U100)), 0,ABS(U100)))","v":0},0.15000000000000002,{"$f":"IF(ISERROR(IF(ISERROR(ABS((Y100*X100)/W100)), 0,ABS((Y100*X100)/W100))), 0,IF(ISERROR(ABS((Y100*X100)/W100)), 0,ABS((Y100*X100)/W100)))","v":0},{"$f":"IF(ISERROR(IF(ISERROR(IF(AA100>Z100,Z100,AA100)), 0,IF(AA100>Z100,Z100,AA100))), 0,IF(ISERROR(IF(AA100>Z100,Z100,AA100)), 0,IF(AA100>Z100,Z100,AA100)))","v":0},{"$f":"IF(ISERROR(IF(ISERROR(IF(Y100>W100,W100,Y100)), 0,IF(Y100>W100,W100,Y100))), 0,IF(ISERROR(IF(Y100>W100,W100,Y100)), 0,IF(Y100>W100,W100,Y100)))","v":0},{"$f":"IF(ISERROR((AC100*AB100)/AA100), \"\",(AC100*AB100)/AA100)","v":""},{"$f":"IF(ISERROR(IF(AC100=W100,0,(AC100*AB100)/AA100)), \"\",IF(AC100=W100,0,(AC100*AB100)/AA100))","v":""},{"$f":"IF(ISERROR(IF(AC100=60,Q100+(AC100/T100),Q100+(AD100/T100))), \"\",IF(AC100=60,Q100+(AC100/T100),Q100+(AD100/T100)))","v":""}]
[{"$f":"F316","v":292.65384615384573},{"$f":"IF(AND(C100<D100, E100>$E$7),\"Ignore Drill Out Lead 1; rather pop out Lead 1 and LEAVE lead # 2 to \"&K100&\" inches.\",\"\")","v":""},null,null,null,null,null,null,null,null,null,null,null,{"$f":"IF(ISERROR(IF(ISERROR((G100+J100+M100)/$E$10*$E$7), 0,(G100+J100+M100)/$E$10*$E$7)), 0,IF(ISERROR((G100+J100+M100)/$E$10*$E$7), 0,(G100+J100+M100)/$E$10*$E$7))","v":0},{"$f":"A101","v":292.65384615384573},{"$f":"L100","v":0},{"$f":"IF(ISERROR(IF(AC100=W100,Q100+(AC100/T100),Q100+(AD100/T100))), \"\",IF(AC100=W100,Q100+(AC100/T100),Q100+(AD100/T100)))","v":""},{"$f":"D100","v":51},{"$f":"IF(ISERROR(Q101-R101), 0,Q101-R101)","v":0},0,{"$f":"IF(ISERROR(S101*T101), \"\",S101*T101)","v":0},0,14.2,0.4,{"$f":"IF(ISERROR(ABS(U101)), \"\",ABS(U101))","v":0},0.15000000000000002,{"$f":"IF(ISERROR(ABS((Y101*X101)/W101)), \"\",ABS((Y101*X101)/W101))","v":0},{"$f":"IF(ISERROR(IF(AA101>Z101,Z101,AA101)), \"\",IF(AA101>Z101,Z101,AA101))","v":0},{"$f":"IF(ISERROR(IF(Y101>W101,W101,Y101)), \"\",IF(Y101>W101,W101,Y101))","v":0},{"$f":"IF(ISERROR((AC101*AB101)/AA101), \"\",(AC101*AB101)/AA101)","v":""},{"$f":"IF(ISERROR(IF(AC101=W101,0,(AC101*AB101)/AA101)), \"\",IF(AC101=W101,0,(AC101*AB101)/AA101))","v":""},{"$f":"IF(ISERROR(IF(AC101=60,Q101+(AC101/T101),Q101+(AD101/T101))), \"\",IF(AC101=60,Q101+(AC101/T101),Q101+(AD101/T101)))","v":""}]
[null,null,"Test","Target",null,1,"dr_o","Lv_in",2,"dr_o","Lv_in",3,"dr_o","Lv_in",{"$f":"A104","v":268.5},{"$f":"F103","v":0},{"$f":"C103","v":60},{"$f":"D103","v":51},{"$f":"Q102-R102","v":9},0,{"$f":"IF(ISERROR(IF(ISERROR(IF(ISERROR(IF(ISERROR(S102*T102), 0,S102*T102)), 0,IF(ISERROR(S102*T102), 0,S102*T102))), 0,IF(ISERROR(IF(ISERROR(S102*T102), 0,S102*T102)), 0,IF(ISERROR(S102*T102), 0,S102*T102)))), 0,IF(ISERROR(IF(ISERROR(IF(ISERROR(S102*T102), 0,S102*T102)), 0,IF(ISERROR(S102*T102), 0,S102*T102))), 0,IF(ISERROR(IF(ISERROR(S102*T102), 0,S102*T102)), 0,IF(ISERROR(S102*T102), 0,S102*T102))))","v":0},0,14.2,0.4,{"$f":"IF(ISERROR(IF(ISERROR(IF(ISERROR(ABS(U102)), 0,ABS(U102))), 0,IF(ISERROR(ABS(U102)), 0,ABS(U102)))), 0,IF(ISERROR(IF(ISERROR(ABS(U102)), 0,ABS(U102))), 0,IF(ISERROR(ABS(U102)), 0,ABS(U102))))","v":0},0.15000000000000002,{"$f":"IF(ISERROR(IF(ISERROR(IF(ISERROR(ABS((Y102*X102)/W102)), 0,ABS((Y102*X102)/W102))), 0,IF(ISERROR(ABS((Y102*X102)/W102)), 0,ABS((Y102*X102)/W102)))), 0,IF(ISERROR(IF(ISERROR(ABS((Y102*X102)/W102)), 0,ABS((Y102*X102)/W102))), 0,IF(ISERROR(ABS((Y102*X102)/W102)), 0,ABS((Y102*X102)/W102))))","v":0},{"$f":"IF(ISERROR(IF(ISERROR(IF(ISERROR(IF(AA102>Z102,Z102,AA102)), 0,IF(AA102>Z102,Z102,AA102))), 0,IF(ISERROR(IF(AA102>Z102,Z102,AA102)), 0,IF(AA102>Z102,Z102,AA102)))), 0,IF(ISERROR(IF(ISERROR(IF(AA102>Z102,Z102,AA102)), 0,IF(AA102>Z102,Z102,AA102))), 0,IF(ISERROR(IF(AA102>Z102,Z102,AA102)), 0,IF(AA102>Z102,Z102,AA102))))","v":0},{"$f":"IF(ISERROR(IF(ISERROR(IF(ISERROR(IF(Y102>W102,W102,Y102)), 0,IF(Y102>W102,W102,Y102))), 0,IF(ISERROR(IF(Y102>W102,W102,Y102)), 0,IF(Y102>W102,W102,Y102)))), 0,IF(ISERROR(IF(ISERROR(IF(Y102>W102,W102,Y102)), 0,IF(Y102>W102,W102,Y102))), 0,IF(ISERROR(IF(Y102>W102,W102,Y102)), 0,IF(Y102>W102,W102,Y102))))","v":0},{"$f":"IF(ISERROR(IF(ISERROR(IF(ISERROR(IF(ISERROR((AC102*AB102)/AA102), 0,(AC102*AB102)/AA102)), 0,IF(ISERROR((AC102*AB102)/AA102), 0,(AC102*AB102)/AA102))), 0,IF(ISERROR(IF(ISERROR((AC102*AB102)/AA102), 0,(AC102*AB102)/AA102)), 0,IF(ISERROR((AC102*AB102)/AA102), 0,(AC102*AB102)/AA102)))), 0,IF(ISERROR(IF(ISERROR(IF(ISERROR((AC102*AB102)/AA102), 0,(AC102*AB102)/AA102)), 0,IF(ISERROR((AC102*AB102)/AA102), 0,(AC102*AB102)/AA102))), 0,IF(ISERROR(IF(ISERROR((AC102*AB102)/AA102), 0,(AC102*AB102)/AA102)), 0,IF(ISERROR((AC102*AB102)/AA102), 0,(AC102*AB102)/AA102))))","v":0},{"$f":"IF(ISERROR(IF(ISERROR(IF(ISERROR(IF(AC102=W102,0,(AC102*AB102)/AA102)), 0,IF(AC102=W102,0,(AC102*AB102)/AA102))), 0,IF(ISERROR(IF(AC102=W102,0,(AC102*AB102)/AA102)), 0,IF(AC102=W102,0,(AC102*AB102)/AA102)))), 0,IF(ISERROR(IF(ISERROR(IF(AC102=W102,0,(AC102*AB102)/AA102)), 0,IF(AC102=W102,0,(AC102*AB102)/AA102))), 0,IF(ISERROR(IF(AC102=W102,0,(AC102*AB102)/AA102)), 0,IF(AC102=W102,0,(AC102*AB102)/AA102))))","v":0},{"$f":"IF(ISERROR(IF(ISERROR(IF(AC102=60,Q102+(AC102/T102),Q102+(AD102/T102))), 0,IF(AC102=60,Q102+(AC102/T102),Q102+(AD102/T102)))), 0,IF(ISERROR(IF(AC102=60,Q102+(AC102/T102),Q102+(AD102/T102))), 0,IF(AC102=60,Q102+(AC102/T102),Q102+(AD102/T102))))","v":0}]
["C#",29,60,51,{"$f":"IF(ISERROR(IF(ISERROR(IF(ISERROR(Y102), 0,Y102)), 0,IF(ISERROR(Y102), 0,Y102))), 0,IF(ISERROR(IF(ISERROR(Y102), 0,Y102)), 0,IF(ISERROR(Y102), 0,Y102)))","v":0},null,{"$f":"IF(ISERROR(IF(ISERROR(IF(ISERROR(AB102), 0,AB102)), 0,IF(ISERROR(AB102), 0,AB102))), 0,IF(ISERROR(IF(ISERROR(AB102), 0,AB102)), 0,IF(ISERROR(AB102), 0,AB102)))","v":0},{"$f":"IF(ISERROR(IF(ISERROR(IF(ISERROR($E$10-G103), 0,$E$10-G103)), 0,IF(ISERROR($E$10-G103), 0,$E$10-G103))), 0,IF(ISERROR(IF(ISERROR($E$10-G103), 0,$E$10-G103)), 0,IF(ISERROR($E$10-G103), 0,$E$10-G103)))","v":0.4},null,{"$f":"IF(ISERROR(IF(ISERROR(AB103), 0,AB103)), 0,IF(ISERROR(AB103), 0,AB103))","v":0},{"$f":"IF(ISERROR(IF(ISERROR(ROUND($E$10-J103,3)), 0,ROUND($E$10-J103,3))), 0,IF(ISERROR(ROUND($E$10-J103,3)), 0,ROUND($E$10-J103,3)))","v":0.4},null,{"$f":"IF(ISERROR(AB104), \"\",AB104)","v":0},{"$f":"IF(ISERROR($E$10-M103), \"\",$E$10-M103)","v":0.4},{"$f":"A104","v":268.5},{"$f":"I103","v":0},{"$f":"IF(ISERROR(IF(ISERROR(IF(AC102=W102,Q102+(AC102/T102),Q102+(AD102/T102))), 0,IF(AC102=W102,Q102+(AC102/T102),Q102+(AD102/T102)))), 0,IF(ISERROR(IF(AC102=W102,Q102+(AC102/T102),Q102+(AD102/T102))), 0,IF(AC102=W102,Q102+(AC102/T102),Q102+(AD102/T102))))","v":0},{"$f":"D103","v":51},{"$f":"IF(ISERROR(IF(ISERROR(Q103-R103), 0,Q103-R103)), 0,IF(ISERROR(Q103-R103), 0,Q103-R103))","v":-51},0,{"$f":"IF(ISERROR(IF(ISERROR(S103*T103), 0,S103*T103)), 0,IF(ISERROR(S103*T103), 0,S103*T103))","v":0},0,14.2,0.4,{"$f":"IF(ISERROR(IF(ISERROR(ABS(U103)), 0,ABS(U103))), 0,IF(ISERROR(ABS(U103)), 0,ABS(U103)))","v":0},0.15000000000000002,{"$f":"IF(ISERROR(IF(ISERROR(ABS((Y103*X103)/W103)), 0,ABS((Y103*X103)/W103))), 0,IF(ISERROR(ABS((Y103*X103)/W103)), 0,ABS((Y103*X103)/W103)))","v":0},{"$f":"IF(ISERROR(IF(ISERROR(IF(AA103>Z103,Z103,AA103)), 0,IF(AA103>Z103,Z103,AA103))), 0,IF(ISERROR(IF(AA103>Z103,Z103,AA103)), 0,IF(AA103>Z103,Z103,AA103)))","v":0},{"$f":"IF(ISERROR(IF(ISERROR(IF(Y103>W103,W103,Y103)), 0,IF(Y103>W103,W103,Y103))), 0,IF(ISERROR(IF(Y103>W103,W103,Y103)), 0,IF(Y103>W103,W103,Y103)))","v":0},{"$f":"IF(ISERROR((AC103*AB103)/AA103), \"\",(AC103*AB103)/AA103)","v":""},{"$f":"IF(ISERROR(IF(AC103=W103,0,(AC103*AB103)/AA103)), \"\",IF(AC103=W103,0,(AC103*AB103)/AA103))","v":""},{"$f":"IF(ISERROR(IF(AC103=60,Q103+(AC103/T103),Q103+(AD103/T103))), \"\",IF(AC103=60,Q103+(AC103/T103),Q103+(AD103/T103)))","v":""}]
[{"$f":"R311","v":268.5},{"$f":"IF(AND(C103<D103, E103>$E$7),\"Ignore Drill Out Lead 1; rather pop out Lead 1 and LEAVE lead # 2 to \"&K103&\" inches.\",\"\")","v":""},null,null,null,null,null,null,null,null,null,null,null,{"$f":"IF(ISERROR(IF(ISERROR((G103+J103+M103)/$E$10*$E$7), 0,(G103+J103+M103)/$E$10*$E$7)), 0,IF(ISERROR((G103+J103+M103)/$E$10*$E$7), 0,(G103+J103+M103)/$E$10*$E$7))","v":0},{"$f":"A104","v":268.5},{"$f":"L103","v":0},{"$f":"IF(ISERROR(IF(AC103=W103,Q103+(AC103/T103),Q103+(AD103/T103))), \"\",IF(AC103=W103,Q103+(AC103/T103),Q103+(AD103/T103)))","v":""},{"$f":"D103","v":51},{"$f":"IF(ISERROR(Q104-R104), 0,Q104-R104)","v":0},0,{"$f":"IF(ISERROR(S104*T104), \"\",S104*T104)","v":0},0,14.2,0.4,{"$f":"IF(ISERROR(ABS(U104)), \"\",ABS(U104))","v":0},0.15000000000000002,{"$f":"IF(ISERROR(ABS((Y104*X104)/W104)), \"\",ABS((Y104*X104)/W104))","v":0},{"$f":"IF(ISERROR(IF(AA104>Z104,Z104,AA104)), \"\",IF(AA104>Z104,Z104,AA104))","v":0},{"$f":"IF(ISERROR(IF(Y104>W104,W104,Y104)), \"\",IF(Y104>W104,W104,Y104))","v":0},{"$f":"IF(ISERROR((AC104*AB104)/AA104), \"\",(AC104*AB104)/AA104)","v":""},{"$f":"IF(ISERROR(IF(AC104=W104,0,(AC104*AB104)/AA104)), \"\",IF(AC104=W104,0,(AC104*AB104)/AA104))","v":""},{"$f":"IF(ISERROR(IF(AC104=60,Q104+(AC104/T104),Q104+(AD104/T104))), \"\",IF(AC104=60,Q104+(AC104/T104),Q104+(AD104/T104)))","v":""}]
[null,null,"Test","Target",null,1,"dr_o","Lv_in",2,"dr_o","Lv_in",3,"dr_o","Lv_in",{"$f":"A107","v":291.28846153846109},{"$f":"F106","v":0},{"$f":"C106","v":54},{"$f":"D106","v":51},{"$f":"Q105-R105","v":3},0,{"$f":"IF(ISERROR(IF(ISERROR(IF(ISERROR(IF(ISERROR(S105*T105), 0,S105*T105)), 0,IF(ISERROR(S105*T105), 0,S105*T105))), 0,IF(ISERROR(IF(ISERROR(S105*T105), 0,S105*T105)), 0,IF(ISERROR(S105*T105), 0,S105*T105)))), 0,IF(ISERROR(IF(ISERROR(IF(ISERROR(S105*T105), 0,S105*T105)), 0,IF(ISERROR(S105*T105), 0,S105*T105))), 0,IF(ISERROR(IF(ISERROR(S105*T105), 0,S105*T105)), 0,IF(ISERROR(S105*T105), 0,S105*T105))))","v":0},0,14.2,0.4,{"$f":"IF(ISERROR(IF(ISERROR(IF(ISERROR(ABS(U105)), 0,ABS(U105))), 0,IF(ISERROR(ABS(U105)), 0,ABS(U105)))), 0,IF(ISERROR(IF(ISERROR(ABS(U105)), 0,ABS(U105))), 0,IF(ISERROR(ABS(U105)), 0,ABS(U105))))","v":0},0.15000000000000002,{"$f":"IF(ISERROR(IF(ISERROR(IF(ISERROR(ABS((Y105*X105)/W105)), 0,ABS((Y105*X105)/W105))), 0,IF(ISERROR(ABS((Y105*X105)/W105)), 0,ABS((Y105*X105)/W105)))), 0,IF(ISERROR(IF(ISERROR(ABS((Y105*X105)/W105)), 0,ABS((Y105*X105)/W105))), 0,IF(ISERROR(ABS((Y105*X105)/W105)), 0,ABS((Y105*X105)/W105))))","v":0},{"$f":"IF(ISERROR(IF(ISERROR(IF(ISERROR(IF(AA105>Z105,Z105,AA105)), 0,IF(AA105>Z105,Z105,AA105))), 0,IF(ISERROR(IF(AA105>Z105,Z105,AA105)), 0,IF(AA105>Z105,Z105,AA105)))), 0,IF(ISERROR(IF(ISERROR(IF(AA105>Z105,Z105,AA105)), 0,IF(AA105>Z105,Z105,AA105))), 0,IF(ISERROR(IF(AA105>Z105,Z105,AA105)), 0,IF(AA105>Z105,Z105,AA105))))","v":0},{"$f":"IF(ISERROR(IF(ISERROR(IF(ISERROR(IF(Y105>W105,W105,Y105)), 0,IF(Y105>W105,W105,Y105))), 0,IF(ISERROR(IF(Y105>W105,W105,Y105)), 0,IF(Y105>W105,W105,Y105)))), 0,IF(ISERROR(IF(ISERROR(IF(Y105>W105,W105,Y105)), 0,IF(Y105>W105,W105,Y105))), 0,IF(ISERROR(IF(Y105>W105,W105,Y105)), 0,IF(Y105>W105,W105,Y105))))","v":0},{"$f":"IF(ISERROR(IF(ISERROR(IF(ISERROR(IF(ISERROR((AC105*AB105)/AA105), 0,(AC105*AB105)/AA105)), 0,IF(ISERROR((AC105*AB105)/AA105), 0,(AC105*AB105)/AA105))), 0,IF(ISERROR(IF(ISERROR((AC105*AB105)/AA105), 0,(AC105*AB105)/AA105)), 0,IF(ISERROR((AC105*AB105)/AA105), 0,(AC105*AB105)/AA105)))), 0,IF(ISERROR(IF(ISERROR(IF(ISERROR((AC105*AB105)/AA105), 0,(AC105*AB105)/AA105)), 0,IF(ISERROR((AC105*AB105)/AA105), 0,(AC105*AB105)/AA105))), 0,IF(ISERROR(IF(ISERROR((AC105*AB105)/AA105), 0,(AC105*AB105)/AA105)), 0,IF(ISERROR((AC105*AB105)/AA105), 0,(AC105*AB105)/AA105))))","v":0},{"$f":"IF(ISERROR(IF(ISERROR(IF(ISERROR(IF(AC105=W105,0,(AC105*AB105)/AA105)), 0,IF(AC105=W105,0,(AC105*AB105)/AA105))), 0,IF(ISERROR(IF(AC105=W105,0,(AC105*AB105)/AA105)), 0,IF(AC105=W105,0,(AC105*AB105)/AA105)))), 0,IF(ISERROR(IF(ISERROR(IF(AC105=W105,0,(AC105*AB105)/AA105)), 0,IF(AC105=W105,0,(AC105*AB105)/AA105))), 0,IF(ISERROR(IF(AC105=W105,0,(AC105*AB105)/AA105)), 0,IF(AC105=W105,0,(AC105*AB105)/AA105))))","v":0},{"$f":"IF(ISERROR(IF(ISERROR(IF(AC105=60,Q105+(AC105/T105),Q105+(AD105/T105))), 0,IF(AC105=60,Q105+(AC105/T105),Q105+(AD105/T105)))), 0,IF(ISERROR(IF(AC105=60,Q105+(AC105/T105),Q105+(AD105/T105))), 0,IF(AC105=60,Q105+(AC105/T105),Q105+(AD105/T105))))","v":0}]
["D",30,54,51,{"$f":"IF(ISERROR(IF(ISERROR(IF(ISERROR(Y105), 0,Y105)), 0,IF(ISERROR(Y105), 0,Y105))), 0,IF(ISERROR(IF(ISERROR(Y105), 0,Y105)), 0,IF(ISERROR(Y105), 0,Y105)))","v":0},null,{"$f":"IF(ISERROR(IF(ISERROR(IF(ISERROR(AB105), 0,AB105)), 0,IF(ISERROR(AB105), 0,AB105))), 0,IF(ISERROR(IF(ISERROR(AB105), 0,AB105)), 0,IF(ISERROR(AB105), 0,AB105)))","v":0},{"$f":"IF(ISERROR(IF(ISERROR(IF(ISERROR($E$10-G106), 0,$E$10-G106)), 0,IF(ISERROR($E$10-G106), 0,$E$10-G106))), 0,IF(ISERROR(IF(ISERROR($E$10-G106), 0,$E$10-G106)), 0,IF(ISERROR($E$10-G106), 0,$E$10-G106)))","v":0.4},null,{"$f":"IF(ISERROR(IF(ISERROR(AB106), 0,AB106)), 0,IF(ISERROR(AB106), 0,AB106))","v":0},{"$f":"IF(ISERROR(IF(ISERROR(ROUND($E$10-J106,3)), 0,ROUND($E$10-J106,3))), 0,IF(ISERROR(ROUND($E$10-J106,3)), 0,ROUND($E$10-J106,3)))","v":0.4},null,{"$f":"IF(ISERROR(IF(ISERROR(IF(ISERROR(IF(ISERROR(AB107), 0,AB107)), 0,IF(ISERROR(AB107), 0,AB107))), 0,IF(ISERROR(IF(ISERROR(AB107), 0,AB107)), 0,IF(ISERROR(AB107), 0,AB107)))), 0,IF(ISERROR(IF(ISERROR(IF(ISERROR(AB107), 0,AB107)), 0,IF(ISERROR(AB107), 0,AB107))), 0,IF(ISERROR(IF(ISERROR(AB107), 0,AB107)), 0,IF(ISERROR(AB107), 0,AB107))))","v":0},{"$f":"IF(ISERROR(IF(ISERROR(IF(ISERROR(IF(ISERROR($E$10-M106), 0,$E$10-M106)), 0,IF(ISERROR($E$10-M106), 0,$E$10-M106))), 0,IF(ISERROR(IF(ISERROR($E$10-M106), 0,$E$10-M106)), 0,IF(ISERROR($E$10-M106), 0,$E$10-M106)))), 0,IF(ISERROR(IF(ISERROR(IF(ISERROR($E$10-M106), 0,$E$10-M106)), 0,IF(ISERROR($E$10-M106), 0,$E$10-M106))), 0,IF(ISERROR(IF(ISERROR($E$10-M106), 0,$E$10-M106)), 0,IF(ISERROR($E$10-M106), 0,$E$10-M106))))","v":0.4},{"$f":"A107","v":291.28846153846109},{"$f":"I106","v":0},{"$f":"IF(ISERROR(IF(ISERROR(IF(AC105=W105,Q105+(AC105/T105),Q105+(AD105/T105))), 0,IF(AC105=W105,Q105+(AC105/T105),Q105+(AD105/T105)))), 0,IF(ISERROR(IF(AC105=W105,Q105+(AC105/T105),Q105+(AD105/T105))), 0,IF(AC105=W105,Q105+(AC105/T105),Q105+(AD105/T105))))","v":0},{"$f":"D106","v":51},{"$f":"IF(ISERROR(IF(ISERROR(Q106-R106), 0,Q106-R106)), 0,IF(ISERROR(Q106-R106), 0,Q106-R106))","v":-51},0,{"$f":"IF(ISERROR(IF(ISERROR(S106*T106), 0,S106*T106)), 0,IF(ISERROR(S106*T106), 0,S106*T106))","v":0},0,14.2,0.4,{"$f":"IF(ISERROR(IF(ISERROR(ABS(U106)), 0,ABS(U106))), 0,IF(ISERROR(ABS(U106)), 0,ABS(U106)))","v":0},0.15000000000000002,{"$f":"IF(ISERROR(IF(ISERROR(ABS((Y106*X106)/W106)), 0,ABS((Y106*X106)/W106))), 0,IF(ISERROR(ABS((Y106*X106)/W106)), 0,ABS((Y106*X106)/W106)))","v":0},{"$f":"IF(ISERROR(IF(ISERROR(IF(AA106>Z106,Z106,AA106)), 0,IF(AA106>Z106,Z106,AA106))), 0,IF(ISERROR(IF(AA106>Z106,Z106,AA106)), 0,IF(AA106>Z106,Z106,AA106)))","v":0},{"$f":"IF(ISERROR(IF(ISERROR(IF(Y106>W106,W106,Y106)), 0,IF(Y106>W106,W106,Y106))), 0,IF(ISERROR(IF(Y106>W106,W106,Y106)), 0,IF(Y106>W106,W106,Y106)))","v":0},{"$f":"IF(ISERROR((AC106*AB106)/AA106), 0,(AC106*AB106)/AA106)","v":0},{"$f":"IF(ISERROR(IF(ISERROR(IF(AC106=W106,0,(AC106*AB106)/AA106)), 0,IF(AC106=W106,0,(AC106*AB106)/AA106))), 0,IF(ISERROR(IF(AC106=W106,0,(AC106*AB106)/AA106)), 0,IF(AC106=W106,0,(AC106*AB106)/AA106)))","v":0},{"$f":"IF(ISERROR(IF(AC106=60,Q106+(AC106/T106),Q106+(AD106/T106))), 0,IF(AC106=60,Q106+(AC106/T106),Q106+(AD106/T106)))","v":0}]
[{"$f":"F317","v":291.28846153846109},{"$f":"IF(AND(C106<D106, E106>$E$7),\"Ignore Drill Out Lead 1; rather pop out Lead 1 and LEAVE lead # 2 to \"&K106&\" inches.\",\"\")","v":""},null,null,null,null,null,null,null,null,null,null,null,{"$f":"IF(ISERROR(IF(ISERROR((G106+J106+M106)/$E$10*$E$7), 0,(G106+J106+M106)/$E$10*$E$7)), 0,IF(ISERROR((G106+J106+M106)/$E$10*$E$7), 0,(G106+J106+M106)/$E$10*$E$7))","v":0},{"$f":"A107","v":291.28846153846109},{"$f":"L106","v":0},{"$f":"IF(ISERROR(IF(AC106=W106,Q106+(AC106/T106),Q106+(AD106/T106))), 0,IF(AC106=W106,Q106+(AC106/T106),Q106+(AD106/T106)))","v":0},{"$f":"D106","v":51},{"$f":"IF(ISERROR(Q107-R107), 0,Q107-R107)","v":-51},0,{"$f":"IF(ISERROR(IF(ISERROR(IF(ISERROR(IF(ISERROR(S107*T107), 0,S107*T107)), 0,IF(ISERROR(S107*T107), 0,S107*T107))), 0,IF(ISERROR(IF(ISERROR(S107*T107), 0,S107*T107)), 0,IF(ISERROR(S107*T107), 0,S107*T107)))), 0,IF(ISERROR(IF(ISERROR(IF(ISERROR(S107*T107), 0,S107*T107)), 0,IF(ISERROR(S107*T107), 0,S107*T107))), 0,IF(ISERROR(IF(ISERROR(S107*T107), 0,S107*T107)), 0,IF(ISERROR(S107*T107), 0,S107*T107))))","v":0},0,14.2,0.4,{"$f":"IF(ISERROR(IF(ISERROR(IF(ISERROR(ABS(U107)), 0,ABS(U107))), 0,IF(ISERROR(ABS(U107)), 0,ABS(U107)))), 0,IF(ISERROR(IF(ISERROR(ABS(U107)), 0,ABS(U107))), 0,IF(ISERROR(ABS(U107)), 0,ABS(U107))))","v":0},0.15000000000000002,{"$f":"IF(ISERROR(IF(ISERROR(IF(ISERROR(ABS((Y107*X107)/W107)), 0,ABS((Y107*X107)/W107))), 0,IF(ISERROR(ABS((Y107*X107)/W107)), 0,ABS((Y107*X107)/W107)))), 0,IF(ISERROR(IF(ISERROR(ABS((Y107*X107)/W107)), 0,ABS((Y107*X107)/W107))), 0,IF(ISERROR(ABS((Y107*X107)/W107)), 0,ABS((Y107*X107)/W107))))","v":0},{"$f":"IF(ISERROR(IF(ISERROR(IF(ISERROR(IF(AA107>Z107,Z107,AA107)), 0,IF(AA107>Z107,Z107,AA107))), 0,IF(ISERROR(IF(AA107>Z107,Z107,AA107)), 0,IF(AA107>Z107,Z107,AA107)))), 0,IF(ISERROR(IF(ISERROR(IF(AA107>Z107,Z107,AA107)), 0,IF(AA107>Z107,Z107,AA107))), 0,IF(ISERROR(IF(AA107>Z107,Z107,AA107)), 0,IF(AA107>Z107,Z107,AA107))))","v":0},{"$f":"IF(ISERROR(IF(ISERROR(IF(ISERROR(IF(Y107>W107,W107,Y107)), 0,IF(Y107>W107,W107,Y107))), 0,IF(ISERROR(IF(Y107>W107,W107,Y107)), 0,IF(Y107>W107,W107,Y107)))), 0,IF(ISERROR(IF(ISERROR(IF(Y107>W107,W107,Y107)), 0,IF(Y107>W107,W107,Y107))), 0,IF(ISERROR(IF(Y107>W107,W107,Y107)), 0,IF(Y107>W107,W107,Y107))))","v":0},{"$f":"IF(ISERROR((AC107*AB107)/AA107), \"\",(AC107*AB107)/AA107)","v":""},{"$f":"IF(ISERROR(IF(AC107=W107,0,(AC107*AB107)/AA107)), \"\",IF(AC107=W107,0,(AC107*AB107)/AA107))","v":""},{"$f":"IF(ISERROR(IF(AC107=60,Q107+(AC107/T107),Q107+(AD107/T107))), \"\",IF(AC107=60,Q107+(AC107/T107),Q107+(AD107/T107)))","v":""}]
[null,null,"Test","Target",null,1,"dr_o","Lv_in",2,"dr_o","Lv_in",3,"dr_o","Lv_in",{"$f":"A110","v":267.5},{"$f":"F109","v":0},{"$f":"C109","v":65},{"$f":"D109","v":51},{"$f":"Q108-R108","v":14},0,{"$f":"IF(ISERROR(IF(ISERROR(IF(ISERROR(IF(ISERROR(S108*T108), 0,S108*T108)), 0,IF(ISERROR(S108*T108), 0,S108*T108))), 0,IF(ISERROR(IF(ISERROR(S108*T108), 0,S108*T108)), 0,IF(ISERROR(S108*T108), 0,S108*T108)))), 0,IF(ISERROR(IF(ISERROR(IF(ISERROR(S108*T108), 0,S108*T108)), 0,IF(ISERROR(S108*T108), 0,S108*T108))), 0,IF(ISERROR(IF(ISERROR(S108*T108), 0,S108*T108)), 0,IF(ISERROR(S108*T108), 0,S108*T108))))","v":0},0,14.2,0.4,{"$f":"IF(ISERROR(IF(ISERROR(IF(ISERROR(ABS(U108)), 0,ABS(U108))), 0,IF(ISERROR(ABS(U108)), 0,ABS(U108)))), 0,IF(ISERROR(IF(ISERROR(ABS(U108)), 0,ABS(U108))), 0,IF(ISERROR(ABS(U108)), 0,ABS(U108))))","v":0},0.15000000000000002,{"$f":"IF(ISERROR(IF(ISERROR(IF(ISERROR(ABS((Y108*X108)/W108)), 0,ABS((Y108*X108)/W108))), 0,IF(ISERROR(ABS((Y108*X108)/W108)), 0,ABS((Y108*X108)/W108)))), 0,IF(ISERROR(IF(ISERROR(ABS((Y108*X108)/W108)), 0,ABS((Y108*X108)/W108))), 0,IF(ISERROR(ABS((Y108*X108)/W108)), 0,ABS((Y108*X108)/W108))))","v":0},{"$f":"IF(ISERROR(IF(ISERROR(IF(ISERROR(IF(AA108>Z108,Z108,AA108)), 0,IF(AA108>Z108,Z108,AA108))), 0,IF(ISERROR(IF(AA108>Z108,Z108,AA108)), 0,IF(AA108>Z108,Z108,AA108)))), 0,IF(ISERROR(IF(ISERROR(IF(AA108>Z108,Z108,AA108)), 0,IF(AA108>Z108,Z108,AA108))), 0,IF(ISERROR(IF(AA108>Z108,Z108,AA108)), 0,IF(AA108>Z108,Z108,AA108))))","v":0},{"$f":"IF(ISERROR(IF(ISERROR(IF(ISERROR(IF(Y108>W108,W108,Y108)), 0,IF(Y108>W108,W108,Y108))), 0,IF(ISERROR(IF(Y108>W108,W108,Y108)), 0,IF(Y108>W108,W108,Y108)))), 0,IF(ISERROR(IF(ISERROR(IF(Y108>W108,W108,Y108)), 0,IF(Y108>W108,W108,Y108))), 0,IF(ISERROR(IF(Y108>W108,W108,Y108)), 0,IF(Y108>W108,W108,Y108))))","v":0},{"$f":"IF(ISERROR(IF(ISERROR(IF(ISERROR(IF(ISERROR((AC108*AB108)/AA108), 0,(AC108*AB108)/AA108)), 0,IF(ISERROR((AC108*AB108)/AA108), 0,(AC108*AB108)/AA108))), 0,IF(ISERROR(IF(ISERROR((AC108*AB108)/AA108), 0,(AC108*AB108)/AA108)), 0,IF(ISERROR((AC108*AB108)/AA108), 0,(AC108*AB108)/AA108)))), 0,IF(ISERROR(IF(ISERROR(IF(ISERROR((AC108*AB108)/AA108), 0,(AC108*AB108)/AA108)), 0,IF(ISERROR((AC108*AB108)/AA108), 0,(AC108*AB108)/AA108))), 0,IF(ISERROR(IF(ISERROR((AC108*AB108)/AA108), 0,(AC108*AB108)/AA108)), 0,IF(ISERROR((AC108*AB108)/AA108), 0,(AC108*AB108)/AA108))))","v":0},{"$f":"IF(ISERROR(IF(ISERROR(IF(ISERROR(IF(AC108=W108,0,(AC108*AB108)/AA108)), 0,IF(AC108=W108,0,(AC108*AB108)/AA108))), 0,IF(ISERROR(IF(AC108=W108,0,(AC108*AB108)/AA108)), 0,IF(AC108=W108,0,(AC108*AB108)/AA108)))), 0,IF(ISERROR(IF(ISERROR(IF(AC108=W108,0,(AC108*AB108)/AA108)), 0,IF(AC108=W108,0,(AC108*AB108)/AA108))), 0,IF(ISERROR(IF(AC108=W108,0,(AC108*AB108)/AA108)), 0,IF(AC108=W108,0,(AC108*AB108)/AA108))))","v":0},{"$f":"IF(ISERROR(IF(ISERROR(IF(AC108=60,Q108+(AC108/T108),Q108+(AD108/T108))), 0,IF(AC108=60,Q108+(AC108/T108),Q108+(AD108/T108)))), 0,IF(ISERROR(IF(AC108=60,Q108+(AC108/T108),Q108+(AD108/T108))), 0,IF(AC108=60,Q108+(AC108/T108),Q108+(AD108/T108))))","v":0}]
["D#",31,65,51,{"$f":"IF(ISERROR(IF(ISERROR(IF(ISERROR(Y108), 0,Y108)), 0,IF(ISERROR(Y108), 0,Y108))), 0,IF(ISERROR(IF(ISERROR(Y108), 0,Y108)), 0,IF(ISERROR(Y108), 0,Y108)))","v":0},null,{"$f":"IF(ISERROR(IF(ISERROR(IF(ISERROR(AB108), 0,AB108)), 0,IF(ISERROR(AB108), 0,AB108))), 0,IF(ISERROR(IF(ISERROR(AB108), 0,AB108)), 0,IF(ISERROR(AB108), 0,AB108)))","v":0},{"$f":"IF(ISERROR(IF(ISERROR(IF(ISERROR($E$10-G109), 0,$E$10-G109)), 0,IF(ISERROR($E$10-G109), 0,$E$10-G109))), 0,IF(ISERROR(IF(ISERROR($E$10-G109), 0,$E$10-G109)), 0,IF(ISERROR($E$10-G109), 0,$E$10-G109)))","v":0.4},null,{"$f":"IF(ISERROR(IF(ISERROR(AB109), 0,AB109)), 0,IF(ISERROR(AB109), 0,AB109))","v":0},{"$f":"IF(ISERROR(IF(ISERROR(ROUND($E$10-J109,3)), 0,ROUND($E$10-J109,3))), 0,IF(ISERROR(ROUND($E$10-J109,3)), 0,ROUND($E$10-J109,3)))","v":0.4},null,{"$f":"IF(ISERROR(IF(ISERROR(IF(ISERROR(IF(ISERROR(AB110), 0,AB110)), 0,IF(ISERROR(AB110), 0,AB110))), 0,IF(ISERROR(IF(ISERROR(AB110), 0,AB110)), 0,IF(ISERROR(AB110), 0,AB110)))), 0,IF(ISERROR(IF(ISERROR(IF(ISERROR(AB110), 0,AB110)), 0,IF(ISERROR(AB110), 0,AB110))), 0,IF(ISERROR(IF(ISERROR(AB110), 0,AB110)), 0,IF(ISERROR(AB110), 0,AB110))))","v":0},{"$f":"IF(ISERROR(IF(ISERROR(IF(ISERROR(IF(ISERROR($E$10-M109), 0,$E$10-M109)), 0,IF(ISERROR($E$10-M109), 0,$E$10-M109))), 0,IF(ISERROR(IF(ISERROR($E$10-M109), 0,$E$10-M109)), 0,IF(ISERROR($E$10-M109), 0,$E$10-M109)))), 0,IF(ISERROR(IF(ISERROR(IF(ISERROR($E$10-M109), 0,$E$10-M109)), 0,IF(ISERROR($E$10-M109), 0,$E$10-M109))), 0,IF(ISERROR(IF(ISERROR($E$10-M109), 0,$E$10-M109)), 0,IF(ISERROR($E$10-M109), 0,$E$10-M109))))","v":0.4},{"$f":"A110","v":267.5},{"$f":"I109","v":0},{"$f":"IF(ISERROR(IF(ISERROR(IF(AC108=W108,Q108+(AC108/T108),Q108+(AD108/T108))), 0,IF(AC108=W108,Q108+(AC108/T108),Q108+(AD108/T108)))), 0,IF(ISERROR(IF(AC108=W108,Q108+(AC108/T108),Q108+(AD108/T108))), 0,IF(AC108=W108,Q108+(AC108/T108),Q108+(AD108/T108))))","v":0},{"$f":"D109","v":51},{"$f":"IF(ISERROR(IF(ISERROR(Q109-R109), 0,Q109-R109)), 0,IF(ISERROR(Q109-R109), 0,Q109-R109))","v":-51},0,{"$f":"IF(ISERROR(IF(ISERROR(S109*T109), 0,S109*T109)), 0,IF(ISERROR(S109*T109), 0,S109*T109))","v":0},0,14.2,0.4,{"$f":"IF(ISERROR(IF(ISERROR(ABS(U109)), 0,ABS(U109))), 0,IF(ISERROR(ABS(U109)), 0,ABS(U109)))","v":0},0.15000000000000002,{"$f":"IF(ISERROR(IF(ISERROR(ABS((Y109*X109)/W109)), 0,ABS((Y109*X109)/W109))), 0,IF(ISERROR(ABS((Y109*X109)/W109)), 0,ABS((Y109*X109)/W109)))","v":0},{"$f":"IF(ISERROR(IF(ISERROR(IF(AA109>Z109,Z109,AA109)), 0,IF(AA109>Z109,Z109,AA109))), 0,IF(ISERROR(IF(AA109>Z109,Z109,AA109)), 0,IF(AA109>Z109,Z109,AA109)))","v":0},{"$f":"IF(ISERROR(IF(ISERROR(IF(Y109>W109,W109,Y109)), 0,IF(Y109>W109,W109,Y109))), 0,IF(ISERROR(IF(Y109>W109,W109,Y109)), 0,IF(Y109>W109,W109,Y109)))","v":0},{"$f":"IF(ISERROR((AC109*AB109)/AA109), 0,(AC109*AB109)/AA109)","v":0},{"$f":"IF(ISERROR(IF(ISERROR(IF(AC109=W109,0,(AC109*AB109)/AA109)), 0,IF(AC109=W109,0,(AC109*AB109)/AA109))), 0,IF(ISERROR(IF(AC109=W109,0,(AC109*AB109)/AA109)), 0,IF(AC109=W109,0,(AC109*AB109)/AA109)))","v":0},{"$f":"IF(ISERROR(IF(AC109=60,Q109+(AC109/T109),Q109+(AD109/T109))), 0,IF(AC109=60,Q109+(AC109/T109),Q109+(AD109/T109)))","v":0}]
[{"$f":"R312","v":267.5},{"$f":"IF(AND(C109<D109, E109>$E$7),\"Ignore Drill Out Lead 1; rather pop out Lead 1 and LEAVE lead # 2 to \"&K109&\" inches.\",\"\")","v":""},null,null,null,null,null,null,null,null,null,null,null,{"$f":"IF(ISERROR(IF(ISERROR((G109+J109+M109)/$E$10*$E$7), 0,(G109+J109+M109)/$E$10*$E$7)), 0,IF(ISERROR((G109+J109+M109)/$E$10*$E$7), 0,(G109+J109+M109)/$E$10*$E$7))","v":0},{"$f":"A110","v":267.5},{"$f":"L109","v":0},{"$f":"IF(ISERROR(IF(AC109=W109,Q109+(AC109/T109),Q109+(AD109/T109))), 0,IF(AC109=W109,Q109+(AC109/T109),Q109+(AD109/T109)))","v":0},{"$f":"D109","v":51},{"$f":"IF(ISERROR(Q110-R110), 0,Q110-R110)","v":-51},0,{"$f":"IF(ISERROR(IF(ISERROR(IF(ISERROR(IF(ISERROR(S110*T110), 0,S110*T110)), 0,IF(ISERROR(S110*T110), 0,S110*T110))), 0,IF(ISERROR(IF(ISERROR(S110*T110), 0,S110*T110)), 0,IF(ISERROR(S110*T110), 0,S110*T110)))), 0,IF(ISERROR(IF(ISERROR(IF(ISERROR(S110*T110), 0,S110*T110)), 0,IF(ISERROR(S110*T110), 0,S110*T110))), 0,IF(ISERROR(IF(ISERROR(S110*T110), 0,S110*T110)), 0,IF(ISERROR(S110*T110), 0,S110*T110))))","v":0},0,14.2,0.4,{"$f":"IF(ISERROR(IF(ISERROR(IF(ISERROR(ABS(U110)), 0,ABS(U110))), 0,IF(ISERROR(ABS(U110)), 0,ABS(U110)))), 0,IF(ISERROR(IF(ISERROR(ABS(U110)), 0,ABS(U110))), 0,IF(ISERROR(ABS(U110)), 0,ABS(U110))))","v":0},0.15000000000000002,{"$f":"IF(ISERROR(IF(ISERROR(IF(ISERROR(ABS((Y110*X110)/W110)), 0,ABS((Y110*X110)/W110))), 0,IF(ISERROR(ABS((Y110*X110)/W110)), 0,ABS((Y110*X110)/W110)))), 0,IF(ISERROR(IF(ISERROR(ABS((Y110*X110)/W110)), 0,ABS((Y110*X110)/W110))), 0,IF(ISERROR(ABS((Y110*X110)/W110)), 0,ABS((Y110*X110)/W110))))","v":0},{"$f":"IF(ISERROR(IF(ISERROR(IF(ISERROR(IF(AA110>Z110,Z110,AA110)), 0,IF(AA110>Z110,Z110,AA110))), 0,IF(ISERROR(IF(AA110>Z110,Z110,AA110)), 0,IF(AA110>Z110,Z110,AA110)))), 0,IF(ISERROR(IF(ISERROR(IF(AA110>Z110,Z110,AA110)), 0,IF(AA110>Z110,Z110,AA110))), 0,IF(ISERROR(IF(AA110>Z110,Z110,AA110)), 0,IF(AA110>Z110,Z110,AA110))))","v":0},{"$f":"IF(ISERROR(IF(ISERROR(IF(ISERROR(IF(Y110>W110,W110,Y110)), 0,IF(Y110>W110,W110,Y110))), 0,IF(ISERROR(IF(Y110>W110,W110,Y110)), 0,IF(Y110>W110,W110,Y110)))), 0,IF(ISERROR(IF(ISERROR(IF(Y110>W110,W110,Y110)), 0,IF(Y110>W110,W110,Y110))), 0,IF(ISERROR(IF(Y110>W110,W110,Y110)), 0,IF(Y110>W110,W110,Y110))))","v":0},{"$f":"IF(ISERROR((AC110*AB110)/AA110), \"\",(AC110*AB110)/AA110)","v":""},{"$f":"IF(ISERROR(IF(AC110=W110,0,(AC110*AB110)/AA110)), \"\",IF(AC110=W110,0,(AC110*AB110)/AA110))","v":""},{"$f":"IF(ISERROR(IF(AC110=60,Q110+(AC110/T110),Q110+(AD110/T110))), \"\",IF(AC110=60,Q110+(AC110/T110),Q110+(AD110/T110)))","v":""}]
[null,null,"Test","Target",null,1,"dr_o","Lv_in",2,"dr_o","Lv_in",3,"dr_o","Lv_in",{"$f":"A113","v":289.92307692307645},{"$f":"F112","v":0},{"$f":"C112","v":52},{"$f":"D112","v":51},{"$f":"Q111-R111","v":1},0,{"$f":"IF(ISERROR(IF(ISERROR(IF(ISERROR(IF(ISERROR(S111*T111), 0,S111*T111)), 0,IF(ISERROR(S111*T111), 0,S111*T111))), 0,IF(ISERROR(IF(ISERROR(S111*T111), 0,S111*T111)), 0,IF(ISERROR(S111*T111), 0,S111*T111)))), 0,IF(ISERROR(IF(ISERROR(IF(ISERROR(S111*T111), 0,S111*T111)), 0,IF(ISERROR(S111*T111), 0,S111*T111))), 0,IF(ISERROR(IF(ISERROR(S111*T111), 0,S111*T111)), 0,IF(ISERROR(S111*T111), 0,S111*T111))))","v":0},0,14.2,0.4,{"$f":"IF(ISERROR(IF(ISERROR(IF(ISERROR(ABS(U111)), 0,ABS(U111))), 0,IF(ISERROR(ABS(U111)), 0,ABS(U111)))), 0,IF(ISERROR(IF(ISERROR(ABS(U111)), 0,ABS(U111))), 0,IF(ISERROR(ABS(U111)), 0,ABS(U111))))","v":0},0.15000000000000002,{"$f":"IF(ISERROR(IF(ISERROR(IF(ISERROR(ABS((Y111*X111)/W111)), 0,ABS((Y111*X111)/W111))), 0,IF(ISERROR(ABS((Y111*X111)/W111)), 0,ABS((Y111*X111)/W111)))), 0,IF(ISERROR(IF(ISERROR(ABS((Y111*X111)/W111)), 0,ABS((Y111*X111)/W111))), 0,IF(ISERROR(ABS((Y111*X111)/W111)), 0,ABS((Y111*X111)/W111))))","v":0},{"$f":"IF(ISERROR(IF(ISERROR(IF(ISERROR(IF(AA111>Z111,Z111,AA111)), 0,IF(AA111>Z111,Z111,AA111))), 0,IF(ISERROR(IF(AA111>Z111,Z111,AA111)), 0,IF(AA111>Z111,Z111,AA111)))), 0,IF(ISERROR(IF(ISERROR(IF(AA111>Z111,Z111,AA111)), 0,IF(AA111>Z111,Z111,AA111))), 0,IF(ISERROR(IF(AA111>Z111,Z111,AA111)), 0,IF(AA111>Z111,Z111,AA111))))","v":0},{"$f":"IF(ISERROR(IF(ISERROR(IF(ISERROR(IF(Y111>W111,W111,Y111)), 0,IF(Y111>W111,W111,Y111))), 0,IF(ISERROR(IF(Y111>W111,W111,Y111)), 0,IF(Y111>W111,W111,Y111)))), 0,IF(ISERROR(IF(ISERROR(IF(Y111>W111,W111,Y111)), 0,IF(Y111>W111,W111,Y111))), 0,IF(ISERROR(IF(Y111>W111,W111,Y111)), 0,IF(Y111>W111,W111,Y111))))","v":0},{"$f":"IF(ISERROR(IF(ISERROR(IF(ISERROR(IF(ISERROR((AC111*AB111)/AA111), 0,(AC111*AB111)/AA111)), 0,IF(ISERROR((AC111*AB111)/AA111), 0,(AC111*AB111)/AA111))), 0,IF(ISERROR(IF(ISERROR((AC111*AB111)/AA111), 0,(AC111*AB111)/AA111)), 0,IF(ISERROR((AC111*AB111)/AA111), 0,(AC111*AB111)/AA111)))), 0,IF(ISERROR(IF(ISERROR(IF(ISERROR((AC111*AB111)/AA111), 0,(AC111*AB111)/AA111)), 0,IF(ISERROR((AC111*AB111)/AA111), 0,(AC111*AB111)/AA111))), 0,IF(ISERROR(IF(ISERROR((AC111*AB111)/AA111), 0,(AC111*AB111)/AA111)), 0,IF(ISERROR((AC111*AB111)/AA111), 0,(AC111*AB111)/AA111))))","v":0},{"$f":"IF(ISERROR(IF(ISERROR(IF(ISERROR(IF(AC111=W111,0,(AC111*AB111)/AA111)), 0,IF(AC111=W111,0,(AC111*AB111)/AA111))), 0,IF(ISERROR(IF(AC111=W111,0,(AC111*AB111)/AA111)), 0,IF(AC111=W111,0,(AC111*AB111)/AA111)))), 0,IF(ISERROR(IF(ISERROR(IF(AC111=W111,0,(AC111*AB111)/AA111)), 0,IF(AC111=W111,0,(AC111*AB111)/AA111))), 0,IF(ISERROR(IF(AC111=W111,0,(AC111*AB111)/AA111)), 0,IF(AC111=W111,0,(AC111*AB111)/AA111))))","v":0},{"$f":"IF(ISERROR(IF(ISERROR(IF(AC111=60,Q111+(AC111/T111),Q111+(AD111/T111))), 0,IF(AC111=60,Q111+(AC111/T111),Q111+(AD111/T111)))), 0,IF(ISERROR(IF(AC111=60,Q111+(AC111/T111),Q111+(AD111/T111))), 0,IF(AC111=60,Q111+(AC111/T111),Q111+(AD111/T111))))","v":0}]
["E",32,52,51,{"$f":"IF(ISERROR(IF(ISERROR(IF(ISERROR(Y111), 0,Y111)), 0,IF(ISERROR(Y111), 0,Y111))), 0,IF(ISERROR(IF(ISERROR(Y111), 0,Y111)), 0,IF(ISERROR(Y111), 0,Y111)))","v":0},null,{"$f":"IF(ISERROR(IF(ISERROR(IF(ISERROR(AB111), 0,AB111)), 0,IF(ISERROR(AB111), 0,AB111))), 0,IF(ISERROR(IF(ISERROR(AB111), 0,AB111)), 0,IF(ISERROR(AB111), 0,AB111)))","v":0},{"$f":"IF(ISERROR(IF(ISERROR(IF(ISERROR($E$10-G112), 0,$E$10-G112)), 0,IF(ISERROR($E$10-G112), 0,$E$10-G112))), 0,IF(ISERROR(IF(ISERROR($E$10-G112), 0,$E$10-G112)), 0,IF(ISERROR($E$10-G112), 0,$E$10-G112)))","v":0.4},null,{"$f":"IF(ISERROR(IF(ISERROR(AB112), 0,AB112)), 0,IF(ISERROR(AB112), 0,AB112))","v":0},{"$f":"IF(ISERROR(IF(ISERROR(ROUND($E$10-J112,3)), 0,ROUND($E$10-J112,3))), 0,IF(ISERROR(ROUND($E$10-J112,3)), 0,ROUND($E$10-J112,3)))","v":0.4},null,{"$f":"IF(ISERROR(AB113), \"\",AB113)","v":0},{"$f":"IF(ISERROR($E$10-M112), \"\",$E$10-M112)","v":0.4},{"$f":"A113","v":289.92307692307645},{"$f":"I112","v":0},{"$f":"IF(ISERROR(IF(ISERROR(IF(AC111=W111,Q111+(AC111/T111),Q111+(AD111/T111))), 0,IF(AC111=W111,Q111+(AC111/T111),Q111+(AD111/T111)))), 0,IF(ISERROR(IF(AC111=W111,Q111+(AC111/T111),Q111+(AD111/T111))), 0,IF(AC111=W111,Q111+(AC111/T111),Q111+(AD111/T111))))","v":0},{"$f":"D112","v":51},{"$f":"IF(ISERROR(IF(ISERROR(Q112-R112), 0,Q112-R112)), 0,IF(ISERROR(Q112-R112), 0,Q112-R112))","v":-51},0,{"$f":"IF(ISERROR(IF(ISERROR(S112*T112), 0,S112*T112)), 0,IF(ISERROR(S112*T112), 0,S112*T112))","v":0},0,14.2,0.4,{"$f":"IF(ISERROR(IF(ISERROR(ABS(U112)), 0,ABS(U112))), 0,IF(ISERROR(ABS(U112)), 0,ABS(U112)))","v":0},0.15000000000000002,{"$f":"IF(ISERROR(IF(ISERROR(ABS((Y112*X112)/W112)), 0,ABS((Y112*X112)/W112))), 0,IF(ISERROR(ABS((Y112*X112)/W112)), 0,ABS((Y112*X112)/W112)))","v":0},{"$f":"IF(ISERROR(IF(ISERROR(IF(AA112>Z112,Z112,AA112)), 0,IF(AA112>Z112,Z112,AA112))), 0,IF(ISERROR(IF(AA112>Z112,Z112,AA112)), 0,IF(AA112>Z112,Z112,AA112)))","v":0},{"$f":"IF(ISERROR(IF(ISERROR(IF(Y112>W112,W112,Y112)), 0,IF(Y112>W112,W112,Y112))), 0,IF(ISERROR(IF(Y112>W112,W112,Y112)), 0,IF(Y112>W112,W112,Y112)))","v":0},{"$f":"IF(ISERROR((AC112*AB112)/AA112), \"\",(AC112*AB112)/AA112)","v":""},{"$f":"IF(ISERROR(IF(AC112=W112,0,(AC112*AB112)/AA112)), \"\",IF(AC112=W112,0,(AC112*AB112)/AA112))","v":""},{"$f":"IF(ISERROR(IF(AC112=60,Q112+(AC112/T112),Q112+(AD112/T112))), \"\",IF(AC112=60,Q112+(AC112/T112),Q112+(AD112/T112)))","v":""}]
[{"$f":"F318","v":289.92307692307645},{"$f":"IF(AND(C112<D112, E112>$E$7),\"Ignore Drill Out Lead 1; rather pop out Lead 1 and LEAVE lead # 2 to \"&K112&\" inches.\",\"\")","v":""},null,null,null,null,null,null,null,null,null,null,null,{"$f":"IF(ISERROR(IF(ISERROR((G112+J112+M112)/$E$10*$E$7), 0,(G112+J112+M112)/$E$10*$E$7)), 0,IF(ISERROR((G112+J112+M112)/$E$10*$E$7), 0,(G112+J112+M112)/$E$10*$E$7))","v":0},{"$f":"A113","v":289.92307692307645},{"$f":"L112","v":0},{"$f":"IF(ISERROR(IF(AC112=W112,Q112+(AC112/T112),Q112+(AD112/T112))), \"\",IF(AC112=W112,Q112+(AC112/T112),Q112+(AD112/T112)))","v":""},{"$f":"D112","v":51},{"$f":"IF(ISERROR(Q113-R113), 0,Q113-R113)","v":0},0,{"$f":"IF(ISERROR(S113*T113), \"\",S113*T113)","v":0},0,14.2,0.4,{"$f":"IF(ISERROR(ABS(U113)), \"\",ABS(U113))","v":0},0.15000000000000002,{"$f":"IF(ISERROR(ABS((Y113*X113)/W113)), \"\",ABS((Y113*X113)/W113))","v":0},{"$f":"IF(ISERROR(IF(AA113>Z113,Z113,AA113)), \"\",IF(AA113>Z113,Z113,AA113))","v":0},{"$f":"IF(ISERROR(IF(Y113>W113,W113,Y113)), \"\",IF(Y113>W113,W113,Y113))","v":0},{"$f":"IF(ISERROR((AC113*AB113)/AA113), \"\",(AC113*AB113)/AA113)","v":""},{"$f":"IF(ISERROR(IF(AC113=W113,0,(AC113*AB113)/AA113)), \"\",IF(AC113=W113,0,(AC113*AB113)/AA113))","v":""},{"$f":"IF(ISERROR(IF(AC113=60,Q113+(AC113/T113),Q113+(AD113/T113))), \"\",IF(AC113=60,Q113+(AC113/T113),Q113+(AD113/T113)))","v":""}]
[null,null,"Test","Target",null,1,"dr_o","Lv_in",2,"dr_o","Lv_in",3,"dr_o","Lv_in",{"$f":"A116","v":288.55769230769181},{"$f":"F115","v":0},{"$f":"C115","v":58},{"$f":"D115","v":51},{"$f":"IF(ISERROR(Q114-R114), 0,Q114-R114)","v":7},0,{"$f":"IF(ISERROR(S114*T114), 0,S114*T114)","v":0},0,14.2,0.4,{"$f":"IF(ISERROR(ABS(U114)), 0,ABS(U114))","v":0},0.15000000000000002,{"$f":"IF(ISERROR(ABS((Y114*X114)/W114)), 0,ABS((Y114*X114)/W114))","v":0},{"$f":"IF(ISERROR(IF(AA114>Z114,Z114,AA114)), 0,IF(AA114>Z114,Z114,AA114))","v":0},{"$f":"IF(ISERROR(IF(Y114>W114,W114,Y114)), 0,IF(Y114>W114,W114,Y114))","v":0},{"$f":"IF(ISERROR((AC114*AB114)/AA114), 0,(AC114*AB114)/AA114)","v":0},{"$f":"IF(ISERROR(IF(ISERROR(IF(AC114=W114,0,(AC114*AB114)/AA114)), 0,IF(AC114=W114,0,(AC114*AB114)/AA114))), 0,IF(ISERROR(IF(AC114=W114,0,(AC114*AB114)/AA114)), 0,IF(AC114=W114,0,(AC114*AB114)/AA114)))","v":0},{"$f":"IF(ISERROR(IF(AC114=60,Q114+(AC114/T114),Q114+(AD114/T114))), 0,IF(AC114=60,Q114+(AC114/T114),Q114+(AD114/T114)))","v":0}]
["F",33,58,51,{"$f":"Y114","v":0},null,{"$f":"AB114","v":0},{"$f":"$E$10-G115","v":0.4},null,{"$f":"IF(ISERROR(IF(ISERROR(AB115), 0,AB115)), 0,IF(ISERROR(AB115), 0,AB115))","v":0},{"$f":"IF(ISERROR(IF(ISERROR(ROUND($E$10-J115,3)), 0,ROUND($E$10-J115,3))), 0,IF(ISERROR(ROUND($E$10-J115,3)), 0,ROUND($E$10-J115,3)))","v":0.4},null,{"$f":"IF(ISERROR(AB116), \"\",AB116)","v":0},{"$f":"IF(ISERROR($E$10-M115), \"\",$E$10-M115)","v":0.4},{"$f":"A116","v":288.55769230769181},{"$f":"I115","v":0},{"$f":"IF(ISERROR(IF(AC114=W114,Q114+(AC114/T114),Q114+(AD114/T114))), 0,IF(AC114=W114,Q114+(AC114/T114),Q114+(AD114/T114)))","v":0},{"$f":"D115","v":51},{"$f":"IF(ISERROR(Q115-R115), 0,Q115-R115)","v":-51},0,{"$f":"IF(ISERROR(S115*T115), 0,S115*T115)","v":0},0,14.2,0.4,{"$f":"IF(ISERROR(ABS(U115)), 0,ABS(U115))","v":0},0.15000000000000002,{"$f":"IF(ISERROR(ABS((Y115*X115)/W115)), 0,ABS((Y115*X115)/W115))","v":0},{"$f":"IF(ISERROR(IF(AA115>Z115,Z115,AA115)), 0,IF(AA115>Z115,Z115,AA115))","v":0},{"$f":"IF(ISERROR(IF(Y115>W115,W115,Y115)), 0,IF(Y115>W115,W115,Y115))","v":0},{"$f":"IF(ISERROR((AC115*AB115)/AA115), \"\",(AC115*AB115)/AA115)","v":""},{"$f":"IF(ISERROR(IF(AC115=W115,0,(AC115*AB115)/AA115)), \"\",IF(AC115=W115,0,(AC115*AB115)/AA115))","v":""},{"$f":"IF(ISERROR(IF(AC115=60,Q115+(AC115/T115),Q115+(AD115/T115))), \"\",IF(AC115=60,Q115+(AC115/T115),Q115+(AD115/T115)))","v":""}]
[{"$f":"F319","v":288.55769230769181},{"$f":"IF(AND(C115<D115, E115>$E$7),\"Ignore Drill Out Lead 1; rather pop out Lead 1 and LEAVE lead # 2 to \"&K115&\" inches.\",\"\")","v":""},null,null,null,null,null,null,null,null,null,null,null,{"$f":"IF(ISERROR(IF(ISERROR((G115+J115+M115)/$E$10*$E$7), 0,(G115+J115+M115)/$E$10*$E$7)), 0,IF(ISERROR((G115+J115+M115)/$E$10*$E$7), 0,(G115+J115+M115)/$E$10*$E$7))","v":0},{"$f":"A116","v":288.55769230769181},{"$f":"L115","v":0},{"$f":"IF(ISERROR(IF(AC115=W115,Q115+(AC115/T115),Q115+(AD115/T115))), \"\",IF(AC115=W115,Q115+(AC115/T115),Q115+(AD115/T115)))","v":""},{"$f":"D115","v":51},{"$f":"IF(ISERROR(Q116-R116), 0,Q116-R116)","v":0},0,{"$f":"IF(ISERROR(S116*T116), \"\",S116*T116)","v":0},0,14.2,0.4,{"$f":"IF(ISERROR(ABS(U116)), \"\",ABS(U116))","v":0},0.15000000000000002,{"$f":"IF(ISERROR(ABS((Y116*X116)/W116)), \"\",ABS((Y116*X116)/W116))","v":0},{"$f":"IF(ISERROR(IF(AA116>Z116,Z116,AA116)), \"\",IF(AA116>Z116,Z116,AA116))","v":0},{"$f":"IF(ISERROR(IF(Y116>W116,W116,Y116)), \"\",IF(Y116>W116,W116,Y116))","v":0},{"$f":"IF(ISERROR((AC116*AB116)/AA116), \"\",(AC116*AB116)/AA116)","v":""},{"$f":"IF(ISERROR(IF(AC116=W116,0,(AC116*AB116)/AA116)), \"\",IF(AC116=W116,0,(AC116*AB116)/AA116))","v":""},{"$f":"IF(ISERROR(IF(AC116=60,Q116+(AC116/T116),Q116+(AD116/T116))), \"\",IF(AC116=60,Q116+(AC116/T116),Q116+(AD116/T116)))","v":""}]
[null,null,"Test","Target",null,1,"dr_o","Lv_in",2,"dr_o","Lv_in",3,"dr_o","Lv_in",{"$f":"A119","v":266.5},{"$f":"F118","v":0},{"$f":"C118","v":62},{"$f":"D118","v":51},{"$f":"Q117-R117","v":11},0,{"$f":"IF(ISERROR(IF(ISERROR(IF(ISERROR(IF(ISERROR(S117*T117), 0,S117*T117)), 0,IF(ISERROR(S117*T117), 0,S117*T117))), 0,IF(ISERROR(IF(ISERROR(S117*T117), 0,S117*T117)), 0,IF(ISERROR(S117*T117), 0,S117*T117)))), 0,IF(ISERROR(IF(ISERROR(IF(ISERROR(S117*T117), 0,S117*T117)), 0,IF(ISERROR(S117*T117), 0,S117*T117))), 0,IF(ISERROR(IF(ISERROR(S117*T117), 0,S117*T117)), 0,IF(ISERROR(S117*T117), 0,S117*T117))))","v":0},0,14.2,0.4,{"$f":"IF(ISERROR(IF(ISERROR(IF(ISERROR(ABS(U117)), 0,ABS(U117))), 0,IF(ISERROR(ABS(U117)), 0,ABS(U117)))), 0,IF(ISERROR(IF(ISERROR(ABS(U117)), 0,ABS(U117))), 0,IF(ISERROR(ABS(U117)), 0,ABS(U117))))","v":0},0.15000000000000002,{"$f":"IF(ISERROR(IF(ISERROR(IF(ISERROR(ABS((Y117*X117)/W117)), 0,ABS((Y117*X117)/W117))), 0,IF(ISERROR(ABS((Y117*X117)/W117)), 0,ABS((Y117*X117)/W117)))), 0,IF(ISERROR(IF(ISERROR(ABS((Y117*X117)/W117)), 0,ABS((Y117*X117)/W117))), 0,IF(ISERROR(ABS((Y117*X117)/W117)), 0,ABS((Y117*X117)/W117))))","v":0},{"$f":"IF(ISERROR(IF(ISERROR(IF(ISERROR(IF(AA117>Z117,Z117,AA117)), 0,IF(AA117>Z117,Z117,AA117))), 0,IF(ISERROR(IF(AA117>Z117,Z117,AA117)), 0,IF(AA117>Z117,Z117,AA117)))), 0,IF(ISERROR(IF(ISERROR(IF(AA117>Z117,Z117,AA117)), 0,IF(AA117>Z117,Z117,AA117))), 0,IF(ISERROR(IF(AA117>Z117,Z117,AA117)), 0,IF(AA117>Z117,Z117,AA117))))","v":0},{"$f":"IF(ISERROR(IF(ISERROR(IF(ISERROR(IF(Y117>W117,W117,Y117)), 0,IF(Y117>W117,W117,Y117))), 0,IF(ISERROR(IF(Y117>W117,W117,Y117)), 0,IF(Y117>W117,W117,Y117)))), 0,IF(ISERROR(IF(ISERROR(IF(Y117>W117,W117,Y117)), 0,IF(Y117>W117,W117,Y117))), 0,IF(ISERROR(IF(Y117>W117,W117,Y117)), 0,IF(Y117>W117,W117,Y117))))","v":0},{"$f":"IF(ISERROR(IF(ISERROR(IF(ISERROR(IF(ISERROR((AC117*AB117)/AA117), 0,(AC117*AB117)/AA117)), 0,IF(ISERROR((AC117*AB117)/AA117), 0,(AC117*AB117)/AA117))), 0,IF(ISERROR(IF(ISERROR((AC117*AB117)/AA117), 0,(AC117*AB117)/AA117)), 0,IF(ISERROR((AC117*AB117)/AA117), 0,(AC117*AB117)/AA117)))), 0,IF(ISERROR(IF(ISERROR(IF(ISERROR((AC117*AB117)/AA117), 0,(AC117*AB117)/AA117)), 0,IF(ISERROR((AC117*AB117)/AA117), 0,(AC117*AB117)/AA117))), 0,IF(ISERROR(IF(ISERROR((AC117*AB117)/AA117), 0,(AC117*AB117)/AA117)), 0,IF(ISERROR((AC117*AB117)/AA117), 0,(AC117*AB117)/AA117))))","v":0},{"$f":"IF(ISERROR(IF(ISERROR(IF(ISERROR(IF(AC117=W117,0,(AC117*AB117)/AA117)), 0,IF(AC117=W117,0,(AC117*AB117)/AA117))), 0,IF(ISERROR(IF(AC117=W117,0,(AC117*AB117)/AA117)), 0,IF(AC117=W117,0,(AC117*AB117)/AA117)))), 0,IF(ISERROR(IF(ISERROR(IF(AC117=W117,0,(AC117*AB117)/AA117)), 0,IF(AC117=W117,0,(AC117*AB117)/AA117))), 0,IF(ISERROR(IF(AC117=W117,0,(AC117*AB117)/AA117)), 0,IF(AC117=W117,0,(AC117*AB117)/AA117))))","v":0},{"$f":"IF(ISERROR(IF(ISERROR(IF(AC117=60,Q117+(AC117/T117),Q117+(AD117/T117))), 0,IF(AC117=60,Q117+(AC117/T117),Q117+(AD117/T117)))), 0,IF(ISERROR(IF(AC117=60,Q117+(AC117/T117),Q117+(AD117/T117))), 0,IF(AC117=60,Q117+(AC117/T117),Q117+(AD117/T117))))","v":0}]
["F#",34,62,51,{"$f":"IF(ISERROR(IF(ISERROR(IF(ISERROR(Y117), 0,Y117)), 0,IF(ISERROR(Y117), 0,Y117))), 0,IF(ISERROR(IF(ISERROR(Y117), 0,Y117)), 0,IF(ISERROR(Y117), 0,Y117)))","v":0},null,{"$f":"IF(ISERROR(IF(ISERROR(IF(ISERROR(AB117), 0,AB117)), 0,IF(ISERROR(AB117), 0,AB117))), 0,IF(ISERROR(IF(ISERROR(AB117), 0,AB117)), 0,IF(ISERROR(AB117), 0,AB117)))","v":0},{"$f":"IF(ISERROR(IF(ISERROR(IF(ISERROR($E$10-G118), 0,$E$10-G118)), 0,IF(ISERROR($E$10-G118), 0,$E$10-G118))), 0,IF(ISERROR(IF(ISERROR($E$10-G118), 0,$E$10-G118)), 0,IF(ISERROR($E$10-G118), 0,$E$10-G118)))","v":0.4},null,{"$f":"IF(ISERROR(IF(ISERROR(AB118), 0,AB118)), 0,IF(ISERROR(AB118), 0,AB118))","v":0},{"$f":"IF(ISERROR(IF(ISERROR(ROUND($E$10-J118,3)), 0,ROUND($E$10-J118,3))), 0,IF(ISERROR(ROUND($E$10-J118,3)), 0,ROUND($E$10-J118,3)))","v":0.4},null,{"$f":"IF(ISERROR(AB119), \"\",AB119)","v":0},{"$f":"IF(ISERROR($E$10-M118), \"\",$E$10-M118)","v":0.4},{"$f":"A119","v":266.5},{"$f":"I118","v":0},{"$f":"IF(ISERROR(IF(ISERROR(IF(AC117=W117,Q117+(AC117/T117),Q117+(AD117/T117))), 0,IF(AC117=W117,Q117+(AC117/T117),Q117+(AD117/T117)))), 0,IF(ISERROR(IF(AC117=W117,Q117+(AC117/T117),Q117+(AD117/T117))), 0,IF(AC117=W117,Q117+(AC117/T117),Q117+(AD117/T117))))","v":0},{"$f":"D118","v":51},{"$f":"IF(ISERROR(IF(ISERROR(Q118-R118), 0,Q118-R118)), 0,IF(ISERROR(Q118-R118), 0,Q118-R118))","v":-51},0,{"$f":"IF(ISERROR(IF(ISERROR(S118*T118), 0,S118*T118)), 0,IF(ISERROR(S118*T118), 0,S118*T118))","v":0},0,14.2,0.4,{"$f":"IF(ISERROR(IF(ISERROR(ABS(U118)), 0,ABS(U118))), 0,IF(ISERROR(ABS(U118)), 0,ABS(U118)))","v":0},0.15000000000000002,{"$f":"IF(ISERROR(IF(ISERROR(ABS((Y118*X118)/W118)), 0,ABS((Y118*X118)/W118))), 0,IF(ISERROR(ABS((Y118*X118)/W118)), 0,ABS((Y118*X118)/W118)))","v":0},{"$f":"IF(ISERROR(IF(ISERROR(IF(AA118>Z118,Z118,AA118)), 0,IF(AA118>Z118,Z118,AA118))), 0,IF(ISERROR(IF(AA118>Z118,Z118,AA118)), 0,IF(AA118>Z118,Z118,AA118)))","v":0},{"$f":"IF(ISERROR(IF(ISERROR(IF(Y118>W118,W118,Y118)), 0,IF(Y118>W118,W118,Y118))), 0,IF(ISERROR(IF(Y118>W118,W118,Y118)), 0,IF(Y118>W118,W118,Y118)))","v":0},{"$f":"IF(ISERROR((AC118*AB118)/AA118), \"\",(AC118*AB118)/AA118)","v":""},{"$f":"IF(ISERROR(IF(AC118=W118,0,(AC118*AB118)/AA118)), \"\",IF(AC118=W118,0,(AC118*AB118)/AA118))","v":""},{"$f":"IF(ISERROR(IF(AC118=60,Q118+(AC118/T118),Q118+(AD118/T118))), \"\",IF(AC118=60,Q118+(AC118/T118),Q118+(AD118/T118)))","v":""}]
[{"$f":"R313","v":266.5},{"$f":"IF(AND(C118<D118, E118>$E$7),\"Ignore Drill Out Lead 1; rather pop out Lead 1 and LEAVE lead # 2 to \"&K118&\" inches.\",\"\")","v":""},null,null,null,null,null,null,null,null,null,null,null,{"$f":"IF(ISERROR(IF(ISERROR((G118+J118+M118)/$E$10*$E$7), 0,(G118+J118+M118)/$E$10*$E$7)), 0,IF(ISERROR((G118+J118+M118)/$E$10*$E$7), 0,(G118+J118+M118)/$E$10*$E$7))","v":0},{"$f":"A119","v":266.5},{"$f":"L118","v":0},{"$f":"IF(ISERROR(IF(AC118=W118,Q118+(AC118/T118),Q118+(AD118/T118))), \"\",IF(AC118=W118,Q118+(AC118/T118),Q118+(AD118/T118)))","v":""},{"$f":"D118","v":51},{"$f":"IF(ISERROR(Q119-R119), 0,Q119-R119)","v":0},0,{"$f":"IF(ISERROR(S119*T119), \"\",S119*T119)","v":0},0,14.2,0.4,{"$f":"IF(ISERROR(ABS(U119)), \"\",ABS(U119))","v":0},0.15000000000000002,{"$f":"IF(ISERROR(ABS((Y119*X119)/W119)), \"\",ABS((Y119*X119)/W119))","v":0},{"$f":"IF(ISERROR(IF(AA119>Z119,Z119,AA119)), \"\",IF(AA119>Z119,Z119,AA119))","v":0},{"$f":"IF(ISERROR(IF(Y119>W119,W119,Y119)), \"\",IF(Y119>W119,W119,Y119))","v":0},{"$f":"IF(ISERROR((AC119*AB119)/AA119), \"\",(AC119*AB119)/AA119)","v":""},{"$f":"IF(ISERROR(IF(AC119=W119,0,(AC119*AB119)/AA119)), \"\",IF(AC119=W119,0,(AC119*AB119)/AA119))","v":""},{"$f":"IF(ISERROR(IF(AC119=60,Q119+(AC119/T119),Q119+(AD119/T119))), \"\",IF(AC119=60,Q119+(AC119/T119),Q119+(AD119/T119)))","v":""}]
[null,null,"Test","Target",null,1,"dr_o","Lv_in",2,"dr_o","Lv_in",3,"dr_o","Lv_in",{"$f":"A122","v":287.19230769230717},{"$f":"F121","v":0},{"$f":"C121","v":54},{"$f":"D121","v":51},{"$f":"Q120-R120","v":3},0,{"$f":"IF(ISERROR(IF(ISERROR(IF(ISERROR(IF(ISERROR(S120*T120), 0,S120*T120)), 0,IF(ISERROR(S120*T120), 0,S120*T120))), 0,IF(ISERROR(IF(ISERROR(S120*T120), 0,S120*T120)), 0,IF(ISERROR(S120*T120), 0,S120*T120)))), 0,IF(ISERROR(IF(ISERROR(IF(ISERROR(S120*T120), 0,S120*T120)), 0,IF(ISERROR(S120*T120), 0,S120*T120))), 0,IF(ISERROR(IF(ISERROR(S120*T120), 0,S120*T120)), 0,IF(ISERROR(S120*T120), 0,S120*T120))))","v":0},0,14.2,0.4,{"$f":"IF(ISERROR(IF(ISERROR(IF(ISERROR(ABS(U120)), 0,ABS(U120))), 0,IF(ISERROR(ABS(U120)), 0,ABS(U120)))), 0,IF(ISERROR(IF(ISERROR(ABS(U120)), 0,ABS(U120))), 0,IF(ISERROR(ABS(U120)), 0,ABS(U120))))","v":0},0.15000000000000002,{"$f":"IF(ISERROR(IF(ISERROR(IF(ISERROR(ABS((Y120*X120)/W120)), 0,ABS((Y120*X120)/W120))), 0,IF(ISERROR(ABS((Y120*X120)/W120)), 0,ABS((Y120*X120)/W120)))), 0,IF(ISERROR(IF(ISERROR(ABS((Y120*X120)/W120)), 0,ABS((Y120*X120)/W120))), 0,IF(ISERROR(ABS((Y120*X120)/W120)), 0,ABS((Y120*X120)/W120))))","v":0},{"$f":"IF(ISERROR(IF(ISERROR(IF(ISERROR(IF(AA120>Z120,Z120,AA120)), 0,IF(AA120>Z120,Z120,AA120))), 0,IF(ISERROR(IF(AA120>Z120,Z120,AA120)), 0,IF(AA120>Z120,Z120,AA120)))), 0,IF(ISERROR(IF(ISERROR(IF(AA120>Z120,Z120,AA120)), 0,IF(AA120>Z120,Z120,AA120))), 0,IF(ISERROR(IF(AA120>Z120,Z120,AA120)), 0,IF(AA120>Z120,Z120,AA120))))","v":0},{"$f":"IF(ISERROR(IF(ISERROR(IF(ISERROR(IF(Y120>W120,W120,Y120)), 0,IF(Y120>W120,W120,Y120))), 0,IF(ISERROR(IF(Y120>W120,W120,Y120)), 0,IF(Y120>W120,W120,Y120)))), 0,IF(ISERROR(IF(ISERROR(IF(Y120>W120,W120,Y120)), 0,IF(Y120>W120,W120,Y120))), 0,IF(ISERROR(IF(Y120>W120,W120,Y120)), 0,IF(Y120>W120,W120,Y120))))","v":0},{"$f":"IF(ISERROR(IF(ISERROR(IF(ISERROR(IF(ISERROR((AC120*AB120)/AA120), 0,(AC120*AB120)/AA120)), 0,IF(ISERROR((AC120*AB120)/AA120), 0,(AC120*AB120)/AA120))), 0,IF(ISERROR(IF(ISERROR((AC120*AB120)/AA120), 0,(AC120*AB120)/AA120)), 0,IF(ISERROR((AC120*AB120)/AA120), 0,(AC120*AB120)/AA120)))), 0,IF(ISERROR(IF(ISERROR(IF(ISERROR((AC120*AB120)/AA120), 0,(AC120*AB120)/AA120)), 0,IF(ISERROR((AC120*AB120)/AA120), 0,(AC120*AB120)/AA120))), 0,IF(ISERROR(IF(ISERROR((AC120*AB120)/AA120), 0,(AC120*AB120)/AA120)), 0,IF(ISERROR((AC120*AB120)/AA120), 0,(AC120*AB120)/AA120))))","v":0},{"$f":"IF(ISERROR(IF(ISERROR(IF(ISERROR(IF(AC120=W120,0,(AC120*AB120)/AA120)), 0,IF(AC120=W120,0,(AC120*AB120)/AA120))), 0,IF(ISERROR(IF(AC120=W120,0,(AC120*AB120)/AA120)), 0,IF(AC120=W120,0,(AC120*AB120)/AA120)))), 0,IF(ISERROR(IF(ISERROR(IF(AC120=W120,0,(AC120*AB120)/AA120)), 0,IF(AC120=W120,0,(AC120*AB120)/AA120))), 0,IF(ISERROR(IF(AC120=W120,0,(AC120*AB120)/AA120)), 0,IF(AC120=W120,0,(AC120*AB120)/AA120))))","v":0},{"$f":"IF(ISERROR(IF(ISERROR(IF(AC120=60,Q120+(AC120/T120),Q120+(AD120/T120))), 0,IF(AC120=60,Q120+(AC120/T120),Q120+(AD120/T120)))), 0,IF(ISERROR(IF(AC120=60,Q120+(AC120/T120),Q120+(AD120/T120))), 0,IF(AC120=60,Q120+(AC120/T120),Q120+(AD120/T120))))","v":0}]
["G",35,54,51,{"$f":"IF(ISERROR(IF(ISERROR(IF(ISERROR(Y120), 0,Y120)), 0,IF(ISERROR(Y120), 0,Y120))), 0,IF(ISERROR(IF(ISERROR(Y120), 0,Y120)), 0,IF(ISERROR(Y120), 0,Y120)))","v":0},null,{"$f":"IF(ISERROR(IF(ISERROR(IF(ISERROR(AB120), 0,AB120)), 0,IF(ISERROR(AB120), 0,AB120))), 0,IF(ISERROR(IF(ISERROR(AB120), 0,AB120)), 0,IF(ISERROR(AB120), 0,AB120)))","v":0},{"$f":"IF(ISERROR(IF(ISERROR(IF(ISERROR($E$10-G121), 0,$E$10-G121)), 0,IF(ISERROR($E$10-G121), 0,$E$10-G121))), 0,IF(ISERROR(IF(ISERROR($E$10-G121), 0,$E$10-G121)), 0,IF(ISERROR($E$10-G121), 0,$E$10-G121)))","v":0.4},null,{"$f":"IF(ISERROR(IF(ISERROR(AB121), 0,AB121)), 0,IF(ISERROR(AB121), 0,AB121))","v":0},{"$f":"IF(ISERROR(IF(ISERROR(ROUND($E$10-J121,3)), 0,ROUND($E$10-J121,3))), 0,IF(ISERROR(ROUND($E$10-J121,3)), 0,ROUND($E$10-J121,3)))","v":0.4},null,{"$f":"IF(ISERROR(AB122), \"\",AB122)","v":0},{"$f":"IF(ISERROR($E$10-M121), \"\",$E$10-M121)","v":0.4},{"$f":"A122","v":287.19230769230717},{"$f":"I121","v":0},{"$f":"IF(ISERROR(IF(ISERROR(IF(AC120=W120,Q120+(AC120/T120),Q120+(AD120/T120))), 0,IF(AC120=W120,Q120+(AC120/T120),Q120+(AD120/T120)))), 0,IF(ISERROR(IF(AC120=W120,Q120+(AC120/T120),Q120+(AD120/T120))), 0,IF(AC120=W120,Q120+(AC120/T120),Q120+(AD120/T120))))","v":0},{"$f":"D121","v":51},{"$f":"IF(ISERROR(IF(ISERROR(Q121-R121), 0,Q121-R121)), 0,IF(ISERROR(Q121-R121), 0,Q121-R121))","v":-51},0,{"$f":"IF(ISERROR(IF(ISERROR(S121*T121), 0,S121*T121)), 0,IF(ISERROR(S121*T121), 0,S121*T121))","v":0},0,14.2,0.4,{"$f":"IF(ISERROR(IF(ISERROR(ABS(U121)), 0,ABS(U121))), 0,IF(ISERROR(ABS(U121)), 0,ABS(U121)))","v":0},0.15000000000000002,{"$f":"IF(ISERROR(IF(ISERROR(ABS((Y121*X121)/W121)), 0,ABS((Y121*X121)/W121))), 0,IF(ISERROR(ABS((Y121*X121)/W121)), 0,ABS((Y121*X121)/W121)))","v":0},{"$f":"IF(ISERROR(IF(ISERROR(IF(AA121>Z121,Z121,AA121)), 0,IF(AA121>Z121,Z121,AA121))), 0,IF(ISERROR(IF(AA121>Z121,Z121,AA121)), 0,IF(AA121>Z121,Z121,AA121)))","v":0},{"$f":"IF(ISERROR(IF(ISERROR(IF(Y121>W121,W121,Y121)), 0,IF(Y121>W121,W121,Y121))), 0,IF(ISERROR(IF(Y121>W121,W121,Y121)), 0,IF(Y121>W121,W121,Y121)))","v":0},{"$f":"IF(ISERROR((AC121*AB121)/AA121), \"\",(AC121*AB121)/AA121)","v":""},{"$f":"IF(ISERROR(IF(AC121=W121,0,(AC121*AB121)/AA121)), \"\",IF(AC121=W121,0,(AC121*AB121)/AA121))","v":""},{"$f":"IF(ISERROR(IF(AC121=60,Q121+(AC121/T121),Q121+(AD121/T121))), \"\",IF(AC121=60,Q121+(AC121/T121),Q121+(AD121/T121)))","v":""}]
[{"$f":"F320","v":287.19230769230717},{"$f":"IF(AND(C121<D121, E121>$E$7),\"Ignore Drill Out Lead 1; rather pop out Lead 1 and LEAVE lead # 2 to \"&K121&\" inches.\",\"\")","v":""},null,null,null,null,null,null,null,null,null,null,null,{"$f":"IF(ISERROR(IF(ISERROR((G121+J121+M121)/$E$10*$E$7), 0,(G121+J121+M121)/$E$10*$E$7)), 0,IF(ISERROR((G121+J121+M121)/$E$10*$E$7), 0,(G121+J121+M121)/$E$10*$E$7))","v":0},{"$f":"A122","v":287.19230769230717},{"$f":"L121","v":0},{"$f":"IF(ISERROR(IF(AC121=W121,Q121+(AC121/T121),Q121+(AD121/T121))), \"\",IF(AC121=W121,Q121+(AC121/T121),Q121+(AD121/T121)))","v":""},{"$f":"D121","v":51},{"$f":"IF(ISERROR(Q122-R122), 0,Q122-R122)","v":0},{"$f":"IF(ISERROR((O122/P122)), 0,(O122/P122))","v":0},{"$f":"IF(ISERROR(S122*T122), \"\",S122*T122)","v":0},{"$f":"IF(ISERROR(IF(ISERROR(O122/T122), 0,O122/T122)), 0,IF(ISERROR(O122/T122), 0,O122/T122))","v":0},14.2,0.4,{"$f":"IF(ISERROR(ABS(U122)), \"\",ABS(U122))","v":0},0.15000000000000002,{"$f":"IF(ISERROR(ABS((Y122*X122)/W122)), \"\",ABS((Y122*X122)/W122))","v":0},{"$f":"IF(ISERROR(IF(AA122>Z122,Z122,AA122)), \"\",IF(AA122>Z122,Z122,AA122))","v":0},{"$f":"IF(ISERROR(IF(Y122>W122,W122,Y122)), \"\",IF(Y122>W122,W122,Y122))","v":0},{"$f":"IF(ISERROR((AC122*AB122)/AA122), \"\",(AC122*AB122)/AA122)","v":""},{"$f":"IF(ISERROR(IF(AC122=W122,0,(AC122*AB122)/AA122)), \"\",IF(AC122=W122,0,(AC122*AB122)/AA122))","v":""},{"$f":"IF(ISERROR(IF(AC122=60,Q122+(AC122/T122),Q122+(AD122/T122))), \"\",IF(AC122=60,Q122+(AC122/T122),Q122+(AD122/T122)))","v":""}]
[null,null,"Test","Target",null,1,"dr_o","Lv_in",2,"dr_o","Lv_in",3,"dr_o","Lv_in",{"$f":"A125","v":265.5},{"$f":"F124","v":0},{"$f":"C124","v":52},{"$f":"D124","v":51},{"$f":"Q123-R123","v":1},{"$f":"IF(ISERROR(IF(ISERROR(IF(ISERROR(IF(ISERROR((O123/P123)), 0,(O123/P123))), 0,IF(ISERROR((O123/P123)), 0,(O123/P123)))), 0,IF(ISERROR(IF(ISERROR((O123/P123)), 0,(O123/P123))), 0,IF(ISERROR((O123/P123)), 0,(O123/P123))))), 0,IF(ISERROR(IF(ISERROR(IF(ISERROR((O123/P123)), 0,(O123/P123))), 0,IF(ISERROR((O123/P123)), 0,(O123/P123)))), 0,IF(ISERROR(IF(ISERROR((O123/P123)), 0,(O123/P123))), 0,IF(ISERROR((O123/P123)), 0,(O123/P123)))))","v":0},{"$f":"IF(ISERROR(IF(ISERROR(IF(ISERROR(IF(ISERROR(S123*T123), 0,S123*T123)), 0,IF(ISERROR(S123*T123), 0,S123*T123))), 0,IF(ISERROR(IF(ISERROR(S123*T123), 0,S123*T123)), 0,IF(ISERROR(S123*T123), 0,S123*T123)))), 0,IF(ISERROR(IF(ISERROR(IF(ISERROR(S123*T123), 0,S123*T123)), 0,IF(ISERROR(S123*T123), 0,S123*T123))), 0,IF(ISERROR(IF(ISERROR(S123*T123), 0,S123*T123)), 0,IF(ISERROR(S123*T123), 0,S123*T123))))","v":0},{"$f":"IF(ISERROR(IF(ISERROR(IF(ISERROR(IF(ISERROR(O123/T123), 0,O123/T123)), 0,IF(ISERROR(O123/T123), 0,O123/T123))), 0,IF(ISERROR(IF(ISERROR(O123/T123), 0,O123/T123)), 0,IF(ISERROR(O123/T123), 0,O123/T123)))), 0,IF(ISERROR(IF(ISERROR(IF(ISERROR(O123/T123), 0,O123/T123)), 0,IF(ISERROR(O123/T123), 0,O123/T123))), 0,IF(ISERROR(IF(ISERROR(O123/T123), 0,O123/T123)), 0,IF(ISERROR(O123/T123), 0,O123/T123))))","v":0},14.2,0.4,{"$f":"IF(ISERROR(IF(ISERROR(IF(ISERROR(ABS(U123)), 0,ABS(U123))), 0,IF(ISERROR(ABS(U123)), 0,ABS(U123)))), 0,IF(ISERROR(IF(ISERROR(ABS(U123)), 0,ABS(U123))), 0,IF(ISERROR(ABS(U123)), 0,ABS(U123))))","v":0},0.15000000000000002,{"$f":"IF(ISERROR(IF(ISERROR(IF(ISERROR(ABS((Y123*X123)/W123)), 0,ABS((Y123*X123)/W123))), 0,IF(ISERROR(ABS((Y123*X123)/W123)), 0,ABS((Y123*X123)/W123)))), 0,IF(ISERROR(IF(ISERROR(ABS((Y123*X123)/W123)), 0,ABS((Y123*X123)/W123))), 0,IF(ISERROR(ABS((Y123*X123)/W123)), 0,ABS((Y123*X123)/W123))))","v":0},{"$f":"IF(ISERROR(IF(ISERROR(IF(ISERROR(IF(AA123>Z123,Z123,AA123)), 0,IF(AA123>Z123,Z123,AA123))), 0,IF(ISERROR(IF(AA123>Z123,Z123,AA123)), 0,IF(AA123>Z123,Z123,AA123)))), 0,IF(ISERROR(IF(ISERROR(IF(AA123>Z123,Z123,AA123)), 0,IF(AA123>Z123,Z123,AA123))), 0,IF(ISERROR(IF(AA123>Z123,Z123,AA123)), 0,IF(AA123>Z123,Z123,AA123))))","v":0},{"$f":"IF(ISERROR(IF(ISERROR(IF(ISERROR(IF(Y123>W123,W123,Y123)), 0,IF(Y123>W123,W123,Y123))), 0,IF(ISERROR(IF(Y123>W123,W123,Y123)), 0,IF(Y123>W123,W123,Y123)))), 0,IF(ISERROR(IF(ISERROR(IF(Y123>W123,W123,Y123)), 0,IF(Y123>W123,W123,Y123))), 0,IF(ISERROR(IF(Y123>W123,W123,Y123)), 0,IF(Y123>W123,W123,Y123))))","v":0},{"$f":"IF(ISERROR(IF(ISERROR(IF(ISERROR(IF(ISERROR((AC123*AB123)/AA123), 0,(AC123*AB123)/AA123)), 0,IF(ISERROR((AC123*AB123)/AA123), 0,(AC123*AB123)/AA123))), 0,IF(ISERROR(IF(ISERROR((AC123*AB123)/AA123), 0,(AC123*AB123)/AA123)), 0,IF(ISERROR((AC123*AB123)/AA123), 0,(AC123*AB123)/AA123)))), 0,IF(ISERROR(IF(ISERROR(IF(ISERROR((AC123*AB123)/AA123), 0,(AC123*AB123)/AA123)), 0,IF(ISERROR((AC123*AB123)/AA123), 0,(AC123*AB123)/AA123))), 0,IF(ISERROR(IF(ISERROR((AC123*AB123)/AA123), 0,(AC123*AB123)/AA123)), 0,IF(ISERROR((AC123*AB123)/AA123), 0,(AC123*AB123)/AA123))))","v":0},{"$f":"IF(ISERROR(IF(ISERROR(IF(ISERROR(IF(AC123=W123,0,(AC123*AB123)/AA123)), 0,IF(AC123=W123,0,(AC123*AB123)/AA123))), 0,IF(ISERROR(IF(AC123=W123,0,(AC123*AB123)/AA123)), 0,IF(AC123=W123,0,(AC123*AB123)/AA123)))), 0,IF(ISERROR(IF(ISERROR(IF(AC123=W123,0,(AC123*AB123)/AA123)), 0,IF(AC123=W123,0,(AC123*AB123)/AA123))), 0,IF(ISERROR(IF(AC123=W123,0,(AC123*AB123)/AA123)), 0,IF(AC123=W123,0,(AC123*AB123)/AA123))))","v":0},{"$f":"IF(ISERROR(IF(ISERROR(IF(AC123=60,Q123+(AC123/T123),Q123+(AD123/T123))), 0,IF(AC123=60,Q123+(AC123/T123),Q123+(AD123/T123)))), 0,IF(ISERROR(IF(AC123=60,Q123+(AC123/T123),Q123+(AD123/T123))), 0,IF(AC123=60,Q123+(AC123/T123),Q123+(AD123/T123))))","v":0}]
["G#",36,52,51,{"$f":"IF(ISERROR(IF(ISERROR(IF(ISERROR(Y123), 0,Y123)), 0,IF(ISERROR(Y123), 0,Y123))), 0,IF(ISERROR(IF(ISERROR(Y123), 0,Y123)), 0,IF(ISERROR(Y123), 0,Y123)))","v":0},null,{"$f":"IF(ISERROR(IF(ISERROR(IF(ISERROR(AB123), 0,AB123)), 0,IF(ISERROR(AB123), 0,AB123))), 0,IF(ISERROR(IF(ISERROR(AB123), 0,AB123)), 0,IF(ISERROR(AB123), 0,AB123)))","v":0},{"$f":"IF(ISERROR(IF(ISERROR(IF(ISERROR($E$10-G124), 0,$E$10-G124)), 0,IF(ISERROR($E$10-G124), 0,$E$10-G124))), 0,IF(ISERROR(IF(ISERROR($E$10-G124), 0,$E$10-G124)), 0,IF(ISERROR($E$10-G124), 0,$E$10-G124)))","v":0.4},null,{"$f":"IF(ISERROR(AB124), \"\",AB124)","v":0},{"$f":"IF(ISERROR(ROUND($E$10-J124,3)), \"\",ROUND($E$10-J124,3))","v":0.4},null,{"$f":"IF(ISERROR(AB125), \"\",AB125)","v":0},{"$f":"IF(ISERROR($E$10-M124), \"\",$E$10-M124)","v":0.4},{"$f":"A125","v":265.5},{"$f":"I124","v":0},{"$f":"IF(ISERROR(IF(ISERROR(IF(AC123=W123,Q123+(AC123/T123),Q123+(AD123/T123))), 0,IF(AC123=W123,Q123+(AC123/T123),Q123+(AD123/T123)))), 0,IF(ISERROR(IF(AC123=W123,Q123+(AC123/T123),Q123+(AD123/T123))), 0,IF(AC123=W123,Q123+(AC123/T123),Q123+(AD123/T123))))","v":0},{"$f":"D124","v":51},{"$f":"IF(ISERROR(IF(ISERROR(Q124-R124), 0,Q124-R124)), 0,IF(ISERROR(Q124-R124), 0,Q124-R124))","v":-51},{"$f":"IF(ISERROR(IF(ISERROR(IF(ISERROR(IF(ISERROR((O124/P124)), 0,(O124/P124))), 0,IF(ISERROR((O124/P124)), 0,(O124/P124)))), 0,IF(ISERROR(IF(ISERROR((O124/P124)), 0,(O124/P124))), 0,IF(ISERROR((O124/P124)), 0,(O124/P124))))), 0,IF(ISERROR(IF(ISERROR(IF(ISERROR((O124/P124)), 0,(O124/P124))), 0,IF(ISERROR((O124/P124)), 0,(O124/P124)))), 0,IF(ISERROR(IF(ISERROR((O124/P124)), 0,(O124/P124))), 0,IF(ISERROR((O124/P124)), 0,(O124/P124)))))","v":0},{"$f":"IF(ISERROR(IF(ISERROR(S124*T124), 0,S124*T124)), 0,IF(ISERROR(S124*T124), 0,S124*T124))","v":0},{"$f":"IF(ISERROR(IF(ISERROR(IF(ISERROR(IF(ISERROR(O124/T124), 0,O124/T124)), 0,IF(ISERROR(O124/T124), 0,O124/T124))), 0,IF(ISERROR(IF(ISERROR(O124/T124), 0,O124/T124)), 0,IF(ISERROR(O124/T124), 0,O124/T124)))), 0,IF(ISERROR(IF(ISERROR(IF(ISERROR(O124/T124), 0,O124/T124)), 0,IF(ISERROR(O124/T124), 0,O124/T124))), 0,IF(ISERROR(IF(ISERROR(O124/T124), 0,O124/T124)), 0,IF(ISERROR(O124/T124), 0,O124/T124))))","v":0},14.2,0.4,{"$f":"IF(ISERROR(IF(ISERROR(ABS(U124)), 0,ABS(U124))), 0,IF(ISERROR(ABS(U124)), 0,ABS(U124)))","v":0},0.15000000000000002,{"$f":"IF(ISERROR(IF(ISERROR(ABS((Y124*X124)/W124)), 0,ABS((Y124*X124)/W124))), 0,IF(ISERROR(ABS((Y124*X124)/W124)), 0,ABS((Y124*X124)/W124)))","v":0},{"$f":"IF(ISERROR(IF(ISERROR(IF(AA124>Z124,Z124,AA124)), 0,IF(AA124>Z124,Z124,AA124))), 0,IF(ISERROR(IF(AA124>Z124,Z124,AA124)), 0,IF(AA124>Z124,Z124,AA124)))","v":0},{"$f":"IF(ISERROR(IF(ISERROR(IF(Y124>W124,W124,Y124)), 0,IF(Y124>W124,W124,Y124))), 0,IF(ISERROR(IF(Y124>W124,W124,Y124)), 0,IF(Y124>W124,W124,Y124)))","v":0},{"$f":"IF(ISERROR((AC124*AB124)/AA124), \"\",(AC124*AB124)/AA124)","v":""},{"$f":"IF(ISERROR(IF(AC124=W124,0,(AC124*AB124)/AA124)), \"\",IF(AC124=W124,0,(AC124*AB124)/AA124))","v":""},{"$f":"IF(ISERROR(IF(AC124=60,Q124+(AC124/T124),Q124+(AD124/T124))), \"\",IF(AC124=60,Q124+(AC124/T124),Q124+(AD124/T124)))","v":""}]
[{"$f":"R314","v":265.5},{"$f":"IF(AND(C124<D124, E124>$E$7),\"Ignore Drill Out Lead 1; rather pop out Lead 1 and LEAVE lead # 2 to \"&K124&\" inches.\",\"\")","v":""},null,null,null,null,null,null,null,null,null,null,null,{"$f":"IF(ISERROR(IF(ISERROR((G124+J124+M124)/$E$10*$E$7), 0,(G124+J124+M124)/$E$10*$E$7)), 0,IF(ISERROR((G124+J124+M124)/$E$10*$E$7), 0,(G124+J124+M124)/$E$10*$E$7))","v":0},{"$f":"A125","v":265.5},{"$f":"L124","v":0},{"$f":"IF(ISERROR(IF(AC124=W124,Q124+(AC124/T124),Q124+(AD124/T124))), \"\",IF(AC124=W124,Q124+(AC124/T124),Q124+(AD124/T124)))","v":""},{"$f":"D124","v":51},{"$f":"IF(ISERROR(Q125-R125), 0,Q125-R125)","v":0},{"$f":"IF(ISERROR(IF(ISERROR(IF(ISERROR((O125/P125)), 0,(O125/P125))), 0,IF(ISERROR((O125/P125)), 0,(O125/P125)))), 0,IF(ISERROR(IF(ISERROR((O125/P125)), 0,(O125/P125))), 0,IF(ISERROR((O125/P125)), 0,(O125/P125))))","v":0},{"$f":"IF(ISERROR(S125*T125), \"\",S125*T125)","v":0},{"$f":"IF(ISERROR(IF(ISERROR(IF(ISERROR(IF(ISERROR(O125/T125), 0,O125/T125)), 0,IF(ISERROR(O125/T125), 0,O125/T125))), 0,IF(ISERROR(IF(ISERROR(O125/T125), 0,O125/T125)), 0,IF(ISERROR(O125/T125), 0,O125/T125)))), 0,IF(ISERROR(IF(ISERROR(IF(ISERROR(O125/T125), 0,O125/T125)), 0,IF(ISERROR(O125/T125), 0,O125/T125))), 0,IF(ISERROR(IF(ISERROR(O125/T125), 0,O125/T125)), 0,IF(ISERROR(O125/T125), 0,O125/T125))))","v":0},14.2,0.4,{"$f":"IF(ISERROR(ABS(U125)), \"\",ABS(U125))","v":0},0.15000000000000002,{"$f":"IF(ISERROR(ABS((Y125*X125)/W125)), \"\",ABS((Y125*X125)/W125))","v":0},{"$f":"IF(ISERROR(IF(AA125>Z125,Z125,AA125)), \"\",IF(AA125>Z125,Z125,AA125))","v":0},{"$f":"IF(ISERROR(IF(Y125>W125,W125,Y125)), \"\",IF(Y125>W125,W125,Y125))","v":0},{"$f":"IF(ISERROR((AC125*AB125)/AA125), \"\",(AC125*AB125)/AA125)","v":""},{"$f":"IF(ISERROR(IF(AC125=W125,0,(AC125*AB125)/AA125)), \"\",IF(AC125=W125,0,(AC125*AB125)/AA125))","v":""},{"$f":"IF(ISERROR(IF(AC125=60,Q125+(AC125/T125),Q125+(AD125/T125))), \"\",IF(AC125=60,Q125+(AC125/T125),Q125+(AD125/T125)))","v":""}]
[]
[null,null,"Gram Test","Desired DW","Total Lead to remove","Location mm","Drill Depth Inches","Leave this much lead","Location mm","Depth","Leave this much lead","Location mm","Depth","Leave this much lead",null,null,"delta DW","ddw","dif_dw","key_ro","reqd_ld","key_div","slugs","lead_wid","reqd_ld","max_drill","tot_drill","act_drill","lead_out","fac","slug_rmn","delta_DW"]
[null,"Key #","DW","DDW","Ld. Out","Lead 1","Drill Out ","LEAVE","2nd","Drill  ","LEAVE","3rd","Drill  ","LEAVE",{"$f":"A130","v":285.82692307692253},{"$f":"F129","v":0},{"$f":"C129","v":50},{"$f":"D129","v":50},{"$f":"Q128-R128","v":0},{"$f":"IF(ISERROR(IF(ISERROR(IF(ISERROR(IF(ISERROR((O128/P128)), 0,(O128/P128))), 0,IF(ISERROR((O128/P128)), 0,(O128/P128)))), 0,IF(ISERROR(IF(ISERROR((O128/P128)), 0,(O128/P128))), 0,IF(ISERROR((O128/P128)), 0,(O128/P128))))), 0,IF(ISERROR(IF(ISERROR(IF(ISERROR((O128/P128)), 0,(O128/P128))), 0,IF(ISERROR((O128/P128)), 0,(O128/P128)))), 0,IF(ISERROR(IF(ISERROR((O128/P128)), 0,(O128/P128))), 0,IF(ISERROR((O128/P128)), 0,(O128/P128)))))","v":0},{"$f":"IF(ISERROR(IF(ISERROR(IF(ISERROR(IF(ISERROR(S128*T128), 0,S128*T128)), 0,IF(ISERROR(S128*T128), 0,S128*T128))), 0,IF(ISERROR(IF(ISERROR(S128*T128), 0,S128*T128)), 0,IF(ISERROR(S128*T128), 0,S128*T128)))), 0,IF(ISERROR(IF(ISERROR(IF(ISERROR(S128*T128), 0,S128*T128)), 0,IF(ISERROR(S128*T128), 0,S128*T128))), 0,IF(ISERROR(IF(ISERROR(S128*T128), 0,S128*T128)), 0,IF(ISERROR(S128*T128), 0,S128*T128))))","v":0},{"$f":"IF(ISERROR(IF(ISERROR(IF(ISERROR(IF(ISERROR(O128/T128), 0,O128/T128)), 0,IF(ISERROR(O128/T128), 0,O128/T128))), 0,IF(ISERROR(IF(ISERROR(O128/T128), 0,O128/T128)), 0,IF(ISERROR(O128/T128), 0,O128/T128)))), 0,IF(ISERROR(IF(ISERROR(IF(ISERROR(O128/T128), 0,O128/T128)), 0,IF(ISERROR(O128/T128), 0,O128/T128))), 0,IF(ISERROR(IF(ISERROR(O128/T128), 0,O128/T128)), 0,IF(ISERROR(O128/T128), 0,O128/T128))))","v":0},{"$f":"$E$7","v":14.2},{"$f":"$E$10","v":0.4},{"$f":"IF(ISERROR(IF(ISERROR(IF(ISERROR(ABS(U128)), 0,ABS(U128))), 0,IF(ISERROR(ABS(U128)), 0,ABS(U128)))), 0,IF(ISERROR(IF(ISERROR(ABS(U128)), 0,ABS(U128))), 0,IF(ISERROR(ABS(U128)), 0,ABS(U128))))","v":0},{"$f":"$X$14-$G$11","v":0.15000000000000002},{"$f":"IF(ISERROR(IF(ISERROR(IF(ISERROR(ABS((Y128*X128)/W128)), 0,ABS((Y128*X128)/W128))), 0,IF(ISERROR(ABS((Y128*X128)/W128)), 0,ABS((Y128*X128)/W128)))), 0,IF(ISERROR(IF(ISERROR(ABS((Y128*X128)/W128)), 0,ABS((Y128*X128)/W128))), 0,IF(ISERROR(ABS((Y128*X128)/W128)), 0,ABS((Y128*X128)/W128))))","v":0},{"$f":"IF(ISERROR(IF(ISERROR(IF(ISERROR(IF(AA128>Z128,Z128,AA128)), 0,IF(AA128>Z128,Z128,AA128))), 0,IF(ISERROR(IF(AA128>Z128,Z128,AA128)), 0,IF(AA128>Z128,Z128,AA128)))), 0,IF(ISERROR(IF(ISERROR(IF(AA128>Z128,Z128,AA128)), 0,IF(AA128>Z128,Z128,AA128))), 0,IF(ISERROR(IF(AA128>Z128,Z128,AA128)), 0,IF(AA128>Z128,Z128,AA128))))","v":0},{"$f":"IF(ISERROR(IF(ISERROR(IF(ISERROR(IF(Y128>W128,W128,Y128)), 0,IF(Y128>W128,W128,Y128))), 0,IF(ISERROR(IF(Y128>W128,W128,Y128)), 0,IF(Y128>W128,W128,Y128)))), 0,IF(ISERROR(IF(ISERROR(IF(Y128>W128,W128,Y128)), 0,IF(Y128>W128,W128,Y128))), 0,IF(ISERROR(IF(Y128>W128,W128,Y128)), 0,IF(Y128>W128,W128,Y128))))","v":0},{"$f":"IF(ISERROR((AC128*AB128)/AA128), 0,(AC128*AB128)/AA128)","v":0},{"$f":"IF(ISERROR(IF(ISERROR(IF(AC128=W128,0,(AC128*AB128)/AA128)), 0,IF(AC128=W128,0,(AC128*AB128)/AA128))), 0,IF(ISERROR(IF(AC128=W128,0,(AC128*AB128)/AA128)), 0,IF(AC128=W128,0,(AC128*AB128)/AA128)))","v":0},{"$f":"IF(ISERROR(IF(AC128=60,Q128+(AC128/T128),Q128+(AD128/T128))), 0,IF(AC128=60,Q128+(AC128/T128),Q128+(AD128/T128)))","v":0}]
["A",37,50,50,{"$f":"IF(ISERROR(IF(ISERROR(IF(ISERROR(Y128), 0,Y128)), 0,IF(ISERROR(Y128), 0,Y128))), 0,IF(ISERROR(IF(ISERROR(Y128), 0,Y128)), 0,IF(ISERROR(Y128), 0,Y128)))","v":0},null,{"$f":"IF(ISERROR(IF(ISERROR(IF(ISERROR(AB128), 0,AB128)), 0,IF(ISERROR(AB128), 0,AB128))), 0,IF(ISERROR(IF(ISERROR(AB128), 0,AB128)), 0,IF(ISERROR(AB128), 0,AB128)))","v":0},{"$f":"IF(ISERROR(IF(ISERROR(IF(ISERROR($E$10-G129), 0,$E$10-G129)), 0,IF(ISERROR($E$10-G129), 0,$E$10-G129))), 0,IF(ISERROR(IF(ISERROR($E$10-G129), 0,$E$10-G129)), 0,IF(ISERROR($E$10-G129), 0,$E$10-G129)))","v":0.4},null,{"$f":"IF(ISERROR(AB129), \"\",AB129)","v":0},{"$f":"IF(ISERROR(ROUND($E$10-J129,3)), \"\",ROUND($E$10-J129,3))","v":0.4},null,{"$f":"IF(ISERROR(AB130), \"\",AB130)","v":0},{"$f":"IF(ISERROR($E$10-M129), \"\",$E$10-M129)","v":0.4},{"$f":"A130","v":285.82692307692253},{"$f":"I129","v":0},{"$f":"IF(ISERROR(IF(AC128=W128,Q128+(AC128/T128),Q128+(AD128/T128))), 0,IF(AC128=W128,Q128+(AC128/T128),Q128+(AD128/T128)))","v":0},{"$f":"D129","v":50},{"$f":"IF(ISERROR(Q129-R129), 0,Q129-R129)","v":-50},{"$f":"IF(ISERROR(IF(ISERROR(IF(ISERROR(IF(ISERROR((O129/P129)), 0,(O129/P129))), 0,IF(ISERROR((O129/P129)), 0,(O129/P129)))), 0,IF(ISERROR(IF(ISERROR((O129/P129)), 0,(O129/P129))), 0,IF(ISERROR((O129/P129)), 0,(O129/P129))))), 0,IF(ISERROR(IF(ISERROR(IF(ISERROR((O129/P129)), 0,(O129/P129))), 0,IF(ISERROR((O129/P129)), 0,(O129/P129)))), 0,IF(ISERROR(IF(ISERROR((O129/P129)), 0,(O129/P129))), 0,IF(ISERROR((O129/P129)), 0,(O129/P129)))))","v":0},{"$f":"IF(ISERROR(S129*T129), 0,S129*T129)","v":0},0,14.2,0.4,{"$f":"IF(ISERROR(ABS(U129)), 0,ABS(U129))","v":0},0.15000000000000002,{"$f":"IF(ISERROR(ABS((Y129*X129)/W129)), 0,ABS((Y129*X129)/W129))","v":0},{"$f":"IF(ISERROR(IF(AA129>Z129,Z129,AA129)), 0,IF(AA129>Z129,Z129,AA129))","v":0},{"$f":"IF(ISERROR(IF(Y129>W129,W129,Y129)), 0,IF(Y129>W129,W129,Y129))","v":0},{"$f":"IF(ISERROR((AC129*AB129)/AA129), \"\",(AC129*AB129)/AA129)","v":""},{"$f":"IF(ISERROR(IF(AC129=W129,0,(AC129*AB129)/AA129)), \"\",IF(AC129=W129,0,(AC129*AB129)/AA129))","v":""},{"$f":"IF(ISERROR(IF(AC129=60,Q129+(AC129/T129),Q129+(AD129/T129))), \"\",IF(AC129=60,Q129+(AC129/T129),Q129+(AD129/T129)))","v":""}]
[{"$f":"F321","v":285.82692307692253},{"$f":"IF(AND(C129<D129, E129>$E$7),\"Ignore Drill Out Lead 1; rather pop out Lead 1 and LEAVE lead # 2 to \"&K129&\" inches.\",\"\")","v":""},null,null,null,null,null,null,null,null,null,null,null,null,{"$f":"A130","v":285.82692307692253},{"$f":"L129","v":0},{"$f":"IF(ISERROR(IF(AC129=W129,Q129+(AC129/T129),Q129+(AD129/T129))), \"\",IF(AC129=W129,Q129+(AC129/T129),Q129+(AD129/T129)))","v":""},{"$f":"D129","v":50},{"$f":"IF(ISERROR(Q130-R130), 0,Q130-R130)","v":0},{"$f":"IF(ISERROR(IF(ISERROR(IF(ISERROR((O130/P130)), 0,(O130/P130))), 0,IF(ISERROR((O130/P130)), 0,(O130/P130)))), 0,IF(ISERROR(IF(ISERROR((O130/P130)), 0,(O130/P130))), 0,IF(ISERROR((O130/P130)), 0,(O130/P130))))","v":0},{"$f":"IF(ISERROR(S130*T130), \"\",S130*T130)","v":0},0,14.2,0.4,{"$f":"IF(ISERROR(ABS(U130)), \"\",ABS(U130))","v":0},0.15000000000000002,{"$f":"IF(ISERROR(ABS((Y130*X130)/W130)), \"\",ABS((Y130*X130)/W130))","v":0},{"$f":"IF(ISERROR(IF(AA130>Z130,Z130,AA130)), \"\",IF(AA130>Z130,Z130,AA130))","v":0},{"$f":"IF(ISERROR(IF(Y130>W130,W130,Y130)), \"\",IF(Y130>W130,W130,Y130))","v":0},{"$f":"IF(ISERROR((AC130*AB130)/AA130), \"\",(AC130*AB130)/AA130)","v":""},{"$f":"IF(ISERROR(IF(AC130=W130,0,(AC130*AB130)/AA130)), \"\",IF(AC130=W130,0,(AC130*AB130)/AA130))","v":""},{"$f":"IF(ISERROR(IF(AC130=60,Q130+(AC130/T130),Q130+(AD130/T130))), \"\",IF(AC130=60,Q130+(AC130/T130),Q130+(AD130/T130)))","v":""}]
[null,null,"Test","Target",null,1,"dr_o","Lv_in",2,"dr_o","Lv_in",3,"dr_o","Lv_in",{"$f":"A133","v":264.5},{"$f":"F132","v":0},{"$f":"C132","v":52},{"$f":"D132","v":50},{"$f":"Q131-R131","v":2},{"$f":"IF(ISERROR(IF(ISERROR(IF(ISERROR(IF(ISERROR((O131/P131)), 0,(O131/P131))), 0,IF(ISERROR((O131/P131)), 0,(O131/P131)))), 0,IF(ISERROR(IF(ISERROR((O131/P131)), 0,(O131/P131))), 0,IF(ISERROR((O131/P131)), 0,(O131/P131))))), 0,IF(ISERROR(IF(ISERROR(IF(ISERROR((O131/P131)), 0,(O131/P131))), 0,IF(ISERROR((O131/P131)), 0,(O131/P131)))), 0,IF(ISERROR(IF(ISERROR((O131/P131)), 0,(O131/P131))), 0,IF(ISERROR((O131/P131)), 0,(O131/P131)))))","v":0},{"$f":"IF(ISERROR(IF(ISERROR(IF(ISERROR(IF(ISERROR(S131*T131), 0,S131*T131)), 0,IF(ISERROR(S131*T131), 0,S131*T131))), 0,IF(ISERROR(IF(ISERROR(S131*T131), 0,S131*T131)), 0,IF(ISERROR(S131*T131), 0,S131*T131)))), 0,IF(ISERROR(IF(ISERROR(IF(ISERROR(S131*T131), 0,S131*T131)), 0,IF(ISERROR(S131*T131), 0,S131*T131))), 0,IF(ISERROR(IF(ISERROR(S131*T131), 0,S131*T131)), 0,IF(ISERROR(S131*T131), 0,S131*T131))))","v":0},0,14.2,0.4,{"$f":"IF(ISERROR(IF(ISERROR(IF(ISERROR(ABS(U131)), 0,ABS(U131))), 0,IF(ISERROR(ABS(U131)), 0,ABS(U131)))), 0,IF(ISERROR(IF(ISERROR(ABS(U131)), 0,ABS(U131))), 0,IF(ISERROR(ABS(U131)), 0,ABS(U131))))","v":0},0.15000000000000002,{"$f":"IF(ISERROR(IF(ISERROR(IF(ISERROR(ABS((Y131*X131)/W131)), 0,ABS((Y131*X131)/W131))), 0,IF(ISERROR(ABS((Y131*X131)/W131)), 0,ABS((Y131*X131)/W131)))), 0,IF(ISERROR(IF(ISERROR(ABS((Y131*X131)/W131)), 0,ABS((Y131*X131)/W131))), 0,IF(ISERROR(ABS((Y131*X131)/W131)), 0,ABS((Y131*X131)/W131))))","v":0},{"$f":"IF(ISERROR(IF(ISERROR(IF(ISERROR(IF(AA131>Z131,Z131,AA131)), 0,IF(AA131>Z131,Z131,AA131))), 0,IF(ISERROR(IF(AA131>Z131,Z131,AA131)), 0,IF(AA131>Z131,Z131,AA131)))), 0,IF(ISERROR(IF(ISERROR(IF(AA131>Z131,Z131,AA131)), 0,IF(AA131>Z131,Z131,AA131))), 0,IF(ISERROR(IF(AA131>Z131,Z131,AA131)), 0,IF(AA131>Z131,Z131,AA131))))","v":0},{"$f":"IF(ISERROR(IF(ISERROR(IF(ISERROR(IF(Y131>W131,W131,Y131)), 0,IF(Y131>W131,W131,Y131))), 0,IF(ISERROR(IF(Y131>W131,W131,Y131)), 0,IF(Y131>W131,W131,Y131)))), 0,IF(ISERROR(IF(ISERROR(IF(Y131>W131,W131,Y131)), 0,IF(Y131>W131,W131,Y131))), 0,IF(ISERROR(IF(Y131>W131,W131,Y131)), 0,IF(Y131>W131,W131,Y131))))","v":0},{"$f":"IF(ISERROR(IF(ISERROR(IF(ISERROR((AC131*AB131)/AA131), 0,(AC131*AB131)/AA131)), 0,IF(ISERROR((AC131*AB131)/AA131), 0,(AC131*AB131)/AA131))), 0,IF(ISERROR(IF(ISERROR((AC131*AB131)/AA131), 0,(AC131*AB131)/AA131)), 0,IF(ISERROR((AC131*AB131)/AA131), 0,(AC131*AB131)/AA131)))","v":0},{"$f":"IF(ISERROR(IF(ISERROR(IF(ISERROR(IF(AC131=W131,0,(AC131*AB131)/AA131)), 0,IF(AC131=W131,0,(AC131*AB131)/AA131))), 0,IF(ISERROR(IF(AC131=W131,0,(AC131*AB131)/AA131)), 0,IF(AC131=W131,0,(AC131*AB131)/AA131)))), 0,IF(ISERROR(IF(ISERROR(IF(AC131=W131,0,(AC131*AB131)/AA131)), 0,IF(AC131=W131,0,(AC131*AB131)/AA131))), 0,IF(ISERROR(IF(AC131=W131,0,(AC131*AB131)/AA131)), 0,IF(AC131=W131,0,(AC131*AB131)/AA131))))","v":0},{"$f":"IF(ISERROR(IF(ISERROR(IF(AC131=60,Q131+(AC131/T131),Q131+(AD131/T131))), 0,IF(AC131=60,Q131+(AC131/T131),Q131+(AD131/T131)))), 0,IF(ISERROR(IF(AC131=60,Q131+(AC131/T131),Q131+(AD131/T131))), 0,IF(AC131=60,Q131+(AC131/T131),Q131+(AD131/T131))))","v":0}]
["A#",38,52,50,{"$f":"IF(ISERROR(IF(ISERROR(IF(ISERROR(Y131), 0,Y131)), 0,IF(ISERROR(Y131), 0,Y131))), 0,IF(ISERROR(IF(ISERROR(Y131), 0,Y131)), 0,IF(ISERROR(Y131), 0,Y131)))","v":0},null,{"$f":"IF(ISERROR(IF(ISERROR(IF(ISERROR(AB131), 0,AB131)), 0,IF(ISERROR(AB131), 0,AB131))), 0,IF(ISERROR(IF(ISERROR(AB131), 0,AB131)), 0,IF(ISERROR(AB131), 0,AB131)))","v":0},{"$f":"IF(ISERROR(IF(ISERROR(IF(ISERROR($E$10-G132), 0,$E$10-G132)), 0,IF(ISERROR($E$10-G132), 0,$E$10-G132))), 0,IF(ISERROR(IF(ISERROR($E$10-G132), 0,$E$10-G132)), 0,IF(ISERROR($E$10-G132), 0,$E$10-G132)))","v":0.4},null,{"$f":"IF(ISERROR(AB132), \"\",AB132)","v":0},{"$f":"IF(ISERROR(ROUND($E$10-J132,3)), \"\",ROUND($E$10-J132,3))","v":0.4},null,{"$f":"IF(ISERROR(AB133), \"\",AB133)","v":0},{"$f":"IF(ISERROR($E$10-M132), \"\",$E$10-M132)","v":0.4},{"$f":"A133","v":264.5},{"$f":"I132","v":0},{"$f":"IF(ISERROR(IF(ISERROR(IF(AC131=W131,Q131+(AC131/T131),Q131+(AD131/T131))), 0,IF(AC131=W131,Q131+(AC131/T131),Q131+(AD131/T131)))), 0,IF(ISERROR(IF(AC131=W131,Q131+(AC131/T131),Q131+(AD131/T131))), 0,IF(AC131=W131,Q131+(AC131/T131),Q131+(AD131/T131))))","v":0},{"$f":"D132","v":50},{"$f":"IF(ISERROR(IF(ISERROR(Q132-R132), 0,Q132-R132)), 0,IF(ISERROR(Q132-R132), 0,Q132-R132))","v":-50},{"$f":"IF(ISERROR(IF(ISERROR(IF(ISERROR(IF(ISERROR((O132/P132)), 0,(O132/P132))), 0,IF(ISERROR((O132/P132)), 0,(O132/P132)))), 0,IF(ISERROR(IF(ISERROR((O132/P132)), 0,(O132/P132))), 0,IF(ISERROR((O132/P132)), 0,(O132/P132))))), 0,IF(ISERROR(IF(ISERROR(IF(ISERROR((O132/P132)), 0,(O132/P132))), 0,IF(ISERROR((O132/P132)), 0,(O132/P132)))), 0,IF(ISERROR(IF(ISERROR((O132/P132)), 0,(O132/P132))), 0,IF(ISERROR((O132/P132)), 0,(O132/P132)))))","v":0},{"$f":"IF(ISERROR(IF(ISERROR(S132*T132), 0,S132*T132)), 0,IF(ISERROR(S132*T132), 0,S132*T132))","v":0},0,14.2,0.4,{"$f":"IF(ISERROR(IF(ISERROR(ABS(U132)), 0,ABS(U132))), 0,IF(ISERROR(ABS(U132)), 0,ABS(U132)))","v":0},0.15000000000000002,{"$f":"IF(ISERROR(IF(ISERROR(ABS((Y132*X132)/W132)), 0,ABS((Y132*X132)/W132))), 0,IF(ISERROR(ABS((Y132*X132)/W132)), 0,ABS((Y132*X132)/W132)))","v":0},{"$f":"IF(ISERROR(IF(ISERROR(IF(AA132>Z132,Z132,AA132)), 0,IF(AA132>Z132,Z132,AA132))), 0,IF(ISERROR(IF(AA132>Z132,Z132,AA132)), 0,IF(AA132>Z132,Z132,AA132)))","v":0},{"$f":"IF(ISERROR(IF(ISERROR(IF(Y132>W132,W132,Y132)), 0,IF(Y132>W132,W132,Y132))), 0,IF(ISERROR(IF(Y132>W132,W132,Y132)), 0,IF(Y132>W132,W132,Y132)))","v":0},{"$f":"IF(ISERROR((AC132*AB132)/AA132), \"\",(AC132*AB132)/AA132)","v":""},{"$f":"IF(ISERROR(IF(AC132=W132,0,(AC132*AB132)/AA132)), \"\",IF(AC132=W132,0,(AC132*AB132)/AA132))","v":""},{"$f":"IF(ISERROR(IF(AC132=60,Q132+(AC132/T132),Q132+(AD132/T132))), \"\",IF(AC132=60,Q132+(AC132/T132),Q132+(AD132/T132)))","v":""}]
[{"$f":"R315","v":264.5},{"$f":"IF(AND(C132<D132, E132>$E$7),\"Ignore Drill Out Lead 1; rather pop out Lead 1 and LEAVE lead # 2 to \"&K132&\" inches.\",\"\")","v":""},null,null,null,null,null,null,null,null,null,null,null,{"$f":"(G132+J132+M132)/$E$10*$E$7","v":0},{"$f":"A133","v":264.5},{"$f":"L132","v":0},{"$f":"IF(ISERROR(IF(AC132=W132,Q132+(AC132/T132),Q132+(AD132/T132))), \"\",IF(AC132=W132,Q132+(AC132/T132),Q132+(AD132/T132)))","v":""},{"$f":"D132","v":50},{"$f":"IF(ISERROR(Q133-R133), 0,Q133-R133)","v":0},{"$f":"IF(ISERROR(IF(ISERROR(IF(ISERROR((O133/P133)), 0,(O133/P133))), 0,IF(ISERROR((O133/P133)), 0,(O133/P133)))), 0,IF(ISERROR(IF(ISERROR((O133/P133)), 0,(O133/P133))), 0,IF(ISERROR((O133/P133)), 0,(O133/P133))))","v":0},{"$f":"IF(ISERROR(S133*T133), \"\",S133*T133)","v":0},0,14.2,0.4,{"$f":"IF(ISERROR(ABS(U133)), \"\",ABS(U133))","v":0},0.15000000000000002,{"$f":"IF(ISERROR(ABS((Y133*X133)/W133)), \"\",ABS((Y133*X133)/W133))","v":0},{"$f":"IF(ISERROR(IF(AA133>Z133,Z133,AA133)), \"\",IF(AA133>Z133,Z133,AA133))","v":0},{"$f":"IF(ISERROR(IF(Y133>W133,W133,Y133)), \"\",IF(Y133>W133,W133,Y133))","v":0},{"$f":"IF(ISERROR((AC133*AB133)/AA133), \"\",(AC133*AB133)/AA133)","v":""},{"$f":"IF(ISERROR(IF(AC133=W133,0,(AC133*AB133)/AA133)), \"\",IF(AC133=W133,0,(AC133*AB133)/AA133))","v":""},{"$f":"IF(ISERROR(IF(AC133=60,Q133+(AC133/T133),Q133+(AD133/T133))), \"\",IF(AC133=60,Q133+(AC133/T133),Q133+(AD133/T133)))","v":""}]
[null,null,"Test","Target",null,1,"dr_o","Lv_in",2,"dr_o","Lv_in",3,"dr_o","Lv_in",{"$f":"A136","v":284.46153846153788},{"$f":"F135","v":0},{"$f":"C135","v":55},{"$f":"D135","v":50},{"$f":"Q134-R134","v":5},{"$f":"IF(ISERROR(IF(ISERROR(IF(ISERROR(IF(ISERROR((O134/P134)), 0,(O134/P134))), 0,IF(ISERROR((O134/P134)), 0,(O134/P134)))), 0,IF(ISERROR(IF(ISERROR((O134/P134)), 0,(O134/P134))), 0,IF(ISERROR((O134/P134)), 0,(O134/P134))))), 0,IF(ISERROR(IF(ISERROR(IF(ISERROR((O134/P134)), 0,(O134/P134))), 0,IF(ISERROR((O134/P134)), 0,(O134/P134)))), 0,IF(ISERROR(IF(ISERROR((O134/P134)), 0,(O134/P134))), 0,IF(ISERROR((O134/P134)), 0,(O134/P134)))))","v":0},{"$f":"IF(ISERROR(IF(ISERROR(IF(ISERROR(IF(ISERROR(S134*T134), 0,S134*T134)), 0,IF(ISERROR(S134*T134), 0,S134*T134))), 0,IF(ISERROR(IF(ISERROR(S134*T134), 0,S134*T134)), 0,IF(ISERROR(S134*T134), 0,S134*T134)))), 0,IF(ISERROR(IF(ISERROR(IF(ISERROR(S134*T134), 0,S134*T134)), 0,IF(ISERROR(S134*T134), 0,S134*T134))), 0,IF(ISERROR(IF(ISERROR(S134*T134), 0,S134*T134)), 0,IF(ISERROR(S134*T134), 0,S134*T134))))","v":0},0,14.2,0.4,{"$f":"IF(ISERROR(IF(ISERROR(IF(ISERROR(ABS(U134)), 0,ABS(U134))), 0,IF(ISERROR(ABS(U134)), 0,ABS(U134)))), 0,IF(ISERROR(IF(ISERROR(ABS(U134)), 0,ABS(U134))), 0,IF(ISERROR(ABS(U134)), 0,ABS(U134))))","v":0},0.15000000000000002,{"$f":"IF(ISERROR(IF(ISERROR(IF(ISERROR(ABS((Y134*X134)/W134)), 0,ABS((Y134*X134)/W134))), 0,IF(ISERROR(ABS((Y134*X134)/W134)), 0,ABS((Y134*X134)/W134)))), 0,IF(ISERROR(IF(ISERROR(ABS((Y134*X134)/W134)), 0,ABS((Y134*X134)/W134))), 0,IF(ISERROR(ABS((Y134*X134)/W134)), 0,ABS((Y134*X134)/W134))))","v":0},{"$f":"IF(ISERROR(IF(ISERROR(IF(ISERROR(IF(AA134>Z134,Z134,AA134)), 0,IF(AA134>Z134,Z134,AA134))), 0,IF(ISERROR(IF(AA134>Z134,Z134,AA134)), 0,IF(AA134>Z134,Z134,AA134)))), 0,IF(ISERROR(IF(ISERROR(IF(AA134>Z134,Z134,AA134)), 0,IF(AA134>Z134,Z134,AA134))), 0,IF(ISERROR(IF(AA134>Z134,Z134,AA134)), 0,IF(AA134>Z134,Z134,AA134))))","v":0},{"$f":"IF(ISERROR(IF(ISERROR(IF(ISERROR(IF(Y134>W134,W134,Y134)), 0,IF(Y134>W134,W134,Y134))), 0,IF(ISERROR(IF(Y134>W134,W134,Y134)), 0,IF(Y134>W134,W134,Y134)))), 0,IF(ISERROR(IF(ISERROR(IF(Y134>W134,W134,Y134)), 0,IF(Y134>W134,W134,Y134))), 0,IF(ISERROR(IF(Y134>W134,W134,Y134)), 0,IF(Y134>W134,W134,Y134))))","v":0},{"$f":"IF(ISERROR(IF(ISERROR(IF(ISERROR(IF(ISERROR((AC134*AB134)/AA134), 0,(AC134*AB134)/AA134)), 0,IF(ISERROR((AC134*AB134)/AA134), 0,(AC134*AB134)/AA134))), 0,IF(ISERROR(IF(ISERROR((AC134*AB134)/AA134), 0,(AC134*AB134)/AA134)), 0,IF(ISERROR((AC134*AB134)/AA134), 0,(AC134*AB134)/AA134)))), 0,IF(ISERROR(IF(ISERROR(IF(ISERROR((AC134*AB134)/AA134), 0,(AC134*AB134)/AA134)), 0,IF(ISERROR((AC134*AB134)/AA134), 0,(AC134*AB134)/AA134))), 0,IF(ISERROR(IF(ISERROR((AC134*AB134)/AA134), 0,(AC134*AB134)/AA134)), 0,IF(ISERROR((AC134*AB134)/AA134), 0,(AC134*AB134)/AA134))))","v":0},{"$f":"IF(ISERROR(IF(ISERROR(IF(ISERROR(IF(AC134=W134,0,(AC134*AB134)/AA134)), 0,IF(AC134=W134,0,(AC134*AB134)/AA134))), 0,IF(ISERROR(IF(AC134=W134,0,(AC134*AB134)/AA134)), 0,IF(AC134=W134,0,(AC134*AB134)/AA134)))), 0,IF(ISERROR(IF(ISERROR(IF(AC134=W134,0,(AC134*AB134)/AA134)), 0,IF(AC134=W134,0,(AC134*AB134)/AA134))), 0,IF(ISERROR(IF(AC134=W134,0,(AC134*AB134)/AA134)), 0,IF(AC134=W134,0,(AC134*AB134)/AA134))))","v":0},{"$f":"IF(ISERROR(IF(ISERROR(IF(AC134=60,Q134+(AC134/T134),Q134+(AD134/T134))), 0,IF(AC134=60,Q134+(AC134/T134),Q134+(AD134/T134)))), 0,IF(ISERROR(IF(AC134=60,Q134+(AC134/T134),Q134+(AD134/T134))), 0,IF(AC134=60,Q134+(AC134/T134),Q134+(AD134/T134))))","v":0}]
["B",39,55,50,{"$f":"IF(ISERROR(IF(ISERROR(IF(ISERROR(Y134), 0,Y134)), 0,IF(ISERROR(Y134), 0,Y134))), 0,IF(ISERROR(IF(ISERROR(Y134), 0,Y134)), 0,IF(ISERROR(Y134), 0,Y134)))","v":0},null,{"$f":"IF(ISERROR(IF(ISERROR(IF(ISERROR(AB134), 0,AB134)), 0,IF(ISERROR(AB134), 0,AB134))), 0,IF(ISERROR(IF(ISERROR(AB134), 0,AB134)), 0,IF(ISERROR(AB134), 0,AB134)))","v":0},{"$f":"IF(ISERROR(IF(ISERROR(IF(ISERROR($E$10-G135), 0,$E$10-G135)), 0,IF(ISERROR($E$10-G135), 0,$E$10-G135))), 0,IF(ISERROR(IF(ISERROR($E$10-G135), 0,$E$10-G135)), 0,IF(ISERROR($E$10-G135), 0,$E$10-G135)))","v":0.4},null,{"$f":"IF(ISERROR(IF(ISERROR(AB135), 0,AB135)), 0,IF(ISERROR(AB135), 0,AB135))","v":0},{"$f":"IF(ISERROR(IF(ISERROR(ROUND($E$10-J135,3)), 0,ROUND($E$10-J135,3))), 0,IF(ISERROR(ROUND($E$10-J135,3)), 0,ROUND($E$10-J135,3)))","v":0.4},null,{"$f":"IF(ISERROR(AB136), \"\",AB136)","v":0},{"$f":"IF(ISERROR($E$10-M135), \"\",$E$10-M135)","v":0.4},{"$f":"A136","v":284.46153846153788},{"$f":"I135","v":0},{"$f":"IF(ISERROR(IF(ISERROR(IF(AC134=W134,Q134+(AC134/T134),Q134+(AD134/T134))), 0,IF(AC134=W134,Q134+(AC134/T134),Q134+(AD134/T134)))), 0,IF(ISERROR(IF(AC134=W134,Q134+(AC134/T134),Q134+(AD134/T134))), 0,IF(AC134=W134,Q134+(AC134/T134),Q134+(AD134/T134))))","v":0},{"$f":"D135","v":50},{"$f":"IF(ISERROR(IF(ISERROR(Q135-R135), 0,Q135-R135)), 0,IF(ISERROR(Q135-R135), 0,Q135-R135))","v":-50},0,{"$f":"IF(ISERROR(IF(ISERROR(S135*T135), 0,S135*T135)), 0,IF(ISERROR(S135*T135), 0,S135*T135))","v":0},0,14.2,0.4,{"$f":"IF(ISERROR(IF(ISERROR(ABS(U135)), 0,ABS(U135))), 0,IF(ISERROR(ABS(U135)), 0,ABS(U135)))","v":0},0.15000000000000002,{"$f":"IF(ISERROR(IF(ISERROR(ABS((Y135*X135)/W135)), 0,ABS((Y135*X135)/W135))), 0,IF(ISERROR(ABS((Y135*X135)/W135)), 0,ABS((Y135*X135)/W135)))","v":0},{"$f":"IF(ISERROR(IF(ISERROR(IF(AA135>Z135,Z135,AA135)), 0,IF(AA135>Z135,Z135,AA135))), 0,IF(ISERROR(IF(AA135>Z135,Z135,AA135)), 0,IF(AA135>Z135,Z135,AA135)))","v":0},{"$f":"IF(ISERROR(IF(ISERROR(IF(Y135>W135,W135,Y135)), 0,IF(Y135>W135,W135,Y135))), 0,IF(ISERROR(IF(Y135>W135,W135,Y135)), 0,IF(Y135>W135,W135,Y135)))","v":0},{"$f":"IF(ISERROR((AC135*AB135)/AA135), \"\",(AC135*AB135)/AA135)","v":""},{"$f":"IF(ISERROR(IF(AC135=W135,0,(AC135*AB135)/AA135)), \"\",IF(AC135=W135,0,(AC135*AB135)/AA135))","v":""},{"$f":"IF(ISERROR(IF(AC135=60,Q135+(AC135/T135),Q135+(AD135/T135))), \"\",IF(AC135=60,Q135+(AC135/T135),Q135+(AD135/T135)))","v":""}]
[{"$f":"F322","v":284.46153846153788},{"$f":"IF(AND(C135<D135, E135>$E$7),\"Ignore Drill Out Lead 1; rather pop out Lead 1 and LEAVE lead # 2 to \"&K135&\" inches.\",\"\")","v":""},null,null,null,null,null,null,null,null,null,null,null,{"$f":"IF(ISERROR(IF(ISERROR((G135+J135+M135)/$E$10*$E$7), 0,(G135+J135+M135)/$E$10*$E$7)), 0,IF(ISERROR((G135+J135+M135)/$E$10*$E$7), 0,(G135+J135+M135)/$E$10*$E$7))","v":0},{"$f":"A136","v":284.46153846153788},{"$f":"L135","v":0},{"$f":"IF(ISERROR(IF(AC135=W135,Q135+(AC135/T135),Q135+(AD135/T135))), \"\",IF(AC135=W135,Q135+(AC135/T135),Q135+(AD135/T135)))","v":""},{"$f":"D135","v":50},{"$f":"IF(ISERROR(Q136-R136), 0,Q136-R136)","v":0},0,{"$f":"IF(ISERROR(S136*T136), \"\",S136*T136)","v":0},0,14.2,0.4,{"$f":"IF(ISERROR(ABS(U136)), \"\",ABS(U136))","v":0},0.15000000000000002,{"$f":"IF(ISERROR(ABS((Y136*X136)/W136)), \"\",ABS((Y136*X136)/W136))","v":0},{"$f":"IF(ISERROR(IF(AA136>Z136,Z136,AA136)), \"\",IF(AA136>Z136,Z136,AA136))","v":0},{"$f":"IF(ISERROR(IF(Y136>W136,W136,Y136)), \"\",IF(Y136>W136,W136,Y136))","v":0},{"$f":"IF(ISERROR((AC136*AB136)/AA136), \"\",(AC136*AB136)/AA136)","v":""},{"$f":"IF(ISERROR(IF(AC136=W136,0,(AC136*AB136)/AA136)), \"\",IF(AC136=W136,0,(AC136*AB136)/AA136))","v":""},{"$f":"IF(ISERROR(IF(AC136=60,Q136+(AC136/T136),Q136+(AD136/T136))), \"\",IF(AC136=60,Q136+(AC136/T136),Q136+(AD136/T136)))","v":""}]
[null,null,"Test","Target",null,1,"dr_o","Lv_in",2,"dr_o","Lv_in",3,"dr_o","Lv_in",{"$f":"A139","v":283.09615384615324},{"$f":"F138","v":0},{"$f":"C138","v":52},{"$f":"D138","v":50},{"$f":"Q137-R137","v":2},0,{"$f":"IF(ISERROR(IF(ISERROR(IF(ISERROR(IF(ISERROR(S137*T137), 0,S137*T137)), 0,IF(ISERROR(S137*T137), 0,S137*T137))), 0,IF(ISERROR(IF(ISERROR(S137*T137), 0,S137*T137)), 0,IF(ISERROR(S137*T137), 0,S137*T137)))), 0,IF(ISERROR(IF(ISERROR(IF(ISERROR(S137*T137), 0,S137*T137)), 0,IF(ISERROR(S137*T137), 0,S137*T137))), 0,IF(ISERROR(IF(ISERROR(S137*T137), 0,S137*T137)), 0,IF(ISERROR(S137*T137), 0,S137*T137))))","v":0},0,14.2,0.4,{"$f":"IF(ISERROR(IF(ISERROR(IF(ISERROR(ABS(U137)), 0,ABS(U137))), 0,IF(ISERROR(ABS(U137)), 0,ABS(U137)))), 0,IF(ISERROR(IF(ISERROR(ABS(U137)), 0,ABS(U137))), 0,IF(ISERROR(ABS(U137)), 0,ABS(U137))))","v":0},0.15000000000000002,{"$f":"IF(ISERROR(IF(ISERROR(IF(ISERROR(ABS((Y137*X137)/W137)), 0,ABS((Y137*X137)/W137))), 0,IF(ISERROR(ABS((Y137*X137)/W137)), 0,ABS((Y137*X137)/W137)))), 0,IF(ISERROR(IF(ISERROR(ABS((Y137*X137)/W137)), 0,ABS((Y137*X137)/W137))), 0,IF(ISERROR(ABS((Y137*X137)/W137)), 0,ABS((Y137*X137)/W137))))","v":0},{"$f":"IF(ISERROR(IF(ISERROR(IF(ISERROR(IF(AA137>Z137,Z137,AA137)), 0,IF(AA137>Z137,Z137,AA137))), 0,IF(ISERROR(IF(AA137>Z137,Z137,AA137)), 0,IF(AA137>Z137,Z137,AA137)))), 0,IF(ISERROR(IF(ISERROR(IF(AA137>Z137,Z137,AA137)), 0,IF(AA137>Z137,Z137,AA137))), 0,IF(ISERROR(IF(AA137>Z137,Z137,AA137)), 0,IF(AA137>Z137,Z137,AA137))))","v":0},{"$f":"IF(ISERROR(IF(ISERROR(IF(ISERROR(IF(Y137>W137,W137,Y137)), 0,IF(Y137>W137,W137,Y137))), 0,IF(ISERROR(IF(Y137>W137,W137,Y137)), 0,IF(Y137>W137,W137,Y137)))), 0,IF(ISERROR(IF(ISERROR(IF(Y137>W137,W137,Y137)), 0,IF(Y137>W137,W137,Y137))), 0,IF(ISERROR(IF(Y137>W137,W137,Y137)), 0,IF(Y137>W137,W137,Y137))))","v":0},{"$f":"IF(ISERROR(IF(ISERROR(IF(ISERROR(IF(ISERROR((AC137*AB137)/AA137), 0,(AC137*AB137)/AA137)), 0,IF(ISERROR((AC137*AB137)/AA137), 0,(AC137*AB137)/AA137))), 0,IF(ISERROR(IF(ISERROR((AC137*AB137)/AA137), 0,(AC137*AB137)/AA137)), 0,IF(ISERROR((AC137*AB137)/AA137), 0,(AC137*AB137)/AA137)))), 0,IF(ISERROR(IF(ISERROR(IF(ISERROR((AC137*AB137)/AA137), 0,(AC137*AB137)/AA137)), 0,IF(ISERROR((AC137*AB137)/AA137), 0,(AC137*AB137)/AA137))), 0,IF(ISERROR(IF(ISERROR((AC137*AB137)/AA137), 0,(AC137*AB137)/AA137)), 0,IF(ISERROR((AC137*AB137)/AA137), 0,(AC137*AB137)/AA137))))","v":0},{"$f":"IF(ISERROR(IF(ISERROR(IF(ISERROR(IF(AC137=W137,0,(AC137*AB137)/AA137)), 0,IF(AC137=W137,0,(AC137*AB137)/AA137))), 0,IF(ISERROR(IF(AC137=W137,0,(AC137*AB137)/AA137)), 0,IF(AC137=W137,0,(AC137*AB137)/AA137)))), 0,IF(ISERROR(IF(ISERROR(IF(AC137=W137,0,(AC137*AB137)/AA137)), 0,IF(AC137=W137,0,(AC137*AB137)/AA137))), 0,IF(ISERROR(IF(AC137=W137,0,(AC137*AB137)/AA137)), 0,IF(AC137=W137,0,(AC137*AB137)/AA137))))","v":0},{"$f":"IF(ISERROR(IF(ISERROR(IF(AC137=60,Q137+(AC137/T137),Q137+(AD137/T137))), 0,IF(AC137=60,Q137+(AC137/T137),Q137+(AD137/T137)))), 0,IF(ISERROR(IF(AC137=60,Q137+(AC137/T137),Q137+(AD137/T137))), 0,IF(AC137=60,Q137+(AC137/T137),Q137+(AD137/T137))))","v":0}]
["C",40,52,50,{"$f":"IF(ISERROR(IF(ISERROR(IF(ISERROR(Y137), 0,Y137)), 0,IF(ISERROR(Y137), 0,Y137))), 0,IF(ISERROR(IF(ISERROR(Y137), 0,Y137)), 0,IF(ISERROR(Y137), 0,Y137)))","v":0},null,{"$f":"IF(ISERROR(IF(ISERROR(IF(ISERROR(AB137), 0,AB137)), 0,IF(ISERROR(AB137), 0,AB137))), 0,IF(ISERROR(IF(ISERROR(AB137), 0,AB137)), 0,IF(ISERROR(AB137), 0,AB137)))","v":0},{"$f":"IF(ISERROR(IF(ISERROR(IF(ISERROR($E$10-G138), 0,$E$10-G138)), 0,IF(ISERROR($E$10-G138), 0,$E$10-G138))), 0,IF(ISERROR(IF(ISERROR($E$10-G138), 0,$E$10-G138)), 0,IF(ISERROR($E$10-G138), 0,$E$10-G138)))","v":0.4},null,{"$f":"IF(ISERROR(IF(ISERROR(AB138), 0,AB138)), 0,IF(ISERROR(AB138), 0,AB138))","v":0},{"$f":"IF(ISERROR(IF(ISERROR(ROUND($E$10-J138,3)), 0,ROUND($E$10-J138,3))), 0,IF(ISERROR(ROUND($E$10-J138,3)), 0,ROUND($E$10-J138,3)))","v":0.4},null,{"$f":"IF(ISERROR(AB139), \"\",AB139)","v":0},{"$f":"IF(ISERROR($E$10-M138), \"\",$E$10-M138)","v":0.4},{"$f":"A139","v":283.09615384615324},{"$f":"I138","v":0},{"$f":"IF(ISERROR(IF(ISERROR(IF(AC137=W137,Q137+(AC137/T137),Q137+(AD137/T137))), 0,IF(AC137=W137,Q137+(AC137/T137),Q137+(AD137/T137)))), 0,IF(ISERROR(IF(AC137=W137,Q137+(AC137/T137),Q137+(AD137/T137))), 0,IF(AC137=W137,Q137+(AC137/T137),Q137+(AD137/T137))))","v":0},{"$f":"D138","v":50},{"$f":"IF(ISERROR(IF(ISERROR(Q138-R138), 0,Q138-R138)), 0,IF(ISERROR(Q138-R138), 0,Q138-R138))","v":-50},0,{"$f":"IF(ISERROR(IF(ISERROR(S138*T138), 0,S138*T138)), 0,IF(ISERROR(S138*T138), 0,S138*T138))","v":0},0,14.2,0.4,{"$f":"IF(ISERROR(IF(ISERROR(ABS(U138)), 0,ABS(U138))), 0,IF(ISERROR(ABS(U138)), 0,ABS(U138)))","v":0},0.15000000000000002,{"$f":"IF(ISERROR(IF(ISERROR(ABS((Y138*X138)/W138)), 0,ABS((Y138*X138)/W138))), 0,IF(ISERROR(ABS((Y138*X138)/W138)), 0,ABS((Y138*X138)/W138)))","v":0},{"$f":"IF(ISERROR(IF(ISERROR(IF(AA138>Z138,Z138,AA138)), 0,IF(AA138>Z138,Z138,AA138))), 0,IF(ISERROR(IF(AA138>Z138,Z138,AA138)), 0,IF(AA138>Z138,Z138,AA138)))","v":0},{"$f":"IF(ISERROR(IF(ISERROR(IF(Y138>W138,W138,Y138)), 0,IF(Y138>W138,W138,Y138))), 0,IF(ISERROR(IF(Y138>W138,W138,Y138)), 0,IF(Y138>W138,W138,Y138)))","v":0},{"$f":"IF(ISERROR((AC138*AB138)/AA138), \"\",(AC138*AB138)/AA138)","v":""},{"$f":"IF(ISERROR(IF(AC138=W138,0,(AC138*AB138)/AA138)), \"\",IF(AC138=W138,0,(AC138*AB138)/AA138))","v":""},{"$f":"IF(ISERROR(IF(AC138=60,Q138+(AC138/T138),Q138+(AD138/T138))), \"\",IF(AC138=60,Q138+(AC138/T138),Q138+(AD138/T138)))","v":""}]
[{"$f":"F323","v":283.09615384615324},{"$f":"IF(AND(C138<D138, E138>$E$7),\"Ignore Drill Out Lead 1; rather pop out Lead 1 and LEAVE lead # 2 to \"&K138&\" inches.\",\"\")","v":""},null,null,null,null,null,null,null,null,null,null,null,{"$f":"IF(ISERROR(IF(ISERROR((G138+J138+M138)/$E$10*$E$7), 0,(G138+J138+M138)/$E$10*$E$7)), 0,IF(ISERROR((G138+J138+M138)/$E$10*$E$7), 0,(G138+J138+M138)/$E$10*$E$7))","v":0},{"$f":"A139","v":283.09615384615324},{"$f":"L138","v":0},{"$f":"IF(ISERROR(IF(AC138=W138,Q138+(AC138/T138),Q138+(AD138/T138))), \"\",IF(AC138=W138,Q138+(AC138/T138),Q138+(AD138/T138)))","v":""},{"$f":"D138","v":50},{"$f":"IF(ISERROR(Q139-R139), 0,Q139-R139)","v":0},0,{"$f":"IF(ISERROR(S139*T139), \"\",S139*T139)","v":0},0,14.2,0.4,{"$f":"IF(ISERROR(ABS(U139)), \"\",ABS(U139))","v":0},0.15000000000000002,{"$f":"IF(ISERROR(ABS((Y139*X139)/W139)), \"\",ABS((Y139*X139)/W139))","v":0},{"$f":"IF(ISERROR(IF(AA139>Z139,Z139,AA139)), \"\",IF(AA139>Z139,Z139,AA139))","v":0},{"$f":"IF(ISERROR(IF(Y139>W139,W139,Y139)), \"\",IF(Y139>W139,W139,Y139))","v":0},{"$f":"IF(ISERROR((AC139*AB139)/AA139), \"\",(AC139*AB139)/AA139)","v":""},{"$f":"IF(ISERROR(IF(AC139=W139,0,(AC139*AB139)/AA139)), \"\",IF(AC139=W139,0,(AC139*AB139)/AA139))","v":""},{"$f":"IF(ISERROR(IF(AC139=60,Q139+(AC139/T139),Q139+(AD139/T139))), \"\",IF(AC139=60,Q139+(AC139/T139),Q139+(AD139/T139)))","v":""}]
[null,null,"Test","Target",null,1,"dr_o","Lv_in",2,"dr_o","Lv_in",3,"dr_o","Lv_in",{"$f":"A142","v":263.5},{"$f":"F141","v":0},{"$f":"C141","v":50},{"$f":"D141","v":50},{"$f":"Q140-R140","v":0},0,{"$f":"IF(ISERROR(IF(ISERROR(IF(ISERROR(IF(ISERROR(S140*T140), 0,S140*T140)), 0,IF(ISERROR(S140*T140), 0,S140*T140))), 0,IF(ISERROR(IF(ISERROR(S140*T140), 0,S140*T140)), 0,IF(ISERROR(S140*T140), 0,S140*T140)))), 0,IF(ISERROR(IF(ISERROR(IF(ISERROR(S140*T140), 0,S140*T140)), 0,IF(ISERROR(S140*T140), 0,S140*T140))), 0,IF(ISERROR(IF(ISERROR(S140*T140), 0,S140*T140)), 0,IF(ISERROR(S140*T140), 0,S140*T140))))","v":0},0,14.2,0.4,{"$f":"IF(ISERROR(IF(ISERROR(IF(ISERROR(ABS(U140)), 0,ABS(U140))), 0,IF(ISERROR(ABS(U140)), 0,ABS(U140)))), 0,IF(ISERROR(IF(ISERROR(ABS(U140)), 0,ABS(U140))), 0,IF(ISERROR(ABS(U140)), 0,ABS(U140))))","v":0},0.15000000000000002,{"$f":"IF(ISERROR(IF(ISERROR(IF(ISERROR(ABS((Y140*X140)/W140)), 0,ABS((Y140*X140)/W140))), 0,IF(ISERROR(ABS((Y140*X140)/W140)), 0,ABS((Y140*X140)/W140)))), 0,IF(ISERROR(IF(ISERROR(ABS((Y140*X140)/W140)), 0,ABS((Y140*X140)/W140))), 0,IF(ISERROR(ABS((Y140*X140)/W140)), 0,ABS((Y140*X140)/W140))))","v":0},{"$f":"IF(ISERROR(IF(ISERROR(IF(ISERROR(IF(AA140>Z140,Z140,AA140)), 0,IF(AA140>Z140,Z140,AA140))), 0,IF(ISERROR(IF(AA140>Z140,Z140,AA140)), 0,IF(AA140>Z140,Z140,AA140)))), 0,IF(ISERROR(IF(ISERROR(IF(AA140>Z140,Z140,AA140)), 0,IF(AA140>Z140,Z140,AA140))), 0,IF(ISERROR(IF(AA140>Z140,Z140,AA140)), 0,IF(AA140>Z140,Z140,AA140))))","v":0},{"$f":"IF(ISERROR(IF(ISERROR(IF(ISERROR(IF(Y140>W140,W140,Y140)), 0,IF(Y140>W140,W140,Y140))), 0,IF(ISERROR(IF(Y140>W140,W140,Y140)), 0,IF(Y140>W140,W140,Y140)))), 0,IF(ISERROR(IF(ISERROR(IF(Y140>W140,W140,Y140)), 0,IF(Y140>W140,W140,Y140))), 0,IF(ISERROR(IF(Y140>W140,W140,Y140)), 0,IF(Y140>W140,W140,Y140))))","v":0},{"$f":"IF(ISERROR(IF(ISERROR(IF(ISERROR(IF(ISERROR((AC140*AB140)/AA140), 0,(AC140*AB140)/AA140)), 0,IF(ISERROR((AC140*AB140)/AA140), 0,(AC140*AB140)/AA140))), 0,IF(ISERROR(IF(ISERROR((AC140*AB140)/AA140), 0,(AC140*AB140)/AA140)), 0,IF(ISERROR((AC140*AB140)/AA140), 0,(AC140*AB140)/AA140)))), 0,IF(ISERROR(IF(ISERROR(IF(ISERROR((AC140*AB140)/AA140), 0,(AC140*AB140)/AA140)), 0,IF(ISERROR((AC140*AB140)/AA140), 0,(AC140*AB140)/AA140))), 0,IF(ISERROR(IF(ISERROR((AC140*AB140)/AA140), 0,(AC140*AB140)/AA140)), 0,IF(ISERROR((AC140*AB140)/AA140), 0,(AC140*AB140)/AA140))))","v":0},{"$f":"IF(ISERROR(IF(ISERROR(IF(ISERROR(IF(AC140=W140,0,(AC140*AB140)/AA140)), 0,IF(AC140=W140,0,(AC140*AB140)/AA140))), 0,IF(ISERROR(IF(AC140=W140,0,(AC140*AB140)/AA140)), 0,IF(AC140=W140,0,(AC140*AB140)/AA140)))), 0,IF(ISERROR(IF(ISERROR(IF(AC140=W140,0,(AC140*AB140)/AA140)), 0,IF(AC140=W140,0,(AC140*AB140)/AA140))), 0,IF(ISERROR(IF(AC140=W140,0,(AC140*AB140)/AA140)), 0,IF(AC140=W140,0,(AC140*AB140)/AA140))))","v":0},{"$f":"IF(ISERROR(IF(ISERROR(IF(AC140=60,Q140+(AC140/T140),Q140+(AD140/T140))), 0,IF(AC140=60,Q140+(AC140/T140),Q140+(AD140/T140)))), 0,IF(ISERROR(IF(AC140=60,Q140+(AC140/T140),Q140+(AD140/T140))), 0,IF(AC140=60,Q140+(AC140/T140),Q140+(AD140/T140))))","v":0}]
["C#",41,50,50,{"$f":"IF(ISERROR(IF(ISERROR(IF(ISERROR(Y140), 0,Y140)), 0,IF(ISERROR(Y140), 0,Y140))), 0,IF(ISERROR(IF(ISERROR(Y140), 0,Y140)), 0,IF(ISERROR(Y140), 0,Y140)))","v":0},null,{"$f":"IF(ISERROR(IF(ISERROR(IF(ISERROR(AB140), 0,AB140)), 0,IF(ISERROR(AB140), 0,AB140))), 0,IF(ISERROR(IF(ISERROR(AB140), 0,AB140)), 0,IF(ISERROR(AB140), 0,AB140)))","v":0},{"$f":"IF(ISERROR(IF(ISERROR(IF(ISERROR($E$10-G141), 0,$E$10-G141)), 0,IF(ISERROR($E$10-G141), 0,$E$10-G141))), 0,IF(ISERROR(IF(ISERROR($E$10-G141), 0,$E$10-G141)), 0,IF(ISERROR($E$10-G141), 0,$E$10-G141)))","v":0.4},null,{"$f":"IF(ISERROR(IF(ISERROR(AB141), 0,AB141)), 0,IF(ISERROR(AB141), 0,AB141))","v":0},{"$f":"IF(ISERROR(IF(ISERROR(ROUND($E$10-J141,3)), 0,ROUND($E$10-J141,3))), 0,IF(ISERROR(ROUND($E$10-J141,3)), 0,ROUND($E$10-J141,3)))","v":0.4},null,{"$f":"IF(ISERROR(IF(ISERROR(IF(ISERROR(IF(ISERROR(AB142), 0,AB142)), 0,IF(ISERROR(AB142), 0,AB142))), 0,IF(ISERROR(IF(ISERROR(AB142), 0,AB142)), 0,IF(ISERROR(AB142), 0,AB142)))), 0,IF(ISERROR(IF(ISERROR(IF(ISERROR(AB142), 0,AB142)), 0,IF(ISERROR(AB142), 0,AB142))), 0,IF(ISERROR(IF(ISERROR(AB142), 0,AB142)), 0,IF(ISERROR(AB142), 0,AB142))))","v":0},{"$f":"IF(ISERROR(IF(ISERROR(IF(ISERROR(IF(ISERROR($E$10-M141), 0,$E$10-M141)), 0,IF(ISERROR($E$10-M141), 0,$E$10-M141))), 0,IF(ISERROR(IF(ISERROR($E$10-M141), 0,$E$10-M141)), 0,IF(ISERROR($E$10-M141), 0,$E$10-M141)))), 0,IF(ISERROR(IF(ISERROR(IF(ISERROR($E$10-M141), 0,$E$10-M141)), 0,IF(ISERROR($E$10-M141), 0,$E$10-M141))), 0,IF(ISERROR(IF(ISERROR($E$10-M141), 0,$E$10-M141)), 0,IF(ISERROR($E$10-M141), 0,$E$10-M141))))","v":0.4},{"$f":"A142","v":263.5},{"$f":"I141","v":0},{"$f":"IF(ISERROR(IF(ISERROR(IF(AC140=W140,Q140+(AC140/T140),Q140+(AD140/T140))), 0,IF(AC140=W140,Q140+(AC140/T140),Q140+(AD140/T140)))), 0,IF(ISERROR(IF(AC140=W140,Q140+(AC140/T140),Q140+(AD140/T140))), 0,IF(AC140=W140,Q140+(AC140/T140),Q140+(AD140/T140))))","v":0},{"$f":"D141","v":50},{"$f":"IF(ISERROR(IF(ISERROR(Q141-R141), 0,Q141-R141)), 0,IF(ISERROR(Q141-R141), 0,Q141-R141))","v":-50},0,{"$f":"IF(ISERROR(IF(ISERROR(S141*T141), 0,S141*T141)), 0,IF(ISERROR(S141*T141), 0,S141*T141))","v":0},0,14.2,0.4,{"$f":"IF(ISERROR(IF(ISERROR(ABS(U141)), 0,ABS(U141))), 0,IF(ISERROR(ABS(U141)), 0,ABS(U141)))","v":0},0.15000000000000002,{"$f":"IF(ISERROR(IF(ISERROR(ABS((Y141*X141)/W141)), 0,ABS((Y141*X141)/W141))), 0,IF(ISERROR(ABS((Y141*X141)/W141)), 0,ABS((Y141*X141)/W141)))","v":0},{"$f":"IF(ISERROR(IF(ISERROR(IF(AA141>Z141,Z141,AA141)), 0,IF(AA141>Z141,Z141,AA141))), 0,IF(ISERROR(IF(AA141>Z141,Z141,AA141)), 0,IF(AA141>Z141,Z141,AA141)))","v":0},{"$f":"IF(ISERROR(IF(ISERROR(IF(Y141>W141,W141,Y141)), 0,IF(Y141>W141,W141,Y141))), 0,IF(ISERROR(IF(Y141>W141,W141,Y141)), 0,IF(Y141>W141,W141,Y141)))","v":0},{"$f":"IF(ISERROR((AC141*AB141)/AA141), 0,(AC141*AB141)/AA141)","v":0},{"$f":"IF(ISERROR(IF(ISERROR(IF(AC141=W141,0,(AC141*AB141)/AA141)), 0,IF(AC141=W141,0,(AC141*AB141)/AA141))), 0,IF(ISERROR(IF(AC141=W141,0,(AC141*AB141)/AA141)), 0,IF(AC141=W141,0,(AC141*AB141)/AA141)))","v":0},{"$f":"IF(ISERROR(IF(AC141=60,Q141+(AC141/T141),Q141+(AD141/T141))), 0,IF(AC141=60,Q141+(AC141/T141),Q141+(AD141/T141)))","v":0}]
[{"$f":"R316","v":263.5},{"$f":"IF(AND(C141<D141, E141>$E$7),\"Ignore Drill Out Lead 1; rather pop out Lead 1 and LEAVE lead # 2 to \"&K141&\" inches.\",\"\")","v":""},null,null,null,null,null,null,null,null,null,null,null,{"$f":"IF(ISERROR(IF(ISERROR((G141+J141+M141)/$E$10*$E$7), 0,(G141+J141+M141)/$E$10*$E$7)), 0,IF(ISERROR((G141+J141+M141)/$E$10*$E$7), 0,(G141+J141+M141)/$E$10*$E$7))","v":0},{"$f":"A142","v":263.5},{"$f":"L141","v":0},{"$f":"IF(ISERROR(IF(AC141=W141,Q141+(AC141/T141),Q141+(AD141/T141))), 0,IF(AC141=W141,Q141+(AC141/T141),Q141+(AD141/T141)))","v":0},{"$f":"D141","v":50},{"$f":"IF(ISERROR(Q142-R142), 0,Q142-R142)","v":-50},0,{"$f":"IF(ISERROR(IF(ISERROR(IF(ISERROR(IF(ISERROR(S142*T142), 0,S142*T142)), 0,IF(ISERROR(S142*T142), 0,S142*T142))), 0,IF(ISERROR(IF(ISERROR(S142*T142), 0,S142*T142)), 0,IF(ISERROR(S142*T142), 0,S142*T142)))), 0,IF(ISERROR(IF(ISERROR(IF(ISERROR(S142*T142), 0,S142*T142)), 0,IF(ISERROR(S142*T142), 0,S142*T142))), 0,IF(ISERROR(IF(ISERROR(S142*T142), 0,S142*T142)), 0,IF(ISERROR(S142*T142), 0,S142*T142))))","v":0},0,14.2,0.4,{"$f":"IF(ISERROR(IF(ISERROR(IF(ISERROR(ABS(U142)), 0,ABS(U142))), 0,IF(ISERROR(ABS(U142)), 0,ABS(U142)))), 0,IF(ISERROR(IF(ISERROR(ABS(U142)), 0,ABS(U142))), 0,IF(ISERROR(ABS(U142)), 0,ABS(U142))))","v":0},0.15000000000000002,{"$f":"IF(ISERROR(IF(ISERROR(IF(ISERROR(ABS((Y142*X142)/W142)), 0,ABS((Y142*X142)/W142))), 0,IF(ISERROR(ABS((Y142*X142)/W142)), 0,ABS((Y142*X142)/W142)))), 0,IF(ISERROR(IF(ISERROR(ABS((Y142*X142)/W142)), 0,ABS((Y142*X142)/W142))), 0,IF(ISERROR(ABS((Y142*X142)/W142)), 0,ABS((Y142*X142)/W142))))","v":0},{"$f":"IF(ISERROR(IF(ISERROR(IF(ISERROR(IF(AA142>Z142,Z142,AA142)), 0,IF(AA142>Z142,Z142,AA142))), 0,IF(ISERROR(IF(AA142>Z142,Z142,AA142)), 0,IF(AA142>Z142,Z142,AA142)))), 0,IF(ISERROR(IF(ISERROR(IF(AA142>Z142,Z142,AA142)), 0,IF(AA142>Z142,Z142,AA142))), 0,IF(ISERROR(IF(AA142>Z142,Z142,AA142)), 0,IF(AA142>Z142,Z142,AA142))))","v":0},{"$f":"IF(ISERROR(IF(ISERROR(IF(ISERROR(IF(Y142>W142,W142,Y142)), 0,IF(Y142>W142,W142,Y142))), 0,IF(ISERROR(IF(Y142>W142,W142,Y142)), 0,IF(Y142>W142,W142,Y142)))), 0,IF(ISERROR(IF(ISERROR(IF(Y142>W142,W142,Y142)), 0,IF(Y142>W142,W142,Y142))), 0,IF(ISERROR(IF(Y142>W142,W142,Y142)), 0,IF(Y142>W142,W142,Y142))))","v":0},{"$f":"IF(ISERROR((AC142*AB142)/AA142), \"\",(AC142*AB142)/AA142)","v":""},{"$f":"IF(ISERROR(IF(AC142=W142,0,(AC142*AB142)/AA142)), \"\",IF(AC142=W142,0,(AC142*AB142)/AA142))","v":""},{"$f":"IF(ISERROR(IF(AC142=60,Q142+(AC142/T142),Q142+(AD142/T142))), \"\",IF(AC142=60,Q142+(AC142/T142),Q142+(AD142/T142)))","v":""}]
[null,null,"Test","Target",null,1,"dr_o","Lv_in",2,"dr_o","Lv_in",3,"dr_o","Lv_in",{"$f":"A145","v":281.7307692307686},{"$f":"F144","v":0},{"$f":"C144","v":50},{"$f":"D144","v":50},{"$f":"Q143-R143","v":0},0,{"$f":"IF(ISERROR(IF(ISERROR(IF(ISERROR(IF(ISERROR(S143*T143), 0,S143*T143)), 0,IF(ISERROR(S143*T143), 0,S143*T143))), 0,IF(ISERROR(IF(ISERROR(S143*T143), 0,S143*T143)), 0,IF(ISERROR(S143*T143), 0,S143*T143)))), 0,IF(ISERROR(IF(ISERROR(IF(ISERROR(S143*T143), 0,S143*T143)), 0,IF(ISERROR(S143*T143), 0,S143*T143))), 0,IF(ISERROR(IF(ISERROR(S143*T143), 0,S143*T143)), 0,IF(ISERROR(S143*T143), 0,S143*T143))))","v":0},0,14.2,0.4,{"$f":"IF(ISERROR(IF(ISERROR(IF(ISERROR(ABS(U143)), 0,ABS(U143))), 0,IF(ISERROR(ABS(U143)), 0,ABS(U143)))), 0,IF(ISERROR(IF(ISERROR(ABS(U143)), 0,ABS(U143))), 0,IF(ISERROR(ABS(U143)), 0,ABS(U143))))","v":0},0.15000000000000002,{"$f":"IF(ISERROR(IF(ISERROR(IF(ISERROR(ABS((Y143*X143)/W143)), 0,ABS((Y143*X143)/W143))), 0,IF(ISERROR(ABS((Y143*X143)/W143)), 0,ABS((Y143*X143)/W143)))), 0,IF(ISERROR(IF(ISERROR(ABS((Y143*X143)/W143)), 0,ABS((Y143*X143)/W143))), 0,IF(ISERROR(ABS((Y143*X143)/W143)), 0,ABS((Y143*X143)/W143))))","v":0},{"$f":"IF(ISERROR(IF(ISERROR(IF(ISERROR(IF(AA143>Z143,Z143,AA143)), 0,IF(AA143>Z143,Z143,AA143))), 0,IF(ISERROR(IF(AA143>Z143,Z143,AA143)), 0,IF(AA143>Z143,Z143,AA143)))), 0,IF(ISERROR(IF(ISERROR(IF(AA143>Z143,Z143,AA143)), 0,IF(AA143>Z143,Z143,AA143))), 0,IF(ISERROR(IF(AA143>Z143,Z143,AA143)), 0,IF(AA143>Z143,Z143,AA143))))","v":0},{"$f":"IF(ISERROR(IF(ISERROR(IF(ISERROR(IF(Y143>W143,W143,Y143)), 0,IF(Y143>W143,W143,Y143))), 0,IF(ISERROR(IF(Y143>W143,W143,Y143)), 0,IF(Y143>W143,W143,Y143)))), 0,IF(ISERROR(IF(ISERROR(IF(Y143>W143,W143,Y143)), 0,IF(Y143>W143,W143,Y143))), 0,IF(ISERROR(IF(Y143>W143,W143,Y143)), 0,IF(Y143>W143,W143,Y143))))","v":0},{"$f":"IF(ISERROR(IF(ISERROR(IF(ISERROR(IF(ISERROR((AC143*AB143)/AA143), 0,(AC143*AB143)/AA143)), 0,IF(ISERROR((AC143*AB143)/AA143), 0,(AC143*AB143)/AA143))), 0,IF(ISERROR(IF(ISERROR((AC143*AB143)/AA143), 0,(AC143*AB143)/AA143)), 0,IF(ISERROR((AC143*AB143)/AA143), 0,(AC143*AB143)/AA143)))), 0,IF(ISERROR(IF(ISERROR(IF(ISERROR((AC143*AB143)/AA143), 0,(AC143*AB143)/AA143)), 0,IF(ISERROR((AC143*AB143)/AA143), 0,(AC143*AB143)/AA143))), 0,IF(ISERROR(IF(ISERROR((AC143*AB143)/AA143), 0,(AC143*AB143)/AA143)), 0,IF(ISERROR((AC143*AB143)/AA143), 0,(AC143*AB143)/AA143))))","v":0},{"$f":"IF(ISERROR(IF(ISERROR(IF(ISERROR(IF(AC143=W143,0,(AC143*AB143)/AA143)), 0,IF(AC143=W143,0,(AC143*AB143)/AA143))), 0,IF(ISERROR(IF(AC143=W143,0,(AC143*AB143)/AA143)), 0,IF(AC143=W143,0,(AC143*AB143)/AA143)))), 0,IF(ISERROR(IF(ISERROR(IF(AC143=W143,0,(AC143*AB143)/AA143)), 0,IF(AC143=W143,0,(AC143*AB143)/AA143))), 0,IF(ISERROR(IF(AC143=W143,0,(AC143*AB143)/AA143)), 0,IF(AC143=W143,0,(AC143*AB143)/AA143))))","v":0},{"$f":"IF(ISERROR(IF(ISERROR(IF(AC143=60,Q143+(AC143/T143),Q143+(AD143/T143))), 0,IF(AC143=60,Q143+(AC143/T143),Q143+(AD143/T143)))), 0,IF(ISERROR(IF(AC143=60,Q143+(AC143/T143),Q143+(AD143/T143))), 0,IF(AC143=60,Q143+(AC143/T143),Q143+(AD143/T143))))","v":0}]
["D",42,50,50,{"$f":"IF(ISERROR(IF(ISERROR(IF(ISERROR(Y143), 0,Y143)), 0,IF(ISERROR(Y143), 0,Y143))), 0,IF(ISERROR(IF(ISERROR(Y143), 0,Y143)), 0,IF(ISERROR(Y143), 0,Y143)))","v":0},null,{"$f":"IF(ISERROR(IF(ISERROR(IF(ISERROR(AB143), 0,AB143)), 0,IF(ISERROR(AB143), 0,AB143))), 0,IF(ISERROR(IF(ISERROR(AB143), 0,AB143)), 0,IF(ISERROR(AB143), 0,AB143)))","v":0},{"$f":"IF(ISERROR(IF(ISERROR(IF(ISERROR($E$10-G144), 0,$E$10-G144)), 0,IF(ISERROR($E$10-G144), 0,$E$10-G144))), 0,IF(ISERROR(IF(ISERROR($E$10-G144), 0,$E$10-G144)), 0,IF(ISERROR($E$10-G144), 0,$E$10-G144)))","v":0.4},null,{"$f":"IF(ISERROR(IF(ISERROR(AB144), 0,AB144)), 0,IF(ISERROR(AB144), 0,AB144))","v":0},{"$f":"IF(ISERROR(IF(ISERROR(ROUND($E$10-J144,3)), 0,ROUND($E$10-J144,3))), 0,IF(ISERROR(ROUND($E$10-J144,3)), 0,ROUND($E$10-J144,3)))","v":0.4},null,{"$f":"IF(ISERROR(AB145), \"\",AB145)","v":0},{"$f":"IF(ISERROR($E$10-M144), \"\",$E$10-M144)","v":0.4},{"$f":"A145","v":281.7307692307686},{"$f":"I144","v":0},{"$f":"IF(ISERROR(IF(ISERROR(IF(AC143=W143,Q143+(AC143/T143),Q143+(AD143/T143))), 0,IF(AC143=W143,Q143+(AC143/T143),Q143+(AD143/T143)))), 0,IF(ISERROR(IF(AC143=W143,Q143+(AC143/T143),Q143+(AD143/T143))), 0,IF(AC143=W143,Q143+(AC143/T143),Q143+(AD143/T143))))","v":0},{"$f":"D144","v":50},{"$f":"IF(ISERROR(IF(ISERROR(Q144-R144), 0,Q144-R144)), 0,IF(ISERROR(Q144-R144), 0,Q144-R144))","v":-50},0,{"$f":"IF(ISERROR(IF(ISERROR(S144*T144), 0,S144*T144)), 0,IF(ISERROR(S144*T144), 0,S144*T144))","v":0},0,14.2,0.4,{"$f":"IF(ISERROR(IF(ISERROR(ABS(U144)), 0,ABS(U144))), 0,IF(ISERROR(ABS(U144)), 0,ABS(U144)))","v":0},0.15000000000000002,{"$f":"IF(ISERROR(IF(ISERROR(ABS((Y144*X144)/W144)), 0,ABS((Y144*X144)/W144))), 0,IF(ISERROR(ABS((Y144*X144)/W144)), 0,ABS((Y144*X144)/W144)))","v":0},{"$f":"IF(ISERROR(IF(ISERROR(IF(AA144>Z144,Z144,AA144)), 0,IF(AA144>Z144,Z144,AA144))), 0,IF(ISERROR(IF(AA144>Z144,Z144,AA144)), 0,IF(AA144>Z144,Z144,AA144)))","v":0},{"$f":"IF(ISERROR(IF(ISERROR(IF(Y144>W144,W144,Y144)), 0,IF(Y144>W144,W144,Y144))), 0,IF(ISERROR(IF(Y144>W144,W144,Y144)), 0,IF(Y144>W144,W144,Y144)))","v":0},{"$f":"IF(ISERROR((AC144*AB144)/AA144), \"\",(AC144*AB144)/AA144)","v":""},{"$f":"IF(ISERROR(IF(AC144=W144,0,(AC144*AB144)/AA144)), \"\",IF(AC144=W144,0,(AC144*AB144)/AA144))","v":""},{"$f":"IF(ISERROR(IF(AC144=60,Q144+(AC144/T144),Q144+(AD144/T144))), \"\",IF(AC144=60,Q144+(AC144/T144),Q144+(AD144/T144)))","v":""}]
[{"$f":"F324","v":281.7307692307686},{"$f":"IF(AND(C144<D144, E144>$E$7),\"Ignore Drill Out Lead 1; rather pop out Lead 1 and LEAVE lead # 2 to \"&K144&\" inches.\",\"\")","v":""},null,null,null,null,null,null,null,null,null,null,null,{"$f":"IF(ISERROR(IF(ISERROR((G144+J144+M144)/$E$10*$E$7), 0,(G144+J144+M144)/$E$10*$E$7)), 0,IF(ISERROR((G144+J144+M144)/$E$10*$E$7), 0,(G144+J144+M144)/$E$10*$E$7))","v":0},{"$f":"A145","v":281.7307692307686},{"$f":"L144","v":0},{"$f":"IF(ISERROR(IF(AC144=W144,Q144+(AC144/T144),Q144+(AD144/T144))), \"\",IF(AC144=W144,Q144+(AC144/T144),Q144+(AD144/T144)))","v":""},{"$f":"D144","v":50},{"$f":"IF(ISERROR(Q145-R145), 0,Q145-R145)","v":0},0,{"$f":"IF(ISERROR(S145*T145), \"\",S145*T145)","v":0},0,14.2,0.4,{"$f":"IF(ISERROR(ABS(U145)), \"\",ABS(U145))","v":0},0.15000000000000002,{"$f":"IF(ISERROR(ABS((Y145*X145)/W145)), \"\",ABS((Y145*X145)/W145))","v":0},{"$f":"IF(ISERROR(IF(AA145>Z145,Z145,AA145)), \"\",IF(AA145>Z145,Z145,AA145))","v":0},{"$f":"IF(ISERROR(IF(Y145>W145,W145,Y145)), \"\",IF(Y145>W145,W145,Y145))","v":0},{"$f":"IF(ISERROR((AC145*AB145)/AA145), \"\",(AC145*AB145)/AA145)","v":""},{"$f":"IF(ISERROR(IF(AC145=W145,0,(AC145*AB145)/AA145)), \"\",IF(AC145=W145,0,(AC145*AB145)/AA145))","v":""},{"$f":"IF(ISERROR(IF(AC145=60,Q145+(AC145/T145),Q145+(AD145/T145))), \"\",IF(AC145=60,Q145+(AC145/T145),Q145+(AD145/T145)))","v":""}]
[null,null,"Test","Target",null,1,"dr_o","Lv_in",2,"dr_o","Lv_in",3,"dr_o","Lv_in",{"$f":"A148","v":262.5},{"$f":"F147","v":0},{"$f":"C147","v":54},{"$f":"D147","v":50},{"$f":"Q146-R146","v":4},0,{"$f":"IF(ISERROR(IF(ISERROR(IF(ISERROR(IF(ISERROR(S146*T146), 0,S146*T146)), 0,IF(ISERROR(S146*T146), 0,S146*T146))), 0,IF(ISERROR(IF(ISERROR(S146*T146), 0,S146*T146)), 0,IF(ISERROR(S146*T146), 0,S146*T146)))), 0,IF(ISERROR(IF(ISERROR(IF(ISERROR(S146*T146), 0,S146*T146)), 0,IF(ISERROR(S146*T146), 0,S146*T146))), 0,IF(ISERROR(IF(ISERROR(S146*T146), 0,S146*T146)), 0,IF(ISERROR(S146*T146), 0,S146*T146))))","v":0},0,14.2,0.4,{"$f":"IF(ISERROR(IF(ISERROR(IF(ISERROR(ABS(U146)), 0,ABS(U146))), 0,IF(ISERROR(ABS(U146)), 0,ABS(U146)))), 0,IF(ISERROR(IF(ISERROR(ABS(U146)), 0,ABS(U146))), 0,IF(ISERROR(ABS(U146)), 0,ABS(U146))))","v":0},0.15000000000000002,{"$f":"IF(ISERROR(ABS((Y146*X146)/W146)), \"\",ABS((Y146*X146)/W146))","v":0},{"$f":"IF(AA146>Z146,Z146,AA146)","v":0},{"$f":"IF(ISERROR(IF(ISERROR(IF(ISERROR(IF(Y146>W146,W146,Y146)), 0,IF(Y146>W146,W146,Y146))), 0,IF(ISERROR(IF(Y146>W146,W146,Y146)), 0,IF(Y146>W146,W146,Y146)))), 0,IF(ISERROR(IF(ISERROR(IF(Y146>W146,W146,Y146)), 0,IF(Y146>W146,W146,Y146))), 0,IF(ISERROR(IF(Y146>W146,W146,Y146)), 0,IF(Y146>W146,W146,Y146))))","v":0},{"$f":"IF(ISERROR((AC146*AB146)/AA146), \"\",(AC146*AB146)/AA146)","v":""},{"$f":"IF(ISERROR(IF(AC146=W146,0,(AC146*AB146)/AA146)), \"\",IF(AC146=W146,0,(AC146*AB146)/AA146))","v":""},{"$f":"IF(ISERROR(IF(AC146=60,Q146+(AC146/T146),Q146+(AD146/T146))), \"\",IF(AC146=60,Q146+(AC146/T146),Q146+(AD146/T146)))","v":""}]
["D#",43,54,50,{"$f":"IF(ISERROR(IF(ISERROR(IF(ISERROR(Y146), 0,Y146)), 0,IF(ISERROR(Y146), 0,Y146))), 0,IF(ISERROR(IF(ISERROR(Y146), 0,Y146)), 0,IF(ISERROR(Y146), 0,Y146)))","v":0},null,{"$f":"AB146","v":0},{"$f":"$E$10-G147","v":0.4},null,{"$f":"IF(ISERROR(AB147), \"\",AB147)","v":0},{"$f":"IF(ISERROR(ROUND($E$10-J147,3)), \"\",ROUND($E$10-J147,3))","v":0.4},null,{"$f":"IF(ISERROR(AB148), \"\",AB148)","v":0},{"$f":"IF(ISERROR($E$10-M147), \"\",$E$10-M147)","v":0.4},{"$f":"A148","v":262.5},{"$f":"I147","v":0},{"$f":"IF(ISERROR(IF(AC146=W146,Q146+(AC146/T146),Q146+(AD146/T146))), \"\",IF(AC146=W146,Q146+(AC146/T146),Q146+(AD146/T146)))","v":""},{"$f":"D147","v":50},{"$f":"IF(ISERROR(Q147-R147), \"\",Q147-R147)","v":""},0,{"$f":"IF(ISERROR(S147*T147), \"\",S147*T147)","v":""},0,14.2,0.4,{"$f":"IF(ISERROR(ABS(U147)), \"\",ABS(U147))","v":""},0.15000000000000002,{"$f":"IF(ISERROR(ABS((Y147*X147)/W147)), 0,ABS((Y147*X147)/W147))","v":0},{"$f":"IF(ISERROR(IF(AA147>Z147,Z147,AA147)), \"\",IF(AA147>Z147,Z147,AA147))","v":0},{"$f":"IF(ISERROR(IF(Y147>W147,W147,Y147)), \"\",IF(Y147>W147,W147,Y147))","v":14.2},{"$f":"IF(ISERROR((AC147*AB147)/AA147), \"\",(AC147*AB147)/AA147)","v":""},{"$f":"IF(ISERROR(IF(AC147=W147,0,(AC147*AB147)/AA147)), \"\",IF(AC147=W147,0,(AC147*AB147)/AA147))","v":0},{"$f":"IF(ISERROR(IF(AC147=60,Q147+(AC147/T147),Q147+(AD147/T147))), \"\",IF(AC147=60,Q147+(AC147/T147),Q147+(AD147/T147)))","v":""}]
[{"$f":"R317","v":262.5},{"$f":"IF(AND(C147<D147, E147>$E$7),\"Ignore Drill Out Lead 1; rather pop out Lead 1 and LEAVE lead # 2 to \"&K147&\" inches.\",\"\")","v":""},null,null,null,null,null,null,null,null,null,null,null,{"$f":"IF(ISERROR((G147+J147+M147)/$E$10*$E$7), 0,(G147+J147+M147)/$E$10*$E$7)","v":0},{"$f":"A148","v":262.5},{"$f":"L147","v":0},{"$f":"IF(ISERROR(IF(AC147=W147,Q147+(AC147/T147),Q147+(AD147/T147))), \"\",IF(AC147=W147,Q147+(AC147/T147),Q147+(AD147/T147)))","v":""},{"$f":"D147","v":50},{"$f":"IF(ISERROR(Q148-R148), 0,Q148-R148)","v":0},0,{"$f":"IF(ISERROR(S148*T148), \"\",S148*T148)","v":0},0,14.2,0.4,{"$f":"IF(ISERROR(ABS(U148)), \"\",ABS(U148))","v":0},0.15000000000000002,{"$f":"IF(ISERROR(ABS((Y148*X148)/W148)), \"\",ABS((Y148*X148)/W148))","v":0},{"$f":"IF(ISERROR(IF(AA148>Z148,Z148,AA148)), \"\",IF(AA148>Z148,Z148,AA148))","v":0},{"$f":"IF(ISERROR(IF(Y148>W148,W148,Y148)), \"\",IF(Y148>W148,W148,Y148))","v":0},{"$f":"IF(ISERROR((AC148*AB148)/AA148), \"\",(AC148*AB148)/AA148)","v":""},{"$f":"IF(ISERROR(IF(AC148=W148,0,(AC148*AB148)/AA148)), \"\",IF(AC148=W148,0,(AC148*AB148)/AA148))","v":""},{"$f":"IF(ISERROR(IF(AC148=60,Q148+(AC148/T148),Q148+(AD148/T148))), \"\",IF(AC148=60,Q148+(AC148/T148),Q148+(AD148/T148)))","v":""}]
[null,null,"Test","Target",null,1,"dr_o","Lv_in",2,"dr_o","Lv_in",3,"dr_o","Lv_in",{"$f":"A151","v":280.36538461538396},{"$f":"F150","v":0},{"$f":"C150","v":52},{"$f":"D150","v":50},{"$f":"Q149-R149","v":2},0,{"$f":"IF(ISERROR(IF(ISERROR(IF(ISERROR(IF(ISERROR(S149*T149), 0,S149*T149)), 0,IF(ISERROR(S149*T149), 0,S149*T149))), 0,IF(ISERROR(IF(ISERROR(S149*T149), 0,S149*T149)), 0,IF(ISERROR(S149*T149), 0,S149*T149)))), 0,IF(ISERROR(IF(ISERROR(IF(ISERROR(S149*T149), 0,S149*T149)), 0,IF(ISERROR(S149*T149), 0,S149*T149))), 0,IF(ISERROR(IF(ISERROR(S149*T149), 0,S149*T149)), 0,IF(ISERROR(S149*T149), 0,S149*T149))))","v":0},0,14.2,0.4,{"$f":"IF(ISERROR(IF(ISERROR(IF(ISERROR(ABS(U149)), 0,ABS(U149))), 0,IF(ISERROR(ABS(U149)), 0,ABS(U149)))), 0,IF(ISERROR(IF(ISERROR(ABS(U149)), 0,ABS(U149))), 0,IF(ISERROR(ABS(U149)), 0,ABS(U149))))","v":0},0.15000000000000002,{"$f":"IF(ISERROR(IF(ISERROR(IF(ISERROR(ABS((Y149*X149)/W149)), 0,ABS((Y149*X149)/W149))), 0,IF(ISERROR(ABS((Y149*X149)/W149)), 0,ABS((Y149*X149)/W149)))), 0,IF(ISERROR(IF(ISERROR(ABS((Y149*X149)/W149)), 0,ABS((Y149*X149)/W149))), 0,IF(ISERROR(ABS((Y149*X149)/W149)), 0,ABS((Y149*X149)/W149))))","v":0},{"$f":"IF(ISERROR(IF(ISERROR(IF(ISERROR(IF(AA149>Z149,Z149,AA149)), 0,IF(AA149>Z149,Z149,AA149))), 0,IF(ISERROR(IF(AA149>Z149,Z149,AA149)), 0,IF(AA149>Z149,Z149,AA149)))), 0,IF(ISERROR(IF(ISERROR(IF(AA149>Z149,Z149,AA149)), 0,IF(AA149>Z149,Z149,AA149))), 0,IF(ISERROR(IF(AA149>Z149,Z149,AA149)), 0,IF(AA149>Z149,Z149,AA149))))","v":0},{"$f":"IF(ISERROR(IF(ISERROR(IF(ISERROR(IF(Y149>W149,W149,Y149)), 0,IF(Y149>W149,W149,Y149))), 0,IF(ISERROR(IF(Y149>W149,W149,Y149)), 0,IF(Y149>W149,W149,Y149)))), 0,IF(ISERROR(IF(ISERROR(IF(Y149>W149,W149,Y149)), 0,IF(Y149>W149,W149,Y149))), 0,IF(ISERROR(IF(Y149>W149,W149,Y149)), 0,IF(Y149>W149,W149,Y149))))","v":0},{"$f":"IF(ISERROR(IF(ISERROR(IF(ISERROR(IF(ISERROR((AC149*AB149)/AA149), 0,(AC149*AB149)/AA149)), 0,IF(ISERROR((AC149*AB149)/AA149), 0,(AC149*AB149)/AA149))), 0,IF(ISERROR(IF(ISERROR((AC149*AB149)/AA149), 0,(AC149*AB149)/AA149)), 0,IF(ISERROR((AC149*AB149)/AA149), 0,(AC149*AB149)/AA149)))), 0,IF(ISERROR(IF(ISERROR(IF(ISERROR((AC149*AB149)/AA149), 0,(AC149*AB149)/AA149)), 0,IF(ISERROR((AC149*AB149)/AA149), 0,(AC149*AB149)/AA149))), 0,IF(ISERROR(IF(ISERROR((AC149*AB149)/AA149), 0,(AC149*AB149)/AA149)), 0,IF(ISERROR((AC149*AB149)/AA149), 0,(AC149*AB149)/AA149))))","v":0},{"$f":"IF(ISERROR(IF(ISERROR(IF(ISERROR(IF(AC149=W149,0,(AC149*AB149)/AA149)), 0,IF(AC149=W149,0,(AC149*AB149)/AA149))), 0,IF(ISERROR(IF(AC149=W149,0,(AC149*AB149)/AA149)), 0,IF(AC149=W149,0,(AC149*AB149)/AA149)))), 0,IF(ISERROR(IF(ISERROR(IF(AC149=W149,0,(AC149*AB149)/AA149)), 0,IF(AC149=W149,0,(AC149*AB149)/AA149))), 0,IF(ISERROR(IF(AC149=W149,0,(AC149*AB149)/AA149)), 0,IF(AC149=W149,0,(AC149*AB149)/AA149))))","v":0},{"$f":"IF(ISERROR(IF(ISERROR(IF(AC149=60,Q149+(AC149/T149),Q149+(AD149/T149))), 0,IF(AC149=60,Q149+(AC149/T149),Q149+(AD149/T149)))), 0,IF(ISERROR(IF(AC149=60,Q149+(AC149/T149),Q149+(AD149/T149))), 0,IF(AC149=60,Q149+(AC149/T149),Q149+(AD149/T149))))","v":0}]
["E",44,52,50,{"$f":"IF(ISERROR(IF(ISERROR(IF(ISERROR(Y149), 0,Y149)), 0,IF(ISERROR(Y149), 0,Y149))), 0,IF(ISERROR(IF(ISERROR(Y149), 0,Y149)), 0,IF(ISERROR(Y149), 0,Y149)))","v":0},null,{"$f":"IF(ISERROR(IF(ISERROR(IF(ISERROR(AB149), 0,AB149)), 0,IF(ISERROR(AB149), 0,AB149))), 0,IF(ISERROR(IF(ISERROR(AB149), 0,AB149)), 0,IF(ISERROR(AB149), 0,AB149)))","v":0},{"$f":"IF(ISERROR(IF(ISERROR(IF(ISERROR($E$10-G150), 0,$E$10-G150)), 0,IF(ISERROR($E$10-G150), 0,$E$10-G150))), 0,IF(ISERROR(IF(ISERROR($E$10-G150), 0,$E$10-G150)), 0,IF(ISERROR($E$10-G150), 0,$E$10-G150)))","v":0.4},null,{"$f":"IF(ISERROR(IF(ISERROR(AB150), 0,AB150)), 0,IF(ISERROR(AB150), 0,AB150))","v":0},{"$f":"IF(ISERROR(IF(ISERROR(ROUND($E$10-J150,3)), 0,ROUND($E$10-J150,3))), 0,IF(ISERROR(ROUND($E$10-J150,3)), 0,ROUND($E$10-J150,3)))","v":0.4},null,{"$f":"IF(ISERROR(AB151), \"\",AB151)","v":0},{"$f":"IF(ISERROR($E$10-M150), \"\",$E$10-M150)","v":0.4},{"$f":"A151","v":280.36538461538396},{"$f":"I150","v":0},{"$f":"IF(ISERROR(IF(ISERROR(IF(AC149=W149,Q149+(AC149/T149),Q149+(AD149/T149))), 0,IF(AC149=W149,Q149+(AC149/T149),Q149+(AD149/T149)))), 0,IF(ISERROR(IF(AC149=W149,Q149+(AC149/T149),Q149+(AD149/T149))), 0,IF(AC149=W149,Q149+(AC149/T149),Q149+(AD149/T149))))","v":0},{"$f":"D150","v":50},{"$f":"IF(ISERROR(IF(ISERROR(Q150-R150), 0,Q150-R150)), 0,IF(ISERROR(Q150-R150), 0,Q150-R150))","v":-50},0,{"$f":"IF(ISERROR(IF(ISERROR(S150*T150), 0,S150*T150)), 0,IF(ISERROR(S150*T150), 0,S150*T150))","v":0},0,14.2,0.4,{"$f":"IF(ISERROR(IF(ISERROR(ABS(U150)), 0,ABS(U150))), 0,IF(ISERROR(ABS(U150)), 0,ABS(U150)))","v":0},0.15000000000000002,{"$f":"IF(ISERROR(IF(ISERROR(ABS((Y150*X150)/W150)), 0,ABS((Y150*X150)/W150))), 0,IF(ISERROR(ABS((Y150*X150)/W150)), 0,ABS((Y150*X150)/W150)))","v":0},{"$f":"IF(ISERROR(IF(ISERROR(IF(AA150>Z150,Z150,AA150)), 0,IF(AA150>Z150,Z150,AA150))), 0,IF(ISERROR(IF(AA150>Z150,Z150,AA150)), 0,IF(AA150>Z150,Z150,AA150)))","v":0},{"$f":"IF(ISERROR(IF(ISERROR(IF(Y150>W150,W150,Y150)), 0,IF(Y150>W150,W150,Y150))), 0,IF(ISERROR(IF(Y150>W150,W150,Y150)), 0,IF(Y150>W150,W150,Y150)))","v":0},{"$f":"IF(ISERROR((AC150*AB150)/AA150), \"\",(AC150*AB150)/AA150)","v":""},{"$f":"IF(ISERROR(IF(AC150=W150,0,(AC150*AB150)/AA150)), \"\",IF(AC150=W150,0,(AC150*AB150)/AA150))","v":""},{"$f":"IF(ISERROR(IF(AC150=60,Q150+(AC150/T150),Q150+(AD150/T150))), \"\",IF(AC150=60,Q150+(AC150/T150),Q150+(AD150/T150)))","v":""}]
[{"$f":"F325","v":280.36538461538396},{"$f":"IF(AND(C150<D150, E150>$E$7),\"Ignore Drill Out Lead 1; rather pop out Lead 1 and LEAVE lead # 2 to \"&K150&\" inches.\",\"\")","v":""},null,null,null,null,null,null,null,null,null,null,null,{"$f":"IF(ISERROR(IF(ISERROR((G150+J150+M150)/$E$10*$E$7), 0,(G150+J150+M150)/$E$10*$E$7)), 0,IF(ISERROR((G150+J150+M150)/$E$10*$E$7), 0,(G150+J150+M150)/$E$10*$E$7))","v":0},{"$f":"A151","v":280.36538461538396},{"$f":"L150","v":0},{"$f":"IF(ISERROR(IF(AC150=W150,Q150+(AC150/T150),Q150+(AD150/T150))), \"\",IF(AC150=W150,Q150+(AC150/T150),Q150+(AD150/T150)))","v":""},{"$f":"D150","v":50},{"$f":"IF(ISERROR(Q151-R151), 0,Q151-R151)","v":0},{"$f":"IF(ISERROR((O151/P151)), 0,(O151/P151))","v":0},{"$f":"IF(ISERROR(S151*T151), \"\",S151*T151)","v":0},{"$f":"IF(ISERROR(IF(ISERROR(O151/T151), 0,O151/T151)), 0,IF(ISERROR(O151/T151), 0,O151/T151))","v":0},14.2,0.4,{"$f":"IF(ISERROR(ABS(U151)), \"\",ABS(U151))","v":0},0.15000000000000002,{"$f":"IF(ISERROR(ABS((Y151*X151)/W151)), \"\",ABS((Y151*X151)/W151))","v":0},{"$f":"IF(ISERROR(IF(AA151>Z151,Z151,AA151)), \"\",IF(AA151>Z151,Z151,AA151))","v":0},{"$f":"IF(ISERROR(IF(Y151>W151,W151,Y151)), \"\",IF(Y151>W151,W151,Y151))","v":0},{"$f":"IF(ISERROR((AC151*AB151)/AA151), \"\",(AC151*AB151)/AA151)","v":""},{"$f":"IF(ISERROR(IF(AC151=W151,0,(AC151*AB151)/AA151)), \"\",IF(AC151=W151,0,(AC151*AB151)/AA151))","v":""},{"$f":"IF(ISERROR(IF(AC151=60,Q151+(AC151/T151),Q151+(AD151/T151))), \"\",IF(AC151=60,Q151+(AC151/T151),Q151+(AD151/T151)))","v":""}]
[null,null,"Test","Target",null,1,"dr_o","Lv_in",2,"dr_o","Lv_in",3,"dr_o","Lv_in",{"$f":"A154","v":278.99999999999932},{"$f":"F153","v":0},{"$f":"C153","v":50},{"$f":"D153","v":50},{"$f":"Q152-R152","v":0},{"$f":"IF(ISERROR(IF(ISERROR(IF(ISERROR((O152/P152)), 0,(O152/P152))), 0,IF(ISERROR((O152/P152)), 0,(O152/P152)))), 0,IF(ISERROR(IF(ISERROR((O152/P152)), 0,(O152/P152))), 0,IF(ISERROR((O152/P152)), 0,(O152/P152))))","v":0},{"$f":"IF(ISERROR(IF(ISERROR(IF(ISERROR(IF(ISERROR(S152*T152), 0,S152*T152)), 0,IF(ISERROR(S152*T152), 0,S152*T152))), 0,IF(ISERROR(IF(ISERROR(S152*T152), 0,S152*T152)), 0,IF(ISERROR(S152*T152), 0,S152*T152)))), 0,IF(ISERROR(IF(ISERROR(IF(ISERROR(S152*T152), 0,S152*T152)), 0,IF(ISERROR(S152*T152), 0,S152*T152))), 0,IF(ISERROR(IF(ISERROR(S152*T152), 0,S152*T152)), 0,IF(ISERROR(S152*T152), 0,S152*T152))))","v":0},{"$f":"IF(ISERROR(IF(ISERROR(IF(ISERROR(O152/T152), 0,O152/T152)), 0,IF(ISERROR(O152/T152), 0,O152/T152))), 0,IF(ISERROR(IF(ISERROR(O152/T152), 0,O152/T152)), 0,IF(ISERROR(O152/T152), 0,O152/T152)))","v":0},14.2,0.4,{"$f":"IF(ISERROR(IF(ISERROR(IF(ISERROR(ABS(U152)), 0,ABS(U152))), 0,IF(ISERROR(ABS(U152)), 0,ABS(U152)))), 0,IF(ISERROR(IF(ISERROR(ABS(U152)), 0,ABS(U152))), 0,IF(ISERROR(ABS(U152)), 0,ABS(U152))))","v":0},0.15000000000000002,{"$f":"IF(ISERROR(IF(ISERROR(IF(ISERROR(ABS((Y152*X152)/W152)), 0,ABS((Y152*X152)/W152))), 0,IF(ISERROR(ABS((Y152*X152)/W152)), 0,ABS((Y152*X152)/W152)))), 0,IF(ISERROR(IF(ISERROR(ABS((Y152*X152)/W152)), 0,ABS((Y152*X152)/W152))), 0,IF(ISERROR(ABS((Y152*X152)/W152)), 0,ABS((Y152*X152)/W152))))","v":0},{"$f":"IF(ISERROR(IF(ISERROR(IF(ISERROR(IF(AA152>Z152,Z152,AA152)), 0,IF(AA152>Z152,Z152,AA152))), 0,IF(ISERROR(IF(AA152>Z152,Z152,AA152)), 0,IF(AA152>Z152,Z152,AA152)))), 0,IF(ISERROR(IF(ISERROR(IF(AA152>Z152,Z152,AA152)), 0,IF(AA152>Z152,Z152,AA152))), 0,IF(ISERROR(IF(AA152>Z152,Z152,AA152)), 0,IF(AA152>Z152,Z152,AA152))))","v":0},{"$f":"IF(ISERROR(IF(ISERROR(IF(ISERROR(IF(Y152>W152,W152,Y152)), 0,IF(Y152>W152,W152,Y152))), 0,IF(ISERROR(IF(Y152>W152,W152,Y152)), 0,IF(Y152>W152,W152,Y152)))), 0,IF(ISERROR(IF(ISERROR(IF(Y152>W152,W152,Y152)), 0,IF(Y152>W152,W152,Y152))), 0,IF(ISERROR(IF(Y152>W152,W152,Y152)), 0,IF(Y152>W152,W152,Y152))))","v":0},{"$f":"IF(ISERROR(IF(ISERROR(IF(ISERROR(IF(ISERROR((AC152*AB152)/AA152), 0,(AC152*AB152)/AA152)), 0,IF(ISERROR((AC152*AB152)/AA152), 0,(AC152*AB152)/AA152))), 0,IF(ISERROR(IF(ISERROR((AC152*AB152)/AA152), 0,(AC152*AB152)/AA152)), 0,IF(ISERROR((AC152*AB152)/AA152), 0,(AC152*AB152)/AA152)))), 0,IF(ISERROR(IF(ISERROR(IF(ISERROR((AC152*AB152)/AA152), 0,(AC152*AB152)/AA152)), 0,IF(ISERROR((AC152*AB152)/AA152), 0,(AC152*AB152)/AA152))), 0,IF(ISERROR(IF(ISERROR((AC152*AB152)/AA152), 0,(AC152*AB152)/AA152)), 0,IF(ISERROR((AC152*AB152)/AA152), 0,(AC152*AB152)/AA152))))","v":0},{"$f":"IF(ISERROR(IF(ISERROR(IF(ISERROR(IF(AC152=W152,0,(AC152*AB152)/AA152)), 0,IF(AC152=W152,0,(AC152*AB152)/AA152))), 0,IF(ISERROR(IF(AC152=W152,0,(AC152*AB152)/AA152)), 0,IF(AC152=W152,0,(AC152*AB152)/AA152)))), 0,IF(ISERROR(IF(ISERROR(IF(AC152=W152,0,(AC152*AB152)/AA152)), 0,IF(AC152=W152,0,(AC152*AB152)/AA152))), 0,IF(ISERROR(IF(AC152=W152,0,(AC152*AB152)/AA152)), 0,IF(AC152=W152,0,(AC152*AB152)/AA152))))","v":0},{"$f":"IF(ISERROR(IF(ISERROR(IF(AC152=60,Q152+(AC152/T152),Q152+(AD152/T152))), 0,IF(AC152=60,Q152+(AC152/T152),Q152+(AD152/T152)))), 0,IF(ISERROR(IF(AC152=60,Q152+(AC152/T152),Q152+(AD152/T152))), 0,IF(AC152=60,Q152+(AC152/T152),Q152+(AD152/T152))))","v":0}]
["F",45,50,50,{"$f":"IF(ISERROR(IF(ISERROR(IF(ISERROR(Y152), 0,Y152)), 0,IF(ISERROR(Y152), 0,Y152))), 0,IF(ISERROR(IF(ISERROR(Y152), 0,Y152)), 0,IF(ISERROR(Y152), 0,Y152)))","v":0},null,{"$f":"IF(ISERROR(IF(ISERROR(IF(ISERROR(AB152), 0,AB152)), 0,IF(ISERROR(AB152), 0,AB152))), 0,IF(ISERROR(IF(ISERROR(AB152), 0,AB152)), 0,IF(ISERROR(AB152), 0,AB152)))","v":0},{"$f":"IF(ISERROR(IF(ISERROR(IF(ISERROR($E$10-G153), 0,$E$10-G153)), 0,IF(ISERROR($E$10-G153), 0,$E$10-G153))), 0,IF(ISERROR(IF(ISERROR($E$10-G153), 0,$E$10-G153)), 0,IF(ISERROR($E$10-G153), 0,$E$10-G153)))","v":0.4},null,{"$f":"IF(ISERROR(IF(ISERROR(AB153), 0,AB153)), 0,IF(ISERROR(AB153), 0,AB153))","v":0},{"$f":"IF(ISERROR(IF(ISERROR(ROUND($E$10-J153,3)), 0,ROUND($E$10-J153,3))), 0,IF(ISERROR(ROUND($E$10-J153,3)), 0,ROUND($E$10-J153,3)))","v":0.4},null,{"$f":"IF(ISERROR(IF(ISERROR(IF(ISERROR(AB154), 0,AB154)), 0,IF(ISERROR(AB154), 0,AB154))), 0,IF(ISERROR(IF(ISERROR(AB154), 0,AB154)), 0,IF(ISERROR(AB154), 0,AB154)))","v":0},{"$f":"IF(ISERROR(IF(ISERROR(IF(ISERROR($E$10-M153), 0,$E$10-M153)), 0,IF(ISERROR($E$10-M153), 0,$E$10-M153))), 0,IF(ISERROR(IF(ISERROR($E$10-M153), 0,$E$10-M153)), 0,IF(ISERROR($E$10-M153), 0,$E$10-M153)))","v":0.4},{"$f":"A154","v":278.99999999999932},{"$f":"I153","v":0},{"$f":"IF(ISERROR(IF(ISERROR(IF(AC152=W152,Q152+(AC152/T152),Q152+(AD152/T152))), 0,IF(AC152=W152,Q152+(AC152/T152),Q152+(AD152/T152)))), 0,IF(ISERROR(IF(AC152=W152,Q152+(AC152/T152),Q152+(AD152/T152))), 0,IF(AC152=W152,Q152+(AC152/T152),Q152+(AD152/T152))))","v":0},{"$f":"D153","v":50},{"$f":"IF(ISERROR(IF(ISERROR(Q153-R153), 0,Q153-R153)), 0,IF(ISERROR(Q153-R153), 0,Q153-R153))","v":-50},{"$f":"IF(ISERROR(IF(ISERROR(IF(ISERROR((O153/P153)), 0,(O153/P153))), 0,IF(ISERROR((O153/P153)), 0,(O153/P153)))), 0,IF(ISERROR(IF(ISERROR((O153/P153)), 0,(O153/P153))), 0,IF(ISERROR((O153/P153)), 0,(O153/P153))))","v":0},{"$f":"IF(ISERROR(IF(ISERROR(S153*T153), 0,S153*T153)), 0,IF(ISERROR(S153*T153), 0,S153*T153))","v":0},{"$f":"IF(ISERROR(IF(ISERROR(IF(ISERROR(O153/T153), 0,O153/T153)), 0,IF(ISERROR(O153/T153), 0,O153/T153))), 0,IF(ISERROR(IF(ISERROR(O153/T153), 0,O153/T153)), 0,IF(ISERROR(O153/T153), 0,O153/T153)))","v":0},14.2,0.4,{"$f":"IF(ISERROR(IF(ISERROR(ABS(U153)), 0,ABS(U153))), 0,IF(ISERROR(ABS(U153)), 0,ABS(U153)))","v":0},0.15000000000000002,{"$f":"IF(ISERROR(IF(ISERROR(ABS((Y153*X153)/W153)), 0,ABS((Y153*X153)/W153))), 0,IF(ISERROR(ABS((Y153*X153)/W153)), 0,ABS((Y153*X153)/W153)))","v":0},{"$f":"IF(ISERROR(IF(ISERROR(IF(AA153>Z153,Z153,AA153)), 0,IF(AA153>Z153,Z153,AA153))), 0,IF(ISERROR(IF(AA153>Z153,Z153,AA153)), 0,IF(AA153>Z153,Z153,AA153)))","v":0},{"$f":"IF(ISERROR(IF(ISERROR(IF(Y153>W153,W153,Y153)), 0,IF(Y153>W153,W153,Y153))), 0,IF(ISERROR(IF(Y153>W153,W153,Y153)), 0,IF(Y153>W153,W153,Y153)))","v":0},{"$f":"IF(ISERROR((AC153*AB153)/AA153), 0,(AC153*AB153)/AA153)","v":0},{"$f":"IF(ISERROR(IF(ISERROR(IF(AC153=W153,0,(AC153*AB153)/AA153)), 0,IF(AC153=W153,0,(AC153*AB153)/AA153))), 0,IF(ISERROR(IF(AC153=W153,0,(AC153*AB153)/AA153)), 0,IF(AC153=W153,0,(AC153*AB153)/AA153)))","v":0},{"$f":"IF(ISERROR(IF(AC153=60,Q153+(AC153/T153),Q153+(AD153/T153))), 0,IF(AC153=60,Q153+(AC153/T153),Q153+(AD153/T153)))","v":0}]
[{"$f":"F326","v":278.99999999999932},{"$f":"IF(ISERROR(IF(ISERROR(IF(AND(C153<D153, E153>$E$7),\"Ignore Drill Out Lead 1; rather pop out Lead 1 and LEAVE lead # 2 to \"&K153&\" inches.\",\"\")), 0,IF(AND(C153<D153, E153>$E$7),\"Ignore Drill Out Lead 1; rather pop out Lead 1 and LEAVE lead # 2 to \"&K153&\" inches.\",\"\"))), 0,IF(ISERROR(IF(AND(C153<D153, E153>$E$7),\"Ignore Drill Out Lead 1; rather pop out Lead 1 and LEAVE lead # 2 to \"&K153&\" inches.\",\"\")), 0,IF(AND(C153<D153, E153>$E$7),\"Ignore Drill Out Lead 1; rather pop out Lead 1 and LEAVE lead # 2 to \"&K153&\" inches.\",\"\")))","v":""},null,null,null,null,null,null,null,null,null,null,null,{"$f":"IF(ISERROR(IF(ISERROR((G153+J153+M153)/$E$10*$E$7), 0,(G153+J153+M153)/$E$10*$E$7)), 0,IF(ISERROR((G153+J153+M153)/$E$10*$E$7), 0,(G153+J153+M153)/$E$10*$E$7))","v":0},{"$f":"A154","v":278.99999999999932},{"$f":"L153","v":0},{"$f":"IF(ISERROR(IF(AC153=W153,Q153+(AC153/T153),Q153+(AD153/T153))), 0,IF(AC153=W153,Q153+(AC153/T153),Q153+(AD153/T153)))","v":0},{"$f":"D153","v":50},{"$f":"IF(ISERROR(Q154-R154), 0,Q154-R154)","v":-50},{"$f":"IF(ISERROR(IF(ISERROR(IF(ISERROR(IF(ISERROR((O154/P154)), 0,(O154/P154))), 0,IF(ISERROR((O154/P154)), 0,(O154/P154)))), 0,IF(ISERROR(IF(ISERROR((O154/P154)), 0,(O154/P154))), 0,IF(ISERROR((O154/P154)), 0,(O154/P154))))), 0,IF(ISERROR(IF(ISERROR(IF(ISERROR((O154/P154)), 0,(O154/P154))), 0,IF(ISERROR((O154/P154)), 0,(O154/P154)))), 0,IF(ISERROR(IF(ISERROR((O154/P154)), 0,(O154/P154))), 0,IF(ISERROR((O154/P154)), 0,(O154/P154)))))","v":0},{"$f":"IF(ISERROR(IF(ISERROR(IF(ISERROR(IF(ISERROR(S154*T154), 0,S154*T154)), 0,IF(ISERROR(S154*T154), 0,S154*T154))), 0,IF(ISERROR(IF(ISERROR(S154*T154), 0,S154*T154)), 0,IF(ISERROR(S154*T154), 0,S154*T154)))), 0,IF(ISERROR(IF(ISERROR(IF(ISERROR(S154*T154), 0,S154*T154)), 0,IF(ISERROR(S154*T154), 0,S154*T154))), 0,IF(ISERROR(IF(ISERROR(S154*T154), 0,S154*T154)), 0,IF(ISERROR(S154*T154), 0,S154*T154))))","v":0},{"$f":"IF(ISERROR(IF(ISERROR(IF(ISERROR(IF(ISERROR(O154/T154), 0,O154/T154)), 0,IF(ISERROR(O154/T154), 0,O154/T154))), 0,IF(ISERROR(IF(ISERROR(O154/T154), 0,O154/T154)), 0,IF(ISERROR(O154/T154), 0,O154/T154)))), 0,IF(ISERROR(IF(ISERROR(IF(ISERROR(O154/T154), 0,O154/T154)), 0,IF(ISERROR(O154/T154), 0,O154/T154))), 0,IF(ISERROR(IF(ISERROR(O154/T154), 0,O154/T154)), 0,IF(ISERROR(O154/T154), 0,O154/T154))))","v":0},14.2,0.4,{"$f":"IF(ISERROR(IF(ISERROR(IF(ISERROR(ABS(U154)), 0,ABS(U154))), 0,IF(ISERROR(ABS(U154)), 0,ABS(U154)))), 0,IF(ISERROR(IF(ISERROR(ABS(U154)), 0,ABS(U154))), 0,IF(ISERROR(ABS(U154)), 0,ABS(U154))))","v":0},0.15000000000000002,{"$f":"IF(ISERROR(IF(ISERROR(IF(ISERROR(ABS((Y154*X154)/W154)), 0,ABS((Y154*X154)/W154))), 0,IF(ISERROR(ABS((Y154*X154)/W154)), 0,ABS((Y154*X154)/W154)))), 0,IF(ISERROR(IF(ISERROR(ABS((Y154*X154)/W154)), 0,ABS((Y154*X154)/W154))), 0,IF(ISERROR(ABS((Y154*X154)/W154)), 0,ABS((Y154*X154)/W154))))","v":0},{"$f":"IF(ISERROR(IF(ISERROR(IF(ISERROR(IF(AA154>Z154,Z154,AA154)), 0,IF(AA154>Z154,Z154,AA154))), 0,IF(ISERROR(IF(AA154>Z154,Z154,AA154)), 0,IF(AA154>Z154,Z154,AA154)))), 0,IF(ISERROR(IF(ISERROR(IF(AA154>Z154,Z154,AA154)), 0,IF(AA154>Z154,Z154,AA154))), 0,IF(ISERROR(IF(AA154>Z154,Z154,AA154)), 0,IF(AA154>Z154,Z154,AA154))))","v":0},{"$f":"IF(ISERROR(IF(ISERROR(IF(ISERROR(IF(Y154>W154,W154,Y154)), 0,IF(Y154>W154,W154,Y154))), 0,IF(ISERROR(IF(Y154>W154,W154,Y154)), 0,IF(Y154>W154,W154,Y154)))), 0,IF(ISERROR(IF(ISERROR(IF(Y154>W154,W154,Y154)), 0,IF(Y154>W154,W154,Y154))), 0,IF(ISERROR(IF(Y154>W154,W154,Y154)), 0,IF(Y154>W154,W154,Y154))))","v":0},{"$f":"IF(ISERROR((AC154*AB154)/AA154), \"\",(AC154*AB154)/AA154)","v":""},{"$f":"IF(ISERROR(IF(AC154=W154,0,(AC154*AB154)/AA154)), \"\",IF(AC154=W154,0,(AC154*AB154)/AA154))","v":""},{"$f":"IF(ISERROR(IF(AC154=60,Q154+(AC154/T154),Q154+(AD154/T154))), \"\",IF(AC154=60,Q154+(AC154/T154),Q154+(AD154/T154)))","v":""}]
[null,null,"Test","Target",null,1,"dr_o","Lv_in",2,"dr_o","Lv_in",3,"dr_o","Lv_in",{"$f":"A157","v":261.5},{"$f":"F156","v":0},{"$f":"C156","v":52},{"$f":"D156","v":50},{"$f":"Q155-R155","v":2},{"$f":"IF(ISERROR((O155/P155)), 0,(O155/P155))","v":0},{"$f":"IF(ISERROR(S155*T155), 0,S155*T155)","v":0},{"$f":"IF(ISERROR(O155/T155), 0,O155/T155)","v":0},14.2,0.4,{"$f":"IF(ISERROR(ABS(U155)), 0,ABS(U155))","v":0},0.15000000000000002,{"$f":"IF(ISERROR(ABS((Y155*X155)/W155)), 0,ABS((Y155*X155)/W155))","v":0},{"$f":"IF(ISERROR(IF(AA155>Z155,Z155,AA155)), 0,IF(AA155>Z155,Z155,AA155))","v":0},{"$f":"IF(ISERROR(IF(Y155>W155,W155,Y155)), 0,IF(Y155>W155,W155,Y155))","v":0},{"$f":"IF(ISERROR(IF(ISERROR(IF(ISERROR(IF(ISERROR((AC155*AB155)/AA155), 0,(AC155*AB155)/AA155)), 0,IF(ISERROR((AC155*AB155)/AA155), 0,(AC155*AB155)/AA155))), 0,IF(ISERROR(IF(ISERROR((AC155*AB155)/AA155), 0,(AC155*AB155)/AA155)), 0,IF(ISERROR((AC155*AB155)/AA155), 0,(AC155*AB155)/AA155)))), 0,IF(ISERROR(IF(ISERROR(IF(ISERROR((AC155*AB155)/AA155), 0,(AC155*AB155)/AA155)), 0,IF(ISERROR((AC155*AB155)/AA155), 0,(AC155*AB155)/AA155))), 0,IF(ISERROR(IF(ISERROR((AC155*AB155)/AA155), 0,(AC155*AB155)/AA155)), 0,IF(ISERROR((AC155*AB155)/AA155), 0,(AC155*AB155)/AA155))))","v":0},{"$f":"IF(ISERROR(IF(ISERROR(IF(ISERROR(IF(AC155=W155,0,(AC155*AB155)/AA155)), 0,IF(AC155=W155,0,(AC155*AB155)/AA155))), 0,IF(ISERROR(IF(AC155=W155,0,(AC155*AB155)/AA155)), 0,IF(AC155=W155,0,(AC155*AB155)/AA155)))), 0,IF(ISERROR(IF(ISERROR(IF(AC155=W155,0,(AC155*AB155)/AA155)), 0,IF(AC155=W155,0,(AC155*AB155)/AA155))), 0,IF(ISERROR(IF(AC155=W155,0,(AC155*AB155)/AA155)), 0,IF(AC155=W155,0,(AC155*AB155)/AA155))))","v":0},{"$f":"IF(ISERROR(IF(ISERROR(IF(AC155=60,Q155+(AC155/T155),Q155+(AD155/T155))), 0,IF(AC155=60,Q155+(AC155/T155),Q155+(AD155/T155)))), 0,IF(ISERROR(IF(AC155=60,Q155+(AC155/T155),Q155+(AD155/T155))), 0,IF(AC155=60,Q155+(AC155/T155),Q155+(AD155/T155))))","v":0}]
["F#",46,52,50,{"$f":"IF(ISERROR(Y155), 0,Y155)","v":0},null,{"$f":"IF(ISERROR(AB155), 0,AB155)","v":0},{"$f":"IF(ISERROR($E$10-G156), 0,$E$10-G156)","v":0.4},null,{"$f":"IF(ISERROR(IF(ISERROR(AB156), 0,AB156)), 0,IF(ISERROR(AB156), 0,AB156))","v":0},{"$f":"IF(ISERROR(IF(ISERROR(ROUND($E$10-J156,3)), 0,ROUND($E$10-J156,3))), 0,IF(ISERROR(ROUND($E$10-J156,3)), 0,ROUND($E$10-J156,3)))","v":0.4},null,{"$f":"IF(ISERROR(AB157), \"\",AB157)","v":0},{"$f":"IF(ISERROR($E$10-M156), \"\",$E$10-M156)","v":0.4},{"$f":"A157","v":261.5},{"$f":"I156","v":0},{"$f":"IF(ISERROR(IF(ISERROR(IF(AC155=W155,Q155+(AC155/T155),Q155+(AD155/T155))), 0,IF(AC155=W155,Q155+(AC155/T155),Q155+(AD155/T155)))), 0,IF(ISERROR(IF(AC155=W155,Q155+(AC155/T155),Q155+(AD155/T155))), 0,IF(AC155=W155,Q155+(AC155/T155),Q155+(AD155/T155))))","v":0},{"$f":"D156","v":50},{"$f":"IF(ISERROR(IF(ISERROR(Q156-R156), 0,Q156-R156)), 0,IF(ISERROR(Q156-R156), 0,Q156-R156))","v":-50},{"$f":"IF(ISERROR((O156/P156)), 0,(O156/P156))","v":0},{"$f":"IF(ISERROR(IF(ISERROR(S156*T156), 0,S156*T156)), 0,IF(ISERROR(S156*T156), 0,S156*T156))","v":0},{"$f":"IF(ISERROR(O156/T156), 0,O156/T156)","v":0},14.2,0.4,{"$f":"IF(ISERROR(IF(ISERROR(ABS(U156)), 0,ABS(U156))), 0,IF(ISERROR(ABS(U156)), 0,ABS(U156)))","v":0},0.15000000000000002,{"$f":"IF(ISERROR(IF(ISERROR(ABS((Y156*X156)/W156)), 0,ABS((Y156*X156)/W156))), 0,IF(ISERROR(ABS((Y156*X156)/W156)), 0,ABS((Y156*X156)/W156)))","v":0},{"$f":"IF(ISERROR(IF(ISERROR(IF(AA156>Z156,Z156,AA156)), 0,IF(AA156>Z156,Z156,AA156))), 0,IF(ISERROR(IF(AA156>Z156,Z156,AA156)), 0,IF(AA156>Z156,Z156,AA156)))","v":0},{"$f":"IF(ISERROR(IF(ISERROR(IF(Y156>W156,W156,Y156)), 0,IF(Y156>W156,W156,Y156))), 0,IF(ISERROR(IF(Y156>W156,W156,Y156)), 0,IF(Y156>W156,W156,Y156)))","v":0},{"$f":"IF(ISERROR((AC156*AB156)/AA156), \"\",(AC156*AB156)/AA156)","v":""},{"$f":"IF(ISERROR(IF(AC156=W156,0,(AC156*AB156)/AA156)), \"\",IF(AC156=W156,0,(AC156*AB156)/AA156))","v":""},{"$f":"IF(ISERROR(IF(AC156=60,Q156+(AC156/T156),Q156+(AD156/T156))), \"\",IF(AC156=60,Q156+(AC156/T156),Q156+(AD156/T156)))","v":""}]
[{"$f":"R318","v":261.5},{"$f":"IF(ISERROR(IF(AND(C156<D156, E156>$E$7),\"Ignore Drill Out Lead 1; rather pop out Lead 1 and LEAVE lead # 2 to \"&K156&\" inches.\",\"\")), 0,IF(AND(C156<D156, E156>$E$7),\"Ignore Drill Out Lead 1; rather pop out Lead 1 and LEAVE lead # 2 to \"&K156&\" inches.\",\"\"))","v":""},null,null,null,null,null,null,null,null,null,null,null,{"$f":"IF(ISERROR(IF(ISERROR((G156+J156+M156)/$E$10*$E$7), 0,(G156+J156+M156)/$E$10*$E$7)), 0,IF(ISERROR((G156+J156+M156)/$E$10*$E$7), 0,(G156+J156+M156)/$E$10*$E$7))","v":0},{"$f":"A157","v":261.5},{"$f":"L156","v":0},{"$f":"IF(ISERROR(IF(AC156=W156,Q156+(AC156/T156),Q156+(AD156/T156))), \"\",IF(AC156=W156,Q156+(AC156/T156),Q156+(AD156/T156)))","v":""},{"$f":"D156","v":50},{"$f":"IF(ISERROR(Q157-R157), 0,Q157-R157)","v":0},{"$f":"IF(ISERROR(IF(ISERROR(IF(ISERROR(IF(ISERROR((O157/P157)), 0,(O157/P157))), 0,IF(ISERROR((O157/P157)), 0,(O157/P157)))), 0,IF(ISERROR(IF(ISERROR((O157/P157)), 0,(O157/P157))), 0,IF(ISERROR((O157/P157)), 0,(O157/P157))))), 0,IF(ISERROR(IF(ISERROR(IF(ISERROR((O157/P157)), 0,(O157/P157))), 0,IF(ISERROR((O157/P157)), 0,(O157/P157)))), 0,IF(ISERROR(IF(ISERROR((O157/P157)), 0,(O157/P157))), 0,IF(ISERROR((O157/P157)), 0,(O157/P157)))))","v":0},{"$f":"IF(ISERROR(S157*T157), \"\",S157*T157)","v":0},{"$f":"IF(ISERROR(IF(ISERROR(IF(ISERROR(IF(ISERROR(O157/T157), 0,O157/T157)), 0,IF(ISERROR(O157/T157), 0,O157/T157))), 0,IF(ISERROR(IF(ISERROR(O157/T157), 0,O157/T157)), 0,IF(ISERROR(O157/T157), 0,O157/T157)))), 0,IF(ISERROR(IF(ISERROR(IF(ISERROR(O157/T157), 0,O157/T157)), 0,IF(ISERROR(O157/T157), 0,O157/T157))), 0,IF(ISERROR(IF(ISERROR(O157/T157), 0,O157/T157)), 0,IF(ISERROR(O157/T157), 0,O157/T157))))","v":0},14.2,0.4,{"$f":"IF(ISERROR(ABS(U157)), \"\",ABS(U157))","v":0},0.15000000000000002,{"$f":"IF(ISERROR(ABS((Y157*X157)/W157)), \"\",ABS((Y157*X157)/W157))","v":0},{"$f":"IF(ISERROR(IF(AA157>Z157,Z157,AA157)), \"\",IF(AA157>Z157,Z157,AA157))","v":0},{"$f":"IF(ISERROR(IF(Y157>W157,W157,Y157)), \"\",IF(Y157>W157,W157,Y157))","v":0},{"$f":"IF(ISERROR((AC157*AB157)/AA157), \"\",(AC157*AB157)/AA157)","v":""},{"$f":"IF(ISERROR(IF(AC157=W157,0,(AC157*AB157)/AA157)), \"\",IF(AC157=W157,0,(AC157*AB157)/AA157))","v":""},{"$f":"IF(ISERROR(IF(AC157=60,Q157+(AC157/T157),Q157+(AD157/T157))), \"\",IF(AC157=60,Q157+(AC157/T157),Q157+(AD157/T157)))","v":""}]
[null,null,"Test","Target",null,1,"dr_o","Lv_in",2,"dr_o","Lv_in",3,"dr_o","Lv_in",{"$f":"A160","v":277.63461538461468},{"$f":"F159","v":0},{"$f":"C159","v":50},{"$f":"D159","v":50},{"$f":"Q158-R158","v":0},{"$f":"IF(ISERROR((O158/P158)), 0,(O158/P158))","v":0},{"$f":"IF(ISERROR(S158*T158), 0,S158*T158)","v":0},{"$f":"IF(ISERROR(O158/T158), 0,O158/T158)","v":0},14.2,0.4,{"$f":"IF(ISERROR(ABS(U158)), 0,ABS(U158))","v":0},0.15000000000000002,{"$f":"IF(ISERROR(ABS((Y158*X158)/W158)), 0,ABS((Y158*X158)/W158))","v":0},{"$f":"IF(ISERROR(IF(AA158>Z158,Z158,AA158)), 0,IF(AA158>Z158,Z158,AA158))","v":0},{"$f":"IF(ISERROR(IF(Y158>W158,W158,Y158)), 0,IF(Y158>W158,W158,Y158))","v":0},{"$f":"IF(ISERROR(IF(ISERROR(IF(ISERROR(IF(ISERROR((AC158*AB158)/AA158), 0,(AC158*AB158)/AA158)), 0,IF(ISERROR((AC158*AB158)/AA158), 0,(AC158*AB158)/AA158))), 0,IF(ISERROR(IF(ISERROR((AC158*AB158)/AA158), 0,(AC158*AB158)/AA158)), 0,IF(ISERROR((AC158*AB158)/AA158), 0,(AC158*AB158)/AA158)))), 0,IF(ISERROR(IF(ISERROR(IF(ISERROR((AC158*AB158)/AA158), 0,(AC158*AB158)/AA158)), 0,IF(ISERROR((AC158*AB158)/AA158), 0,(AC158*AB158)/AA158))), 0,IF(ISERROR(IF(ISERROR((AC158*AB158)/AA158), 0,(AC158*AB158)/AA158)), 0,IF(ISERROR((AC158*AB158)/AA158), 0,(AC158*AB158)/AA158))))","v":0},{"$f":"IF(ISERROR(IF(ISERROR(IF(ISERROR(IF(AC158=W158,0,(AC158*AB158)/AA158)), 0,IF(AC158=W158,0,(AC158*AB158)/AA158))), 0,IF(ISERROR(IF(AC158=W158,0,(AC158*AB158)/AA158)), 0,IF(AC158=W158,0,(AC158*AB158)/AA158)))), 0,IF(ISERROR(IF(ISERROR(IF(AC158=W158,0,(AC158*AB158)/AA158)), 0,IF(AC158=W158,0,(AC158*AB158)/AA158))), 0,IF(ISERROR(IF(AC158=W158,0,(AC158*AB158)/AA158)), 0,IF(AC158=W158,0,(AC158*AB158)/AA158))))","v":0},{"$f":"IF(ISERROR(IF(ISERROR(IF(AC158=60,Q158+(AC158/T158),Q158+(AD158/T158))), 0,IF(AC158=60,Q158+(AC158/T158),Q158+(AD158/T158)))), 0,IF(ISERROR(IF(AC158=60,Q158+(AC158/T158),Q158+(AD158/T158))), 0,IF(AC158=60,Q158+(AC158/T158),Q158+(AD158/T158))))","v":0}]
["G",47,50,50,{"$f":"IF(ISERROR(Y158), 0,Y158)","v":0},null,{"$f":"IF(ISERROR(AB158), 0,AB158)","v":0},{"$f":"IF(ISERROR($E$10-G159), 0,$E$10-G159)","v":0.4},null,{"$f":"IF(ISERROR(IF(ISERROR(AB159), 0,AB159)), 0,IF(ISERROR(AB159), 0,AB159))","v":0},{"$f":"IF(ISERROR(IF(ISERROR(ROUND($E$10-J159,3)), 0,ROUND($E$10-J159,3))), 0,IF(ISERROR(ROUND($E$10-J159,3)), 0,ROUND($E$10-J159,3)))","v":0.4},null,{"$f":"IF(ISERROR(AB160), \"\",AB160)","v":0},{"$f":"IF(ISERROR($E$10-M159), \"\",$E$10-M159)","v":0.4},{"$f":"A160","v":277.63461538461468},{"$f":"I159","v":0},{"$f":"IF(ISERROR(IF(ISERROR(IF(AC158=W158,Q158+(AC158/T158),Q158+(AD158/T158))), 0,IF(AC158=W158,Q158+(AC158/T158),Q158+(AD158/T158)))), 0,IF(ISERROR(IF(AC158=W158,Q158+(AC158/T158),Q158+(AD158/T158))), 0,IF(AC158=W158,Q158+(AC158/T158),Q158+(AD158/T158))))","v":0},{"$f":"D159","v":50},{"$f":"IF(ISERROR(IF(ISERROR(Q159-R159), 0,Q159-R159)), 0,IF(ISERROR(Q159-R159), 0,Q159-R159))","v":-50},{"$f":"IF(ISERROR((O159/P159)), 0,(O159/P159))","v":0},{"$f":"IF(ISERROR(IF(ISERROR(S159*T159), 0,S159*T159)), 0,IF(ISERROR(S159*T159), 0,S159*T159))","v":0},{"$f":"IF(ISERROR(O159/T159), 0,O159/T159)","v":0},14.2,0.4,{"$f":"IF(ISERROR(IF(ISERROR(ABS(U159)), 0,ABS(U159))), 0,IF(ISERROR(ABS(U159)), 0,ABS(U159)))","v":0},0.15000000000000002,{"$f":"IF(ISERROR(IF(ISERROR(ABS((Y159*X159)/W159)), 0,ABS((Y159*X159)/W159))), 0,IF(ISERROR(ABS((Y159*X159)/W159)), 0,ABS((Y159*X159)/W159)))","v":0},{"$f":"IF(ISERROR(IF(ISERROR(IF(AA159>Z159,Z159,AA159)), 0,IF(AA159>Z159,Z159,AA159))), 0,IF(ISERROR(IF(AA159>Z159,Z159,AA159)), 0,IF(AA159>Z159,Z159,AA159)))","v":0},{"$f":"IF(ISERROR(IF(ISERROR(IF(Y159>W159,W159,Y159)), 0,IF(Y159>W159,W159,Y159))), 0,IF(ISERROR(IF(Y159>W159,W159,Y159)), 0,IF(Y159>W159,W159,Y159)))","v":0},{"$f":"IF(ISERROR((AC159*AB159)/AA159), \"\",(AC159*AB159)/AA159)","v":""},{"$f":"IF(ISERROR(IF(AC159=W159,0,(AC159*AB159)/AA159)), \"\",IF(AC159=W159,0,(AC159*AB159)/AA159))","v":""},{"$f":"IF(ISERROR(IF(AC159=60,Q159+(AC159/T159),Q159+(AD159/T159))), \"\",IF(AC159=60,Q159+(AC159/T159),Q159+(AD159/T159)))","v":""}]
[{"$f":"F327","v":277.63461538461468},{"$f":"IF(ISERROR(IF(AND(C159<D159, E159>$E$7),\"Ignore Drill Out Lead 1; rather pop out Lead 1 and LEAVE lead # 2 to \"&K159&\" inches.\",\"\")), 0,IF(AND(C159<D159, E159>$E$7),\"Ignore Drill Out Lead 1; rather pop out Lead 1 and LEAVE lead # 2 to \"&K159&\" inches.\",\"\"))","v":""},null,null,null,null,null,null,null,null,null,null,null,{"$f":"IF(ISERROR(IF(ISERROR((G159+J159+M159)/$E$10*$E$7), 0,(G159+J159+M159)/$E$10*$E$7)), 0,IF(ISERROR((G159+J159+M159)/$E$10*$E$7), 0,(G159+J159+M159)/$E$10*$E$7))","v":0},{"$f":"A160","v":277.63461538461468},{"$f":"L159","v":0},{"$f":"IF(ISERROR(IF(AC159=W159,Q159+(AC159/T159),Q159+(AD159/T159))), \"\",IF(AC159=W159,Q159+(AC159/T159),Q159+(AD159/T159)))","v":""},{"$f":"D159","v":50},{"$f":"IF(ISERROR(Q160-R160), 0,Q160-R160)","v":0},{"$f":"IF(ISERROR(IF(ISERROR(IF(ISERROR(IF(ISERROR((O160/P160)), 0,(O160/P160))), 0,IF(ISERROR((O160/P160)), 0,(O160/P160)))), 0,IF(ISERROR(IF(ISERROR((O160/P160)), 0,(O160/P160))), 0,IF(ISERROR((O160/P160)), 0,(O160/P160))))), 0,IF(ISERROR(IF(ISERROR(IF(ISERROR((O160/P160)), 0,(O160/P160))), 0,IF(ISERROR((O160/P160)), 0,(O160/P160)))), 0,IF(ISERROR(IF(ISERROR((O160/P160)), 0,(O160/P160))), 0,IF(ISERROR((O160/P160)), 0,(O160/P160)))))","v":0},{"$f":"IF(ISERROR(S160*T160), \"\",S160*T160)","v":0},{"$f":"IF(ISERROR(IF(ISERROR(IF(ISERROR(IF(ISERROR(O160/T160), 0,O160/T160)), 0,IF(ISERROR(O160/T160), 0,O160/T160))), 0,IF(ISERROR(IF(ISERROR(O160/T160), 0,O160/T160)), 0,IF(ISERROR(O160/T160), 0,O160/T160)))), 0,IF(ISERROR(IF(ISERROR(IF(ISERROR(O160/T160), 0,O160/T160)), 0,IF(ISERROR(O160/T160), 0,O160/T160))), 0,IF(ISERROR(IF(ISERROR(O160/T160), 0,O160/T160)), 0,IF(ISERROR(O160/T160), 0,O160/T160))))","v":0},14.2,0.4,{"$f":"IF(ISERROR(ABS(U160)), \"\",ABS(U160))","v":0},0.15000000000000002,{"$f":"IF(ISERROR(ABS((Y160*X160)/W160)), \"\",ABS((Y160*X160)/W160))","v":0},{"$f":"IF(ISERROR(IF(AA160>Z160,Z160,AA160)), \"\",IF(AA160>Z160,Z160,AA160))","v":0},{"$f":"IF(ISERROR(IF(Y160>W160,W160,Y160)), \"\",IF(Y160>W160,W160,Y160))","v":0},{"$f":"IF(ISERROR((AC160*AB160)/AA160), \"\",(AC160*AB160)/AA160)","v":""},{"$f":"IF(ISERROR(IF(AC160=W160,0,(AC160*AB160)/AA160)), \"\",IF(AC160=W160,0,(AC160*AB160)/AA160))","v":""},{"$f":"IF(ISERROR(IF(AC160=60,Q160+(AC160/T160),Q160+(AD160/T160))), \"\",IF(AC160=60,Q160+(AC160/T160),Q160+(AD160/T160)))","v":""}]
[null,null,"Test","Target",null,1,"dr_o","Lv_in",2,"dr_o","Lv_in",3,"dr_o","Lv_in",{"$f":"A163","v":260.5},{"$f":"F162","v":0},{"$f":"C162","v":57},{"$f":"D162","v":50},{"$f":"Q161-R161","v":7},{"$f":"IF(ISERROR((O161/P161)), 0,(O161/P161))","v":0},{"$f":"IF(ISERROR(S161*T161), 0,S161*T161)","v":0},{"$f":"IF(ISERROR(O161/T161), 0,O161/T161)","v":0},14.2,0.4,{"$f":"IF(ISERROR(ABS(U161)), 0,ABS(U161))","v":0},0.15000000000000002,{"$f":"IF(ISERROR(ABS((Y161*X161)/W161)), 0,ABS((Y161*X161)/W161))","v":0},{"$f":"IF(ISERROR(IF(AA161>Z161,Z161,AA161)), 0,IF(AA161>Z161,Z161,AA161))","v":0},{"$f":"IF(ISERROR(IF(Y161>W161,W161,Y161)), 0,IF(Y161>W161,W161,Y161))","v":0},{"$f":"IF(ISERROR(IF(ISERROR(IF(ISERROR(IF(ISERROR((AC161*AB161)/AA161), 0,(AC161*AB161)/AA161)), 0,IF(ISERROR((AC161*AB161)/AA161), 0,(AC161*AB161)/AA161))), 0,IF(ISERROR(IF(ISERROR((AC161*AB161)/AA161), 0,(AC161*AB161)/AA161)), 0,IF(ISERROR((AC161*AB161)/AA161), 0,(AC161*AB161)/AA161)))), 0,IF(ISERROR(IF(ISERROR(IF(ISERROR((AC161*AB161)/AA161), 0,(AC161*AB161)/AA161)), 0,IF(ISERROR((AC161*AB161)/AA161), 0,(AC161*AB161)/AA161))), 0,IF(ISERROR(IF(ISERROR((AC161*AB161)/AA161), 0,(AC161*AB161)/AA161)), 0,IF(ISERROR((AC161*AB161)/AA161), 0,(AC161*AB161)/AA161))))","v":0},{"$f":"IF(ISERROR(IF(ISERROR(IF(ISERROR(IF(AC161=W161,0,(AC161*AB161)/AA161)), 0,IF(AC161=W161,0,(AC161*AB161)/AA161))), 0,IF(ISERROR(IF(AC161=W161,0,(AC161*AB161)/AA161)), 0,IF(AC161=W161,0,(AC161*AB161)/AA161)))), 0,IF(ISERROR(IF(ISERROR(IF(AC161=W161,0,(AC161*AB161)/AA161)), 0,IF(AC161=W161,0,(AC161*AB161)/AA161))), 0,IF(ISERROR(IF(AC161=W161,0,(AC161*AB161)/AA161)), 0,IF(AC161=W161,0,(AC161*AB161)/AA161))))","v":0},{"$f":"IF(ISERROR(IF(ISERROR(IF(AC161=60,Q161+(AC161/T161),Q161+(AD161/T161))), 0,IF(AC161=60,Q161+(AC161/T161),Q161+(AD161/T161)))), 0,IF(ISERROR(IF(AC161=60,Q161+(AC161/T161),Q161+(AD161/T161))), 0,IF(AC161=60,Q161+(AC161/T161),Q161+(AD161/T161))))","v":0}]
["G#",48,57,50,{"$f":"IF(ISERROR(Y161), 0,Y161)","v":0},null,{"$f":"IF(ISERROR(AB161), 0,AB161)","v":0},{"$f":"IF(ISERROR($E$10-G162), 0,$E$10-G162)","v":0.4},null,{"$f":"IF(ISERROR(IF(ISERROR(AB162), 0,AB162)), 0,IF(ISERROR(AB162), 0,AB162))","v":0},{"$f":"IF(ISERROR(IF(ISERROR(ROUND($E$10-J162,3)), 0,ROUND($E$10-J162,3))), 0,IF(ISERROR(ROUND($E$10-J162,3)), 0,ROUND($E$10-J162,3)))","v":0.4},null,{"$f":"IF(ISERROR(AB163), \"\",AB163)","v":0},{"$f":"IF(ISERROR($E$10-M162), \"\",$E$10-M162)","v":0.4},{"$f":"A163","v":260.5},{"$f":"I162","v":0},{"$f":"IF(ISERROR(IF(ISERROR(IF(AC161=W161,Q161+(AC161/T161),Q161+(AD161/T161))), 0,IF(AC161=W161,Q161+(AC161/T161),Q161+(AD161/T161)))), 0,IF(ISERROR(IF(AC161=W161,Q161+(AC161/T161),Q161+(AD161/T161))), 0,IF(AC161=W161,Q161+(AC161/T161),Q161+(AD161/T161))))","v":0},{"$f":"D162","v":50},{"$f":"IF(ISERROR(IF(ISERROR(Q162-R162), 0,Q162-R162)), 0,IF(ISERROR(Q162-R162), 0,Q162-R162))","v":-50},{"$f":"IF(ISERROR((O162/P162)), 0,(O162/P162))","v":0},{"$f":"IF(ISERROR(IF(ISERROR(S162*T162), 0,S162*T162)), 0,IF(ISERROR(S162*T162), 0,S162*T162))","v":0},{"$f":"IF(ISERROR(O162/T162), 0,O162/T162)","v":0},14.2,0.4,{"$f":"IF(ISERROR(IF(ISERROR(ABS(U162)), 0,ABS(U162))), 0,IF(ISERROR(ABS(U162)), 0,ABS(U162)))","v":0},0.15000000000000002,{"$f":"IF(ISERROR(IF(ISERROR(ABS((Y162*X162)/W162)), 0,ABS((Y162*X162)/W162))), 0,IF(ISERROR(ABS((Y162*X162)/W162)), 0,ABS((Y162*X162)/W162)))","v":0},{"$f":"IF(ISERROR(IF(ISERROR(IF(AA162>Z162,Z162,AA162)), 0,IF(AA162>Z162,Z162,AA162))), 0,IF(ISERROR(IF(AA162>Z162,Z162,AA162)), 0,IF(AA162>Z162,Z162,AA162)))","v":0},{"$f":"IF(ISERROR(IF(ISERROR(IF(Y162>W162,W162,Y162)), 0,IF(Y162>W162,W162,Y162))), 0,IF(ISERROR(IF(Y162>W162,W162,Y162)), 0,IF(Y162>W162,W162,Y162)))","v":0},{"$f":"IF(ISERROR((AC162*AB162)/AA162), \"\",(AC162*AB162)/AA162)","v":""},{"$f":"IF(ISERROR(IF(AC162=W162,0,(AC162*AB162)/AA162)), \"\",IF(AC162=W162,0,(AC162*AB162)/AA162))","v":""},{"$f":"IF(ISERROR(IF(AC162=60,Q162+(AC162/T162),Q162+(AD162/T162))), \"\",IF(AC162=60,Q162+(AC162/T162),Q162+(AD162/T162)))","v":""}]
[{"$f":"R319","v":260.5},{"$f":"IF(ISERROR(IF(AND(C162<D162, E162>$E$7),\"Ignore Drill Out Lead 1; rather pop out Lead 1 and LEAVE lead # 2 to \"&K162&\" inches.\",\"\")), 0,IF(AND(C162<D162, E162>$E$7),\"Ignore Drill Out Lead 1; rather pop out Lead 1 and LEAVE lead # 2 to \"&K162&\" inches.\",\"\"))","v":""},null,null,null,null,null,null,null,null,null,null,null,{"$f":"IF(ISERROR(IF(ISERROR((G162+J162+M162)/$E$10*$E$7), 0,(G162+J162+M162)/$E$10*$E$7)), 0,IF(ISERROR((G162+J162+M162)/$E$10*$E$7), 0,(G162+J162+M162)/$E$10*$E$7))","v":0},{"$f":"A163","v":260.5},{"$f":"L162","v":0},{"$f":"IF(ISERROR(IF(AC162=W162,Q162+(AC162/T162),Q162+(AD162/T162))), \"\",IF(AC162=W162,Q162+(AC162/T162),Q162+(AD162/T162)))","v":""},{"$f":"D162","v":50},{"$f":"IF(ISERROR(Q163-R163), 0,Q163-R163)","v":0},{"$f":"IF(ISERROR(IF(ISERROR(IF(ISERROR(IF(ISERROR((O163/P163)), 0,(O163/P163))), 0,IF(ISERROR((O163/P163)), 0,(O163/P163)))), 0,IF(ISERROR(IF(ISERROR((O163/P163)), 0,(O163/P163))), 0,IF(ISERROR((O163/P163)), 0,(O163/P163))))), 0,IF(ISERROR(IF(ISERROR(IF(ISERROR((O163/P163)), 0,(O163/P163))), 0,IF(ISERROR((O163/P163)), 0,(O163/P163)))), 0,IF(ISERROR(IF(ISERROR((O163/P163)), 0,(O163/P163))), 0,IF(ISERROR((O163/P163)), 0,(O163/P163)))))","v":0},{"$f":"IF(ISERROR(S163*T163), \"\",S163*T163)","v":0},{"$f":"IF(ISERROR(IF(ISERROR(IF(ISERROR(IF(ISERROR(O163/T163), 0,O163/T163)), 0,IF(ISERROR(O163/T163), 0,O163/T163))), 0,IF(ISERROR(IF(ISERROR(O163/T163), 0,O163/T163)), 0,IF(ISERROR(O163/T163), 0,O163/T163)))), 0,IF(ISERROR(IF(ISERROR(IF(ISERROR(O163/T163), 0,O163/T163)), 0,IF(ISERROR(O163/T163), 0,O163/T163))), 0,IF(ISERROR(IF(ISERROR(O163/T163), 0,O163/T163)), 0,IF(ISERROR(O163/T163), 0,O163/T163))))","v":0},14.2,0.4,{"$f":"IF(ISERROR(ABS(U163)), \"\",ABS(U163))","v":0},0.15000000000000002,{"$f":"IF(ISERROR(ABS((Y163*X163)/W163)), \"\",ABS((Y163*X163)/W163))","v":0},{"$f":"IF(ISERROR(IF(AA163>Z163,Z163,AA163)), \"\",IF(AA163>Z163,Z163,AA163))","v":0},{"$f":"IF(ISERROR(IF(Y163>W163,W163,Y163)), \"\",IF(Y163>W163,W163,Y163))","v":0},{"$f":"IF(ISERROR((AC163*AB163)/AA163), \"\",(AC163*AB163)/AA163)","v":""},{"$f":"IF(ISERROR(IF(AC163=W163,0,(AC163*AB163)/AA163)), \"\",IF(AC163=W163,0,(AC163*AB163)/AA163))","v":""},{"$f":"IF(ISERROR(IF(AC163=60,Q163+(AC163/T163),Q163+(AD163/T163))), \"\",IF(AC163=60,Q163+(AC163/T163),Q163+(AD163/T163)))","v":""}]
[]
[null,null,"Gram Test","Desired DW","Total Lead to remove","Location mm","Drill Depth Inches","Leave this much lead","Location mm","Depth","Leave this much lead","Location mm","Depth","Leave this much lead",null,null,"delta DW","ddw","dif_dw","key_ro","reqd_ld","key_div","slugs","lead_wid","reqd_ld","max_drill","tot_drill","act_drill","lead_out","fac","slug_rmn","delta_DW"]
[null,"Key #","DW","DDW","Ld. Out","Lead 1","Drill Out ","LEAVE","2nd","Drill  ","LEAVE","3rd","Drill  ","LEAVE",{"$f":"A168","v":276.26923076923003},{"$f":"F167","v":0},{"$f":"C167","v":50},{"$f":"D167","v":49},{"$f":"Q166-R166","v":1},{"$f":"IF(ISERROR((O166/P166)), 0,(O166/P166))","v":0},{"$f":"IF(ISERROR(S166*T166), 0,S166*T166)","v":0},{"$f":"IF(ISERROR(O166/T166), 0,O166/T166)","v":0},{"$f":"$E$7","v":14.2},{"$f":"$E$10","v":0.4},{"$f":"IF(ISERROR(ABS(U166)), 0,ABS(U166))","v":0},{"$f":"$X$14-$G$11","v":0.15000000000000002},{"$f":"IF(ISERROR(ABS((Y166*X166)/W166)), 0,ABS((Y166*X166)/W166))","v":0},{"$f":"IF(ISERROR(IF(AA166>Z166,Z166,AA166)), 0,IF(AA166>Z166,Z166,AA166))","v":0},{"$f":"IF(ISERROR(IF(Y166>W166,W166,Y166)), 0,IF(Y166>W166,W166,Y166))","v":0},{"$f":"IF(ISERROR((AC166*AB166)/AA166), 0,(AC166*AB166)/AA166)","v":0},{"$f":"IF(ISERROR(IF(ISERROR(IF(AC166=W166,0,(AC166*AB166)/AA166)), 0,IF(AC166=W166,0,(AC166*AB166)/AA166))), 0,IF(ISERROR(IF(AC166=W166,0,(AC166*AB166)/AA166)), 0,IF(AC166=W166,0,(AC166*AB166)/AA166)))","v":0},{"$f":"IF(ISERROR(IF(AC166=60,Q166+(AC166/T166),Q166+(AD166/T166))), 0,IF(AC166=60,Q166+(AC166/T166),Q166+(AD166/T166)))","v":0}]
["A",49,50,49,{"$f":"IF(ISERROR(Y166), 0,Y166)","v":0},null,{"$f":"IF(ISERROR(AB166), 0,AB166)","v":0},{"$f":"IF(ISERROR($E$10-G167), 0,$E$10-G167)","v":0.4},null,{"$f":"IF(ISERROR(AB167), 0,AB167)","v":0},{"$f":"IF(ISERROR(ROUND($E$10-J167,3)), 0,ROUND($E$10-J167,3))","v":0.4},null,{"$f":"IF(ISERROR(IF(ISERROR(IF(ISERROR(IF(ISERROR(AB168), 0,AB168)), 0,IF(ISERROR(AB168), 0,AB168))), 0,IF(ISERROR(IF(ISERROR(AB168), 0,AB168)), 0,IF(ISERROR(AB168), 0,AB168)))), 0,IF(ISERROR(IF(ISERROR(IF(ISERROR(AB168), 0,AB168)), 0,IF(ISERROR(AB168), 0,AB168))), 0,IF(ISERROR(IF(ISERROR(AB168), 0,AB168)), 0,IF(ISERROR(AB168), 0,AB168))))","v":0},{"$f":"IF(ISERROR(IF(ISERROR(IF(ISERROR(IF(ISERROR($E$10-M167), 0,$E$10-M167)), 0,IF(ISERROR($E$10-M167), 0,$E$10-M167))), 0,IF(ISERROR(IF(ISERROR($E$10-M167), 0,$E$10-M167)), 0,IF(ISERROR($E$10-M167), 0,$E$10-M167)))), 0,IF(ISERROR(IF(ISERROR(IF(ISERROR($E$10-M167), 0,$E$10-M167)), 0,IF(ISERROR($E$10-M167), 0,$E$10-M167))), 0,IF(ISERROR(IF(ISERROR($E$10-M167), 0,$E$10-M167)), 0,IF(ISERROR($E$10-M167), 0,$E$10-M167))))","v":0.4},{"$f":"A168","v":276.26923076923003},{"$f":"I167","v":0},{"$f":"IF(ISERROR(IF(AC166=W166,Q166+(AC166/T166),Q166+(AD166/T166))), 0,IF(AC166=W166,Q166+(AC166/T166),Q166+(AD166/T166)))","v":0},{"$f":"D167","v":49},{"$f":"IF(ISERROR(Q167-R167), 0,Q167-R167)","v":-49},{"$f":"IF(ISERROR((O167/P167)), 0,(O167/P167))","v":0},{"$f":"IF(ISERROR(S167*T167), 0,S167*T167)","v":0},{"$f":"IF(ISERROR(O167/T167), 0,O167/T167)","v":0},14.2,0.4,{"$f":"IF(ISERROR(ABS(U167)), 0,ABS(U167))","v":0},0.15000000000000002,{"$f":"IF(ISERROR(ABS((Y167*X167)/W167)), 0,ABS((Y167*X167)/W167))","v":0},{"$f":"IF(ISERROR(IF(AA167>Z167,Z167,AA167)), 0,IF(AA167>Z167,Z167,AA167))","v":0},{"$f":"IF(ISERROR(IF(Y167>W167,W167,Y167)), 0,IF(Y167>W167,W167,Y167))","v":0},{"$f":"IF(ISERROR((AC167*AB167)/AA167), 0,(AC167*AB167)/AA167)","v":0},{"$f":"IF(ISERROR(IF(ISERROR(IF(AC167=W167,0,(AC167*AB167)/AA167)), 0,IF(AC167=W167,0,(AC167*AB167)/AA167))), 0,IF(ISERROR(IF(AC167=W167,0,(AC167*AB167)/AA167)), 0,IF(AC167=W167,0,(AC167*AB167)/AA167)))","v":0},{"$f":"IF(ISERROR(IF(AC167=60,Q167+(AC167/T167),Q167+(AD167/T167))), 0,IF(AC167=60,Q167+(AC167/T167),Q167+(AD167/T167)))","v":0}]
[{"$f":"F328","v":276.26923076923003},{"$f":"IF(ISERROR(IF(AND(C167<D167, E167>$E$7),\"Ignore Dril Out Lead 1; rather pop out Lead 1 and LEAVE lead # 2 to \"&K167&\" inches.\",\"\")), 0,IF(AND(C167<D167, E167>$E$7),\"Ignore Dril Out Lead 1; rather pop out Lead 1 and LEAVE lead # 2 to \"&K167&\" inches.\",\"\"))","v":""},null,null,null,null,null,null,null,null,null,null,null,{"$f":"(G167+J167+M167)/$E$10*$E$7","v":0},{"$f":"A168","v":276.26923076923003},{"$f":"L167","v":0},{"$f":"IF(ISERROR(IF(AC167=W167,Q167+(AC167/T167),Q167+(AD167/T167))), 0,IF(AC167=W167,Q167+(AC167/T167),Q167+(AD167/T167)))","v":0},{"$f":"D167","v":49},{"$f":"IF(ISERROR(Q168-R168), 0,Q168-R168)","v":-49},{"$f":"IF(ISERROR(IF(ISERROR(IF(ISERROR(IF(ISERROR((O168/P168)), 0,(O168/P168))), 0,IF(ISERROR((O168/P168)), 0,(O168/P168)))), 0,IF(ISERROR(IF(ISERROR((O168/P168)), 0,(O168/P168))), 0,IF(ISERROR((O168/P168)), 0,(O168/P168))))), 0,IF(ISERROR(IF(ISERROR(IF(ISERROR((O168/P168)), 0,(O168/P168))), 0,IF(ISERROR((O168/P168)), 0,(O168/P168)))), 0,IF(ISERROR(IF(ISERROR((O168/P168)), 0,(O168/P168))), 0,IF(ISERROR((O168/P168)), 0,(O168/P168)))))","v":0},{"$f":"IF(ISERROR(IF(ISERROR(IF(ISERROR(IF(ISERROR(S168*T168), 0,S168*T168)), 0,IF(ISERROR(S168*T168), 0,S168*T168))), 0,IF(ISERROR(IF(ISERROR(S168*T168), 0,S168*T168)), 0,IF(ISERROR(S168*T168), 0,S168*T168)))), 0,IF(ISERROR(IF(ISERROR(IF(ISERROR(S168*T168), 0,S168*T168)), 0,IF(ISERROR(S168*T168), 0,S168*T168))), 0,IF(ISERROR(IF(ISERROR(S168*T168), 0,S168*T168)), 0,IF(ISERROR(S168*T168), 0,S168*T168))))","v":0},{"$f":"IF(ISERROR(IF(ISERROR(IF(ISERROR(IF(ISERROR(O168/T168), 0,O168/T168)), 0,IF(ISERROR(O168/T168), 0,O168/T168))), 0,IF(ISERROR(IF(ISERROR(O168/T168), 0,O168/T168)), 0,IF(ISERROR(O168/T168), 0,O168/T168)))), 0,IF(ISERROR(IF(ISERROR(IF(ISERROR(O168/T168), 0,O168/T168)), 0,IF(ISERROR(O168/T168), 0,O168/T168))), 0,IF(ISERROR(IF(ISERROR(O168/T168), 0,O168/T168)), 0,IF(ISERROR(O168/T168), 0,O168/T168))))","v":0},14.2,0.4,{"$f":"IF(ISERROR(IF(ISERROR(IF(ISERROR(ABS(U168)), 0,ABS(U168))), 0,IF(ISERROR(ABS(U168)), 0,ABS(U168)))), 0,IF(ISERROR(IF(ISERROR(ABS(U168)), 0,ABS(U168))), 0,IF(ISERROR(ABS(U168)), 0,ABS(U168))))","v":0},0.15000000000000002,{"$f":"IF(ISERROR(IF(ISERROR(IF(ISERROR(ABS((Y168*X168)/W168)), 0,ABS((Y168*X168)/W168))), 0,IF(ISERROR(ABS((Y168*X168)/W168)), 0,ABS((Y168*X168)/W168)))), 0,IF(ISERROR(IF(ISERROR(ABS((Y168*X168)/W168)), 0,ABS((Y168*X168)/W168))), 0,IF(ISERROR(ABS((Y168*X168)/W168)), 0,ABS((Y168*X168)/W168))))","v":0},{"$f":"IF(ISERROR(IF(ISERROR(IF(ISERROR(IF(AA168>Z168,Z168,AA168)), 0,IF(AA168>Z168,Z168,AA168))), 0,IF(ISERROR(IF(AA168>Z168,Z168,AA168)), 0,IF(AA168>Z168,Z168,AA168)))), 0,IF(ISERROR(IF(ISERROR(IF(AA168>Z168,Z168,AA168)), 0,IF(AA168>Z168,Z168,AA168))), 0,IF(ISERROR(IF(AA168>Z168,Z168,AA168)), 0,IF(AA168>Z168,Z168,AA168))))","v":0},{"$f":"IF(ISERROR(IF(ISERROR(IF(ISERROR(IF(Y168>W168,W168,Y168)), 0,IF(Y168>W168,W168,Y168))), 0,IF(ISERROR(IF(Y168>W168,W168,Y168)), 0,IF(Y168>W168,W168,Y168)))), 0,IF(ISERROR(IF(ISERROR(IF(Y168>W168,W168,Y168)), 0,IF(Y168>W168,W168,Y168))), 0,IF(ISERROR(IF(Y168>W168,W168,Y168)), 0,IF(Y168>W168,W168,Y168))))","v":0},{"$f":"IF(ISERROR((AC168*AB168)/AA168), \"\",(AC168*AB168)/AA168)","v":""},{"$f":"IF(ISERROR(IF(AC168=W168,0,(AC168*AB168)/AA168)), \"\",IF(AC168=W168,0,(AC168*AB168)/AA168))","v":""},{"$f":"IF(ISERROR(IF(AC168=60,Q168+(AC168/T168),Q168+(AD168/T168))), \"\",IF(AC168=60,Q168+(AC168/T168),Q168+(AD168/T168)))","v":""}]
[null,null,"Test","Target",null,1,"dr_o","Lv_in",2,"dr_o","Lv_in",3,"dr_o","Lv_in",{"$f":"A171","v":259.5},{"$f":"F170","v":0},{"$f":"C170","v":56},{"$f":"D170","v":49},{"$f":"Q169-R169","v":7},{"$f":"IF(ISERROR((O169/P169)), 0,(O169/P169))","v":0},{"$f":"IF(ISERROR(S169*T169), 0,S169*T169)","v":0},{"$f":"IF(ISERROR(O169/T169), 0,O169/T169)","v":0},14.2,0.4,{"$f":"IF(ISERROR(ABS(U169)), 0,ABS(U169))","v":0},0.15000000000000002,{"$f":"IF(ISERROR(ABS((Y169*X169)/W169)), 0,ABS((Y169*X169)/W169))","v":0},{"$f":"IF(ISERROR(IF(AA169>Z169,Z169,AA169)), 0,IF(AA169>Z169,Z169,AA169))","v":0},{"$f":"IF(ISERROR(IF(Y169>W169,W169,Y169)), 0,IF(Y169>W169,W169,Y169))","v":0},{"$f":"IF(ISERROR((AC169*AB169)/AA169), 0,(AC169*AB169)/AA169)","v":0},{"$f":"IF(ISERROR(IF(ISERROR(IF(AC169=W169,0,(AC169*AB169)/AA169)), 0,IF(AC169=W169,0,(AC169*AB169)/AA169))), 0,IF(ISERROR(IF(AC169=W169,0,(AC169*AB169)/AA169)), 0,IF(AC169=W169,0,(AC169*AB169)/AA169)))","v":0},{"$f":"IF(ISERROR(IF(AC169=60,Q169+(AC169/T169),Q169+(AD169/T169))), 0,IF(AC169=60,Q169+(AC169/T169),Q169+(AD169/T169)))","v":0}]
["A#",50,56,49,{"$f":"IF(ISERROR(Y169), 0,Y169)","v":0},null,{"$f":"IF(ISERROR(AB169), 0,AB169)","v":0},{"$f":"IF(ISERROR($E$10-G170), 0,$E$10-G170)","v":0.4},null,{"$f":"IF(ISERROR(AB170), 0,AB170)","v":0},{"$f":"IF(ISERROR(ROUND($E$10-J170,3)), 0,ROUND($E$10-J170,3))","v":0.4},null,{"$f":"IF(ISERROR(IF(ISERROR(IF(ISERROR(IF(ISERROR(AB171), 0,AB171)), 0,IF(ISERROR(AB171), 0,AB171))), 0,IF(ISERROR(IF(ISERROR(AB171), 0,AB171)), 0,IF(ISERROR(AB171), 0,AB171)))), 0,IF(ISERROR(IF(ISERROR(IF(ISERROR(AB171), 0,AB171)), 0,IF(ISERROR(AB171), 0,AB171))), 0,IF(ISERROR(IF(ISERROR(AB171), 0,AB171)), 0,IF(ISERROR(AB171), 0,AB171))))","v":0},{"$f":"IF(ISERROR(IF(ISERROR(IF(ISERROR(IF(ISERROR($E$10-M170), 0,$E$10-M170)), 0,IF(ISERROR($E$10-M170), 0,$E$10-M170))), 0,IF(ISERROR(IF(ISERROR($E$10-M170), 0,$E$10-M170)), 0,IF(ISERROR($E$10-M170), 0,$E$10-M170)))), 0,IF(ISERROR(IF(ISERROR(IF(ISERROR($E$10-M170), 0,$E$10-M170)), 0,IF(ISERROR($E$10-M170), 0,$E$10-M170))), 0,IF(ISERROR(IF(ISERROR($E$10-M170), 0,$E$10-M170)), 0,IF(ISERROR($E$10-M170), 0,$E$10-M170))))","v":0.4},{"$f":"A171","v":259.5},{"$f":"I170","v":0},{"$f":"IF(ISERROR(IF(AC169=W169,Q169+(AC169/T169),Q169+(AD169/T169))), 0,IF(AC169=W169,Q169+(AC169/T169),Q169+(AD169/T169)))","v":0},{"$f":"D170","v":49},{"$f":"IF(ISERROR(Q170-R170), 0,Q170-R170)","v":-49},{"$f":"IF(ISERROR((O170/P170)), 0,(O170/P170))","v":0},{"$f":"IF(ISERROR(S170*T170), 0,S170*T170)","v":0},{"$f":"IF(ISERROR(O170/T170), 0,O170/T170)","v":0},14.2,0.4,{"$f":"IF(ISERROR(ABS(U170)), 0,ABS(U170))","v":0},0.15000000000000002,{"$f":"IF(ISERROR(ABS((Y170*X170)/W170)), 0,ABS((Y170*X170)/W170))","v":0},{"$f":"IF(ISERROR(IF(AA170>Z170,Z170,AA170)), 0,IF(AA170>Z170,Z170,AA170))","v":0},{"$f":"IF(ISERROR(IF(Y170>W170,W170,Y170)), 0,IF(Y170>W170,W170,Y170))","v":0},{"$f":"IF(ISERROR(IF(ISERROR(IF(ISERROR((AC170*AB170)/AA170), 0,(AC170*AB170)/AA170)), 0,IF(ISERROR((AC170*AB170)/AA170), 0,(AC170*AB170)/AA170))), 0,IF(ISERROR(IF(ISERROR((AC170*AB170)/AA170), 0,(AC170*AB170)/AA170)), 0,IF(ISERROR((AC170*AB170)/AA170), 0,(AC170*AB170)/AA170)))","v":0},{"$f":"IF(ISERROR(IF(ISERROR(IF(ISERROR(IF(AC170=W170,0,(AC170*AB170)/AA170)), 0,IF(AC170=W170,0,(AC170*AB170)/AA170))), 0,IF(ISERROR(IF(AC170=W170,0,(AC170*AB170)/AA170)), 0,IF(AC170=W170,0,(AC170*AB170)/AA170)))), 0,IF(ISERROR(IF(ISERROR(IF(AC170=W170,0,(AC170*AB170)/AA170)), 0,IF(AC170=W170,0,(AC170*AB170)/AA170))), 0,IF(ISERROR(IF(AC170=W170,0,(AC170*AB170)/AA170)), 0,IF(AC170=W170,0,(AC170*AB170)/AA170))))","v":0},{"$f":"IF(ISERROR(IF(ISERROR(IF(AC170=60,Q170+(AC170/T170),Q170+(AD170/T170))), 0,IF(AC170=60,Q170+(AC170/T170),Q170+(AD170/T170)))), 0,IF(ISERROR(IF(AC170=60,Q170+(AC170/T170),Q170+(AD170/T170))), 0,IF(AC170=60,Q170+(AC170/T170),Q170+(AD170/T170))))","v":0}]
[{"$f":"R320","v":259.5},{"$f":"IF(ISERROR(IF(AND(C170<D170, E170>$E$7),\"Ignore Drill Out Lead 1; rather pop out Lead 1 and LEAVE lead # 2 to \"&K170&\" inches.\",\"\")), 0,IF(AND(C170<D170, E170>$E$7),\"Ignore Drill Out Lead 1; rather pop out Lead 1 and LEAVE lead # 2 to \"&K170&\" inches.\",\"\"))","v":""},null,null,null,null,null,null,null,null,null,null,null,{"$f":"(G170+J170+M170)/$E$10*$E$7","v":0},{"$f":"A171","v":259.5},{"$f":"L170","v":0},{"$f":"IF(ISERROR(IF(ISERROR(IF(AC170=W170,Q170+(AC170/T170),Q170+(AD170/T170))), 0,IF(AC170=W170,Q170+(AC170/T170),Q170+(AD170/T170)))), 0,IF(ISERROR(IF(AC170=W170,Q170+(AC170/T170),Q170+(AD170/T170))), 0,IF(AC170=W170,Q170+(AC170/T170),Q170+(AD170/T170))))","v":0},{"$f":"D170","v":49},{"$f":"IF(ISERROR(Q171-R171), 0,Q171-R171)","v":-49},{"$f":"IF(ISERROR(IF(ISERROR(IF(ISERROR(IF(ISERROR((O171/P171)), 0,(O171/P171))), 0,IF(ISERROR((O171/P171)), 0,(O171/P171)))), 0,IF(ISERROR(IF(ISERROR((O171/P171)), 0,(O171/P171))), 0,IF(ISERROR((O171/P171)), 0,(O171/P171))))), 0,IF(ISERROR(IF(ISERROR(IF(ISERROR((O171/P171)), 0,(O171/P171))), 0,IF(ISERROR((O171/P171)), 0,(O171/P171)))), 0,IF(ISERROR(IF(ISERROR((O171/P171)), 0,(O171/P171))), 0,IF(ISERROR((O171/P171)), 0,(O171/P171)))))","v":0},{"$f":"IF(ISERROR(IF(ISERROR(IF(ISERROR(IF(ISERROR(S171*T171), 0,S171*T171)), 0,IF(ISERROR(S171*T171), 0,S171*T171))), 0,IF(ISERROR(IF(ISERROR(S171*T171), 0,S171*T171)), 0,IF(ISERROR(S171*T171), 0,S171*T171)))), 0,IF(ISERROR(IF(ISERROR(IF(ISERROR(S171*T171), 0,S171*T171)), 0,IF(ISERROR(S171*T171), 0,S171*T171))), 0,IF(ISERROR(IF(ISERROR(S171*T171), 0,S171*T171)), 0,IF(ISERROR(S171*T171), 0,S171*T171))))","v":0},{"$f":"IF(ISERROR(IF(ISERROR(IF(ISERROR(IF(ISERROR(O171/T171), 0,O171/T171)), 0,IF(ISERROR(O171/T171), 0,O171/T171))), 0,IF(ISERROR(IF(ISERROR(O171/T171), 0,O171/T171)), 0,IF(ISERROR(O171/T171), 0,O171/T171)))), 0,IF(ISERROR(IF(ISERROR(IF(ISERROR(O171/T171), 0,O171/T171)), 0,IF(ISERROR(O171/T171), 0,O171/T171))), 0,IF(ISERROR(IF(ISERROR(O171/T171), 0,O171/T171)), 0,IF(ISERROR(O171/T171), 0,O171/T171))))","v":0},14.2,0.4,{"$f":"IF(ISERROR(IF(ISERROR(IF(ISERROR(ABS(U171)), 0,ABS(U171))), 0,IF(ISERROR(ABS(U171)), 0,ABS(U171)))), 0,IF(ISERROR(IF(ISERROR(ABS(U171)), 0,ABS(U171))), 0,IF(ISERROR(ABS(U171)), 0,ABS(U171))))","v":0},0.15000000000000002,{"$f":"IF(ISERROR(IF(ISERROR(IF(ISERROR(ABS((Y171*X171)/W171)), 0,ABS((Y171*X171)/W171))), 0,IF(ISERROR(ABS((Y171*X171)/W171)), 0,ABS((Y171*X171)/W171)))), 0,IF(ISERROR(IF(ISERROR(ABS((Y171*X171)/W171)), 0,ABS((Y171*X171)/W171))), 0,IF(ISERROR(ABS((Y171*X171)/W171)), 0,ABS((Y171*X171)/W171))))","v":0},{"$f":"IF(ISERROR(IF(ISERROR(IF(ISERROR(IF(AA171>Z171,Z171,AA171)), 0,IF(AA171>Z171,Z171,AA171))), 0,IF(ISERROR(IF(AA171>Z171,Z171,AA171)), 0,IF(AA171>Z171,Z171,AA171)))), 0,IF(ISERROR(IF(ISERROR(IF(AA171>Z171,Z171,AA171)), 0,IF(AA171>Z171,Z171,AA171))), 0,IF(ISERROR(IF(AA171>Z171,Z171,AA171)), 0,IF(AA171>Z171,Z171,AA171))))","v":0},{"$f":"IF(ISERROR(IF(ISERROR(IF(ISERROR(IF(Y171>W171,W171,Y171)), 0,IF(Y171>W171,W171,Y171))), 0,IF(ISERROR(IF(Y171>W171,W171,Y171)), 0,IF(Y171>W171,W171,Y171)))), 0,IF(ISERROR(IF(ISERROR(IF(Y171>W171,W171,Y171)), 0,IF(Y171>W171,W171,Y171))), 0,IF(ISERROR(IF(Y171>W171,W171,Y171)), 0,IF(Y171>W171,W171,Y171))))","v":0},{"$f":"IF(ISERROR((AC171*AB171)/AA171), \"\",(AC171*AB171)/AA171)","v":""},{"$f":"IF(ISERROR(IF(AC171=W171,0,(AC171*AB171)/AA171)), \"\",IF(AC171=W171,0,(AC171*AB171)/AA171))","v":""},{"$f":"IF(ISERROR(IF(AC171=60,Q171+(AC171/T171),Q171+(AD171/T171))), \"\",IF(AC171=60,Q171+(AC171/T171),Q171+(AD171/T171)))","v":""}]
[null,null,"Test","Target",null,1,"dr_o","Lv_in",2,"dr_o","Lv_in",3,"dr_o","Lv_in",{"$f":"A174","v":274.90384615384539},{"$f":"F173","v":0},{"$f":"C173","v":50},{"$f":"D173","v":49},{"$f":"Q172-R172","v":1},{"$f":"IF(ISERROR((O172/P172)), 0,(O172/P172))","v":0},{"$f":"IF(ISERROR(S172*T172), 0,S172*T172)","v":0},{"$f":"IF(ISERROR(O172/T172), 0,O172/T172)","v":0},14.2,0.4,{"$f":"IF(ISERROR(ABS(U172)), 0,ABS(U172))","v":0},0.15000000000000002,{"$f":"IF(ISERROR(ABS((Y172*X172)/W172)), 0,ABS((Y172*X172)/W172))","v":0},{"$f":"IF(ISERROR(IF(AA172>Z172,Z172,AA172)), 0,IF(AA172>Z172,Z172,AA172))","v":0},{"$f":"IF(ISERROR(IF(Y172>W172,W172,Y172)), 0,IF(Y172>W172,W172,Y172))","v":0},{"$f":"IF(ISERROR((AC172*AB172)/AA172), 0,(AC172*AB172)/AA172)","v":0},{"$f":"IF(ISERROR(IF(ISERROR(IF(AC172=W172,0,(AC172*AB172)/AA172)), 0,IF(AC172=W172,0,(AC172*AB172)/AA172))), 0,IF(ISERROR(IF(AC172=W172,0,(AC172*AB172)/AA172)), 0,IF(AC172=W172,0,(AC172*AB172)/AA172)))","v":0},{"$f":"IF(ISERROR(IF(AC172=60,Q172+(AC172/T172),Q172+(AD172/T172))), 0,IF(AC172=60,Q172+(AC172/T172),Q172+(AD172/T172)))","v":0}]
["B",51,50,49,{"$f":"IF(ISERROR(Y172), 0,Y172)","v":0},null,{"$f":"IF(ISERROR(AB172), 0,AB172)","v":0},{"$f":"IF(ISERROR($E$10-G173), 0,$E$10-G173)","v":0.4},null,{"$f":"IF(ISERROR(AB173), \"\",AB173)","v":0},{"$f":"IF(ISERROR(ROUND($E$10-J173,3)), \"\",ROUND($E$10-J173,3))","v":0.4},null,{"$f":"IF(ISERROR(AB174), \"\",AB174)","v":0},{"$f":"IF(ISERROR($E$10-M173), \"\",$E$10-M173)","v":0.4},{"$f":"A174","v":274.90384615384539},{"$f":"I173","v":0},{"$f":"IF(ISERROR(IF(AC172=W172,Q172+(AC172/T172),Q172+(AD172/T172))), 0,IF(AC172=W172,Q172+(AC172/T172),Q172+(AD172/T172)))","v":0},{"$f":"D173","v":49},{"$f":"IF(ISERROR(Q173-R173), 0,Q173-R173)","v":-49},{"$f":"IF(ISERROR((O173/P173)), 0,(O173/P173))","v":0},{"$f":"IF(ISERROR(S173*T173), 0,S173*T173)","v":0},{"$f":"IF(ISERROR(O173/T173), 0,O173/T173)","v":0},14.2,0.4,{"$f":"IF(ISERROR(ABS(U173)), 0,ABS(U173))","v":0},0.15000000000000002,{"$f":"IF(ISERROR(ABS((Y173*X173)/W173)), 0,ABS((Y173*X173)/W173))","v":0},{"$f":"IF(ISERROR(IF(AA173>Z173,Z173,AA173)), 0,IF(AA173>Z173,Z173,AA173))","v":0},{"$f":"IF(ISERROR(IF(Y173>W173,W173,Y173)), 0,IF(Y173>W173,W173,Y173))","v":0},{"$f":"IF(ISERROR((AC173*AB173)/AA173), 0,(AC173*AB173)/AA173)","v":0},{"$f":"IF(ISERROR(IF(ISERROR(IF(AC173=W173,0,(AC173*AB173)/AA173)), 0,IF(AC173=W173,0,(AC173*AB173)/AA173))), 0,IF(ISERROR(IF(AC173=W173,0,(AC173*AB173)/AA173)), 0,IF(AC173=W173,0,(AC173*AB173)/AA173)))","v":0},{"$f":"IF(ISERROR(IF(AC173=60,Q173+(AC173/T173),Q173+(AD173/T173))), 0,IF(AC173=60,Q173+(AC173/T173),Q173+(AD173/T173)))","v":0}]
[{"$f":"F329","v":274.90384615384539},{"$f":"IF(ISERROR(IF(AND(C173<D173, E173>$E$7),\"Ignore Drill Out Lead 1; rather pop out Lead 1 and LEAVE lead # 2 to \"&K173&\" inches.\",\"\")), 0,IF(AND(C173<D173, E173>$E$7),\"Ignore Drill Out Lead 1; rather pop out Lead 1 and LEAVE lead # 2 to \"&K173&\" inches.\",\"\"))","v":""},null,null,null,null,null,null,null,null,null,null,null,{"$f":"(G173+J173+M173)/$E$10*$E$7","v":0},{"$f":"A174","v":274.90384615384539},{"$f":"L173","v":0},{"$f":"IF(ISERROR(IF(AC173=W173,Q173+(AC173/T173),Q173+(AD173/T173))), 0,IF(AC173=W173,Q173+(AC173/T173),Q173+(AD173/T173)))","v":0},{"$f":"D173","v":49},{"$f":"IF(ISERROR(Q174-R174), 0,Q174-R174)","v":-49},{"$f":"IF(ISERROR(IF(ISERROR(IF(ISERROR(IF(ISERROR((O174/P174)), 0,(O174/P174))), 0,IF(ISERROR((O174/P174)), 0,(O174/P174)))), 0,IF(ISERROR(IF(ISERROR((O174/P174)), 0,(O174/P174))), 0,IF(ISERROR((O174/P174)), 0,(O174/P174))))), 0,IF(ISERROR(IF(ISERROR(IF(ISERROR((O174/P174)), 0,(O174/P174))), 0,IF(ISERROR((O174/P174)), 0,(O174/P174)))), 0,IF(ISERROR(IF(ISERROR((O174/P174)), 0,(O174/P174))), 0,IF(ISERROR((O174/P174)), 0,(O174/P174)))))","v":0},{"$f":"IF(ISERROR(IF(ISERROR(IF(ISERROR(IF(ISERROR(S174*T174), 0,S174*T174)), 0,IF(ISERROR(S174*T174), 0,S174*T174))), 0,IF(ISERROR(IF(ISERROR(S174*T174), 0,S174*T174)), 0,IF(ISERROR(S174*T174), 0,S174*T174)))), 0,IF(ISERROR(IF(ISERROR(IF(ISERROR(S174*T174), 0,S174*T174)), 0,IF(ISERROR(S174*T174), 0,S174*T174))), 0,IF(ISERROR(IF(ISERROR(S174*T174), 0,S174*T174)), 0,IF(ISERROR(S174*T174), 0,S174*T174))))","v":0},{"$f":"IF(ISERROR(IF(ISERROR(IF(ISERROR(IF(ISERROR(O174/T174), 0,O174/T174)), 0,IF(ISERROR(O174/T174), 0,O174/T174))), 0,IF(ISERROR(IF(ISERROR(O174/T174), 0,O174/T174)), 0,IF(ISERROR(O174/T174), 0,O174/T174)))), 0,IF(ISERROR(IF(ISERROR(IF(ISERROR(O174/T174), 0,O174/T174)), 0,IF(ISERROR(O174/T174), 0,O174/T174))), 0,IF(ISERROR(IF(ISERROR(O174/T174), 0,O174/T174)), 0,IF(ISERROR(O174/T174), 0,O174/T174))))","v":0},14.2,0.4,{"$f":"IF(ISERROR(IF(ISERROR(IF(ISERROR(ABS(U174)), 0,ABS(U174))), 0,IF(ISERROR(ABS(U174)), 0,ABS(U174)))), 0,IF(ISERROR(IF(ISERROR(ABS(U174)), 0,ABS(U174))), 0,IF(ISERROR(ABS(U174)), 0,ABS(U174))))","v":0},0.15000000000000002,{"$f":"IF(ISERROR(IF(ISERROR(IF(ISERROR(ABS((Y174*X174)/W174)), 0,ABS((Y174*X174)/W174))), 0,IF(ISERROR(ABS((Y174*X174)/W174)), 0,ABS((Y174*X174)/W174)))), 0,IF(ISERROR(IF(ISERROR(ABS((Y174*X174)/W174)), 0,ABS((Y174*X174)/W174))), 0,IF(ISERROR(ABS((Y174*X174)/W174)), 0,ABS((Y174*X174)/W174))))","v":0},{"$f":"IF(ISERROR(IF(ISERROR(IF(ISERROR(IF(AA174>Z174,Z174,AA174)), 0,IF(AA174>Z174,Z174,AA174))), 0,IF(ISERROR(IF(AA174>Z174,Z174,AA174)), 0,IF(AA174>Z174,Z174,AA174)))), 0,IF(ISERROR(IF(ISERROR(IF(AA174>Z174,Z174,AA174)), 0,IF(AA174>Z174,Z174,AA174))), 0,IF(ISERROR(IF(AA174>Z174,Z174,AA174)), 0,IF(AA174>Z174,Z174,AA174))))","v":0},{"$f":"IF(ISERROR(IF(ISERROR(IF(ISERROR(IF(Y174>W174,W174,Y174)), 0,IF(Y174>W174,W174,Y174))), 0,IF(ISERROR(IF(Y174>W174,W174,Y174)), 0,IF(Y174>W174,W174,Y174)))), 0,IF(ISERROR(IF(ISERROR(IF(Y174>W174,W174,Y174)), 0,IF(Y174>W174,W174,Y174))), 0,IF(ISERROR(IF(Y174>W174,W174,Y174)), 0,IF(Y174>W174,W174,Y174))))","v":0},{"$f":"IF(ISERROR((AC174*AB174)/AA174), \"\",(AC174*AB174)/AA174)","v":""},{"$f":"IF(ISERROR(IF(AC174=W174,0,(AC174*AB174)/AA174)), \"\",IF(AC174=W174,0,(AC174*AB174)/AA174))","v":""},{"$f":"IF(ISERROR(IF(AC174=60,Q174+(AC174/T174),Q174+(AD174/T174))), \"\",IF(AC174=60,Q174+(AC174/T174),Q174+(AD174/T174)))","v":""}]
[null,null,"Test","Target",null,1,"dr_o","Lv_in",2,"dr_o","Lv_in",3,"dr_o","Lv_in",{"$f":"A177","v":273.53846153846075},{"$f":"F176","v":0},{"$f":"C176","v":49},{"$f":"D176","v":49},{"$f":"Q175-R175","v":0},{"$f":"IF(ISERROR((O175/P175)), 0,(O175/P175))","v":0},{"$f":"IF(ISERROR(S175*T175), 0,S175*T175)","v":0},{"$f":"IF(ISERROR(O175/T175), 0,O175/T175)","v":0},14.2,0.4,{"$f":"IF(ISERROR(ABS(U175)), 0,ABS(U175))","v":0},0.15000000000000002,{"$f":"IF(ISERROR(ABS((Y175*X175)/W175)), 0,ABS((Y175*X175)/W175))","v":0},{"$f":"IF(ISERROR(IF(AA175>Z175,Z175,AA175)), 0,IF(AA175>Z175,Z175,AA175))","v":0},{"$f":"IF(ISERROR(IF(Y175>W175,W175,Y175)), 0,IF(Y175>W175,W175,Y175))","v":0},{"$f":"IF(ISERROR(IF(ISERROR(IF(ISERROR(IF(ISERROR((AC175*AB175)/AA175), 0,(AC175*AB175)/AA175)), 0,IF(ISERROR((AC175*AB175)/AA175), 0,(AC175*AB175)/AA175))), 0,IF(ISERROR(IF(ISERROR((AC175*AB175)/AA175), 0,(AC175*AB175)/AA175)), 0,IF(ISERROR((AC175*AB175)/AA175), 0,(AC175*AB175)/AA175)))), 0,IF(ISERROR(IF(ISERROR(IF(ISERROR((AC175*AB175)/AA175), 0,(AC175*AB175)/AA175)), 0,IF(ISERROR((AC175*AB175)/AA175), 0,(AC175*AB175)/AA175))), 0,IF(ISERROR(IF(ISERROR((AC175*AB175)/AA175), 0,(AC175*AB175)/AA175)), 0,IF(ISERROR((AC175*AB175)/AA175), 0,(AC175*AB175)/AA175))))","v":0},{"$f":"IF(ISERROR(IF(ISERROR(IF(ISERROR(IF(AC175=W175,0,(AC175*AB175)/AA175)), 0,IF(AC175=W175,0,(AC175*AB175)/AA175))), 0,IF(ISERROR(IF(AC175=W175,0,(AC175*AB175)/AA175)), 0,IF(AC175=W175,0,(AC175*AB175)/AA175)))), 0,IF(ISERROR(IF(ISERROR(IF(AC175=W175,0,(AC175*AB175)/AA175)), 0,IF(AC175=W175,0,(AC175*AB175)/AA175))), 0,IF(ISERROR(IF(AC175=W175,0,(AC175*AB175)/AA175)), 0,IF(AC175=W175,0,(AC175*AB175)/AA175))))","v":0},{"$f":"IF(ISERROR(IF(ISERROR(IF(AC175=60,Q175+(AC175/T175),Q175+(AD175/T175))), 0,IF(AC175=60,Q175+(AC175/T175),Q175+(AD175/T175)))), 0,IF(ISERROR(IF(AC175=60,Q175+(AC175/T175),Q175+(AD175/T175))), 0,IF(AC175=60,Q175+(AC175/T175),Q175+(AD175/T175))))","v":0}]
["C",52,49,49,{"$f":"IF(ISERROR(Y175), 0,Y175)","v":0},null,{"$f":"IF(ISERROR(AB175), 0,AB175)","v":0},{"$f":"IF(ISERROR($E$10-G176), 0,$E$10-G176)","v":0.4},null,{"$f":"IF(ISERROR(IF(ISERROR(AB176), 0,AB176)), 0,IF(ISERROR(AB176), 0,AB176))","v":0},{"$f":"IF(ISERROR(IF(ISERROR(ROUND($E$10-J176,3)), 0,ROUND($E$10-J176,3))), 0,IF(ISERROR(ROUND($E$10-J176,3)), 0,ROUND($E$10-J176,3)))","v":0.4},null,{"$f":"IF(ISERROR(AB177), \"\",AB177)","v":0},{"$f":"IF(ISERROR($E$10-M176), \"\",$E$10-M176)","v":0.4},{"$f":"A177","v":273.53846153846075},{"$f":"I176","v":0},{"$f":"IF(ISERROR(IF(ISERROR(IF(AC175=W175,Q175+(AC175/T175),Q175+(AD175/T175))), 0,IF(AC175=W175,Q175+(AC175/T175),Q175+(AD175/T175)))), 0,IF(ISERROR(IF(AC175=W175,Q175+(AC175/T175),Q175+(AD175/T175))), 0,IF(AC175=W175,Q175+(AC175/T175),Q175+(AD175/T175))))","v":0},{"$f":"D176","v":49},{"$f":"IF(ISERROR(IF(ISERROR(Q176-R176), 0,Q176-R176)), 0,IF(ISERROR(Q176-R176), 0,Q176-R176))","v":-49},{"$f":"IF(ISERROR((O176/P176)), 0,(O176/P176))","v":0},{"$f":"IF(ISERROR(IF(ISERROR(S176*T176), 0,S176*T176)), 0,IF(ISERROR(S176*T176), 0,S176*T176))","v":0},{"$f":"IF(ISERROR(O176/T176), 0,O176/T176)","v":0},14.2,0.4,{"$f":"IF(ISERROR(IF(ISERROR(ABS(U176)), 0,ABS(U176))), 0,IF(ISERROR(ABS(U176)), 0,ABS(U176)))","v":0},0.15000000000000002,{"$f":"IF(ISERROR(IF(ISERROR(ABS((Y176*X176)/W176)), 0,ABS((Y176*X176)/W176))), 0,IF(ISERROR(ABS((Y176*X176)/W176)), 0,ABS((Y176*X176)/W176)))","v":0},{"$f":"IF(ISERROR(IF(ISERROR(IF(AA176>Z176,Z176,AA176)), 0,IF(AA176>Z176,Z176,AA176))), 0,IF(ISERROR(IF(AA176>Z176,Z176,AA176)), 0,IF(AA176>Z176,Z176,AA176)))","v":0},{"$f":"IF(ISERROR(IF(ISERROR(IF(Y176>W176,W176,Y176)), 0,IF(Y176>W176,W176,Y176))), 0,IF(ISERROR(IF(Y176>W176,W176,Y176)), 0,IF(Y176>W176,W176,Y176)))","v":0},{"$f":"IF(ISERROR((AC176*AB176)/AA176), \"\",(AC176*AB176)/AA176)","v":""},{"$f":"IF(ISERROR(IF(AC176=W176,0,(AC176*AB176)/AA176)), \"\",IF(AC176=W176,0,(AC176*AB176)/AA176))","v":""},{"$f":"IF(ISERROR(IF(AC176=60,Q176+(AC176/T176),Q176+(AD176/T176))), \"\",IF(AC176=60,Q176+(AC176/T176),Q176+(AD176/T176)))","v":""}]
[{"$f":"F330","v":273.53846153846075},{"$f":"IF(ISERROR(IF(AND(C176<D176, E176>$E$7),\"Ignore Drill Out Lead 1; rather pop out Lead 1 and LEAVE lead # 2 to \"&K176&\" inches.\",\"\")), 0,IF(AND(C176<D176, E176>$E$7),\"Ignore Drill Out Lead 1; rather pop out Lead 1 and LEAVE lead # 2 to \"&K176&\" inches.\",\"\"))","v":""},null,null,null,null,null,null,null,null,null,null,null,{"$f":"IF(ISERROR(IF(ISERROR((G176+J176+M176)/$E$10*$E$7), 0,(G176+J176+M176)/$E$10*$E$7)), 0,IF(ISERROR((G176+J176+M176)/$E$10*$E$7), 0,(G176+J176+M176)/$E$10*$E$7))","v":0},{"$f":"A177","v":273.53846153846075},{"$f":"L176","v":0},{"$f":"IF(ISERROR(IF(AC176=W176,Q176+(AC176/T176),Q176+(AD176/T176))), \"\",IF(AC176=W176,Q176+(AC176/T176),Q176+(AD176/T176)))","v":""},{"$f":"D176","v":49},{"$f":"IF(ISERROR(Q177-R177), 0,Q177-R177)","v":0},{"$f":"IF(ISERROR((O177/P177)), 0,(O177/P177))","v":0},{"$f":"IF(ISERROR(S177*T177), \"\",S177*T177)","v":0},{"$f":"IF(ISERROR(IF(ISERROR(O177/T177), 0,O177/T177)), 0,IF(ISERROR(O177/T177), 0,O177/T177))","v":0},14.2,0.4,{"$f":"IF(ISERROR(ABS(U177)), \"\",ABS(U177))","v":0},0.15000000000000002,{"$f":"IF(ISERROR(ABS((Y177*X177)/W177)), \"\",ABS((Y177*X177)/W177))","v":0},{"$f":"IF(ISERROR(IF(AA177>Z177,Z177,AA177)), \"\",IF(AA177>Z177,Z177,AA177))","v":0},{"$f":"IF(ISERROR(IF(Y177>W177,W177,Y177)), \"\",IF(Y177>W177,W177,Y177))","v":0},{"$f":"IF(ISERROR((AC177*AB177)/AA177), \"\",(AC177*AB177)/AA177)","v":""},{"$f":"IF(ISERROR(IF(AC177=W177,0,(AC177*AB177)/AA177)), \"\",IF(AC177=W177,0,(AC177*AB177)/AA177))","v":""},{"$f":"IF(ISERROR(IF(AC177=60,Q177+(AC177/T177),Q177+(AD177/T177))), \"\",IF(AC177=60,Q177+(AC177/T177),Q177+(AD177/T177)))","v":""}]
[null,null,"Test","Target",null,1,"dr_o","Lv_in",2,"dr_o","Lv_in",3,"dr_o","Lv_in",{"$f":"A180","v":258.5},{"$f":"F179","v":0},{"$f":"C179","v":49},{"$f":"D179","v":49},{"$f":"Q178-R178","v":0},{"$f":"IF(ISERROR((O178/P178)), 0,(O178/P178))","v":0},{"$f":"IF(ISERROR(S178*T178), 0,S178*T178)","v":0},{"$f":"IF(ISERROR(O178/T178), 0,O178/T178)","v":0},14.2,0.4,{"$f":"IF(ISERROR(ABS(U178)), 0,ABS(U178))","v":0},0.15000000000000002,{"$f":"IF(ISERROR(ABS((Y178*X178)/W178)), 0,ABS((Y178*X178)/W178))","v":0},{"$f":"IF(ISERROR(IF(AA178>Z178,Z178,AA178)), 0,IF(AA178>Z178,Z178,AA178))","v":0},{"$f":"IF(ISERROR(IF(Y178>W178,W178,Y178)), 0,IF(Y178>W178,W178,Y178))","v":0},{"$f":"IF(ISERROR(IF(ISERROR(IF(ISERROR(IF(ISERROR((AC178*AB178)/AA178), 0,(AC178*AB178)/AA178)), 0,IF(ISERROR((AC178*AB178)/AA178), 0,(AC178*AB178)/AA178))), 0,IF(ISERROR(IF(ISERROR((AC178*AB178)/AA178), 0,(AC178*AB178)/AA178)), 0,IF(ISERROR((AC178*AB178)/AA178), 0,(AC178*AB178)/AA178)))), 0,IF(ISERROR(IF(ISERROR(IF(ISERROR((AC178*AB178)/AA178), 0,(AC178*AB178)/AA178)), 0,IF(ISERROR((AC178*AB178)/AA178), 0,(AC178*AB178)/AA178))), 0,IF(ISERROR(IF(ISERROR((AC178*AB178)/AA178), 0,(AC178*AB178)/AA178)), 0,IF(ISERROR((AC178*AB178)/AA178), 0,(AC178*AB178)/AA178))))","v":0},{"$f":"IF(ISERROR(IF(ISERROR(IF(ISERROR(IF(AC178=W178,0,(AC178*AB178)/AA178)), 0,IF(AC178=W178,0,(AC178*AB178)/AA178))), 0,IF(ISERROR(IF(AC178=W178,0,(AC178*AB178)/AA178)), 0,IF(AC178=W178,0,(AC178*AB178)/AA178)))), 0,IF(ISERROR(IF(ISERROR(IF(AC178=W178,0,(AC178*AB178)/AA178)), 0,IF(AC178=W178,0,(AC178*AB178)/AA178))), 0,IF(ISERROR(IF(AC178=W178,0,(AC178*AB178)/AA178)), 0,IF(AC178=W178,0,(AC178*AB178)/AA178))))","v":0},{"$f":"IF(ISERROR(IF(ISERROR(IF(AC178=60,Q178+(AC178/T178),Q178+(AD178/T178))), 0,IF(AC178=60,Q178+(AC178/T178),Q178+(AD178/T178)))), 0,IF(ISERROR(IF(AC178=60,Q178+(AC178/T178),Q178+(AD178/T178))), 0,IF(AC178=60,Q178+(AC178/T178),Q178+(AD178/T178))))","v":0}]
["C#",53,49,49,{"$f":"IF(ISERROR(Y178), 0,Y178)","v":0},null,{"$f":"IF(ISERROR(AB178), 0,AB178)","v":0},{"$f":"IF(ISERROR($E$10-G179), 0,$E$10-G179)","v":0.4},null,{"$f":"IF(ISERROR(IF(ISERROR(AB179), 0,AB179)), 0,IF(ISERROR(AB179), 0,AB179))","v":0},{"$f":"IF(ISERROR(IF(ISERROR(ROUND($E$10-J179,3)), 0,ROUND($E$10-J179,3))), 0,IF(ISERROR(ROUND($E$10-J179,3)), 0,ROUND($E$10-J179,3)))","v":0.4},null,{"$f":"IF(ISERROR(AB180), \"\",AB180)","v":0},{"$f":"IF(ISERROR($E$10-M179), \"\",$E$10-M179)","v":0.4},{"$f":"A180","v":258.5},{"$f":"I179","v":0},{"$f":"IF(ISERROR(IF(ISERROR(IF(AC178=W178,Q178+(AC178/T178),Q178+(AD178/T178))), 0,IF(AC178=W178,Q178+(AC178/T178),Q178+(AD178/T178)))), 0,IF(ISERROR(IF(AC178=W178,Q178+(AC178/T178),Q178+(AD178/T178))), 0,IF(AC178=W178,Q178+(AC178/T178),Q178+(AD178/T178))))","v":0},{"$f":"D179","v":49},{"$f":"IF(ISERROR(IF(ISERROR(Q179-R179), 0,Q179-R179)), 0,IF(ISERROR(Q179-R179), 0,Q179-R179))","v":-49},{"$f":"IF(ISERROR((O179/P179)), 0,(O179/P179))","v":0},{"$f":"IF(ISERROR(IF(ISERROR(S179*T179), 0,S179*T179)), 0,IF(ISERROR(S179*T179), 0,S179*T179))","v":0},{"$f":"IF(ISERROR(IF(ISERROR(O179/T179), 0,O179/T179)), 0,IF(ISERROR(O179/T179), 0,O179/T179))","v":0},14.2,0.4,{"$f":"IF(ISERROR(IF(ISERROR(ABS(U179)), 0,ABS(U179))), 0,IF(ISERROR(ABS(U179)), 0,ABS(U179)))","v":0},0.15000000000000002,{"$f":"IF(ISERROR(IF(ISERROR(ABS((Y179*X179)/W179)), 0,ABS((Y179*X179)/W179))), 0,IF(ISERROR(ABS((Y179*X179)/W179)), 0,ABS((Y179*X179)/W179)))","v":0},{"$f":"IF(ISERROR(IF(ISERROR(IF(AA179>Z179,Z179,AA179)), 0,IF(AA179>Z179,Z179,AA179))), 0,IF(ISERROR(IF(AA179>Z179,Z179,AA179)), 0,IF(AA179>Z179,Z179,AA179)))","v":0},{"$f":"IF(ISERROR(IF(ISERROR(IF(Y179>W179,W179,Y179)), 0,IF(Y179>W179,W179,Y179))), 0,IF(ISERROR(IF(Y179>W179,W179,Y179)), 0,IF(Y179>W179,W179,Y179)))","v":0},{"$f":"IF(ISERROR((AC179*AB179)/AA179), \"\",(AC179*AB179)/AA179)","v":""},{"$f":"IF(ISERROR(IF(AC179=W179,0,(AC179*AB179)/AA179)), \"\",IF(AC179=W179,0,(AC179*AB179)/AA179))","v":""},{"$f":"IF(ISERROR(IF(AC179=60,Q179+(AC179/T179),Q179+(AD179/T179))), \"\",IF(AC179=60,Q179+(AC179/T179),Q179+(AD179/T179)))","v":""}]
[{"$f":"R321","v":258.5},{"$f":"IF(ISERROR(IF(AND(C179<D179, E179>$E$7),\"Ignore Drill Out Lead 1; rather pop out Lead 1 and LEAVE lead # 2 to \"&K179&\" inches.\",\"\")), 0,IF(AND(C179<D179, E179>$E$7),\"Ignore Drill Out Lead 1; rather pop out Lead 1 and LEAVE lead # 2 to \"&K179&\" inches.\",\"\"))","v":""},null,null,null,null,null,null,null,null,null,null,null,{"$f":"IF(ISERROR(IF(ISERROR((G179+J179+M179)/$E$10*$E$7), 0,(G179+J179+M179)/$E$10*$E$7)), 0,IF(ISERROR((G179+J179+M179)/$E$10*$E$7), 0,(G179+J179+M179)/$E$10*$E$7))","v":0},{"$f":"A180","v":258.5},{"$f":"L179","v":0},{"$f":"IF(ISERROR(IF(AC179=W179,Q179+(AC179/T179),Q179+(AD179/T179))), \"\",IF(AC179=W179,Q179+(AC179/T179),Q179+(AD179/T179)))","v":""},{"$f":"D179","v":49},{"$f":"IF(ISERROR(Q180-R180), 0,Q180-R180)","v":0},{"$f":"IF(ISERROR(IF(ISERROR(IF(ISERROR((O180/P180)), 0,(O180/P180))), 0,IF(ISERROR((O180/P180)), 0,(O180/P180)))), 0,IF(ISERROR(IF(ISERROR((O180/P180)), 0,(O180/P180))), 0,IF(ISERROR((O180/P180)), 0,(O180/P180))))","v":0},{"$f":"IF(ISERROR(S180*T180), \"\",S180*T180)","v":0},{"$f":"IF(ISERROR(IF(ISERROR(IF(ISERROR(IF(ISERROR(O180/T180), 0,O180/T180)), 0,IF(ISERROR(O180/T180), 0,O180/T180))), 0,IF(ISERROR(IF(ISERROR(O180/T180), 0,O180/T180)), 0,IF(ISERROR(O180/T180), 0,O180/T180)))), 0,IF(ISERROR(IF(ISERROR(IF(ISERROR(O180/T180), 0,O180/T180)), 0,IF(ISERROR(O180/T180), 0,O180/T180))), 0,IF(ISERROR(IF(ISERROR(O180/T180), 0,O180/T180)), 0,IF(ISERROR(O180/T180), 0,O180/T180))))","v":0},14.2,0.4,{"$f":"IF(ISERROR(ABS(U180)), \"\",ABS(U180))","v":0},0.15000000000000002,{"$f":"IF(ISERROR(ABS((Y180*X180)/W180)), \"\",ABS((Y180*X180)/W180))","v":0},{"$f":"IF(ISERROR(IF(AA180>Z180,Z180,AA180)), \"\",IF(AA180>Z180,Z180,AA180))","v":0},{"$f":"IF(ISERROR(IF(Y180>W180,W180,Y180)), \"\",IF(Y180>W180,W180,Y180))","v":0},{"$f":"IF(ISERROR((AC180*AB180)/AA180), \"\",(AC180*AB180)/AA180)","v":""},{"$f":"IF(ISERROR(IF(AC180=W180,0,(AC180*AB180)/AA180)), \"\",IF(AC180=W180,0,(AC180*AB180)/AA180))","v":""},{"$f":"IF(ISERROR(IF(AC180=60,Q180+(AC180/T180),Q180+(AD180/T180))), \"\",IF(AC180=60,Q180+(AC180/T180),Q180+(AD180/T180)))","v":""}]
[null,null,"Test","Target",null,1,"dr_o","Lv_in",2,"dr_o","Lv_in",3,"dr_o","Lv_in",{"$f":"A183","v":272.17307692307611},{"$f":"F182","v":0},{"$f":"C182","v":49},{"$f":"D182","v":49},{"$f":"Q181-R181","v":0},{"$f":"IF(ISERROR((O181/P181)), 0,(O181/P181))","v":0},{"$f":"IF(ISERROR(S181*T181), 0,S181*T181)","v":0},{"$f":"IF(ISERROR(O181/T181), 0,O181/T181)","v":0},14.2,0.4,{"$f":"IF(ISERROR(ABS(U181)), 0,ABS(U181))","v":0},0.15000000000000002,{"$f":"IF(ISERROR(ABS((Y181*X181)/W181)), 0,ABS((Y181*X181)/W181))","v":0},{"$f":"IF(ISERROR(IF(AA181>Z181,Z181,AA181)), 0,IF(AA181>Z181,Z181,AA181))","v":0},{"$f":"IF(ISERROR(IF(Y181>W181,W181,Y181)), 0,IF(Y181>W181,W181,Y181))","v":0},{"$f":"IF(ISERROR(IF(ISERROR(IF(ISERROR(IF(ISERROR((AC181*AB181)/AA181), 0,(AC181*AB181)/AA181)), 0,IF(ISERROR((AC181*AB181)/AA181), 0,(AC181*AB181)/AA181))), 0,IF(ISERROR(IF(ISERROR((AC181*AB181)/AA181), 0,(AC181*AB181)/AA181)), 0,IF(ISERROR((AC181*AB181)/AA181), 0,(AC181*AB181)/AA181)))), 0,IF(ISERROR(IF(ISERROR(IF(ISERROR((AC181*AB181)/AA181), 0,(AC181*AB181)/AA181)), 0,IF(ISERROR((AC181*AB181)/AA181), 0,(AC181*AB181)/AA181))), 0,IF(ISERROR(IF(ISERROR((AC181*AB181)/AA181), 0,(AC181*AB181)/AA181)), 0,IF(ISERROR((AC181*AB181)/AA181), 0,(AC181*AB181)/AA181))))","v":0},{"$f":"IF(ISERROR(IF(ISERROR(IF(ISERROR(IF(AC181=W181,0,(AC181*AB181)/AA181)), 0,IF(AC181=W181,0,(AC181*AB181)/AA181))), 0,IF(ISERROR(IF(AC181=W181,0,(AC181*AB181)/AA181)), 0,IF(AC181=W181,0,(AC181*AB181)/AA181)))), 0,IF(ISERROR(IF(ISERROR(IF(AC181=W181,0,(AC181*AB181)/AA181)), 0,IF(AC181=W181,0,(AC181*AB181)/AA181))), 0,IF(ISERROR(IF(AC181=W181,0,(AC181*AB181)/AA181)), 0,IF(AC181=W181,0,(AC181*AB181)/AA181))))","v":0},{"$f":"IF(ISERROR(IF(ISERROR(IF(AC181=60,Q181+(AC181/T181),Q181+(AD181/T181))), 0,IF(AC181=60,Q181+(AC181/T181),Q181+(AD181/T181)))), 0,IF(ISERROR(IF(AC181=60,Q181+(AC181/T181),Q181+(AD181/T181))), 0,IF(AC181=60,Q181+(AC181/T181),Q181+(AD181/T181))))","v":0}]
["D",54,49,49,{"$f":"IF(ISERROR(Y181), 0,Y181)","v":0},null,{"$f":"IF(ISERROR(AB181), 0,AB181)","v":0},{"$f":"IF(ISERROR($E$10-G182), 0,$E$10-G182)","v":0.4},null,{"$f":"IF(ISERROR(IF(ISERROR(AB182), 0,AB182)), 0,IF(ISERROR(AB182), 0,AB182))","v":0},{"$f":"IF(ISERROR(IF(ISERROR(ROUND($E$10-J182,3)), 0,ROUND($E$10-J182,3))), 0,IF(ISERROR(ROUND($E$10-J182,3)), 0,ROUND($E$10-J182,3)))","v":0.4},null,{"$f":"IF(ISERROR(IF(ISERROR(IF(ISERROR(IF(ISERROR(AB183), 0,AB183)), 0,IF(ISERROR(AB183), 0,AB183))), 0,IF(ISERROR(IF(ISERROR(AB183), 0,AB183)), 0,IF(ISERROR(AB183), 0,AB183)))), 0,IF(ISERROR(IF(ISERROR(IF(ISERROR(AB183), 0,AB183)), 0,IF(ISERROR(AB183), 0,AB183))), 0,IF(ISERROR(IF(ISERROR(AB183), 0,AB183)), 0,IF(ISERROR(AB183), 0,AB183))))","v":0},{"$f":"IF(ISERROR(IF(ISERROR(IF(ISERROR(IF(ISERROR($E$10-M182), 0,$E$10-M182)), 0,IF(ISERROR($E$10-M182), 0,$E$10-M182))), 0,IF(ISERROR(IF(ISERROR($E$10-M182), 0,$E$10-M182)), 0,IF(ISERROR($E$10-M182), 0,$E$10-M182)))), 0,IF(ISERROR(IF(ISERROR(IF(ISERROR($E$10-M182), 0,$E$10-M182)), 0,IF(ISERROR($E$10-M182), 0,$E$10-M182))), 0,IF(ISERROR(IF(ISERROR($E$10-M182), 0,$E$10-M182)), 0,IF(ISERROR($E$10-M182), 0,$E$10-M182))))","v":0.4},{"$f":"A183","v":272.17307692307611},{"$f":"I182","v":0},{"$f":"IF(ISERROR(IF(AC181=W181,Q181+(AC181/T181),Q181+(AD181/T181))), 0,IF(AC181=W181,Q181+(AC181/T181),Q181+(AD181/T181)))","v":0},{"$f":"D182","v":49},{"$f":"IF(ISERROR(IF(ISERROR(Q182-R182), 0,Q182-R182)), 0,IF(ISERROR(Q182-R182), 0,Q182-R182))","v":-49},{"$f":"IF(ISERROR((O182/P182)), 0,(O182/P182))","v":0},{"$f":"IF(ISERROR(IF(ISERROR(S182*T182), 0,S182*T182)), 0,IF(ISERROR(S182*T182), 0,S182*T182))","v":0},{"$f":"IF(ISERROR(O182/T182), 0,O182/T182)","v":0},14.2,0.4,{"$f":"IF(ISERROR(IF(ISERROR(ABS(U182)), 0,ABS(U182))), 0,IF(ISERROR(ABS(U182)), 0,ABS(U182)))","v":0},0.15000000000000002,{"$f":"IF(ISERROR(IF(ISERROR(ABS((Y182*X182)/W182)), 0,ABS((Y182*X182)/W182))), 0,IF(ISERROR(ABS((Y182*X182)/W182)), 0,ABS((Y182*X182)/W182)))","v":0},{"$f":"IF(ISERROR(IF(ISERROR(IF(AA182>Z182,Z182,AA182)), 0,IF(AA182>Z182,Z182,AA182))), 0,IF(ISERROR(IF(AA182>Z182,Z182,AA182)), 0,IF(AA182>Z182,Z182,AA182)))","v":0},{"$f":"IF(ISERROR(IF(ISERROR(IF(Y182>W182,W182,Y182)), 0,IF(Y182>W182,W182,Y182))), 0,IF(ISERROR(IF(Y182>W182,W182,Y182)), 0,IF(Y182>W182,W182,Y182)))","v":0},{"$f":"IF(ISERROR(IF(ISERROR(IF(ISERROR(IF(ISERROR((AC182*AB182)/AA182), 0,(AC182*AB182)/AA182)), 0,IF(ISERROR((AC182*AB182)/AA182), 0,(AC182*AB182)/AA182))), 0,IF(ISERROR(IF(ISERROR((AC182*AB182)/AA182), 0,(AC182*AB182)/AA182)), 0,IF(ISERROR((AC182*AB182)/AA182), 0,(AC182*AB182)/AA182)))), 0,IF(ISERROR(IF(ISERROR(IF(ISERROR((AC182*AB182)/AA182), 0,(AC182*AB182)/AA182)), 0,IF(ISERROR((AC182*AB182)/AA182), 0,(AC182*AB182)/AA182))), 0,IF(ISERROR(IF(ISERROR((AC182*AB182)/AA182), 0,(AC182*AB182)/AA182)), 0,IF(ISERROR((AC182*AB182)/AA182), 0,(AC182*AB182)/AA182))))","v":0},{"$f":"IF(ISERROR(IF(ISERROR(IF(ISERROR(IF(AC182=W182,0,(AC182*AB182)/AA182)), 0,IF(AC182=W182,0,(AC182*AB182)/AA182))), 0,IF(ISERROR(IF(AC182=W182,0,(AC182*AB182)/AA182)), 0,IF(AC182=W182,0,(AC182*AB182)/AA182)))), 0,IF(ISERROR(IF(ISERROR(IF(AC182=W182,0,(AC182*AB182)/AA182)), 0,IF(AC182=W182,0,(AC182*AB182)/AA182))), 0,IF(ISERROR(IF(AC182=W182,0,(AC182*AB182)/AA182)), 0,IF(AC182=W182,0,(AC182*AB182)/AA182))))","v":0},{"$f":"IF(ISERROR(IF(ISERROR(IF(AC182=60,Q182+(AC182/T182),Q182+(AD182/T182))), 0,IF(AC182=60,Q182+(AC182/T182),Q182+(AD182/T182)))), 0,IF(ISERROR(IF(AC182=60,Q182+(AC182/T182),Q182+(AD182/T182))), 0,IF(AC182=60,Q182+(AC182/T182),Q182+(AD182/T182))))","v":0}]
[{"$f":"F331","v":272.17307692307611},{"$f":"IF(ISERROR(IF(AND(C182<D182, E182>$E$7),\"Ignore Drill Out Lead 1; rather pop out Lead 1 and LEAVE lead # 2 to \"&K182&\" inches.\",\"\")), 0,IF(AND(C182<D182, E182>$E$7),\"Ignore Drill Out Lead 1; rather pop out Lead 1 and LEAVE lead # 2 to \"&K182&\" inches.\",\"\"))","v":""},null,null,null,null,null,null,null,null,null,null,null,{"$f":"(G182+J182+M182)/$E$10*$E$7","v":0},{"$f":"A183","v":272.17307692307611},{"$f":"L182","v":0},{"$f":"IF(ISERROR(IF(ISERROR(IF(AC182=W182,Q182+(AC182/T182),Q182+(AD182/T182))), 0,IF(AC182=W182,Q182+(AC182/T182),Q182+(AD182/T182)))), 0,IF(ISERROR(IF(AC182=W182,Q182+(AC182/T182),Q182+(AD182/T182))), 0,IF(AC182=W182,Q182+(AC182/T182),Q182+(AD182/T182))))","v":0},{"$f":"D182","v":49},{"$f":"IF(ISERROR(Q183-R183), 0,Q183-R183)","v":-49},{"$f":"IF(ISERROR(IF(ISERROR(IF(ISERROR(IF(ISERROR((O183/P183)), 0,(O183/P183))), 0,IF(ISERROR((O183/P183)), 0,(O183/P183)))), 0,IF(ISERROR(IF(ISERROR((O183/P183)), 0,(O183/P183))), 0,IF(ISERROR((O183/P183)), 0,(O183/P183))))), 0,IF(ISERROR(IF(ISERROR(IF(ISERROR((O183/P183)), 0,(O183/P183))), 0,IF(ISERROR((O183/P183)), 0,(O183/P183)))), 0,IF(ISERROR(IF(ISERROR((O183/P183)), 0,(O183/P183))), 0,IF(ISERROR((O183/P183)), 0,(O183/P183)))))","v":0},{"$f":"IF(ISERROR(IF(ISERROR(IF(ISERROR(IF(ISERROR(S183*T183), 0,S183*T183)), 0,IF(ISERROR(S183*T183), 0,S183*T183))), 0,IF(ISERROR(IF(ISERROR(S183*T183), 0,S183*T183)), 0,IF(ISERROR(S183*T183), 0,S183*T183)))), 0,IF(ISERROR(IF(ISERROR(IF(ISERROR(S183*T183), 0,S183*T183)), 0,IF(ISERROR(S183*T183), 0,S183*T183))), 0,IF(ISERROR(IF(ISERROR(S183*T183), 0,S183*T183)), 0,IF(ISERROR(S183*T183), 0,S183*T183))))","v":0},{"$f":"IF(ISERROR(IF(ISERROR(IF(ISERROR(IF(ISERROR(O183/T183), 0,O183/T183)), 0,IF(ISERROR(O183/T183), 0,O183/T183))), 0,IF(ISERROR(IF(ISERROR(O183/T183), 0,O183/T183)), 0,IF(ISERROR(O183/T183), 0,O183/T183)))), 0,IF(ISERROR(IF(ISERROR(IF(ISERROR(O183/T183), 0,O183/T183)), 0,IF(ISERROR(O183/T183), 0,O183/T183))), 0,IF(ISERROR(IF(ISERROR(O183/T183), 0,O183/T183)), 0,IF(ISERROR(O183/T183), 0,O183/T183))))","v":0},14.2,0.4,{"$f":"IF(ISERROR(IF(ISERROR(IF(ISERROR(ABS(U183)), 0,ABS(U183))), 0,IF(ISERROR(ABS(U183)), 0,ABS(U183)))), 0,IF(ISERROR(IF(ISERROR(ABS(U183)), 0,ABS(U183))), 0,IF(ISERROR(ABS(U183)), 0,ABS(U183))))","v":0},0.15000000000000002,{"$f":"IF(ISERROR(IF(ISERROR(IF(ISERROR(ABS((Y183*X183)/W183)), 0,ABS((Y183*X183)/W183))), 0,IF(ISERROR(ABS((Y183*X183)/W183)), 0,ABS((Y183*X183)/W183)))), 0,IF(ISERROR(IF(ISERROR(ABS((Y183*X183)/W183)), 0,ABS((Y183*X183)/W183))), 0,IF(ISERROR(ABS((Y183*X183)/W183)), 0,ABS((Y183*X183)/W183))))","v":0},{"$f":"IF(ISERROR(IF(ISERROR(IF(ISERROR(IF(AA183>Z183,Z183,AA183)), 0,IF(AA183>Z183,Z183,AA183))), 0,IF(ISERROR(IF(AA183>Z183,Z183,AA183)), 0,IF(AA183>Z183,Z183,AA183)))), 0,IF(ISERROR(IF(ISERROR(IF(AA183>Z183,Z183,AA183)), 0,IF(AA183>Z183,Z183,AA183))), 0,IF(ISERROR(IF(AA183>Z183,Z183,AA183)), 0,IF(AA183>Z183,Z183,AA183))))","v":0},{"$f":"IF(ISERROR(IF(ISERROR(IF(ISERROR(IF(Y183>W183,W183,Y183)), 0,IF(Y183>W183,W183,Y183))), 0,IF(ISERROR(IF(Y183>W183,W183,Y183)), 0,IF(Y183>W183,W183,Y183)))), 0,IF(ISERROR(IF(ISERROR(IF(Y183>W183,W183,Y183)), 0,IF(Y183>W183,W183,Y183))), 0,IF(ISERROR(IF(Y183>W183,W183,Y183)), 0,IF(Y183>W183,W183,Y183))))","v":0},{"$f":"IF(ISERROR((AC183*AB183)/AA183), \"\",(AC183*AB183)/AA183)","v":""},{"$f":"IF(ISERROR(IF(AC183=W183,0,(AC183*AB183)/AA183)), \"\",IF(AC183=W183,0,(AC183*AB183)/AA183))","v":""},{"$f":"IF(ISERROR(IF(AC183=60,Q183+(AC183/T183),Q183+(AD183/T183))), \"\",IF(AC183=60,Q183+(AC183/T183),Q183+(AD183/T183)))","v":""}]
[null,null,"Test","Target",null,1,"dr_o","Lv_in",2,"dr_o","Lv_in",3,"dr_o","Lv_in",{"$f":"A186","v":257.5},{"$f":"F185","v":0},{"$f":"C185","v":49},{"$f":"D185","v":49},{"$f":"Q184-R184","v":0},{"$f":"IF(ISERROR((O184/P184)), 0,(O184/P184))","v":0},{"$f":"IF(ISERROR(S184*T184), 0,S184*T184)","v":0},{"$f":"IF(ISERROR(O184/T184), 0,O184/T184)","v":0},14.2,0.4,{"$f":"IF(ISERROR(ABS(U184)), 0,ABS(U184))","v":0},0.15000000000000002,{"$f":"IF(ISERROR(ABS((Y184*X184)/W184)), 0,ABS((Y184*X184)/W184))","v":0},{"$f":"IF(ISERROR(IF(AA184>Z184,Z184,AA184)), 0,IF(AA184>Z184,Z184,AA184))","v":0},{"$f":"IF(ISERROR(IF(Y184>W184,W184,Y184)), 0,IF(Y184>W184,W184,Y184))","v":0},{"$f":"IF(ISERROR(IF(ISERROR(IF(ISERROR(IF(ISERROR((AC184*AB184)/AA184), 0,(AC184*AB184)/AA184)), 0,IF(ISERROR((AC184*AB184)/AA184), 0,(AC184*AB184)/AA184))), 0,IF(ISERROR(IF(ISERROR((AC184*AB184)/AA184), 0,(AC184*AB184)/AA184)), 0,IF(ISERROR((AC184*AB184)/AA184), 0,(AC184*AB184)/AA184)))), 0,IF(ISERROR(IF(ISERROR(IF(ISERROR((AC184*AB184)/AA184), 0,(AC184*AB184)/AA184)), 0,IF(ISERROR((AC184*AB184)/AA184), 0,(AC184*AB184)/AA184))), 0,IF(ISERROR(IF(ISERROR((AC184*AB184)/AA184), 0,(AC184*AB184)/AA184)), 0,IF(ISERROR((AC184*AB184)/AA184), 0,(AC184*AB184)/AA184))))","v":0},{"$f":"IF(ISERROR(IF(ISERROR(IF(ISERROR(IF(AC184=W184,0,(AC184*AB184)/AA184)), 0,IF(AC184=W184,0,(AC184*AB184)/AA184))), 0,IF(ISERROR(IF(AC184=W184,0,(AC184*AB184)/AA184)), 0,IF(AC184=W184,0,(AC184*AB184)/AA184)))), 0,IF(ISERROR(IF(ISERROR(IF(AC184=W184,0,(AC184*AB184)/AA184)), 0,IF(AC184=W184,0,(AC184*AB184)/AA184))), 0,IF(ISERROR(IF(AC184=W184,0,(AC184*AB184)/AA184)), 0,IF(AC184=W184,0,(AC184*AB184)/AA184))))","v":0},{"$f":"IF(ISERROR(IF(ISERROR(IF(AC184=60,Q184+(AC184/T184),Q184+(AD184/T184))), 0,IF(AC184=60,Q184+(AC184/T184),Q184+(AD184/T184)))), 0,IF(ISERROR(IF(AC184=60,Q184+(AC184/T184),Q184+(AD184/T184))), 0,IF(AC184=60,Q184+(AC184/T184),Q184+(AD184/T184))))","v":0}]
["D#",55,49,49,{"$f":"IF(ISERROR(Y184), 0,Y184)","v":0},null,{"$f":"IF(ISERROR(AB184), 0,AB184)","v":0},{"$f":"IF(ISERROR($E$10-G185), 0,$E$10-G185)","v":0.4},null,{"$f":"IF(ISERROR(IF(ISERROR(AB185), 0,AB185)), 0,IF(ISERROR(AB185), 0,AB185))","v":0},{"$f":"IF(ISERROR(IF(ISERROR(ROUND($E$10-J185,3)), 0,ROUND($E$10-J185,3))), 0,IF(ISERROR(ROUND($E$10-J185,3)), 0,ROUND($E$10-J185,3)))","v":0.4},null,{"$f":"IF(ISERROR(AB186), \"\",AB186)","v":0},{"$f":"IF(ISERROR($E$10-M185), \"\",$E$10-M185)","v":0.4},{"$f":"A186","v":257.5},{"$f":"I185","v":0},{"$f":"IF(ISERROR(IF(ISERROR(IF(AC184=W184,Q184+(AC184/T184),Q184+(AD184/T184))), 0,IF(AC184=W184,Q184+(AC184/T184),Q184+(AD184/T184)))), 0,IF(ISERROR(IF(AC184=W184,Q184+(AC184/T184),Q184+(AD184/T184))), 0,IF(AC184=W184,Q184+(AC184/T184),Q184+(AD184/T184))))","v":0},{"$f":"D185","v":49},{"$f":"IF(ISERROR(IF(ISERROR(Q185-R185), 0,Q185-R185)), 0,IF(ISERROR(Q185-R185), 0,Q185-R185))","v":-49},{"$f":"IF(ISERROR((O185/P185)), 0,(O185/P185))","v":0},{"$f":"IF(ISERROR(IF(ISERROR(S185*T185), 0,S185*T185)), 0,IF(ISERROR(S185*T185), 0,S185*T185))","v":0},{"$f":"IF(ISERROR(IF(ISERROR(O185/T185), 0,O185/T185)), 0,IF(ISERROR(O185/T185), 0,O185/T185))","v":0},14.2,0.4,{"$f":"IF(ISERROR(IF(ISERROR(ABS(U185)), 0,ABS(U185))), 0,IF(ISERROR(ABS(U185)), 0,ABS(U185)))","v":0},0.15000000000000002,{"$f":"IF(ISERROR(IF(ISERROR(ABS((Y185*X185)/W185)), 0,ABS((Y185*X185)/W185))), 0,IF(ISERROR(ABS((Y185*X185)/W185)), 0,ABS((Y185*X185)/W185)))","v":0},{"$f":"IF(ISERROR(IF(ISERROR(IF(AA185>Z185,Z185,AA185)), 0,IF(AA185>Z185,Z185,AA185))), 0,IF(ISERROR(IF(AA185>Z185,Z185,AA185)), 0,IF(AA185>Z185,Z185,AA185)))","v":0},{"$f":"IF(ISERROR(IF(ISERROR(IF(Y185>W185,W185,Y185)), 0,IF(Y185>W185,W185,Y185))), 0,IF(ISERROR(IF(Y185>W185,W185,Y185)), 0,IF(Y185>W185,W185,Y185)))","v":0},{"$f":"IF(ISERROR((AC185*AB185)/AA185), \"\",(AC185*AB185)/AA185)","v":""},{"$f":"IF(ISERROR(IF(AC185=W185,0,(AC185*AB185)/AA185)), \"\",IF(AC185=W185,0,(AC185*AB185)/AA185))","v":""},{"$f":"IF(ISERROR(IF(AC185=60,Q185+(AC185/T185),Q185+(AD185/T185))), \"\",IF(AC185=60,Q185+(AC185/T185),Q185+(AD185/T185)))","v":""}]
[{"$f":"R322","v":257.5},{"$f":"IF(ISERROR(IF(AND(C185<D185, E185>$E$7),\"Ignore Drill Out Lead 1; rather pop out Lead 1 and LEAVE lead # 2 to \"&K185&\" inches.\",\"\")), 0,IF(AND(C185<D185, E185>$E$7),\"Ignore Drill Out Lead 1; rather pop out Lead 1 and LEAVE lead # 2 to \"&K185&\" inches.\",\"\"))","v":""},null,null,null,null,null,null,null,null,null,null,null,{"$f":"IF(ISERROR(IF(ISERROR((G185+J185+M185)/$E$10*$E$7), 0,(G185+J185+M185)/$E$10*$E$7)), 0,IF(ISERROR((G185+J185+M185)/$E$10*$E$7), 0,(G185+J185+M185)/$E$10*$E$7))","v":0},{"$f":"A186","v":257.5},{"$f":"L185","v":0},{"$f":"IF(ISERROR(IF(AC185=W185,Q185+(AC185/T185),Q185+(AD185/T185))), \"\",IF(AC185=W185,Q185+(AC185/T185),Q185+(AD185/T185)))","v":""},{"$f":"D185","v":49},{"$f":"IF(ISERROR(Q186-R186), 0,Q186-R186)","v":0},{"$f":"IF(ISERROR(IF(ISERROR(IF(ISERROR(IF(ISERROR((O186/P186)), 0,(O186/P186))), 0,IF(ISERROR((O186/P186)), 0,(O186/P186)))), 0,IF(ISERROR(IF(ISERROR((O186/P186)), 0,(O186/P186))), 0,IF(ISERROR((O186/P186)), 0,(O186/P186))))), 0,IF(ISERROR(IF(ISERROR(IF(ISERROR((O186/P186)), 0,(O186/P186))), 0,IF(ISERROR((O186/P186)), 0,(O186/P186)))), 0,IF(ISERROR(IF(ISERROR((O186/P186)), 0,(O186/P186))), 0,IF(ISERROR((O186/P186)), 0,(O186/P186)))))","v":0},{"$f":"IF(ISERROR(S186*T186), \"\",S186*T186)","v":0},{"$f":"IF(ISERROR(IF(ISERROR(IF(ISERROR(IF(ISERROR(O186/T186), 0,O186/T186)), 0,IF(ISERROR(O186/T186), 0,O186/T186))), 0,IF(ISERROR(IF(ISERROR(O186/T186), 0,O186/T186)), 0,IF(ISERROR(O186/T186), 0,O186/T186)))), 0,IF(ISERROR(IF(ISERROR(IF(ISERROR(O186/T186), 0,O186/T186)), 0,IF(ISERROR(O186/T186), 0,O186/T186))), 0,IF(ISERROR(IF(ISERROR(O186/T186), 0,O186/T186)), 0,IF(ISERROR(O186/T186), 0,O186/T186))))","v":0},14.2,0.4,{"$f":"IF(ISERROR(ABS(U186)), \"\",ABS(U186))","v":0},0.15000000000000002,{"$f":"IF(ISERROR(ABS((Y186*X186)/W186)), \"\",ABS((Y186*X186)/W186))","v":0},{"$f":"IF(ISERROR(IF(AA186>Z186,Z186,AA186)), \"\",IF(AA186>Z186,Z186,AA186))","v":0},{"$f":"IF(ISERROR(IF(Y186>W186,W186,Y186)), \"\",IF(Y186>W186,W186,Y186))","v":0},{"$f":"IF(ISERROR((AC186*AB186)/AA186), \"\",(AC186*AB186)/AA186)","v":""},{"$f":"IF(ISERROR(IF(AC186=W186,0,(AC186*AB186)/AA186)), \"\",IF(AC186=W186,0,(AC186*AB186)/AA186))","v":""},{"$f":"IF(ISERROR(IF(AC186=60,Q186+(AC186/T186),Q186+(AD186/T186))), \"\",IF(AC186=60,Q186+(AC186/T186),Q186+(AD186/T186)))","v":""}]
[null,null,"Test","Target",null,1,"dr_o","Lv_in",2,"dr_o","Lv_in",3,"dr_o","Lv_in",{"$f":"A189","v":270.80769230769147},{"$f":"F188","v":0},{"$f":"C188","v":49},{"$f":"D188","v":49},{"$f":"Q187-R187","v":0},{"$f":"IF(ISERROR((O187/P187)), 0,(O187/P187))","v":0},{"$f":"IF(ISERROR(S187*T187), 0,S187*T187)","v":0},{"$f":"IF(ISERROR(O187/T187), 0,O187/T187)","v":0},14.2,0.4,{"$f":"IF(ISERROR(ABS(U187)), 0,ABS(U187))","v":0},0.15000000000000002,{"$f":"IF(ISERROR(ABS((Y187*X187)/W187)), 0,ABS((Y187*X187)/W187))","v":0},{"$f":"IF(ISERROR(IF(AA187>Z187,Z187,AA187)), 0,IF(AA187>Z187,Z187,AA187))","v":0},{"$f":"IF(ISERROR(IF(Y187>W187,W187,Y187)), 0,IF(Y187>W187,W187,Y187))","v":0},{"$f":"IF(ISERROR((AC187*AB187)/AA187), 0,(AC187*AB187)/AA187)","v":0},{"$f":"IF(ISERROR(IF(ISERROR(IF(AC187=W187,0,(AC187*AB187)/AA187)), 0,IF(AC187=W187,0,(AC187*AB187)/AA187))), 0,IF(ISERROR(IF(AC187=W187,0,(AC187*AB187)/AA187)), 0,IF(AC187=W187,0,(AC187*AB187)/AA187)))","v":0},{"$f":"IF(ISERROR(IF(AC187=60,Q187+(AC187/T187),Q187+(AD187/T187))), 0,IF(AC187=60,Q187+(AC187/T187),Q187+(AD187/T187)))","v":0}]
["E",56,49,49,{"$f":"IF(ISERROR(Y187), 0,Y187)","v":0},null,{"$f":"IF(ISERROR(AB187), 0,AB187)","v":0},{"$f":"IF(ISERROR($E$10-G188), 0,$E$10-G188)","v":0.4},null,{"$f":"IF(ISERROR(AB188), 0,AB188)","v":0},{"$f":"IF(ISERROR(ROUND($E$10-J188,3)), 0,ROUND($E$10-J188,3))","v":0.4},null,{"$f":"IF(ISERROR(IF(ISERROR(IF(ISERROR(IF(ISERROR(AB189), 0,AB189)), 0,IF(ISERROR(AB189), 0,AB189))), 0,IF(ISERROR(IF(ISERROR(AB189), 0,AB189)), 0,IF(ISERROR(AB189), 0,AB189)))), 0,IF(ISERROR(IF(ISERROR(IF(ISERROR(AB189), 0,AB189)), 0,IF(ISERROR(AB189), 0,AB189))), 0,IF(ISERROR(IF(ISERROR(AB189), 0,AB189)), 0,IF(ISERROR(AB189), 0,AB189))))","v":0},{"$f":"IF(ISERROR(IF(ISERROR(IF(ISERROR(IF(ISERROR($E$10-M188), 0,$E$10-M188)), 0,IF(ISERROR($E$10-M188), 0,$E$10-M188))), 0,IF(ISERROR(IF(ISERROR($E$10-M188), 0,$E$10-M188)), 0,IF(ISERROR($E$10-M188), 0,$E$10-M188)))), 0,IF(ISERROR(IF(ISERROR(IF(ISERROR($E$10-M188), 0,$E$10-M188)), 0,IF(ISERROR($E$10-M188), 0,$E$10-M188))), 0,IF(ISERROR(IF(ISERROR($E$10-M188), 0,$E$10-M188)), 0,IF(ISERROR($E$10-M188), 0,$E$10-M188))))","v":0.4},{"$f":"A189","v":270.80769230769147},{"$f":"I188","v":0},{"$f":"IF(ISERROR(IF(AC187=W187,Q187+(AC187/T187),Q187+(AD187/T187))), 0,IF(AC187=W187,Q187+(AC187/T187),Q187+(AD187/T187)))","v":0},{"$f":"D188","v":49},{"$f":"IF(ISERROR(Q188-R188), 0,Q188-R188)","v":-49},{"$f":"IF(ISERROR((O188/P188)), 0,(O188/P188))","v":0},{"$f":"IF(ISERROR(S188*T188), 0,S188*T188)","v":0},{"$f":"IF(ISERROR(O188/T188), 0,O188/T188)","v":0},14.2,0.4,{"$f":"IF(ISERROR(ABS(U188)), 0,ABS(U188))","v":0},0.15000000000000002,{"$f":"IF(ISERROR(ABS((Y188*X188)/W188)), 0,ABS((Y188*X188)/W188))","v":0},{"$f":"IF(ISERROR(IF(AA188>Z188,Z188,AA188)), 0,IF(AA188>Z188,Z188,AA188))","v":0},{"$f":"IF(ISERROR(IF(Y188>W188,W188,Y188)), 0,IF(Y188>W188,W188,Y188))","v":0},{"$f":"IF(ISERROR(IF(ISERROR(IF(ISERROR((AC188*AB188)/AA188), 0,(AC188*AB188)/AA188)), 0,IF(ISERROR((AC188*AB188)/AA188), 0,(AC188*AB188)/AA188))), 0,IF(ISERROR(IF(ISERROR((AC188*AB188)/AA188), 0,(AC188*AB188)/AA188)), 0,IF(ISERROR((AC188*AB188)/AA188), 0,(AC188*AB188)/AA188)))","v":0},{"$f":"IF(ISERROR(IF(ISERROR(IF(ISERROR(IF(AC188=W188,0,(AC188*AB188)/AA188)), 0,IF(AC188=W188,0,(AC188*AB188)/AA188))), 0,IF(ISERROR(IF(AC188=W188,0,(AC188*AB188)/AA188)), 0,IF(AC188=W188,0,(AC188*AB188)/AA188)))), 0,IF(ISERROR(IF(ISERROR(IF(AC188=W188,0,(AC188*AB188)/AA188)), 0,IF(AC188=W188,0,(AC188*AB188)/AA188))), 0,IF(ISERROR(IF(AC188=W188,0,(AC188*AB188)/AA188)), 0,IF(AC188=W188,0,(AC188*AB188)/AA188))))","v":0},{"$f":"IF(ISERROR(IF(ISERROR(IF(AC188=60,Q188+(AC188/T188),Q188+(AD188/T188))), 0,IF(AC188=60,Q188+(AC188/T188),Q188+(AD188/T188)))), 0,IF(ISERROR(IF(AC188=60,Q188+(AC188/T188),Q188+(AD188/T188))), 0,IF(AC188=60,Q188+(AC188/T188),Q188+(AD188/T188))))","v":0}]
[{"$f":"F332","v":270.80769230769147},{"$f":"IF(ISERROR(IF(AND(C188<D188, E188>$E$7),\"Ignore Drill Out Lead 1; rather pop out Lead 1 and LEAVE lead # 2 to \"&K188&\" inches.\",\"\")), 0,IF(AND(C188<D188, E188>$E$7),\"Ignore Drill Out Lead 1; rather pop out Lead 1 and LEAVE lead # 2 to \"&K188&\" inches.\",\"\"))","v":""},null,null,null,null,null,null,null,null,null,null,null,{"$f":"(G188+J188+M188)/$E$10*$E$7","v":0},{"$f":"A189","v":270.80769230769147},{"$f":"L188","v":0},{"$f":"IF(ISERROR(IF(ISERROR(IF(AC188=W188,Q188+(AC188/T188),Q188+(AD188/T188))), 0,IF(AC188=W188,Q188+(AC188/T188),Q188+(AD188/T188)))), 0,IF(ISERROR(IF(AC188=W188,Q188+(AC188/T188),Q188+(AD188/T188))), 0,IF(AC188=W188,Q188+(AC188/T188),Q188+(AD188/T188))))","v":0},{"$f":"D188","v":49},{"$f":"IF(ISERROR(Q189-R189), 0,Q189-R189)","v":-49},{"$f":"IF(ISERROR(IF(ISERROR(IF(ISERROR(IF(ISERROR((O189/P189)), 0,(O189/P189))), 0,IF(ISERROR((O189/P189)), 0,(O189/P189)))), 0,IF(ISERROR(IF(ISERROR((O189/P189)), 0,(O189/P189))), 0,IF(ISERROR((O189/P189)), 0,(O189/P189))))), 0,IF(ISERROR(IF(ISERROR(IF(ISERROR((O189/P189)), 0,(O189/P189))), 0,IF(ISERROR((O189/P189)), 0,(O189/P189)))), 0,IF(ISERROR(IF(ISERROR((O189/P189)), 0,(O189/P189))), 0,IF(ISERROR((O189/P189)), 0,(O189/P189)))))","v":0},{"$f":"IF(ISERROR(IF(ISERROR(IF(ISERROR(IF(ISERROR(S189*T189), 0,S189*T189)), 0,IF(ISERROR(S189*T189), 0,S189*T189))), 0,IF(ISERROR(IF(ISERROR(S189*T189), 0,S189*T189)), 0,IF(ISERROR(S189*T189), 0,S189*T189)))), 0,IF(ISERROR(IF(ISERROR(IF(ISERROR(S189*T189), 0,S189*T189)), 0,IF(ISERROR(S189*T189), 0,S189*T189))), 0,IF(ISERROR(IF(ISERROR(S189*T189), 0,S189*T189)), 0,IF(ISERROR(S189*T189), 0,S189*T189))))","v":0},{"$f":"IF(ISERROR(IF(ISERROR(IF(ISERROR(IF(ISERROR(O189/T189), 0,O189/T189)), 0,IF(ISERROR(O189/T189), 0,O189/T189))), 0,IF(ISERROR(IF(ISERROR(O189/T189), 0,O189/T189)), 0,IF(ISERROR(O189/T189), 0,O189/T189)))), 0,IF(ISERROR(IF(ISERROR(IF(ISERROR(O189/T189), 0,O189/T189)), 0,IF(ISERROR(O189/T189), 0,O189/T189))), 0,IF(ISERROR(IF(ISERROR(O189/T189), 0,O189/T189)), 0,IF(ISERROR(O189/T189), 0,O189/T189))))","v":0},14.2,0.4,{"$f":"IF(ISERROR(IF(ISERROR(IF(ISERROR(ABS(U189)), 0,ABS(U189))), 0,IF(ISERROR(ABS(U189)), 0,ABS(U189)))), 0,IF(ISERROR(IF(ISERROR(ABS(U189)), 0,ABS(U189))), 0,IF(ISERROR(ABS(U189)), 0,ABS(U189))))","v":0},0.15000000000000002,{"$f":"IF(ISERROR(IF(ISERROR(IF(ISERROR(ABS((Y189*X189)/W189)), 0,ABS((Y189*X189)/W189))), 0,IF(ISERROR(ABS((Y189*X189)/W189)), 0,ABS((Y189*X189)/W189)))), 0,IF(ISERROR(IF(ISERROR(ABS((Y189*X189)/W189)), 0,ABS((Y189*X189)/W189))), 0,IF(ISERROR(ABS((Y189*X189)/W189)), 0,ABS((Y189*X189)/W189))))","v":0},{"$f":"IF(ISERROR(IF(ISERROR(IF(ISERROR(IF(AA189>Z189,Z189,AA189)), 0,IF(AA189>Z189,Z189,AA189))), 0,IF(ISERROR(IF(AA189>Z189,Z189,AA189)), 0,IF(AA189>Z189,Z189,AA189)))), 0,IF(ISERROR(IF(ISERROR(IF(AA189>Z189,Z189,AA189)), 0,IF(AA189>Z189,Z189,AA189))), 0,IF(ISERROR(IF(AA189>Z189,Z189,AA189)), 0,IF(AA189>Z189,Z189,AA189))))","v":0},{"$f":"IF(ISERROR(IF(ISERROR(IF(ISERROR(IF(Y189>W189,W189,Y189)), 0,IF(Y189>W189,W189,Y189))), 0,IF(ISERROR(IF(Y189>W189,W189,Y189)), 0,IF(Y189>W189,W189,Y189)))), 0,IF(ISERROR(IF(ISERROR(IF(Y189>W189,W189,Y189)), 0,IF(Y189>W189,W189,Y189))), 0,IF(ISERROR(IF(Y189>W189,W189,Y189)), 0,IF(Y189>W189,W189,Y189))))","v":0},{"$f":"IF(ISERROR((AC189*AB189)/AA189), \"\",(AC189*AB189)/AA189)","v":""},{"$f":"IF(ISERROR(IF(AC189=W189,0,(AC189*AB189)/AA189)), \"\",IF(AC189=W189,0,(AC189*AB189)/AA189))","v":""},{"$f":"IF(ISERROR(IF(AC189=60,Q189+(AC189/T189),Q189+(AD189/T189))), \"\",IF(AC189=60,Q189+(AC189/T189),Q189+(AD189/T189)))","v":""}]
[null,null,"Test","Target",null,1,"dr_o","Lv_in",2,"dr_o","Lv_in",3,"dr_o","Lv_in",{"$f":"A192","v":269.44230769230683},{"$f":"F191","v":0},{"$f":"C191","v":49},{"$f":"D191","v":49},{"$f":"Q190-R190","v":0},{"$f":"IF(ISERROR((O190/P190)), 0,(O190/P190))","v":0},{"$f":"IF(ISERROR(S190*T190), 0,S190*T190)","v":0},{"$f":"IF(ISERROR(O190/T190), 0,O190/T190)","v":0},14.2,0.4,{"$f":"IF(ISERROR(ABS(U190)), 0,ABS(U190))","v":0},0.15000000000000002,{"$f":"IF(ISERROR(ABS((Y190*X190)/W190)), 0,ABS((Y190*X190)/W190))","v":0},{"$f":"IF(ISERROR(IF(AA190>Z190,Z190,AA190)), 0,IF(AA190>Z190,Z190,AA190))","v":0},{"$f":"IF(ISERROR(IF(Y190>W190,W190,Y190)), 0,IF(Y190>W190,W190,Y190))","v":0},{"$f":"IF(ISERROR(IF(ISERROR(IF(ISERROR(IF(ISERROR((AC190*AB190)/AA190), 0,(AC190*AB190)/AA190)), 0,IF(ISERROR((AC190*AB190)/AA190), 0,(AC190*AB190)/AA190))), 0,IF(ISERROR(IF(ISERROR((AC190*AB190)/AA190), 0,(AC190*AB190)/AA190)), 0,IF(ISERROR((AC190*AB190)/AA190), 0,(AC190*AB190)/AA190)))), 0,IF(ISERROR(IF(ISERROR(IF(ISERROR((AC190*AB190)/AA190), 0,(AC190*AB190)/AA190)), 0,IF(ISERROR((AC190*AB190)/AA190), 0,(AC190*AB190)/AA190))), 0,IF(ISERROR(IF(ISERROR((AC190*AB190)/AA190), 0,(AC190*AB190)/AA190)), 0,IF(ISERROR((AC190*AB190)/AA190), 0,(AC190*AB190)/AA190))))","v":0},{"$f":"IF(ISERROR(IF(ISERROR(IF(ISERROR(IF(AC190=W190,0,(AC190*AB190)/AA190)), 0,IF(AC190=W190,0,(AC190*AB190)/AA190))), 0,IF(ISERROR(IF(AC190=W190,0,(AC190*AB190)/AA190)), 0,IF(AC190=W190,0,(AC190*AB190)/AA190)))), 0,IF(ISERROR(IF(ISERROR(IF(AC190=W190,0,(AC190*AB190)/AA190)), 0,IF(AC190=W190,0,(AC190*AB190)/AA190))), 0,IF(ISERROR(IF(AC190=W190,0,(AC190*AB190)/AA190)), 0,IF(AC190=W190,0,(AC190*AB190)/AA190))))","v":0},{"$f":"IF(ISERROR(IF(ISERROR(IF(AC190=60,Q190+(AC190/T190),Q190+(AD190/T190))), 0,IF(AC190=60,Q190+(AC190/T190),Q190+(AD190/T190)))), 0,IF(ISERROR(IF(AC190=60,Q190+(AC190/T190),Q190+(AD190/T190))), 0,IF(AC190=60,Q190+(AC190/T190),Q190+(AD190/T190))))","v":0}]
["F",57,49,49,{"$f":"IF(ISERROR(Y190), 0,Y190)","v":0},null,{"$f":"IF(ISERROR(AB190), 0,AB190)","v":0},{"$f":"IF(ISERROR($E$10-G191), 0,$E$10-G191)","v":0.4},null,{"$f":"IF(ISERROR(IF(ISERROR(AB191), 0,AB191)), 0,IF(ISERROR(AB191), 0,AB191))","v":0},{"$f":"IF(ISERROR(IF(ISERROR(ROUND($E$10-J191,3)), 0,ROUND($E$10-J191,3))), 0,IF(ISERROR(ROUND($E$10-J191,3)), 0,ROUND($E$10-J191,3)))","v":0.4},null,{"$f":"IF(ISERROR(AB192), \"\",AB192)","v":0},{"$f":"IF(ISERROR($E$10-M191), \"\",$E$10-M191)","v":0.4},{"$f":"A192","v":269.44230769230683},{"$f":"I191","v":0},{"$f":"IF(ISERROR(IF(ISERROR(IF(AC190=W190,Q190+(AC190/T190),Q190+(AD190/T190))), 0,IF(AC190=W190,Q190+(AC190/T190),Q190+(AD190/T190)))), 0,IF(ISERROR(IF(AC190=W190,Q190+(AC190/T190),Q190+(AD190/T190))), 0,IF(AC190=W190,Q190+(AC190/T190),Q190+(AD190/T190))))","v":0},{"$f":"D191","v":49},{"$f":"IF(ISERROR(IF(ISERROR(Q191-R191), 0,Q191-R191)), 0,IF(ISERROR(Q191-R191), 0,Q191-R191))","v":-49},{"$f":"IF(ISERROR((O191/P191)), 0,(O191/P191))","v":0},{"$f":"IF(ISERROR(IF(ISERROR(S191*T191), 0,S191*T191)), 0,IF(ISERROR(S191*T191), 0,S191*T191))","v":0},{"$f":"IF(ISERROR(O191/T191), 0,O191/T191)","v":0},14.2,0.4,{"$f":"IF(ISERROR(IF(ISERROR(ABS(U191)), 0,ABS(U191))), 0,IF(ISERROR(ABS(U191)), 0,ABS(U191)))","v":0},0.15000000000000002,{"$f":"IF(ISERROR(IF(ISERROR(ABS((Y191*X191)/W191)), 0,ABS((Y191*X191)/W191))), 0,IF(ISERROR(ABS((Y191*X191)/W191)), 0,ABS((Y191*X191)/W191)))","v":0},{"$f":"IF(ISERROR(IF(ISERROR(IF(AA191>Z191,Z191,AA191)), 0,IF(AA191>Z191,Z191,AA191))), 0,IF(ISERROR(IF(AA191>Z191,Z191,AA191)), 0,IF(AA191>Z191,Z191,AA191)))","v":0},{"$f":"IF(ISERROR(IF(ISERROR(IF(Y191>W191,W191,Y191)), 0,IF(Y191>W191,W191,Y191))), 0,IF(ISERROR(IF(Y191>W191,W191,Y191)), 0,IF(Y191>W191,W191,Y191)))","v":0},{"$f":"IF(ISERROR((AC191*AB191)/AA191), \"\",(AC191*AB191)/AA191)","v":""},{"$f":"IF(ISERROR(IF(AC191=W191,0,(AC191*AB191)/AA191)), \"\",IF(AC191=W191,0,(AC191*AB191)/AA191))","v":""},{"$f":"IF(ISERROR(IF(AC191=60,Q191+(AC191/T191),Q191+(AD191/T191))), \"\",IF(AC191=60,Q191+(AC191/T191),Q191+(AD191/T191)))","v":""}]
[{"$f":"F333","v":269.44230769230683},{"$f":"IF(ISERROR(IF(AND(C191<D191, E191>$E$7),\"Ignore Drill Out Lead 1; rather pop out Lead 1 and LEAVE lead # 2 to \"&K191&\" inches.\",\"\")), 0,IF(AND(C191<D191, E191>$E$7),\"Ignore Drill Out Lead 1; rather pop out Lead 1 and LEAVE lead # 2 to \"&K191&\" inches.\",\"\"))","v":""},null,null,null,null,null,null,null,null,null,null,null,{"$f":"IF(ISERROR(IF(ISERROR((G191+J191+M191)/$E$10*$E$7), 0,(G191+J191+M191)/$E$10*$E$7)), 0,IF(ISERROR((G191+J191+M191)/$E$10*$E$7), 0,(G191+J191+M191)/$E$10*$E$7))","v":0},{"$f":"A192","v":269.44230769230683},{"$f":"L191","v":0},{"$f":"IF(ISERROR(IF(AC191=W191,Q191+(AC191/T191),Q191+(AD191/T191))), \"\",IF(AC191=W191,Q191+(AC191/T191),Q191+(AD191/T191)))","v":""},{"$f":"D191","v":49},{"$f":"IF(ISERROR(Q192-R192), 0,Q192-R192)","v":0},{"$f":"IF(ISERROR(IF(ISERROR(IF(ISERROR(IF(ISERROR((O192/P192)), 0,(O192/P192))), 0,IF(ISERROR((O192/P192)), 0,(O192/P192)))), 0,IF(ISERROR(IF(ISERROR((O192/P192)), 0,(O192/P192))), 0,IF(ISERROR((O192/P192)), 0,(O192/P192))))), 0,IF(ISERROR(IF(ISERROR(IF(ISERROR((O192/P192)), 0,(O192/P192))), 0,IF(ISERROR((O192/P192)), 0,(O192/P192)))), 0,IF(ISERROR(IF(ISERROR((O192/P192)), 0,(O192/P192))), 0,IF(ISERROR((O192/P192)), 0,(O192/P192)))))","v":0},{"$f":"IF(ISERROR(S192*T192), \"\",S192*T192)","v":0},{"$f":"IF(ISERROR(IF(ISERROR(IF(ISERROR(IF(ISERROR(O192/T192), 0,O192/T192)), 0,IF(ISERROR(O192/T192), 0,O192/T192))), 0,IF(ISERROR(IF(ISERROR(O192/T192), 0,O192/T192)), 0,IF(ISERROR(O192/T192), 0,O192/T192)))), 0,IF(ISERROR(IF(ISERROR(IF(ISERROR(O192/T192), 0,O192/T192)), 0,IF(ISERROR(O192/T192), 0,O192/T192))), 0,IF(ISERROR(IF(ISERROR(O192/T192), 0,O192/T192)), 0,IF(ISERROR(O192/T192), 0,O192/T192))))","v":0},14.2,0.4,{"$f":"IF(ISERROR(ABS(U192)), \"\",ABS(U192))","v":0},0.15000000000000002,{"$f":"IF(ISERROR(ABS((Y192*X192)/W192)), \"\",ABS((Y192*X192)/W192))","v":0},{"$f":"IF(ISERROR(IF(AA192>Z192,Z192,AA192)), \"\",IF(AA192>Z192,Z192,AA192))","v":0},{"$f":"IF(ISERROR(IF(Y192>W192,W192,Y192)), \"\",IF(Y192>W192,W192,Y192))","v":0},{"$f":"IF(ISERROR((AC192*AB192)/AA192), \"\",(AC192*AB192)/AA192)","v":""},{"$f":"IF(ISERROR(IF(AC192=W192,0,(AC192*AB192)/AA192)), \"\",IF(AC192=W192,0,(AC192*AB192)/AA192))","v":""},{"$f":"IF(ISERROR(IF(AC192=60,Q192+(AC192/T192),Q192+(AD192/T192))), \"\",IF(AC192=60,Q192+(AC192/T192),Q192+(AD192/T192)))","v":""}]
[null,null,"Test","Target",null,1,"dr_o","Lv_in",2,"dr_o","Lv_in",3,"dr_o","Lv_in",{"$f":"A195","v":256.5},{"$f":"F194","v":0},{"$f":"C194","v":49},{"$f":"D194","v":49},{"$f":"Q193-R193","v":0},{"$f":"IF(ISERROR((O193/P193)), 0,(O193/P193))","v":0},{"$f":"IF(ISERROR(S193*T193), 0,S193*T193)","v":0},{"$f":"IF(ISERROR(O193/T193), 0,O193/T193)","v":0},14.2,0.4,{"$f":"IF(ISERROR(ABS(U193)), 0,ABS(U193))","v":0},0.15000000000000002,{"$f":"IF(ISERROR(ABS((Y193*X193)/W193)), 0,ABS((Y193*X193)/W193))","v":0},{"$f":"IF(ISERROR(IF(AA193>Z193,Z193,AA193)), 0,IF(AA193>Z193,Z193,AA193))","v":0},{"$f":"IF(ISERROR(IF(Y193>W193,W193,Y193)), 0,IF(Y193>W193,W193,Y193))","v":0},{"$f":"IF(ISERROR(IF(ISERROR(IF(ISERROR(IF(ISERROR((AC193*AB193)/AA193), 0,(AC193*AB193)/AA193)), 0,IF(ISERROR((AC193*AB193)/AA193), 0,(AC193*AB193)/AA193))), 0,IF(ISERROR(IF(ISERROR((AC193*AB193)/AA193), 0,(AC193*AB193)/AA193)), 0,IF(ISERROR((AC193*AB193)/AA193), 0,(AC193*AB193)/AA193)))), 0,IF(ISERROR(IF(ISERROR(IF(ISERROR((AC193*AB193)/AA193), 0,(AC193*AB193)/AA193)), 0,IF(ISERROR((AC193*AB193)/AA193), 0,(AC193*AB193)/AA193))), 0,IF(ISERROR(IF(ISERROR((AC193*AB193)/AA193), 0,(AC193*AB193)/AA193)), 0,IF(ISERROR((AC193*AB193)/AA193), 0,(AC193*AB193)/AA193))))","v":0},{"$f":"IF(ISERROR(IF(ISERROR(IF(ISERROR(IF(AC193=W193,0,(AC193*AB193)/AA193)), 0,IF(AC193=W193,0,(AC193*AB193)/AA193))), 0,IF(ISERROR(IF(AC193=W193,0,(AC193*AB193)/AA193)), 0,IF(AC193=W193,0,(AC193*AB193)/AA193)))), 0,IF(ISERROR(IF(ISERROR(IF(AC193=W193,0,(AC193*AB193)/AA193)), 0,IF(AC193=W193,0,(AC193*AB193)/AA193))), 0,IF(ISERROR(IF(AC193=W193,0,(AC193*AB193)/AA193)), 0,IF(AC193=W193,0,(AC193*AB193)/AA193))))","v":0},{"$f":"IF(ISERROR(IF(ISERROR(IF(AC193=60,Q193+(AC193/T193),Q193+(AD193/T193))), 0,IF(AC193=60,Q193+(AC193/T193),Q193+(AD193/T193)))), 0,IF(ISERROR(IF(AC193=60,Q193+(AC193/T193),Q193+(AD193/T193))), 0,IF(AC193=60,Q193+(AC193/T193),Q193+(AD193/T193))))","v":0}]
["F#",58,49,49,{"$f":"IF(ISERROR(Y193), 0,Y193)","v":0},null,{"$f":"IF(ISERROR(AB193), 0,AB193)","v":0},{"$f":"IF(ISERROR($E$10-G194), 0,$E$10-G194)","v":0.4},null,{"$f":"IF(ISERROR(IF(ISERROR(AB194), 0,AB194)), 0,IF(ISERROR(AB194), 0,AB194))","v":0},{"$f":"IF(ISERROR(IF(ISERROR(ROUND($E$10-J194,3)), 0,ROUND($E$10-J194,3))), 0,IF(ISERROR(ROUND($E$10-J194,3)), 0,ROUND($E$10-J194,3)))","v":0.4},null,{"$f":"IF(ISERROR(AB195), \"\",AB195)","v":0},{"$f":"IF(ISERROR($E$10-M194), \"\",$E$10-M194)","v":0.4},{"$f":"A195","v":256.5},{"$f":"I194","v":0},{"$f":"IF(ISERROR(IF(ISERROR(IF(AC193=W193,Q193+(AC193/T193),Q193+(AD193/T193))), 0,IF(AC193=W193,Q193+(AC193/T193),Q193+(AD193/T193)))), 0,IF(ISERROR(IF(AC193=W193,Q193+(AC193/T193),Q193+(AD193/T193))), 0,IF(AC193=W193,Q193+(AC193/T193),Q193+(AD193/T193))))","v":0},{"$f":"D194","v":49},{"$f":"IF(ISERROR(IF(ISERROR(Q194-R194), 0,Q194-R194)), 0,IF(ISERROR(Q194-R194), 0,Q194-R194))","v":-49},{"$f":"IF(ISERROR((O194/P194)), 0,(O194/P194))","v":0},{"$f":"IF(ISERROR(IF(ISERROR(S194*T194), 0,S194*T194)), 0,IF(ISERROR(S194*T194), 0,S194*T194))","v":0},{"$f":"IF(ISERROR(IF(ISERROR(O194/T194), 0,O194/T194)), 0,IF(ISERROR(O194/T194), 0,O194/T194))","v":0},14.2,0.4,{"$f":"IF(ISERROR(IF(ISERROR(ABS(U194)), 0,ABS(U194))), 0,IF(ISERROR(ABS(U194)), 0,ABS(U194)))","v":0},0.15000000000000002,{"$f":"IF(ISERROR(IF(ISERROR(ABS((Y194*X194)/W194)), 0,ABS((Y194*X194)/W194))), 0,IF(ISERROR(ABS((Y194*X194)/W194)), 0,ABS((Y194*X194)/W194)))","v":0},{"$f":"IF(ISERROR(IF(ISERROR(IF(AA194>Z194,Z194,AA194)), 0,IF(AA194>Z194,Z194,AA194))), 0,IF(ISERROR(IF(AA194>Z194,Z194,AA194)), 0,IF(AA194>Z194,Z194,AA194)))","v":0},{"$f":"IF(ISERROR(IF(ISERROR(IF(Y194>W194,W194,Y194)), 0,IF(Y194>W194,W194,Y194))), 0,IF(ISERROR(IF(Y194>W194,W194,Y194)), 0,IF(Y194>W194,W194,Y194)))","v":0},{"$f":"IF(ISERROR((AC194*AB194)/AA194), \"\",(AC194*AB194)/AA194)","v":""},{"$f":"IF(ISERROR(IF(AC194=W194,0,(AC194*AB194)/AA194)), \"\",IF(AC194=W194,0,(AC194*AB194)/AA194))","v":""},{"$f":"IF(ISERROR(IF(AC194=60,Q194+(AC194/T194),Q194+(AD194/T194))), \"\",IF(AC194=60,Q194+(AC194/T194),Q194+(AD194/T194)))","v":""}]
[{"$f":"R323","v":256.5},{"$f":"IF(ISERROR(IF(AND(C194<D194, E194>$E$7),\"Ignore Drill Out Lead 1; rather pop out Lead 1 and LEAVE lead # 2 to \"&K194&\" inches.\",\"\")), 0,IF(AND(C194<D194, E194>$E$7),\"Ignore Drill Out Lead 1; rather pop out Lead 1 and LEAVE lead # 2 to \"&K194&\" inches.\",\"\"))","v":""},null,null,null,null,null,null,null,null,null,null,null,{"$f":"IF(ISERROR(IF(ISERROR((G194+J194+M194)/$E$10*$E$7), 0,(G194+J194+M194)/$E$10*$E$7)), 0,IF(ISERROR((G194+J194+M194)/$E$10*$E$7), 0,(G194+J194+M194)/$E$10*$E$7))","v":0},{"$f":"A195","v":256.5},{"$f":"L194","v":0},{"$f":"IF(ISERROR(IF(AC194=W194,Q194+(AC194/T194),Q194+(AD194/T194))), \"\",IF(AC194=W194,Q194+(AC194/T194),Q194+(AD194/T194)))","v":""},{"$f":"D194","v":49},{"$f":"IF(ISERROR(Q195-R195), 0,Q195-R195)","v":0},{"$f":"IF(ISERROR(IF(ISERROR(IF(ISERROR(IF(ISERROR((O195/P195)), 0,(O195/P195))), 0,IF(ISERROR((O195/P195)), 0,(O195/P195)))), 0,IF(ISERROR(IF(ISERROR((O195/P195)), 0,(O195/P195))), 0,IF(ISERROR((O195/P195)), 0,(O195/P195))))), 0,IF(ISERROR(IF(ISERROR(IF(ISERROR((O195/P195)), 0,(O195/P195))), 0,IF(ISERROR((O195/P195)), 0,(O195/P195)))), 0,IF(ISERROR(IF(ISERROR((O195/P195)), 0,(O195/P195))), 0,IF(ISERROR((O195/P195)), 0,(O195/P195)))))","v":0},{"$f":"IF(ISERROR(S195*T195), \"\",S195*T195)","v":0},{"$f":"IF(ISERROR(IF(ISERROR(IF(ISERROR(IF(ISERROR(O195/T195), 0,O195/T195)), 0,IF(ISERROR(O195/T195), 0,O195/T195))), 0,IF(ISERROR(IF(ISERROR(O195/T195), 0,O195/T195)), 0,IF(ISERROR(O195/T195), 0,O195/T195)))), 0,IF(ISERROR(IF(ISERROR(IF(ISERROR(O195/T195), 0,O195/T195)), 0,IF(ISERROR(O195/T195), 0,O195/T195))), 0,IF(ISERROR(IF(ISERROR(O195/T195), 0,O195/T195)), 0,IF(ISERROR(O195/T195), 0,O195/T195))))","v":0},14.2,0.4,{"$f":"IF(ISERROR(ABS(U195)), \"\",ABS(U195))","v":0},0.15000000000000002,{"$f":"IF(ISERROR(ABS((Y195*X195)/W195)), \"\",ABS((Y195*X195)/W195))","v":0},{"$f":"IF(ISERROR(IF(AA195>Z195,Z195,AA195)), \"\",IF(AA195>Z195,Z195,AA195))","v":0},{"$f":"IF(ISERROR(IF(Y195>W195,W195,Y195)), \"\",IF(Y195>W195,W195,Y195))","v":0},{"$f":"IF(ISERROR((AC195*AB195)/AA195), \"\",(AC195*AB195)/AA195)","v":""},{"$f":"IF(ISERROR(IF(AC195=W195,0,(AC195*AB195)/AA195)), \"\",IF(AC195=W195,0,(AC195*AB195)/AA195))","v":""},{"$f":"IF(ISERROR(IF(AC195=60,Q195+(AC195/T195),Q195+(AD195/T195))), \"\",IF(AC195=60,Q195+(AC195/T195),Q195+(AD195/T195)))","v":""}]
[null,null,"Test","Target",null,1,"dr_o","Lv_in",2,"dr_o","Lv_in",3,"dr_o","Lv_in",{"$f":"A198","v":268.07692307692218},{"$f":"F197","v":0},{"$f":"C197","v":49},{"$f":"D197","v":49},{"$f":"Q196-R196","v":0},{"$f":"IF(ISERROR(IF(ISERROR((O196/P196)), 0,(O196/P196))), 0,IF(ISERROR((O196/P196)), 0,(O196/P196)))","v":0},{"$f":"IF(ISERROR(S196*T196), 0,S196*T196)","v":0},{"$f":"IF(ISERROR(IF(ISERROR(O196/T196), 0,O196/T196)), 0,IF(ISERROR(O196/T196), 0,O196/T196))","v":0},14.2,0.4,{"$f":"IF(ISERROR(ABS(U196)), 0,ABS(U196))","v":0},0.15000000000000002,{"$f":"IF(ISERROR(ABS((Y196*X196)/W196)), 0,ABS((Y196*X196)/W196))","v":0},{"$f":"IF(ISERROR(IF(AA196>Z196,Z196,AA196)), 0,IF(AA196>Z196,Z196,AA196))","v":0},{"$f":"IF(ISERROR(IF(Y196>W196,W196,Y196)), 0,IF(Y196>W196,W196,Y196))","v":0},{"$f":"IF(ISERROR((AC196*AB196)/AA196), 0,(AC196*AB196)/AA196)","v":0},{"$f":"IF(ISERROR(IF(ISERROR(IF(AC196=W196,0,(AC196*AB196)/AA196)), 0,IF(AC196=W196,0,(AC196*AB196)/AA196))), 0,IF(ISERROR(IF(AC196=W196,0,(AC196*AB196)/AA196)), 0,IF(AC196=W196,0,(AC196*AB196)/AA196)))","v":0},{"$f":"IF(ISERROR(IF(AC196=60,Q196+(AC196/T196),Q196+(AD196/T196))), 0,IF(AC196=60,Q196+(AC196/T196),Q196+(AD196/T196)))","v":0}]
["G",59,49,49,{"$f":"IF(ISERROR(Y196), 0,Y196)","v":0},null,{"$f":"IF(ISERROR(AB196), 0,AB196)","v":0},{"$f":"IF(ISERROR($E$10-G197), 0,$E$10-G197)","v":0.4},null,{"$f":"IF(ISERROR(AB197), 0,AB197)","v":0},{"$f":"IF(ISERROR(ROUND($E$10-J197,3)), 0,ROUND($E$10-J197,3))","v":0.4},null,{"$f":"IF(ISERROR(IF(ISERROR(IF(ISERROR(IF(ISERROR(AB198), 0,AB198)), 0,IF(ISERROR(AB198), 0,AB198))), 0,IF(ISERROR(IF(ISERROR(AB198), 0,AB198)), 0,IF(ISERROR(AB198), 0,AB198)))), 0,IF(ISERROR(IF(ISERROR(IF(ISERROR(AB198), 0,AB198)), 0,IF(ISERROR(AB198), 0,AB198))), 0,IF(ISERROR(IF(ISERROR(AB198), 0,AB198)), 0,IF(ISERROR(AB198), 0,AB198))))","v":0},{"$f":"IF(ISERROR(IF(ISERROR(IF(ISERROR(IF(ISERROR($E$10-M197), 0,$E$10-M197)), 0,IF(ISERROR($E$10-M197), 0,$E$10-M197))), 0,IF(ISERROR(IF(ISERROR($E$10-M197), 0,$E$10-M197)), 0,IF(ISERROR($E$10-M197), 0,$E$10-M197)))), 0,IF(ISERROR(IF(ISERROR(IF(ISERROR($E$10-M197), 0,$E$10-M197)), 0,IF(ISERROR($E$10-M197), 0,$E$10-M197))), 0,IF(ISERROR(IF(ISERROR($E$10-M197), 0,$E$10-M197)), 0,IF(ISERROR($E$10-M197), 0,$E$10-M197))))","v":0.4},{"$f":"A198","v":268.07692307692218},{"$f":"I197","v":0},{"$f":"IF(ISERROR(IF(ISERROR(IF(AC196=W196,Q196+(AC196/T196),Q196+(AD196/T196))), 0,IF(AC196=W196,Q196+(AC196/T196),Q196+(AD196/T196)))), 0,IF(ISERROR(IF(AC196=W196,Q196+(AC196/T196),Q196+(AD196/T196))), 0,IF(AC196=W196,Q196+(AC196/T196),Q196+(AD196/T196))))","v":0},{"$f":"D197","v":49},{"$f":"IF(ISERROR(Q197-R197), 0,Q197-R197)","v":-49},{"$f":"IF(ISERROR(IF(ISERROR((O197/P197)), 0,(O197/P197))), 0,IF(ISERROR((O197/P197)), 0,(O197/P197)))","v":0},{"$f":"IF(ISERROR(S197*T197), 0,S197*T197)","v":0},{"$f":"IF(ISERROR(IF(ISERROR(O197/T197), 0,O197/T197)), 0,IF(ISERROR(O197/T197), 0,O197/T197))","v":0},14.2,0.4,{"$f":"IF(ISERROR(ABS(U197)), 0,ABS(U197))","v":0},0.15000000000000002,{"$f":"IF(ISERROR(ABS((Y197*X197)/W197)), 0,ABS((Y197*X197)/W197))","v":0},{"$f":"IF(ISERROR(IF(AA197>Z197,Z197,AA197)), 0,IF(AA197>Z197,Z197,AA197))","v":0},{"$f":"IF(ISERROR(IF(Y197>W197,W197,Y197)), 0,IF(Y197>W197,W197,Y197))","v":0},{"$f":"IF(ISERROR(IF(ISERROR(IF(ISERROR((AC197*AB197)/AA197), 0,(AC197*AB197)/AA197)), 0,IF(ISERROR((AC197*AB197)/AA197), 0,(AC197*AB197)/AA197))), 0,IF(ISERROR(IF(ISERROR((AC197*AB197)/AA197), 0,(AC197*AB197)/AA197)), 0,IF(ISERROR((AC197*AB197)/AA197), 0,(AC197*AB197)/AA197)))","v":0},{"$f":"IF(ISERROR(IF(ISERROR(IF(ISERROR(IF(AC197=W197,0,(AC197*AB197)/AA197)), 0,IF(AC197=W197,0,(AC197*AB197)/AA197))), 0,IF(ISERROR(IF(AC197=W197,0,(AC197*AB197)/AA197)), 0,IF(AC197=W197,0,(AC197*AB197)/AA197)))), 0,IF(ISERROR(IF(ISERROR(IF(AC197=W197,0,(AC197*AB197)/AA197)), 0,IF(AC197=W197,0,(AC197*AB197)/AA197))), 0,IF(ISERROR(IF(AC197=W197,0,(AC197*AB197)/AA197)), 0,IF(AC197=W197,0,(AC197*AB197)/AA197))))","v":0},{"$f":"IF(ISERROR(IF(ISERROR(IF(AC197=60,Q197+(AC197/T197),Q197+(AD197/T197))), 0,IF(AC197=60,Q197+(AC197/T197),Q197+(AD197/T197)))), 0,IF(ISERROR(IF(AC197=60,Q197+(AC197/T197),Q197+(AD197/T197))), 0,IF(AC197=60,Q197+(AC197/T197),Q197+(AD197/T197))))","v":0}]
[{"$f":"F334","v":268.07692307692218},{"$f":"IF(ISERROR(IF(AND(C197<D197, E197>$E$7),\"Ignore Drill Out Lead 1; rather pop out Lead 1 and LEAVE lead # 2 to \"&K197&\" inches.\",\"\")), 0,IF(AND(C197<D197, E197>$E$7),\"Ignore Drill Out Lead 1; rather pop out Lead 1 and LEAVE lead # 2 to \"&K197&\" inches.\",\"\"))","v":""},null,null,null,null,null,null,null,null,null,null,null,{"$f":"(G197+J197+M197)/$E$10*$E$7","v":0},{"$f":"A198","v":268.07692307692218},{"$f":"L197","v":0},{"$f":"IF(ISERROR(IF(ISERROR(IF(AC197=W197,Q197+(AC197/T197),Q197+(AD197/T197))), 0,IF(AC197=W197,Q197+(AC197/T197),Q197+(AD197/T197)))), 0,IF(ISERROR(IF(AC197=W197,Q197+(AC197/T197),Q197+(AD197/T197))), 0,IF(AC197=W197,Q197+(AC197/T197),Q197+(AD197/T197))))","v":0},{"$f":"D197","v":49},{"$f":"IF(ISERROR(Q198-R198), 0,Q198-R198)","v":-49},{"$f":"IF(ISERROR(IF(ISERROR(IF(ISERROR(IF(ISERROR((O198/P198)), 0,(O198/P198))), 0,IF(ISERROR((O198/P198)), 0,(O198/P198)))), 0,IF(ISERROR(IF(ISERROR((O198/P198)), 0,(O198/P198))), 0,IF(ISERROR((O198/P198)), 0,(O198/P198))))), 0,IF(ISERROR(IF(ISERROR(IF(ISERROR((O198/P198)), 0,(O198/P198))), 0,IF(ISERROR((O198/P198)), 0,(O198/P198)))), 0,IF(ISERROR(IF(ISERROR((O198/P198)), 0,(O198/P198))), 0,IF(ISERROR((O198/P198)), 0,(O198/P198)))))","v":0},{"$f":"IF(ISERROR(IF(ISERROR(IF(ISERROR(IF(ISERROR(S198*T198), 0,S198*T198)), 0,IF(ISERROR(S198*T198), 0,S198*T198))), 0,IF(ISERROR(IF(ISERROR(S198*T198), 0,S198*T198)), 0,IF(ISERROR(S198*T198), 0,S198*T198)))), 0,IF(ISERROR(IF(ISERROR(IF(ISERROR(S198*T198), 0,S198*T198)), 0,IF(ISERROR(S198*T198), 0,S198*T198))), 0,IF(ISERROR(IF(ISERROR(S198*T198), 0,S198*T198)), 0,IF(ISERROR(S198*T198), 0,S198*T198))))","v":0},{"$f":"IF(ISERROR(IF(ISERROR(IF(ISERROR(IF(ISERROR(O198/T198), 0,O198/T198)), 0,IF(ISERROR(O198/T198), 0,O198/T198))), 0,IF(ISERROR(IF(ISERROR(O198/T198), 0,O198/T198)), 0,IF(ISERROR(O198/T198), 0,O198/T198)))), 0,IF(ISERROR(IF(ISERROR(IF(ISERROR(O198/T198), 0,O198/T198)), 0,IF(ISERROR(O198/T198), 0,O198/T198))), 0,IF(ISERROR(IF(ISERROR(O198/T198), 0,O198/T198)), 0,IF(ISERROR(O198/T198), 0,O198/T198))))","v":0},14.2,0.4,{"$f":"IF(ISERROR(IF(ISERROR(IF(ISERROR(ABS(U198)), 0,ABS(U198))), 0,IF(ISERROR(ABS(U198)), 0,ABS(U198)))), 0,IF(ISERROR(IF(ISERROR(ABS(U198)), 0,ABS(U198))), 0,IF(ISERROR(ABS(U198)), 0,ABS(U198))))","v":0},0.15000000000000002,{"$f":"IF(ISERROR(IF(ISERROR(IF(ISERROR(ABS((Y198*X198)/W198)), 0,ABS((Y198*X198)/W198))), 0,IF(ISERROR(ABS((Y198*X198)/W198)), 0,ABS((Y198*X198)/W198)))), 0,IF(ISERROR(IF(ISERROR(ABS((Y198*X198)/W198)), 0,ABS((Y198*X198)/W198))), 0,IF(ISERROR(ABS((Y198*X198)/W198)), 0,ABS((Y198*X198)/W198))))","v":0},{"$f":"IF(ISERROR(IF(ISERROR(IF(ISERROR(IF(AA198>Z198,Z198,AA198)), 0,IF(AA198>Z198,Z198,AA198))), 0,IF(ISERROR(IF(AA198>Z198,Z198,AA198)), 0,IF(AA198>Z198,Z198,AA198)))), 0,IF(ISERROR(IF(ISERROR(IF(AA198>Z198,Z198,AA198)), 0,IF(AA198>Z198,Z198,AA198))), 0,IF(ISERROR(IF(AA198>Z198,Z198,AA198)), 0,IF(AA198>Z198,Z198,AA198))))","v":0},{"$f":"IF(ISERROR(IF(ISERROR(IF(ISERROR(IF(Y198>W198,W198,Y198)), 0,IF(Y198>W198,W198,Y198))), 0,IF(ISERROR(IF(Y198>W198,W198,Y198)), 0,IF(Y198>W198,W198,Y198)))), 0,IF(ISERROR(IF(ISERROR(IF(Y198>W198,W198,Y198)), 0,IF(Y198>W198,W198,Y198))), 0,IF(ISERROR(IF(Y198>W198,W198,Y198)), 0,IF(Y198>W198,W198,Y198))))","v":0},{"$f":"IF(ISERROR((AC198*AB198)/AA198), \"\",(AC198*AB198)/AA198)","v":""},{"$f":"IF(ISERROR(IF(AC198=W198,0,(AC198*AB198)/AA198)), \"\",IF(AC198=W198,0,(AC198*AB198)/AA198))","v":""},{"$f":"IF(ISERROR(IF(AC198=60,Q198+(AC198/T198),Q198+(AD198/T198))), \"\",IF(AC198=60,Q198+(AC198/T198),Q198+(AD198/T198)))","v":""}]
[null,null,"Test","Target",null,1,"dr_o","Lv_in",2,"dr_o","Lv_in",3,"dr_o","Lv_in",{"$f":"A201","v":255.5},{"$f":"F200","v":0},{"$f":"C200","v":48},{"$f":"D200","v":49},{"$f":"Q199-R199","v":-1},{"$f":"IF(ISERROR((O199/P199)), 0,(O199/P199))","v":0},{"$f":"IF(ISERROR(S199*T199), 0,S199*T199)","v":0},{"$f":"IF(ISERROR(O199/T199), 0,O199/T199)","v":0},14.2,0.4,{"$f":"IF(ISERROR(ABS(U199)), 0,ABS(U199))","v":0},0.15000000000000002,{"$f":"IF(ISERROR(ABS((Y199*X199)/W199)), 0,ABS((Y199*X199)/W199))","v":0},{"$f":"IF(ISERROR(IF(AA199>Z199,Z199,AA199)), 0,IF(AA199>Z199,Z199,AA199))","v":0},{"$f":"IF(ISERROR(IF(Y199>W199,W199,Y199)), 0,IF(Y199>W199,W199,Y199))","v":0},{"$f":"IF(ISERROR(IF(ISERROR(IF(ISERROR(IF(ISERROR((AC199*AB199)/AA199), 0,(AC199*AB199)/AA199)), 0,IF(ISERROR((AC199*AB199)/AA199), 0,(AC199*AB199)/AA199))), 0,IF(ISERROR(IF(ISERROR((AC199*AB199)/AA199), 0,(AC199*AB199)/AA199)), 0,IF(ISERROR((AC199*AB199)/AA199), 0,(AC199*AB199)/AA199)))), 0,IF(ISERROR(IF(ISERROR(IF(ISERROR((AC199*AB199)/AA199), 0,(AC199*AB199)/AA199)), 0,IF(ISERROR((AC199*AB199)/AA199), 0,(AC199*AB199)/AA199))), 0,IF(ISERROR(IF(ISERROR((AC199*AB199)/AA199), 0,(AC199*AB199)/AA199)), 0,IF(ISERROR((AC199*AB199)/AA199), 0,(AC199*AB199)/AA199))))","v":0},{"$f":"IF(ISERROR(IF(ISERROR(IF(ISERROR(IF(AC199=W199,0,(AC199*AB199)/AA199)), 0,IF(AC199=W199,0,(AC199*AB199)/AA199))), 0,IF(ISERROR(IF(AC199=W199,0,(AC199*AB199)/AA199)), 0,IF(AC199=W199,0,(AC199*AB199)/AA199)))), 0,IF(ISERROR(IF(ISERROR(IF(AC199=W199,0,(AC199*AB199)/AA199)), 0,IF(AC199=W199,0,(AC199*AB199)/AA199))), 0,IF(ISERROR(IF(AC199=W199,0,(AC199*AB199)/AA199)), 0,IF(AC199=W199,0,(AC199*AB199)/AA199))))","v":0},{"$f":"IF(ISERROR(IF(ISERROR(IF(AC199=60,Q199+(AC199/T199),Q199+(AD199/T199))), 0,IF(AC199=60,Q199+(AC199/T199),Q199+(AD199/T199)))), 0,IF(ISERROR(IF(AC199=60,Q199+(AC199/T199),Q199+(AD199/T199))), 0,IF(AC199=60,Q199+(AC199/T199),Q199+(AD199/T199))))","v":0}]
["G#",60,48,49,{"$f":"IF(ISERROR(Y199), 0,Y199)","v":0},null,{"$f":"IF(ISERROR(AB199), 0,AB199)","v":0},{"$f":"IF(ISERROR($E$10-G200), 0,$E$10-G200)","v":0.4},null,{"$f":"IF(ISERROR(IF(ISERROR(AB200), 0,AB200)), 0,IF(ISERROR(AB200), 0,AB200))","v":0},{"$f":"IF(ISERROR(IF(ISERROR(ROUND($E$10-J200,3)), 0,ROUND($E$10-J200,3))), 0,IF(ISERROR(ROUND($E$10-J200,3)), 0,ROUND($E$10-J200,3)))","v":0.4},null,{"$f":"IF(ISERROR(AB201), \"\",AB201)","v":0},{"$f":"IF(ISERROR($E$10-M200), \"\",$E$10-M200)","v":0.4},{"$f":"A201","v":255.5},{"$f":"I200","v":0},{"$f":"IF(ISERROR(IF(ISERROR(IF(AC199=W199,Q199+(AC199/T199),Q199+(AD199/T199))), 0,IF(AC199=W199,Q199+(AC199/T199),Q199+(AD199/T199)))), 0,IF(ISERROR(IF(AC199=W199,Q199+(AC199/T199),Q199+(AD199/T199))), 0,IF(AC199=W199,Q199+(AC199/T199),Q199+(AD199/T199))))","v":0},{"$f":"D200","v":49},{"$f":"IF(ISERROR(IF(ISERROR(Q200-R200), 0,Q200-R200)), 0,IF(ISERROR(Q200-R200), 0,Q200-R200))","v":-49},{"$f":"IF(ISERROR((O200/P200)), 0,(O200/P200))","v":0},{"$f":"IF(ISERROR(IF(ISERROR(S200*T200), 0,S200*T200)), 0,IF(ISERROR(S200*T200), 0,S200*T200))","v":0},{"$f":"IF(ISERROR(IF(ISERROR(O200/T200), 0,O200/T200)), 0,IF(ISERROR(O200/T200), 0,O200/T200))","v":0},14.2,0.4,{"$f":"IF(ISERROR(IF(ISERROR(ABS(U200)), 0,ABS(U200))), 0,IF(ISERROR(ABS(U200)), 0,ABS(U200)))","v":0},0.15000000000000002,{"$f":"IF(ISERROR(IF(ISERROR(ABS((Y200*X200)/W200)), 0,ABS((Y200*X200)/W200))), 0,IF(ISERROR(ABS((Y200*X200)/W200)), 0,ABS((Y200*X200)/W200)))","v":0},{"$f":"IF(ISERROR(IF(ISERROR(IF(AA200>Z200,Z200,AA200)), 0,IF(AA200>Z200,Z200,AA200))), 0,IF(ISERROR(IF(AA200>Z200,Z200,AA200)), 0,IF(AA200>Z200,Z200,AA200)))","v":0},{"$f":"IF(ISERROR(IF(ISERROR(IF(Y200>W200,W200,Y200)), 0,IF(Y200>W200,W200,Y200))), 0,IF(ISERROR(IF(Y200>W200,W200,Y200)), 0,IF(Y200>W200,W200,Y200)))","v":0},{"$f":"IF(ISERROR((AC200*AB200)/AA200), \"\",(AC200*AB200)/AA200)","v":""},{"$f":"IF(ISERROR(IF(AC200=W200,0,(AC200*AB200)/AA200)), \"\",IF(AC200=W200,0,(AC200*AB200)/AA200))","v":""},{"$f":"IF(ISERROR(IF(AC200=60,Q200+(AC200/T200),Q200+(AD200/T200))), \"\",IF(AC200=60,Q200+(AC200/T200),Q200+(AD200/T200)))","v":""}]
[{"$f":"R324","v":255.5},{"$f":"IF(ISERROR(IF(AND(C200<D200, E200>$E$7),\"Ignore Drill Out Lead 1; rather pop out Lead 1 and LEAVE lead # 2 to \"&K200&\" inches.\",\"\")), 0,IF(AND(C200<D200, E200>$E$7),\"Ignore Drill Out Lead 1; rather pop out Lead 1 and LEAVE lead # 2 to \"&K200&\" inches.\",\"\"))","v":""},null,null,null,null,null,null,null,null,null,null,null,{"$f":"IF(ISERROR(IF(ISERROR((G200+J200+M200)/$E$10*$E$7), 0,(G200+J200+M200)/$E$10*$E$7)), 0,IF(ISERROR((G200+J200+M200)/$E$10*$E$7), 0,(G200+J200+M200)/$E$10*$E$7))","v":0},{"$f":"A201","v":255.5},{"$f":"L200","v":0},{"$f":"IF(ISERROR(IF(AC200=W200,Q200+(AC200/T200),Q200+(AD200/T200))), \"\",IF(AC200=W200,Q200+(AC200/T200),Q200+(AD200/T200)))","v":""},{"$f":"D200","v":49},{"$f":"IF(ISERROR(Q201-R201), 0,Q201-R201)","v":0},{"$f":"IF(ISERROR(IF(ISERROR(IF(ISERROR(IF(ISERROR((O201/P201)), 0,(O201/P201))), 0,IF(ISERROR((O201/P201)), 0,(O201/P201)))), 0,IF(ISERROR(IF(ISERROR((O201/P201)), 0,(O201/P201))), 0,IF(ISERROR((O201/P201)), 0,(O201/P201))))), 0,IF(ISERROR(IF(ISERROR(IF(ISERROR((O201/P201)), 0,(O201/P201))), 0,IF(ISERROR((O201/P201)), 0,(O201/P201)))), 0,IF(ISERROR(IF(ISERROR((O201/P201)), 0,(O201/P201))), 0,IF(ISERROR((O201/P201)), 0,(O201/P201)))))","v":0},{"$f":"IF(ISERROR(S201*T201), \"\",S201*T201)","v":0},{"$f":"IF(ISERROR(IF(ISERROR(IF(ISERROR(IF(ISERROR(O201/T201), 0,O201/T201)), 0,IF(ISERROR(O201/T201), 0,O201/T201))), 0,IF(ISERROR(IF(ISERROR(O201/T201), 0,O201/T201)), 0,IF(ISERROR(O201/T201), 0,O201/T201)))), 0,IF(ISERROR(IF(ISERROR(IF(ISERROR(O201/T201), 0,O201/T201)), 0,IF(ISERROR(O201/T201), 0,O201/T201))), 0,IF(ISERROR(IF(ISERROR(O201/T201), 0,O201/T201)), 0,IF(ISERROR(O201/T201), 0,O201/T201))))","v":0},14.2,0.4,{"$f":"IF(ISERROR(ABS(U201)), \"\",ABS(U201))","v":0},0.15000000000000002,{"$f":"IF(ISERROR(ABS((Y201*X201)/W201)), \"\",ABS((Y201*X201)/W201))","v":0},{"$f":"IF(ISERROR(IF(AA201>Z201,Z201,AA201)), \"\",IF(AA201>Z201,Z201,AA201))","v":0},{"$f":"IF(ISERROR(IF(Y201>W201,W201,Y201)), \"\",IF(Y201>W201,W201,Y201))","v":0},{"$f":"IF(ISERROR((AC201*AB201)/AA201), \"\",(AC201*AB201)/AA201)","v":""},{"$f":"IF(ISERROR(IF(AC201=W201,0,(AC201*AB201)/AA201)), \"\",IF(AC201=W201,0,(AC201*AB201)/AA201))","v":""},{"$f":"IF(ISERROR(IF(AC201=60,Q201+(AC201/T201),Q201+(AD201/T201))), \"\",IF(AC201=60,Q201+(AC201/T201),Q201+(AD201/T201)))","v":""}]
[]
[null,null,"Gram Test","Desired DW","Total Lead to remove","Location mm","Drill Depth Inches","Leave this much lead","Location mm","Depth","Leave this much lead","Location mm","Depth","Leave this much lead",null,null,"delta DW","ddw","dif_dw","key_ro","reqd_ld","key_div","slugs","lead_wid","reqd_ld","max_drill","tot_drill","act_drill","lead_out","fac","slug_rmn","delta_DW"]
[null,"Key #","DW","DDW","Ld. Out","Lead 1","Drill Out ","LEAVE","2nd","Drill  ","LEAVE","3rd","Drill  ","LEAVE",{"$f":"A206","v":266.71153846153754},{"$f":"F205","v":0},{"$f":"C205","v":48},{"$f":"D205","v":48},{"$f":"Q204-R204","v":0},{"$f":"IF(ISERROR((O204/P204)), 0,(O204/P204))","v":0},{"$f":"IF(ISERROR(S204*T204), 0,S204*T204)","v":0},{"$f":"IF(ISERROR(O204/T204), 0,O204/T204)","v":0},{"$f":"$E$7","v":14.2},{"$f":"$E$10","v":0.4},{"$f":"IF(ISERROR(ABS(U204)), 0,ABS(U204))","v":0},{"$f":"$X$14-$G$11","v":0.15000000000000002},{"$f":"IF(ISERROR(ABS((Y204*X204)/W204)), 0,ABS((Y204*X204)/W204))","v":0},{"$f":"IF(ISERROR(IF(AA204>Z204,Z204,AA204)), 0,IF(AA204>Z204,Z204,AA204))","v":0},{"$f":"IF(ISERROR(IF(Y204>W204,W204,Y204)), 0,IF(Y204>W204,W204,Y204))","v":0},{"$f":"IF(ISERROR(IF(ISERROR(IF(ISERROR(IF(ISERROR((AC204*AB204)/AA204), 0,(AC204*AB204)/AA204)), 0,IF(ISERROR((AC204*AB204)/AA204), 0,(AC204*AB204)/AA204))), 0,IF(ISERROR(IF(ISERROR((AC204*AB204)/AA204), 0,(AC204*AB204)/AA204)), 0,IF(ISERROR((AC204*AB204)/AA204), 0,(AC204*AB204)/AA204)))), 0,IF(ISERROR(IF(ISERROR(IF(ISERROR((AC204*AB204)/AA204), 0,(AC204*AB204)/AA204)), 0,IF(ISERROR((AC204*AB204)/AA204), 0,(AC204*AB204)/AA204))), 0,IF(ISERROR(IF(ISERROR((AC204*AB204)/AA204), 0,(AC204*AB204)/AA204)), 0,IF(ISERROR((AC204*AB204)/AA204), 0,(AC204*AB204)/AA204))))","v":0},{"$f":"IF(ISERROR(IF(ISERROR(IF(ISERROR(IF(AC204=W204,0,(AC204*AB204)/AA204)), 0,IF(AC204=W204,0,(AC204*AB204)/AA204))), 0,IF(ISERROR(IF(AC204=W204,0,(AC204*AB204)/AA204)), 0,IF(AC204=W204,0,(AC204*AB204)/AA204)))), 0,IF(ISERROR(IF(ISERROR(IF(AC204=W204,0,(AC204*AB204)/AA204)), 0,IF(AC204=W204,0,(AC204*AB204)/AA204))), 0,IF(ISERROR(IF(AC204=W204,0,(AC204*AB204)/AA204)), 0,IF(AC204=W204,0,(AC204*AB204)/AA204))))","v":0},{"$f":"IF(ISERROR(IF(ISERROR(IF(AC204=60,Q204+(AC204/T204),Q204+(AD204/T204))), 0,IF(AC204=60,Q204+(AC204/T204),Q204+(AD204/T204)))), 0,IF(ISERROR(IF(AC204=60,Q204+(AC204/T204),Q204+(AD204/T204))), 0,IF(AC204=60,Q204+(AC204/T204),Q204+(AD204/T204))))","v":0}]
["A",61,48,48,{"$f":"IF(ISERROR(Y204), 0,Y204)","v":0},null,{"$f":"IF(ISERROR(AB204), 0,AB204)","v":0},{"$f":"IF(ISERROR($E$10-G205), 0,$E$10-G205)","v":0.4},null,{"$f":"IF(ISERROR(IF(ISERROR(AB205), 0,AB205)), 0,IF(ISERROR(AB205), 0,AB205))","v":0},{"$f":"IF(ISERROR(IF(ISERROR(ROUND($E$10-J205,3)), 0,ROUND($E$10-J205,3))), 0,IF(ISERROR(ROUND($E$10-J205,3)), 0,ROUND($E$10-J205,3)))","v":0.4},null,{"$f":"IF(ISERROR(AB206), \"\",AB206)","v":0},{"$f":"IF(ISERROR($E$10-M205), \"\",$E$10-M205)","v":0.4},{"$f":"A206","v":266.71153846153754},{"$f":"I205","v":0},{"$f":"IF(ISERROR(IF(ISERROR(IF(AC204=W204,Q204+(AC204/T204),Q204+(AD204/T204))), 0,IF(AC204=W204,Q204+(AC204/T204),Q204+(AD204/T204)))), 0,IF(ISERROR(IF(AC204=W204,Q204+(AC204/T204),Q204+(AD204/T204))), 0,IF(AC204=W204,Q204+(AC204/T204),Q204+(AD204/T204))))","v":0},{"$f":"D205","v":48},{"$f":"IF(ISERROR(IF(ISERROR(Q205-R205), 0,Q205-R205)), 0,IF(ISERROR(Q205-R205), 0,Q205-R205))","v":-48},{"$f":"IF(ISERROR((O205/P205)), 0,(O205/P205))","v":0},{"$f":"IF(ISERROR(IF(ISERROR(S205*T205), 0,S205*T205)), 0,IF(ISERROR(S205*T205), 0,S205*T205))","v":0},{"$f":"IF(ISERROR(O205/T205), 0,O205/T205)","v":0},14.2,0.4,{"$f":"IF(ISERROR(IF(ISERROR(ABS(U205)), 0,ABS(U205))), 0,IF(ISERROR(ABS(U205)), 0,ABS(U205)))","v":0},0.15000000000000002,{"$f":"IF(ISERROR(IF(ISERROR(ABS((Y205*X205)/W205)), 0,ABS((Y205*X205)/W205))), 0,IF(ISERROR(ABS((Y205*X205)/W205)), 0,ABS((Y205*X205)/W205)))","v":0},{"$f":"IF(ISERROR(IF(ISERROR(IF(AA205>Z205,Z205,AA205)), 0,IF(AA205>Z205,Z205,AA205))), 0,IF(ISERROR(IF(AA205>Z205,Z205,AA205)), 0,IF(AA205>Z205,Z205,AA205)))","v":0},{"$f":"IF(ISERROR(IF(ISERROR(IF(Y205>W205,W205,Y205)), 0,IF(Y205>W205,W205,Y205))), 0,IF(ISERROR(IF(Y205>W205,W205,Y205)), 0,IF(Y205>W205,W205,Y205)))","v":0},{"$f":"IF(ISERROR((AC205*AB205)/AA205), \"\",(AC205*AB205)/AA205)","v":""},{"$f":"IF(ISERROR(IF(AC205=W205,0,(AC205*AB205)/AA205)), \"\",IF(AC205=W205,0,(AC205*AB205)/AA205))","v":""},{"$f":"IF(ISERROR(IF(AC205=60,Q205+(AC205/T205),Q205+(AD205/T205))), \"\",IF(AC205=60,Q205+(AC205/T205),Q205+(AD205/T205)))","v":""}]
[{"$f":"F335","v":266.71153846153754},{"$f":"IF(ISERROR(IF(AND(C205<D205, E205>$E$7),\"Ignore Drill Out Lead 1; rather pop out Lead 1 and LEAVE lead # 2 to \"&K205&\" inches.\",\"\")), 0,IF(AND(C205<D205, E205>$E$7),\"Ignore Drill Out Lead 1; rather pop out Lead 1 and LEAVE lead # 2 to \"&K205&\" inches.\",\"\"))","v":""},null,null,null,null,null,null,null,null,null,null,null,{"$f":"IF(ISERROR(IF(ISERROR((G205+J205+M205)/$E$10*$E$7), 0,(G205+J205+M205)/$E$10*$E$7)), 0,IF(ISERROR((G205+J205+M205)/$E$10*$E$7), 0,(G205+J205+M205)/$E$10*$E$7))","v":0},{"$f":"A206","v":266.71153846153754},{"$f":"L205","v":0},{"$f":"IF(ISERROR(IF(AC205=W205,Q205+(AC205/T205),Q205+(AD205/T205))), \"\",IF(AC205=W205,Q205+(AC205/T205),Q205+(AD205/T205)))","v":""},{"$f":"D205","v":48},{"$f":"IF(ISERROR(Q206-R206), 0,Q206-R206)","v":0},{"$f":"IF(ISERROR(IF(ISERROR(IF(ISERROR((O206/P206)), 0,(O206/P206))), 0,IF(ISERROR((O206/P206)), 0,(O206/P206)))), 0,IF(ISERROR(IF(ISERROR((O206/P206)), 0,(O206/P206))), 0,IF(ISERROR((O206/P206)), 0,(O206/P206))))","v":0},{"$f":"IF(ISERROR(S206*T206), \"\",S206*T206)","v":0},{"$f":"IF(ISERROR(IF(ISERROR(IF(ISERROR(IF(ISERROR(O206/T206), 0,O206/T206)), 0,IF(ISERROR(O206/T206), 0,O206/T206))), 0,IF(ISERROR(IF(ISERROR(O206/T206), 0,O206/T206)), 0,IF(ISERROR(O206/T206), 0,O206/T206)))), 0,IF(ISERROR(IF(ISERROR(IF(ISERROR(O206/T206), 0,O206/T206)), 0,IF(ISERROR(O206/T206), 0,O206/T206))), 0,IF(ISERROR(IF(ISERROR(O206/T206), 0,O206/T206)), 0,IF(ISERROR(O206/T206), 0,O206/T206))))","v":0},14.2,0.4,{"$f":"IF(ISERROR(ABS(U206)), \"\",ABS(U206))","v":0},0.15000000000000002,{"$f":"IF(ISERROR(ABS((Y206*X206)/W206)), \"\",ABS((Y206*X206)/W206))","v":0},{"$f":"IF(ISERROR(IF(AA206>Z206,Z206,AA206)), \"\",IF(AA206>Z206,Z206,AA206))","v":0},{"$f":"IF(ISERROR(IF(Y206>W206,W206,Y206)), \"\",IF(Y206>W206,W206,Y206))","v":0},{"$f":"IF(ISERROR((AC206*AB206)/AA206), \"\",(AC206*AB206)/AA206)","v":""},{"$f":"IF(ISERROR(IF(AC206=W206,0,(AC206*AB206)/AA206)), \"\",IF(AC206=W206,0,(AC206*AB206)/AA206))","v":""},{"$f":"IF(ISERROR(IF(AC206=60,Q206+(AC206/T206),Q206+(AD206/T206))), \"\",IF(AC206=60,Q206+(AC206/T206),Q206+(AD206/T206)))","v":""}]
[null,null,"Test","Target",null,1,"dr_o","Lv_in",2,"dr_o","Lv_in",3,"dr_o","Lv_in",{"$f":"A209","v":254.5},{"$f":"F208","v":0},{"$f":"C208","v":48},{"$f":"D208","v":48},{"$f":"Q207-R207","v":0},{"$f":"IF(ISERROR((O207/P207)), 0,(O207/P207))","v":0},{"$f":"IF(ISERROR(S207*T207), 0,S207*T207)","v":0},{"$f":"IF(ISERROR(O207/T207), 0,O207/T207)","v":0},14.2,0.4,{"$f":"IF(ISERROR(ABS(U207)), 0,ABS(U207))","v":0},0.15000000000000002,{"$f":"IF(ISERROR(ABS((Y207*X207)/W207)), 0,ABS((Y207*X207)/W207))","v":0},{"$f":"IF(ISERROR(IF(AA207>Z207,Z207,AA207)), 0,IF(AA207>Z207,Z207,AA207))","v":0},{"$f":"IF(ISERROR(IF(Y207>W207,W207,Y207)), 0,IF(Y207>W207,W207,Y207))","v":0},{"$f":"IF(ISERROR(IF(ISERROR(IF(ISERROR(IF(ISERROR((AC207*AB207)/AA207), 0,(AC207*AB207)/AA207)), 0,IF(ISERROR((AC207*AB207)/AA207), 0,(AC207*AB207)/AA207))), 0,IF(ISERROR(IF(ISERROR((AC207*AB207)/AA207), 0,(AC207*AB207)/AA207)), 0,IF(ISERROR((AC207*AB207)/AA207), 0,(AC207*AB207)/AA207)))), 0,IF(ISERROR(IF(ISERROR(IF(ISERROR((AC207*AB207)/AA207), 0,(AC207*AB207)/AA207)), 0,IF(ISERROR((AC207*AB207)/AA207), 0,(AC207*AB207)/AA207))), 0,IF(ISERROR(IF(ISERROR((AC207*AB207)/AA207), 0,(AC207*AB207)/AA207)), 0,IF(ISERROR((AC207*AB207)/AA207), 0,(AC207*AB207)/AA207))))","v":0},{"$f":"IF(ISERROR(IF(ISERROR(IF(ISERROR(IF(AC207=W207,0,(AC207*AB207)/AA207)), 0,IF(AC207=W207,0,(AC207*AB207)/AA207))), 0,IF(ISERROR(IF(AC207=W207,0,(AC207*AB207)/AA207)), 0,IF(AC207=W207,0,(AC207*AB207)/AA207)))), 0,IF(ISERROR(IF(ISERROR(IF(AC207=W207,0,(AC207*AB207)/AA207)), 0,IF(AC207=W207,0,(AC207*AB207)/AA207))), 0,IF(ISERROR(IF(AC207=W207,0,(AC207*AB207)/AA207)), 0,IF(AC207=W207,0,(AC207*AB207)/AA207))))","v":0},{"$f":"IF(ISERROR(IF(ISERROR(IF(AC207=60,Q207+(AC207/T207),Q207+(AD207/T207))), 0,IF(AC207=60,Q207+(AC207/T207),Q207+(AD207/T207)))), 0,IF(ISERROR(IF(AC207=60,Q207+(AC207/T207),Q207+(AD207/T207))), 0,IF(AC207=60,Q207+(AC207/T207),Q207+(AD207/T207))))","v":0}]
["A#",62,48,48,{"$f":"IF(ISERROR(Y207), 0,Y207)","v":0},null,{"$f":"IF(ISERROR(AB207), 0,AB207)","v":0},{"$f":"IF(ISERROR($E$10-G208), 0,$E$10-G208)","v":0.4},null,{"$f":"IF(ISERROR(AB208), \"\",AB208)","v":0},{"$f":"IF(ISERROR(ROUND($E$10-J208,3)), \"\",ROUND($E$10-J208,3))","v":0.4},null,{"$f":"IF(ISERROR(AB209), \"\",AB209)","v":0},{"$f":"IF(ISERROR($E$10-M208), \"\",$E$10-M208)","v":0.4},{"$f":"A209","v":254.5},{"$f":"I208","v":0},{"$f":"IF(ISERROR(IF(ISERROR(IF(AC207=W207,Q207+(AC207/T207),Q207+(AD207/T207))), 0,IF(AC207=W207,Q207+(AC207/T207),Q207+(AD207/T207)))), 0,IF(ISERROR(IF(AC207=W207,Q207+(AC207/T207),Q207+(AD207/T207))), 0,IF(AC207=W207,Q207+(AC207/T207),Q207+(AD207/T207))))","v":0},{"$f":"D208","v":48},{"$f":"IF(ISERROR(IF(ISERROR(Q208-R208), 0,Q208-R208)), 0,IF(ISERROR(Q208-R208), 0,Q208-R208))","v":-48},{"$f":"IF(ISERROR((O208/P208)), 0,(O208/P208))","v":0},{"$f":"IF(ISERROR(IF(ISERROR(S208*T208), 0,S208*T208)), 0,IF(ISERROR(S208*T208), 0,S208*T208))","v":0},{"$f":"IF(ISERROR(IF(ISERROR(O208/T208), 0,O208/T208)), 0,IF(ISERROR(O208/T208), 0,O208/T208))","v":0},14.2,0.4,{"$f":"IF(ISERROR(IF(ISERROR(ABS(U208)), 0,ABS(U208))), 0,IF(ISERROR(ABS(U208)), 0,ABS(U208)))","v":0},0.15000000000000002,{"$f":"IF(ISERROR(IF(ISERROR(ABS((Y208*X208)/W208)), 0,ABS((Y208*X208)/W208))), 0,IF(ISERROR(ABS((Y208*X208)/W208)), 0,ABS((Y208*X208)/W208)))","v":0},{"$f":"IF(ISERROR(IF(ISERROR(IF(AA208>Z208,Z208,AA208)), 0,IF(AA208>Z208,Z208,AA208))), 0,IF(ISERROR(IF(AA208>Z208,Z208,AA208)), 0,IF(AA208>Z208,Z208,AA208)))","v":0},{"$f":"IF(ISERROR(IF(ISERROR(IF(Y208>W208,W208,Y208)), 0,IF(Y208>W208,W208,Y208))), 0,IF(ISERROR(IF(Y208>W208,W208,Y208)), 0,IF(Y208>W208,W208,Y208)))","v":0},{"$f":"IF(ISERROR((AC208*AB208)/AA208), \"\",(AC208*AB208)/AA208)","v":""},{"$f":"IF(ISERROR(IF(AC208=W208,0,(AC208*AB208)/AA208)), \"\",IF(AC208=W208,0,(AC208*AB208)/AA208))","v":""},{"$f":"IF(ISERROR(IF(AC208=60,Q208+(AC208/T208),Q208+(AD208/T208))), \"\",IF(AC208=60,Q208+(AC208/T208),Q208+(AD208/T208)))","v":""}]
[{"$f":"R325","v":254.5},{"$f":"IF(ISERROR(IF(AND(C208<D208, E208>$E$7),\"Ignore Drill Out Lead 1; rather pop out Lead 1 and LEAVE lead # 2 to \"&K208&\" inches.\",\"\")), 0,IF(AND(C208<D208, E208>$E$7),\"Ignore Drill Out Lead 1; rather pop out Lead 1 and LEAVE lead # 2 to \"&K208&\" inches.\",\"\"))","v":""},null,null,null,null,null,null,null,null,null,null,null,{"$f":"(G208+J208+M208)/$E$10*$E$7","v":0},{"$f":"A209","v":254.5},{"$f":"L208","v":0},{"$f":"IF(ISERROR(IF(AC208=W208,Q208+(AC208/T208),Q208+(AD208/T208))), \"\",IF(AC208=W208,Q208+(AC208/T208),Q208+(AD208/T208)))","v":""},{"$f":"D208","v":48},{"$f":"IF(ISERROR(Q209-R209), 0,Q209-R209)","v":0},{"$f":"IF(ISERROR(IF(ISERROR(IF(ISERROR((O209/P209)), 0,(O209/P209))), 0,IF(ISERROR((O209/P209)), 0,(O209/P209)))), 0,IF(ISERROR(IF(ISERROR((O209/P209)), 0,(O209/P209))), 0,IF(ISERROR((O209/P209)), 0,(O209/P209))))","v":0},{"$f":"IF(ISERROR(S209*T209), \"\",S209*T209)","v":0},{"$f":"IF(ISERROR(IF(ISERROR(IF(ISERROR(IF(ISERROR(O209/T209), 0,O209/T209)), 0,IF(ISERROR(O209/T209), 0,O209/T209))), 0,IF(ISERROR(IF(ISERROR(O209/T209), 0,O209/T209)), 0,IF(ISERROR(O209/T209), 0,O209/T209)))), 0,IF(ISERROR(IF(ISERROR(IF(ISERROR(O209/T209), 0,O209/T209)), 0,IF(ISERROR(O209/T209), 0,O209/T209))), 0,IF(ISERROR(IF(ISERROR(O209/T209), 0,O209/T209)), 0,IF(ISERROR(O209/T209), 0,O209/T209))))","v":0},14.2,0.4,{"$f":"IF(ISERROR(ABS(U209)), \"\",ABS(U209))","v":0},0.15000000000000002,{"$f":"IF(ISERROR(ABS((Y209*X209)/W209)), \"\",ABS((Y209*X209)/W209))","v":0},{"$f":"IF(ISERROR(IF(AA209>Z209,Z209,AA209)), \"\",IF(AA209>Z209,Z209,AA209))","v":0},{"$f":"IF(ISERROR(IF(Y209>W209,W209,Y209)), \"\",IF(Y209>W209,W209,Y209))","v":0},{"$f":"IF(ISERROR((AC209*AB209)/AA209), \"\",(AC209*AB209)/AA209)","v":""},{"$f":"IF(ISERROR(IF(AC209=W209,0,(AC209*AB209)/AA209)), \"\",IF(AC209=W209,0,(AC209*AB209)/AA209))","v":""},{"$f":"IF(ISERROR(IF(AC209=60,Q209+(AC209/T209),Q209+(AD209/T209))), \"\",IF(AC209=60,Q209+(AC209/T209),Q209+(AD209/T209)))","v":""}]
[null,null,"Test","Target",null,1,"dr_o","Lv_in",2,"dr_o","Lv_in",3,"dr_o","Lv_in",{"$f":"A212","v":265.3461538461529},{"$f":"F211","v":0},{"$f":"C211","v":48},{"$f":"D211","v":48},{"$f":"Q210-R210","v":0},{"$f":"IF(ISERROR((O210/P210)), 0,(O210/P210))","v":0},{"$f":"IF(ISERROR(S210*T210), 0,S210*T210)","v":0},{"$f":"IF(ISERROR(O210/T210), 0,O210/T210)","v":0},14.2,0.4,{"$f":"IF(ISERROR(ABS(U210)), 0,ABS(U210))","v":0},0.15000000000000002,{"$f":"IF(ISERROR(ABS((Y210*X210)/W210)), 0,ABS((Y210*X210)/W210))","v":0},{"$f":"IF(ISERROR(IF(AA210>Z210,Z210,AA210)), 0,IF(AA210>Z210,Z210,AA210))","v":0},{"$f":"IF(ISERROR(IF(Y210>W210,W210,Y210)), 0,IF(Y210>W210,W210,Y210))","v":0},{"$f":"IF(ISERROR(IF(ISERROR(IF(ISERROR(IF(ISERROR((AC210*AB210)/AA210), 0,(AC210*AB210)/AA210)), 0,IF(ISERROR((AC210*AB210)/AA210), 0,(AC210*AB210)/AA210))), 0,IF(ISERROR(IF(ISERROR((AC210*AB210)/AA210), 0,(AC210*AB210)/AA210)), 0,IF(ISERROR((AC210*AB210)/AA210), 0,(AC210*AB210)/AA210)))), 0,IF(ISERROR(IF(ISERROR(IF(ISERROR((AC210*AB210)/AA210), 0,(AC210*AB210)/AA210)), 0,IF(ISERROR((AC210*AB210)/AA210), 0,(AC210*AB210)/AA210))), 0,IF(ISERROR(IF(ISERROR((AC210*AB210)/AA210), 0,(AC210*AB210)/AA210)), 0,IF(ISERROR((AC210*AB210)/AA210), 0,(AC210*AB210)/AA210))))","v":0},{"$f":"IF(ISERROR(IF(ISERROR(IF(ISERROR(IF(AC210=W210,0,(AC210*AB210)/AA210)), 0,IF(AC210=W210,0,(AC210*AB210)/AA210))), 0,IF(ISERROR(IF(AC210=W210,0,(AC210*AB210)/AA210)), 0,IF(AC210=W210,0,(AC210*AB210)/AA210)))), 0,IF(ISERROR(IF(ISERROR(IF(AC210=W210,0,(AC210*AB210)/AA210)), 0,IF(AC210=W210,0,(AC210*AB210)/AA210))), 0,IF(ISERROR(IF(AC210=W210,0,(AC210*AB210)/AA210)), 0,IF(AC210=W210,0,(AC210*AB210)/AA210))))","v":0},{"$f":"IF(ISERROR(IF(ISERROR(IF(AC210=60,Q210+(AC210/T210),Q210+(AD210/T210))), 0,IF(AC210=60,Q210+(AC210/T210),Q210+(AD210/T210)))), 0,IF(ISERROR(IF(AC210=60,Q210+(AC210/T210),Q210+(AD210/T210))), 0,IF(AC210=60,Q210+(AC210/T210),Q210+(AD210/T210))))","v":0}]
["B",63,48,48,{"$f":"IF(ISERROR(Y210), 0,Y210)","v":0},null,{"$f":"IF(ISERROR(AB210), 0,AB210)","v":0},{"$f":"IF(ISERROR($E$10-G211), 0,$E$10-G211)","v":0.4},null,{"$f":"IF(ISERROR(IF(ISERROR(AB211), 0,AB211)), 0,IF(ISERROR(AB211), 0,AB211))","v":0},{"$f":"IF(ISERROR(IF(ISERROR(ROUND($E$10-J211,3)), 0,ROUND($E$10-J211,3))), 0,IF(ISERROR(ROUND($E$10-J211,3)), 0,ROUND($E$10-J211,3)))","v":0.4},null,{"$f":"IF(ISERROR(IF(ISERROR(IF(ISERROR(IF(ISERROR(AB212), 0,AB212)), 0,IF(ISERROR(AB212), 0,AB212))), 0,IF(ISERROR(IF(ISERROR(AB212), 0,AB212)), 0,IF(ISERROR(AB212), 0,AB212)))), 0,IF(ISERROR(IF(ISERROR(IF(ISERROR(AB212), 0,AB212)), 0,IF(ISERROR(AB212), 0,AB212))), 0,IF(ISERROR(IF(ISERROR(AB212), 0,AB212)), 0,IF(ISERROR(AB212), 0,AB212))))","v":0},{"$f":"IF(ISERROR(IF(ISERROR(IF(ISERROR(IF(ISERROR($E$10-M211), 0,$E$10-M211)), 0,IF(ISERROR($E$10-M211), 0,$E$10-M211))), 0,IF(ISERROR(IF(ISERROR($E$10-M211), 0,$E$10-M211)), 0,IF(ISERROR($E$10-M211), 0,$E$10-M211)))), 0,IF(ISERROR(IF(ISERROR(IF(ISERROR($E$10-M211), 0,$E$10-M211)), 0,IF(ISERROR($E$10-M211), 0,$E$10-M211))), 0,IF(ISERROR(IF(ISERROR($E$10-M211), 0,$E$10-M211)), 0,IF(ISERROR($E$10-M211), 0,$E$10-M211))))","v":0.4},{"$f":"A212","v":265.3461538461529},{"$f":"I211","v":0},{"$f":"IF(ISERROR(IF(ISERROR(IF(AC210=W210,Q210+(AC210/T210),Q210+(AD210/T210))), 0,IF(AC210=W210,Q210+(AC210/T210),Q210+(AD210/T210)))), 0,IF(ISERROR(IF(AC210=W210,Q210+(AC210/T210),Q210+(AD210/T210))), 0,IF(AC210=W210,Q210+(AC210/T210),Q210+(AD210/T210))))","v":0},{"$f":"D211","v":48},{"$f":"IF(ISERROR(IF(ISERROR(Q211-R211), 0,Q211-R211)), 0,IF(ISERROR(Q211-R211), 0,Q211-R211))","v":-48},{"$f":"IF(ISERROR((O211/P211)), 0,(O211/P211))","v":0},{"$f":"IF(ISERROR(IF(ISERROR(S211*T211), 0,S211*T211)), 0,IF(ISERROR(S211*T211), 0,S211*T211))","v":0},{"$f":"IF(ISERROR(O211/T211), 0,O211/T211)","v":0},14.2,0.4,{"$f":"IF(ISERROR(IF(ISERROR(ABS(U211)), 0,ABS(U211))), 0,IF(ISERROR(ABS(U211)), 0,ABS(U211)))","v":0},0.15000000000000002,{"$f":"IF(ISERROR(IF(ISERROR(ABS((Y211*X211)/W211)), 0,ABS((Y211*X211)/W211))), 0,IF(ISERROR(ABS((Y211*X211)/W211)), 0,ABS((Y211*X211)/W211)))","v":0},{"$f":"IF(ISERROR(IF(ISERROR(IF(AA211>Z211,Z211,AA211)), 0,IF(AA211>Z211,Z211,AA211))), 0,IF(ISERROR(IF(AA211>Z211,Z211,AA211)), 0,IF(AA211>Z211,Z211,AA211)))","v":0},{"$f":"IF(ISERROR(IF(ISERROR(IF(Y211>W211,W211,Y211)), 0,IF(Y211>W211,W211,Y211))), 0,IF(ISERROR(IF(Y211>W211,W211,Y211)), 0,IF(Y211>W211,W211,Y211)))","v":0},{"$f":"IF(ISERROR((AC211*AB211)/AA211), 0,(AC211*AB211)/AA211)","v":0},{"$f":"IF(ISERROR(IF(ISERROR(IF(AC211=W211,0,(AC211*AB211)/AA211)), 0,IF(AC211=W211,0,(AC211*AB211)/AA211))), 0,IF(ISERROR(IF(AC211=W211,0,(AC211*AB211)/AA211)), 0,IF(AC211=W211,0,(AC211*AB211)/AA211)))","v":0},{"$f":"IF(ISERROR(IF(AC211=60,Q211+(AC211/T211),Q211+(AD211/T211))), 0,IF(AC211=60,Q211+(AC211/T211),Q211+(AD211/T211)))","v":0}]
[{"$f":"F336","v":265.3461538461529},{"$f":"IF(ISERROR(IF(AND(C211<D211, E211>$E$7),\"Ignore Drill Out Lead 1; rather pop out Lead 1 and LEAVE lead # 2 to \"&K211&\" inches.\",\"\")), 0,IF(AND(C211<D211, E211>$E$7),\"Ignore Drill Out Lead 1; rather pop out Lead 1 and LEAVE lead # 2 to \"&K211&\" inches.\",\"\"))","v":""},null,null,null,null,null,null,null,null,null,null,null,{"$f":"IF(ISERROR(IF(ISERROR((G211+J211+M211)/$E$10*$E$7), 0,(G211+J211+M211)/$E$10*$E$7)), 0,IF(ISERROR((G211+J211+M211)/$E$10*$E$7), 0,(G211+J211+M211)/$E$10*$E$7))","v":0},{"$f":"A212","v":265.3461538461529},{"$f":"L211","v":0},{"$f":"IF(ISERROR(IF(AC211=W211,Q211+(AC211/T211),Q211+(AD211/T211))), 0,IF(AC211=W211,Q211+(AC211/T211),Q211+(AD211/T211)))","v":0},{"$f":"D211","v":48},{"$f":"IF(ISERROR(Q212-R212), 0,Q212-R212)","v":-48},{"$f":"IF(ISERROR(IF(ISERROR(IF(ISERROR(IF(ISERROR((O212/P212)), 0,(O212/P212))), 0,IF(ISERROR((O212/P212)), 0,(O212/P212)))), 0,IF(ISERROR(IF(ISERROR((O212/P212)), 0,(O212/P212))), 0,IF(ISERROR((O212/P212)), 0,(O212/P212))))), 0,IF(ISERROR(IF(ISERROR(IF(ISERROR((O212/P212)), 0,(O212/P212))), 0,IF(ISERROR((O212/P212)), 0,(O212/P212)))), 0,IF(ISERROR(IF(ISERROR((O212/P212)), 0,(O212/P212))), 0,IF(ISERROR((O212/P212)), 0,(O212/P212)))))","v":0},{"$f":"IF(ISERROR(IF(ISERROR(IF(ISERROR(IF(ISERROR(S212*T212), 0,S212*T212)), 0,IF(ISERROR(S212*T212), 0,S212*T212))), 0,IF(ISERROR(IF(ISERROR(S212*T212), 0,S212*T212)), 0,IF(ISERROR(S212*T212), 0,S212*T212)))), 0,IF(ISERROR(IF(ISERROR(IF(ISERROR(S212*T212), 0,S212*T212)), 0,IF(ISERROR(S212*T212), 0,S212*T212))), 0,IF(ISERROR(IF(ISERROR(S212*T212), 0,S212*T212)), 0,IF(ISERROR(S212*T212), 0,S212*T212))))","v":0},{"$f":"IF(ISERROR(IF(ISERROR(IF(ISERROR(IF(ISERROR(O212/T212), 0,O212/T212)), 0,IF(ISERROR(O212/T212), 0,O212/T212))), 0,IF(ISERROR(IF(ISERROR(O212/T212), 0,O212/T212)), 0,IF(ISERROR(O212/T212), 0,O212/T212)))), 0,IF(ISERROR(IF(ISERROR(IF(ISERROR(O212/T212), 0,O212/T212)), 0,IF(ISERROR(O212/T212), 0,O212/T212))), 0,IF(ISERROR(IF(ISERROR(O212/T212), 0,O212/T212)), 0,IF(ISERROR(O212/T212), 0,O212/T212))))","v":0},14.2,0.4,{"$f":"IF(ISERROR(IF(ISERROR(IF(ISERROR(ABS(U212)), 0,ABS(U212))), 0,IF(ISERROR(ABS(U212)), 0,ABS(U212)))), 0,IF(ISERROR(IF(ISERROR(ABS(U212)), 0,ABS(U212))), 0,IF(ISERROR(ABS(U212)), 0,ABS(U212))))","v":0},0.15000000000000002,{"$f":"IF(ISERROR(IF(ISERROR(IF(ISERROR(ABS((Y212*X212)/W212)), 0,ABS((Y212*X212)/W212))), 0,IF(ISERROR(ABS((Y212*X212)/W212)), 0,ABS((Y212*X212)/W212)))), 0,IF(ISERROR(IF(ISERROR(ABS((Y212*X212)/W212)), 0,ABS((Y212*X212)/W212))), 0,IF(ISERROR(ABS((Y212*X212)/W212)), 0,ABS((Y212*X212)/W212))))","v":0},{"$f":"IF(ISERROR(IF(ISERROR(IF(ISERROR(IF(AA212>Z212,Z212,AA212)), 0,IF(AA212>Z212,Z212,AA212))), 0,IF(ISERROR(IF(AA212>Z212,Z212,AA212)), 0,IF(AA212>Z212,Z212,AA212)))), 0,IF(ISERROR(IF(ISERROR(IF(AA212>Z212,Z212,AA212)), 0,IF(AA212>Z212,Z212,AA212))), 0,IF(ISERROR(IF(AA212>Z212,Z212,AA212)), 0,IF(AA212>Z212,Z212,AA212))))","v":0},{"$f":"IF(ISERROR(IF(ISERROR(IF(ISERROR(IF(Y212>W212,W212,Y212)), 0,IF(Y212>W212,W212,Y212))), 0,IF(ISERROR(IF(Y212>W212,W212,Y212)), 0,IF(Y212>W212,W212,Y212)))), 0,IF(ISERROR(IF(ISERROR(IF(Y212>W212,W212,Y212)), 0,IF(Y212>W212,W212,Y212))), 0,IF(ISERROR(IF(Y212>W212,W212,Y212)), 0,IF(Y212>W212,W212,Y212))))","v":0},{"$f":"IF(ISERROR((AC212*AB212)/AA212), \"\",(AC212*AB212)/AA212)","v":""},{"$f":"IF(ISERROR(IF(AC212=W212,0,(AC212*AB212)/AA212)), \"\",IF(AC212=W212,0,(AC212*AB212)/AA212))","v":""},{"$f":"IF(ISERROR(IF(AC212=60,Q212+(AC212/T212),Q212+(AD212/T212))), \"\",IF(AC212=60,Q212+(AC212/T212),Q212+(AD212/T212)))","v":""}]
[null,null,"Test","Target",null,1,"dr_o","Lv_in",2,"dr_o","Lv_in",3,"dr_o","Lv_in",{"$f":"A215","v":263.98076923076826},{"$f":"F214","v":0},{"$f":"C214","v":48},{"$f":"D214","v":48},{"$f":"Q213-R213","v":0},{"$f":"IF(ISERROR((O213/P213)), 0,(O213/P213))","v":0},{"$f":"IF(ISERROR(S213*T213), 0,S213*T213)","v":0},{"$f":"IF(ISERROR(O213/T213), 0,O213/T213)","v":0},14.2,0.4,{"$f":"IF(ISERROR(ABS(U213)), 0,ABS(U213))","v":0},0.15000000000000002,{"$f":"IF(ISERROR(ABS((Y213*X213)/W213)), 0,ABS((Y213*X213)/W213))","v":0},{"$f":"IF(ISERROR(IF(AA213>Z213,Z213,AA213)), 0,IF(AA213>Z213,Z213,AA213))","v":0},{"$f":"IF(ISERROR(IF(Y213>W213,W213,Y213)), 0,IF(Y213>W213,W213,Y213))","v":0},{"$f":"IF(ISERROR(IF(ISERROR(IF(ISERROR(IF(ISERROR((AC213*AB213)/AA213), 0,(AC213*AB213)/AA213)), 0,IF(ISERROR((AC213*AB213)/AA213), 0,(AC213*AB213)/AA213))), 0,IF(ISERROR(IF(ISERROR((AC213*AB213)/AA213), 0,(AC213*AB213)/AA213)), 0,IF(ISERROR((AC213*AB213)/AA213), 0,(AC213*AB213)/AA213)))), 0,IF(ISERROR(IF(ISERROR(IF(ISERROR((AC213*AB213)/AA213), 0,(AC213*AB213)/AA213)), 0,IF(ISERROR((AC213*AB213)/AA213), 0,(AC213*AB213)/AA213))), 0,IF(ISERROR(IF(ISERROR((AC213*AB213)/AA213), 0,(AC213*AB213)/AA213)), 0,IF(ISERROR((AC213*AB213)/AA213), 0,(AC213*AB213)/AA213))))","v":0},{"$f":"IF(ISERROR(IF(ISERROR(IF(ISERROR(IF(AC213=W213,0,(AC213*AB213)/AA213)), 0,IF(AC213=W213,0,(AC213*AB213)/AA213))), 0,IF(ISERROR(IF(AC213=W213,0,(AC213*AB213)/AA213)), 0,IF(AC213=W213,0,(AC213*AB213)/AA213)))), 0,IF(ISERROR(IF(ISERROR(IF(AC213=W213,0,(AC213*AB213)/AA213)), 0,IF(AC213=W213,0,(AC213*AB213)/AA213))), 0,IF(ISERROR(IF(AC213=W213,0,(AC213*AB213)/AA213)), 0,IF(AC213=W213,0,(AC213*AB213)/AA213))))","v":0},{"$f":"IF(ISERROR(IF(ISERROR(IF(AC213=60,Q213+(AC213/T213),Q213+(AD213/T213))), 0,IF(AC213=60,Q213+(AC213/T213),Q213+(AD213/T213)))), 0,IF(ISERROR(IF(AC213=60,Q213+(AC213/T213),Q213+(AD213/T213))), 0,IF(AC213=60,Q213+(AC213/T213),Q213+(AD213/T213))))","v":0}]
["C",64,48,48,{"$f":"IF(ISERROR(Y213), 0,Y213)","v":0},null,{"$f":"IF(ISERROR(AB213), 0,AB213)","v":0},{"$f":"IF(ISERROR($E$10-G214), 0,$E$10-G214)","v":0.4},null,{"$f":"IF(ISERROR(IF(ISERROR(AB214), 0,AB214)), 0,IF(ISERROR(AB214), 0,AB214))","v":0},{"$f":"IF(ISERROR(IF(ISERROR(ROUND($E$10-J214,3)), 0,ROUND($E$10-J214,3))), 0,IF(ISERROR(ROUND($E$10-J214,3)), 0,ROUND($E$10-J214,3)))","v":0.4},null,{"$f":"IF(ISERROR(IF(ISERROR(IF(ISERROR(IF(ISERROR(AB215), 0,AB215)), 0,IF(ISERROR(AB215), 0,AB215))), 0,IF(ISERROR(IF(ISERROR(AB215), 0,AB215)), 0,IF(ISERROR(AB215), 0,AB215)))), 0,IF(ISERROR(IF(ISERROR(IF(ISERROR(AB215), 0,AB215)), 0,IF(ISERROR(AB215), 0,AB215))), 0,IF(ISERROR(IF(ISERROR(AB215), 0,AB215)), 0,IF(ISERROR(AB215), 0,AB215))))","v":0},{"$f":"IF(ISERROR(IF(ISERROR(IF(ISERROR(IF(ISERROR($E$10-M214), 0,$E$10-M214)), 0,IF(ISERROR($E$10-M214), 0,$E$10-M214))), 0,IF(ISERROR(IF(ISERROR($E$10-M214), 0,$E$10-M214)), 0,IF(ISERROR($E$10-M214), 0,$E$10-M214)))), 0,IF(ISERROR(IF(ISERROR(IF(ISERROR($E$10-M214), 0,$E$10-M214)), 0,IF(ISERROR($E$10-M214), 0,$E$10-M214))), 0,IF(ISERROR(IF(ISERROR($E$10-M214), 0,$E$10-M214)), 0,IF(ISERROR($E$10-M214), 0,$E$10-M214))))","v":0.4},{"$f":"A215","v":263.98076923076826},{"$f":"I214","v":0},{"$f":"IF(ISERROR(IF(ISERROR(IF(AC213=W213,Q213+(AC213/T213),Q213+(AD213/T213))), 0,IF(AC213=W213,Q213+(AC213/T213),Q213+(AD213/T213)))), 0,IF(ISERROR(IF(AC213=W213,Q213+(AC213/T213),Q213+(AD213/T213))), 0,IF(AC213=W213,Q213+(AC213/T213),Q213+(AD213/T213))))","v":0},{"$f":"D214","v":48},{"$f":"IF(ISERROR(IF(ISERROR(Q214-R214), 0,Q214-R214)), 0,IF(ISERROR(Q214-R214), 0,Q214-R214))","v":-48},{"$f":"IF(ISERROR((O214/P214)), 0,(O214/P214))","v":0},{"$f":"IF(ISERROR(IF(ISERROR(S214*T214), 0,S214*T214)), 0,IF(ISERROR(S214*T214), 0,S214*T214))","v":0},{"$f":"IF(ISERROR(O214/T214), 0,O214/T214)","v":0},14.2,0.4,{"$f":"IF(ISERROR(IF(ISERROR(ABS(U214)), 0,ABS(U214))), 0,IF(ISERROR(ABS(U214)), 0,ABS(U214)))","v":0},0.15000000000000002,{"$f":"IF(ISERROR(IF(ISERROR(ABS((Y214*X214)/W214)), 0,ABS((Y214*X214)/W214))), 0,IF(ISERROR(ABS((Y214*X214)/W214)), 0,ABS((Y214*X214)/W214)))","v":0},{"$f":"IF(ISERROR(IF(ISERROR(IF(AA214>Z214,Z214,AA214)), 0,IF(AA214>Z214,Z214,AA214))), 0,IF(ISERROR(IF(AA214>Z214,Z214,AA214)), 0,IF(AA214>Z214,Z214,AA214)))","v":0},{"$f":"IF(ISERROR(IF(ISERROR(IF(Y214>W214,W214,Y214)), 0,IF(Y214>W214,W214,Y214))), 0,IF(ISERROR(IF(Y214>W214,W214,Y214)), 0,IF(Y214>W214,W214,Y214)))","v":0},{"$f":"IF(ISERROR((AC214*AB214)/AA214), 0,(AC214*AB214)/AA214)","v":0},{"$f":"IF(ISERROR(IF(ISERROR(IF(AC214=W214,0,(AC214*AB214)/AA214)), 0,IF(AC214=W214,0,(AC214*AB214)/AA214))), 0,IF(ISERROR(IF(AC214=W214,0,(AC214*AB214)/AA214)), 0,IF(AC214=W214,0,(AC214*AB214)/AA214)))","v":0},{"$f":"IF(ISERROR(IF(AC214=60,Q214+(AC214/T214),Q214+(AD214/T214))), 0,IF(AC214=60,Q214+(AC214/T214),Q214+(AD214/T214)))","v":0}]
[{"$f":"F337","v":263.98076923076826},{"$f":"IF(ISERROR(IF(AND(C214<D214, E214>$E$7),\"Ignore Drill Out Lead 1; rather pop out Lead 1 and LEAVE lead # 2 to \"&K214&\" inches.\",\"\")), 0,IF(AND(C214<D214, E214>$E$7),\"Ignore Drill Out Lead 1; rather pop out Lead 1 and LEAVE lead # 2 to \"&K214&\" inches.\",\"\"))","v":""},null,null,null,null,null,null,null,null,null,null,null,{"$f":"IF(ISERROR(IF(ISERROR((G214+J214+M214)/$E$10*$E$7), 0,(G214+J214+M214)/$E$10*$E$7)), 0,IF(ISERROR((G214+J214+M214)/$E$10*$E$7), 0,(G214+J214+M214)/$E$10*$E$7))","v":0},{"$f":"A215","v":263.98076923076826},{"$f":"L214","v":0},{"$f":"IF(ISERROR(IF(AC214=W214,Q214+(AC214/T214),Q214+(AD214/T214))), 0,IF(AC214=W214,Q214+(AC214/T214),Q214+(AD214/T214)))","v":0},{"$f":"D214","v":48},{"$f":"IF(ISERROR(Q215-R215), 0,Q215-R215)","v":-48},{"$f":"IF(ISERROR(IF(ISERROR(IF(ISERROR(IF(ISERROR((O215/P215)), 0,(O215/P215))), 0,IF(ISERROR((O215/P215)), 0,(O215/P215)))), 0,IF(ISERROR(IF(ISERROR((O215/P215)), 0,(O215/P215))), 0,IF(ISERROR((O215/P215)), 0,(O215/P215))))), 0,IF(ISERROR(IF(ISERROR(IF(ISERROR((O215/P215)), 0,(O215/P215))), 0,IF(ISERROR((O215/P215)), 0,(O215/P215)))), 0,IF(ISERROR(IF(ISERROR((O215/P215)), 0,(O215/P215))), 0,IF(ISERROR((O215/P215)), 0,(O215/P215)))))","v":0},{"$f":"IF(ISERROR(IF(ISERROR(IF(ISERROR(IF(ISERROR(S215*T215), 0,S215*T215)), 0,IF(ISERROR(S215*T215), 0,S215*T215))), 0,IF(ISERROR(IF(ISERROR(S215*T215), 0,S215*T215)), 0,IF(ISERROR(S215*T215), 0,S215*T215)))), 0,IF(ISERROR(IF(ISERROR(IF(ISERROR(S215*T215), 0,S215*T215)), 0,IF(ISERROR(S215*T215), 0,S215*T215))), 0,IF(ISERROR(IF(ISERROR(S215*T215), 0,S215*T215)), 0,IF(ISERROR(S215*T215), 0,S215*T215))))","v":0},{"$f":"IF(ISERROR(IF(ISERROR(IF(ISERROR(IF(ISERROR(O215/T215), 0,O215/T215)), 0,IF(ISERROR(O215/T215), 0,O215/T215))), 0,IF(ISERROR(IF(ISERROR(O215/T215), 0,O215/T215)), 0,IF(ISERROR(O215/T215), 0,O215/T215)))), 0,IF(ISERROR(IF(ISERROR(IF(ISERROR(O215/T215), 0,O215/T215)), 0,IF(ISERROR(O215/T215), 0,O215/T215))), 0,IF(ISERROR(IF(ISERROR(O215/T215), 0,O215/T215)), 0,IF(ISERROR(O215/T215), 0,O215/T215))))","v":0},14.2,0.4,{"$f":"IF(ISERROR(IF(ISERROR(IF(ISERROR(ABS(U215)), 0,ABS(U215))), 0,IF(ISERROR(ABS(U215)), 0,ABS(U215)))), 0,IF(ISERROR(IF(ISERROR(ABS(U215)), 0,ABS(U215))), 0,IF(ISERROR(ABS(U215)), 0,ABS(U215))))","v":0},0.15000000000000002,{"$f":"IF(ISERROR(IF(ISERROR(IF(ISERROR(ABS((Y215*X215)/W215)), 0,ABS((Y215*X215)/W215))), 0,IF(ISERROR(ABS((Y215*X215)/W215)), 0,ABS((Y215*X215)/W215)))), 0,IF(ISERROR(IF(ISERROR(ABS((Y215*X215)/W215)), 0,ABS((Y215*X215)/W215))), 0,IF(ISERROR(ABS((Y215*X215)/W215)), 0,ABS((Y215*X215)/W215))))","v":0},{"$f":"IF(ISERROR(IF(ISERROR(IF(ISERROR(IF(AA215>Z215,Z215,AA215)), 0,IF(AA215>Z215,Z215,AA215))), 0,IF(ISERROR(IF(AA215>Z215,Z215,AA215)), 0,IF(AA215>Z215,Z215,AA215)))), 0,IF(ISERROR(IF(ISERROR(IF(AA215>Z215,Z215,AA215)), 0,IF(AA215>Z215,Z215,AA215))), 0,IF(ISERROR(IF(AA215>Z215,Z215,AA215)), 0,IF(AA215>Z215,Z215,AA215))))","v":0},{"$f":"IF(ISERROR(IF(ISERROR(IF(ISERROR(IF(Y215>W215,W215,Y215)), 0,IF(Y215>W215,W215,Y215))), 0,IF(ISERROR(IF(Y215>W215,W215,Y215)), 0,IF(Y215>W215,W215,Y215)))), 0,IF(ISERROR(IF(ISERROR(IF(Y215>W215,W215,Y215)), 0,IF(Y215>W215,W215,Y215))), 0,IF(ISERROR(IF(Y215>W215,W215,Y215)), 0,IF(Y215>W215,W215,Y215))))","v":0},{"$f":"IF(ISERROR((AC215*AB215)/AA215), \"\",(AC215*AB215)/AA215)","v":""},{"$f":"IF(ISERROR(IF(AC215=W215,0,(AC215*AB215)/AA215)), \"\",IF(AC215=W215,0,(AC215*AB215)/AA215))","v":""},{"$f":"IF(ISERROR(IF(AC215=60,Q215+(AC215/T215),Q215+(AD215/T215))), \"\",IF(AC215=60,Q215+(AC215/T215),Q215+(AD215/T215)))","v":""}]
[null,null,"Test","Target",null,1,"dr_o","Lv_in",2,"dr_o","Lv_in",3,"dr_o","Lv_in",{"$f":"A218","v":253.5},{"$f":"F217","v":0},{"$f":"C217","v":48},{"$f":"D217","v":48},{"$f":"Q216-R216","v":0},{"$f":"IF(ISERROR((O216/P216)), 0,(O216/P216))","v":0},{"$f":"IF(ISERROR(S216*T216), 0,S216*T216)","v":0},{"$f":"IF(ISERROR(O216/T216), 0,O216/T216)","v":0},14.2,0.4,{"$f":"IF(ISERROR(ABS(U216)), 0,ABS(U216))","v":0},0.15000000000000002,{"$f":"IF(ISERROR(ABS((Y216*X216)/W216)), 0,ABS((Y216*X216)/W216))","v":0},{"$f":"IF(ISERROR(IF(AA216>Z216,Z216,AA216)), 0,IF(AA216>Z216,Z216,AA216))","v":0},{"$f":"IF(ISERROR(IF(Y216>W216,W216,Y216)), 0,IF(Y216>W216,W216,Y216))","v":0},{"$f":"IF(ISERROR(IF(ISERROR(IF(ISERROR(IF(ISERROR((AC216*AB216)/AA216), 0,(AC216*AB216)/AA216)), 0,IF(ISERROR((AC216*AB216)/AA216), 0,(AC216*AB216)/AA216))), 0,IF(ISERROR(IF(ISERROR((AC216*AB216)/AA216), 0,(AC216*AB216)/AA216)), 0,IF(ISERROR((AC216*AB216)/AA216), 0,(AC216*AB216)/AA216)))), 0,IF(ISERROR(IF(ISERROR(IF(ISERROR((AC216*AB216)/AA216), 0,(AC216*AB216)/AA216)), 0,IF(ISERROR((AC216*AB216)/AA216), 0,(AC216*AB216)/AA216))), 0,IF(ISERROR(IF(ISERROR((AC216*AB216)/AA216), 0,(AC216*AB216)/AA216)), 0,IF(ISERROR((AC216*AB216)/AA216), 0,(AC216*AB216)/AA216))))","v":0},{"$f":"IF(ISERROR(IF(ISERROR(IF(ISERROR(IF(AC216=W216,0,(AC216*AB216)/AA216)), 0,IF(AC216=W216,0,(AC216*AB216)/AA216))), 0,IF(ISERROR(IF(AC216=W216,0,(AC216*AB216)/AA216)), 0,IF(AC216=W216,0,(AC216*AB216)/AA216)))), 0,IF(ISERROR(IF(ISERROR(IF(AC216=W216,0,(AC216*AB216)/AA216)), 0,IF(AC216=W216,0,(AC216*AB216)/AA216))), 0,IF(ISERROR(IF(AC216=W216,0,(AC216*AB216)/AA216)), 0,IF(AC216=W216,0,(AC216*AB216)/AA216))))","v":0},{"$f":"IF(ISERROR(IF(ISERROR(IF(AC216=60,Q216+(AC216/T216),Q216+(AD216/T216))), 0,IF(AC216=60,Q216+(AC216/T216),Q216+(AD216/T216)))), 0,IF(ISERROR(IF(AC216=60,Q216+(AC216/T216),Q216+(AD216/T216))), 0,IF(AC216=60,Q216+(AC216/T216),Q216+(AD216/T216))))","v":0}]
["C#",65,48,48,{"$f":"IF(ISERROR(Y216), 0,Y216)","v":0},null,{"$f":"IF(ISERROR(AB216), 0,AB216)","v":0},{"$f":"IF(ISERROR($E$10-G217), 0,$E$10-G217)","v":0.4},null,{"$f":"IF(ISERROR(IF(ISERROR(AB217), 0,AB217)), 0,IF(ISERROR(AB217), 0,AB217))","v":0},{"$f":"IF(ISERROR(IF(ISERROR(ROUND($E$10-J217,3)), 0,ROUND($E$10-J217,3))), 0,IF(ISERROR(ROUND($E$10-J217,3)), 0,ROUND($E$10-J217,3)))","v":0.4},null,{"$f":"IF(ISERROR(AB218), \"\",AB218)","v":0},{"$f":"IF(ISERROR($E$10-M217), \"\",$E$10-M217)","v":0.4},{"$f":"A218","v":253.5},{"$f":"I217","v":0},{"$f":"IF(ISERROR(IF(ISERROR(IF(AC216=W216,Q216+(AC216/T216),Q216+(AD216/T216))), 0,IF(AC216=W216,Q216+(AC216/T216),Q216+(AD216/T216)))), 0,IF(ISERROR(IF(AC216=W216,Q216+(AC216/T216),Q216+(AD216/T216))), 0,IF(AC216=W216,Q216+(AC216/T216),Q216+(AD216/T216))))","v":0},{"$f":"D217","v":48},{"$f":"IF(ISERROR(IF(ISERROR(Q217-R217), 0,Q217-R217)), 0,IF(ISERROR(Q217-R217), 0,Q217-R217))","v":-48},{"$f":"IF(ISERROR((O217/P217)), 0,(O217/P217))","v":0},{"$f":"IF(ISERROR(IF(ISERROR(S217*T217), 0,S217*T217)), 0,IF(ISERROR(S217*T217), 0,S217*T217))","v":0},{"$f":"IF(ISERROR(IF(ISERROR(O217/T217), 0,O217/T217)), 0,IF(ISERROR(O217/T217), 0,O217/T217))","v":0},14.2,0.4,{"$f":"IF(ISERROR(IF(ISERROR(ABS(U217)), 0,ABS(U217))), 0,IF(ISERROR(ABS(U217)), 0,ABS(U217)))","v":0},0.15000000000000002,{"$f":"IF(ISERROR(IF(ISERROR(ABS((Y217*X217)/W217)), 0,ABS((Y217*X217)/W217))), 0,IF(ISERROR(ABS((Y217*X217)/W217)), 0,ABS((Y217*X217)/W217)))","v":0},{"$f":"IF(ISERROR(IF(ISERROR(IF(AA217>Z217,Z217,AA217)), 0,IF(AA217>Z217,Z217,AA217))), 0,IF(ISERROR(IF(AA217>Z217,Z217,AA217)), 0,IF(AA217>Z217,Z217,AA217)))","v":0},{"$f":"IF(ISERROR(IF(ISERROR(IF(Y217>W217,W217,Y217)), 0,IF(Y217>W217,W217,Y217))), 0,IF(ISERROR(IF(Y217>W217,W217,Y217)), 0,IF(Y217>W217,W217,Y217)))","v":0},{"$f":"IF(ISERROR((AC217*AB217)/AA217), \"\",(AC217*AB217)/AA217)","v":""},{"$f":"IF(ISERROR(IF(AC217=W217,0,(AC217*AB217)/AA217)), \"\",IF(AC217=W217,0,(AC217*AB217)/AA217))","v":""},{"$f":"IF(ISERROR(IF(AC217=60,Q217+(AC217/T217),Q217+(AD217/T217))), \"\",IF(AC217=60,Q217+(AC217/T217),Q217+(AD217/T217)))","v":""}]
[{"$f":"R326","v":253.5},{"$f":"IF(ISERROR(IF(AND(C217<D217, E217>$E$7),\"Ignore Drill Out Lead 1; rather pop out Lead 1 and LEAVE lead # 2 to \"&K217&\" inches.\",\"\")), 0,IF(AND(C217<D217, E217>$E$7),\"Ignore Drill Out Lead 1; rather pop out Lead 1 and LEAVE lead # 2 to \"&K217&\" inches.\",\"\"))","v":""},null,null,null,null,null,null,null,null,null,null,null,{"$f":"IF(ISERROR(IF(ISERROR((G217+J217+M217)/$E$10*$E$7), 0,(G217+J217+M217)/$E$10*$E$7)), 0,IF(ISERROR((G217+J217+M217)/$E$10*$E$7), 0,(G217+J217+M217)/$E$10*$E$7))","v":0},{"$f":"A218","v":253.5},{"$f":"L217","v":0},{"$f":"IF(ISERROR(IF(AC217=W217,Q217+(AC217/T217),Q217+(AD217/T217))), \"\",IF(AC217=W217,Q217+(AC217/T217),Q217+(AD217/T217)))","v":""},{"$f":"D217","v":48},{"$f":"IF(ISERROR(Q218-R218), 0,Q218-R218)","v":0},{"$f":"IF(ISERROR(IF(ISERROR(IF(ISERROR(IF(ISERROR((O218/P218)), 0,(O218/P218))), 0,IF(ISERROR((O218/P218)), 0,(O218/P218)))), 0,IF(ISERROR(IF(ISERROR((O218/P218)), 0,(O218/P218))), 0,IF(ISERROR((O218/P218)), 0,(O218/P218))))), 0,IF(ISERROR(IF(ISERROR(IF(ISERROR((O218/P218)), 0,(O218/P218))), 0,IF(ISERROR((O218/P218)), 0,(O218/P218)))), 0,IF(ISERROR(IF(ISERROR((O218/P218)), 0,(O218/P218))), 0,IF(ISERROR((O218/P218)), 0,(O218/P218)))))","v":0},{"$f":"IF(ISERROR(S218*T218), \"\",S218*T218)","v":0},{"$f":"IF(ISERROR(IF(ISERROR(IF(ISERROR(IF(ISERROR(O218/T218), 0,O218/T218)), 0,IF(ISERROR(O218/T218), 0,O218/T218))), 0,IF(ISERROR(IF(ISERROR(O218/T218), 0,O218/T218)), 0,IF(ISERROR(O218/T218), 0,O218/T218)))), 0,IF(ISERROR(IF(ISERROR(IF(ISERROR(O218/T218), 0,O218/T218)), 0,IF(ISERROR(O218/T218), 0,O218/T218))), 0,IF(ISERROR(IF(ISERROR(O218/T218), 0,O218/T218)), 0,IF(ISERROR(O218/T218), 0,O218/T218))))","v":0},14.2,0.4,{"$f":"IF(ISERROR(ABS(U218)), \"\",ABS(U218))","v":0},0.15000000000000002,{"$f":"IF(ISERROR(ABS((Y218*X218)/W218)), \"\",ABS((Y218*X218)/W218))","v":0},{"$f":"IF(ISERROR(IF(AA218>Z218,Z218,AA218)), \"\",IF(AA218>Z218,Z218,AA218))","v":0},{"$f":"IF(ISERROR(IF(Y218>W218,W218,Y218)), \"\",IF(Y218>W218,W218,Y218))","v":0},{"$f":"IF(ISERROR((AC218*AB218)/AA218), \"\",(AC218*AB218)/AA218)","v":""},{"$f":"IF(ISERROR(IF(AC218=W218,0,(AC218*AB218)/AA218)), \"\",IF(AC218=W218,0,(AC218*AB218)/AA218))","v":""},{"$f":"IF(ISERROR(IF(AC218=60,Q218+(AC218/T218),Q218+(AD218/T218))), \"\",IF(AC218=60,Q218+(AC218/T218),Q218+(AD218/T218)))","v":""}]
[null,null,"Test","Target",null,1,"dr_o","Lv_in",2,"dr_o","Lv_in",3,"dr_o","Lv_in",{"$f":"A221","v":262.61538461538362},{"$f":"F220","v":0},{"$f":"C220","v":48},{"$f":"D220","v":48},{"$f":"Q219-R219","v":0},{"$f":"IF(ISERROR((O219/P219)), 0,(O219/P219))","v":0},{"$f":"IF(ISERROR(S219*T219), 0,S219*T219)","v":0},{"$f":"IF(ISERROR(O219/T219), 0,O219/T219)","v":0},14.2,0.4,{"$f":"IF(ISERROR(ABS(U219)), 0,ABS(U219))","v":0},0.15000000000000002,{"$f":"IF(ISERROR(ABS((Y219*X219)/W219)), 0,ABS((Y219*X219)/W219))","v":0},{"$f":"IF(ISERROR(IF(AA219>Z219,Z219,AA219)), 0,IF(AA219>Z219,Z219,AA219))","v":0},{"$f":"IF(ISERROR(IF(Y219>W219,W219,Y219)), 0,IF(Y219>W219,W219,Y219))","v":0},{"$f":"IF(ISERROR((AC219*AB219)/AA219), 0,(AC219*AB219)/AA219)","v":0},{"$f":"IF(ISERROR(IF(ISERROR(IF(AC219=W219,0,(AC219*AB219)/AA219)), 0,IF(AC219=W219,0,(AC219*AB219)/AA219))), 0,IF(ISERROR(IF(AC219=W219,0,(AC219*AB219)/AA219)), 0,IF(AC219=W219,0,(AC219*AB219)/AA219)))","v":0},{"$f":"IF(ISERROR(IF(AC219=60,Q219+(AC219/T219),Q219+(AD219/T219))), 0,IF(AC219=60,Q219+(AC219/T219),Q219+(AD219/T219)))","v":0}]
["D",66,48,48,{"$f":"IF(ISERROR(Y219), 0,Y219)","v":0},null,{"$f":"IF(ISERROR(AB219), 0,AB219)","v":0},{"$f":"IF(ISERROR($E$10-G220), 0,$E$10-G220)","v":0.4},null,{"$f":"IF(ISERROR(AB220), 0,AB220)","v":0},{"$f":"IF(ISERROR(ROUND($E$10-J220,3)), 0,ROUND($E$10-J220,3))","v":0.4},null,{"$f":"IF(ISERROR(IF(ISERROR(IF(ISERROR(IF(ISERROR(AB221), 0,AB221)), 0,IF(ISERROR(AB221), 0,AB221))), 0,IF(ISERROR(IF(ISERROR(AB221), 0,AB221)), 0,IF(ISERROR(AB221), 0,AB221)))), 0,IF(ISERROR(IF(ISERROR(IF(ISERROR(AB221), 0,AB221)), 0,IF(ISERROR(AB221), 0,AB221))), 0,IF(ISERROR(IF(ISERROR(AB221), 0,AB221)), 0,IF(ISERROR(AB221), 0,AB221))))","v":0},{"$f":"IF(ISERROR(IF(ISERROR(IF(ISERROR(IF(ISERROR($E$10-M220), 0,$E$10-M220)), 0,IF(ISERROR($E$10-M220), 0,$E$10-M220))), 0,IF(ISERROR(IF(ISERROR($E$10-M220), 0,$E$10-M220)), 0,IF(ISERROR($E$10-M220), 0,$E$10-M220)))), 0,IF(ISERROR(IF(ISERROR(IF(ISERROR($E$10-M220), 0,$E$10-M220)), 0,IF(ISERROR($E$10-M220), 0,$E$10-M220))), 0,IF(ISERROR(IF(ISERROR($E$10-M220), 0,$E$10-M220)), 0,IF(ISERROR($E$10-M220), 0,$E$10-M220))))","v":0.4},{"$f":"A221","v":262.61538461538362},{"$f":"I220","v":0},{"$f":"IF(ISERROR(IF(AC219=W219,Q219+(AC219/T219),Q219+(AD219/T219))), 0,IF(AC219=W219,Q219+(AC219/T219),Q219+(AD219/T219)))","v":0},{"$f":"D220","v":48},{"$f":"IF(ISERROR(Q220-R220), 0,Q220-R220)","v":-48},{"$f":"IF(ISERROR((O220/P220)), 0,(O220/P220))","v":0},{"$f":"IF(ISERROR(S220*T220), 0,S220*T220)","v":0},{"$f":"IF(ISERROR(O220/T220), 0,O220/T220)","v":0},14.2,0.4,{"$f":"IF(ISERROR(ABS(U220)), 0,ABS(U220))","v":0},0.15000000000000002,{"$f":"IF(ISERROR(ABS((Y220*X220)/W220)), 0,ABS((Y220*X220)/W220))","v":0},{"$f":"IF(ISERROR(IF(AA220>Z220,Z220,AA220)), 0,IF(AA220>Z220,Z220,AA220))","v":0},{"$f":"IF(ISERROR(IF(Y220>W220,W220,Y220)), 0,IF(Y220>W220,W220,Y220))","v":0},{"$f":"IF(ISERROR(IF(ISERROR(IF(ISERROR((AC220*AB220)/AA220), 0,(AC220*AB220)/AA220)), 0,IF(ISERROR((AC220*AB220)/AA220), 0,(AC220*AB220)/AA220))), 0,IF(ISERROR(IF(ISERROR((AC220*AB220)/AA220), 0,(AC220*AB220)/AA220)), 0,IF(ISERROR((AC220*AB220)/AA220), 0,(AC220*AB220)/AA220)))","v":0},{"$f":"IF(ISERROR(IF(ISERROR(IF(ISERROR(IF(AC220=W220,0,(AC220*AB220)/AA220)), 0,IF(AC220=W220,0,(AC220*AB220)/AA220))), 0,IF(ISERROR(IF(AC220=W220,0,(AC220*AB220)/AA220)), 0,IF(AC220=W220,0,(AC220*AB220)/AA220)))), 0,IF(ISERROR(IF(ISERROR(IF(AC220=W220,0,(AC220*AB220)/AA220)), 0,IF(AC220=W220,0,(AC220*AB220)/AA220))), 0,IF(ISERROR(IF(AC220=W220,0,(AC220*AB220)/AA220)), 0,IF(AC220=W220,0,(AC220*AB220)/AA220))))","v":0},{"$f":"IF(ISERROR(IF(ISERROR(IF(AC220=60,Q220+(AC220/T220),Q220+(AD220/T220))), 0,IF(AC220=60,Q220+(AC220/T220),Q220+(AD220/T220)))), 0,IF(ISERROR(IF(AC220=60,Q220+(AC220/T220),Q220+(AD220/T220))), 0,IF(AC220=60,Q220+(AC220/T220),Q220+(AD220/T220))))","v":0}]
[{"$f":"F338","v":262.61538461538362},{"$f":"IF(ISERROR(IF(AND(C220<D220, E220>$E$7),\"Ignore Drill Out Lead 1; rather pop out Lead 1 and LEAVE lead # 2 to \"&K220&\" inches.\",\"\")), 0,IF(AND(C220<D220, E220>$E$7),\"Ignore Drill Out Lead 1; rather pop out Lead 1 and LEAVE lead # 2 to \"&K220&\" inches.\",\"\"))","v":""},null,null,null,null,null,null,null,null,null,null,null,{"$f":"(G220+J220+M220)/$E$10*$E$7","v":0},{"$f":"A221","v":262.61538461538362},{"$f":"L220","v":0},{"$f":"IF(ISERROR(IF(ISERROR(IF(AC220=W220,Q220+(AC220/T220),Q220+(AD220/T220))), 0,IF(AC220=W220,Q220+(AC220/T220),Q220+(AD220/T220)))), 0,IF(ISERROR(IF(AC220=W220,Q220+(AC220/T220),Q220+(AD220/T220))), 0,IF(AC220=W220,Q220+(AC220/T220),Q220+(AD220/T220))))","v":0},{"$f":"D220","v":48},{"$f":"IF(ISERROR(Q221-R221), 0,Q221-R221)","v":-48},{"$f":"IF(ISERROR(IF(ISERROR(IF(ISERROR(IF(ISERROR((O221/P221)), 0,(O221/P221))), 0,IF(ISERROR((O221/P221)), 0,(O221/P221)))), 0,IF(ISERROR(IF(ISERROR((O221/P221)), 0,(O221/P221))), 0,IF(ISERROR((O221/P221)), 0,(O221/P221))))), 0,IF(ISERROR(IF(ISERROR(IF(ISERROR((O221/P221)), 0,(O221/P221))), 0,IF(ISERROR((O221/P221)), 0,(O221/P221)))), 0,IF(ISERROR(IF(ISERROR((O221/P221)), 0,(O221/P221))), 0,IF(ISERROR((O221/P221)), 0,(O221/P221)))))","v":0},{"$f":"IF(ISERROR(IF(ISERROR(IF(ISERROR(IF(ISERROR(S221*T221), 0,S221*T221)), 0,IF(ISERROR(S221*T221), 0,S221*T221))), 0,IF(ISERROR(IF(ISERROR(S221*T221), 0,S221*T221)), 0,IF(ISERROR(S221*T221), 0,S221*T221)))), 0,IF(ISERROR(IF(ISERROR(IF(ISERROR(S221*T221), 0,S221*T221)), 0,IF(ISERROR(S221*T221), 0,S221*T221))), 0,IF(ISERROR(IF(ISERROR(S221*T221), 0,S221*T221)), 0,IF(ISERROR(S221*T221), 0,S221*T221))))","v":0},{"$f":"IF(ISERROR(IF(ISERROR(IF(ISERROR(IF(ISERROR(O221/T221), 0,O221/T221)), 0,IF(ISERROR(O221/T221), 0,O221/T221))), 0,IF(ISERROR(IF(ISERROR(O221/T221), 0,O221/T221)), 0,IF(ISERROR(O221/T221), 0,O221/T221)))), 0,IF(ISERROR(IF(ISERROR(IF(ISERROR(O221/T221), 0,O221/T221)), 0,IF(ISERROR(O221/T221), 0,O221/T221))), 0,IF(ISERROR(IF(ISERROR(O221/T221), 0,O221/T221)), 0,IF(ISERROR(O221/T221), 0,O221/T221))))","v":0},14.2,0.4,{"$f":"IF(ISERROR(IF(ISERROR(IF(ISERROR(ABS(U221)), 0,ABS(U221))), 0,IF(ISERROR(ABS(U221)), 0,ABS(U221)))), 0,IF(ISERROR(IF(ISERROR(ABS(U221)), 0,ABS(U221))), 0,IF(ISERROR(ABS(U221)), 0,ABS(U221))))","v":0},0.15000000000000002,{"$f":"IF(ISERROR(IF(ISERROR(IF(ISERROR(ABS((Y221*X221)/W221)), 0,ABS((Y221*X221)/W221))), 0,IF(ISERROR(ABS((Y221*X221)/W221)), 0,ABS((Y221*X221)/W221)))), 0,IF(ISERROR(IF(ISERROR(ABS((Y221*X221)/W221)), 0,ABS((Y221*X221)/W221))), 0,IF(ISERROR(ABS((Y221*X221)/W221)), 0,ABS((Y221*X221)/W221))))","v":0},{"$f":"IF(ISERROR(IF(ISERROR(IF(ISERROR(IF(AA221>Z221,Z221,AA221)), 0,IF(AA221>Z221,Z221,AA221))), 0,IF(ISERROR(IF(AA221>Z221,Z221,AA221)), 0,IF(AA221>Z221,Z221,AA221)))), 0,IF(ISERROR(IF(ISERROR(IF(AA221>Z221,Z221,AA221)), 0,IF(AA221>Z221,Z221,AA221))), 0,IF(ISERROR(IF(AA221>Z221,Z221,AA221)), 0,IF(AA221>Z221,Z221,AA221))))","v":0},{"$f":"IF(ISERROR(IF(ISERROR(IF(ISERROR(IF(Y221>W221,W221,Y221)), 0,IF(Y221>W221,W221,Y221))), 0,IF(ISERROR(IF(Y221>W221,W221,Y221)), 0,IF(Y221>W221,W221,Y221)))), 0,IF(ISERROR(IF(ISERROR(IF(Y221>W221,W221,Y221)), 0,IF(Y221>W221,W221,Y221))), 0,IF(ISERROR(IF(Y221>W221,W221,Y221)), 0,IF(Y221>W221,W221,Y221))))","v":0},{"$f":"IF(ISERROR((AC221*AB221)/AA221), \"\",(AC221*AB221)/AA221)","v":""},{"$f":"IF(ISERROR(IF(AC221=W221,0,(AC221*AB221)/AA221)), \"\",IF(AC221=W221,0,(AC221*AB221)/AA221))","v":""},{"$f":"IF(ISERROR(IF(AC221=60,Q221+(AC221/T221),Q221+(AD221/T221))), \"\",IF(AC221=60,Q221+(AC221/T221),Q221+(AD221/T221)))","v":""}]
[null,null,"Test","Target",null,1,"dr_o","Lv_in",2,"dr_o","Lv_in",3,"dr_o","Lv_in",{"$f":"A224","v":252.5},{"$f":"F223","v":0},{"$f":"C223","v":48},{"$f":"D223","v":48},{"$f":"Q222-R222","v":0},{"$f":"IF(ISERROR((O222/P222)), 0,(O222/P222))","v":0},{"$f":"IF(ISERROR(S222*T222), 0,S222*T222)","v":0},{"$f":"IF(ISERROR(O222/T222), 0,O222/T222)","v":0},14.2,0.4,{"$f":"IF(ISERROR(ABS(U222)), 0,ABS(U222))","v":0},0.15000000000000002,{"$f":"IF(ISERROR(ABS((Y222*X222)/W222)), 0,ABS((Y222*X222)/W222))","v":0},{"$f":"IF(ISERROR(IF(AA222>Z222,Z222,AA222)), 0,IF(AA222>Z222,Z222,AA222))","v":0},{"$f":"IF(ISERROR(IF(Y222>W222,W222,Y222)), 0,IF(Y222>W222,W222,Y222))","v":0},{"$f":"IF(ISERROR(IF(ISERROR(IF(ISERROR(IF(ISERROR((AC222*AB222)/AA222), 0,(AC222*AB222)/AA222)), 0,IF(ISERROR((AC222*AB222)/AA222), 0,(AC222*AB222)/AA222))), 0,IF(ISERROR(IF(ISERROR((AC222*AB222)/AA222), 0,(AC222*AB222)/AA222)), 0,IF(ISERROR((AC222*AB222)/AA222), 0,(AC222*AB222)/AA222)))), 0,IF(ISERROR(IF(ISERROR(IF(ISERROR((AC222*AB222)/AA222), 0,(AC222*AB222)/AA222)), 0,IF(ISERROR((AC222*AB222)/AA222), 0,(AC222*AB222)/AA222))), 0,IF(ISERROR(IF(ISERROR((AC222*AB222)/AA222), 0,(AC222*AB222)/AA222)), 0,IF(ISERROR((AC222*AB222)/AA222), 0,(AC222*AB222)/AA222))))","v":0},{"$f":"IF(ISERROR(IF(ISERROR(IF(ISERROR(IF(AC222=W222,0,(AC222*AB222)/AA222)), 0,IF(AC222=W222,0,(AC222*AB222)/AA222))), 0,IF(ISERROR(IF(AC222=W222,0,(AC222*AB222)/AA222)), 0,IF(AC222=W222,0,(AC222*AB222)/AA222)))), 0,IF(ISERROR(IF(ISERROR(IF(AC222=W222,0,(AC222*AB222)/AA222)), 0,IF(AC222=W222,0,(AC222*AB222)/AA222))), 0,IF(ISERROR(IF(AC222=W222,0,(AC222*AB222)/AA222)), 0,IF(AC222=W222,0,(AC222*AB222)/AA222))))","v":0},{"$f":"IF(ISERROR(IF(ISERROR(IF(AC222=60,Q222+(AC222/T222),Q222+(AD222/T222))), 0,IF(AC222=60,Q222+(AC222/T222),Q222+(AD222/T222)))), 0,IF(ISERROR(IF(AC222=60,Q222+(AC222/T222),Q222+(AD222/T222))), 0,IF(AC222=60,Q222+(AC222/T222),Q222+(AD222/T222))))","v":0}]
["D#",67,48,48,{"$f":"IF(ISERROR(Y222), 0,Y222)","v":0},null,{"$f":"IF(ISERROR(AB222), 0,AB222)","v":0},{"$f":"IF(ISERROR($E$10-G223), 0,$E$10-G223)","v":0.4},null,{"$f":"IF(ISERROR(IF(ISERROR(AB223), 0,AB223)), 0,IF(ISERROR(AB223), 0,AB223))","v":0},{"$f":"IF(ISERROR(IF(ISERROR(ROUND($E$10-J223,3)), 0,ROUND($E$10-J223,3))), 0,IF(ISERROR(ROUND($E$10-J223,3)), 0,ROUND($E$10-J223,3)))","v":0.4},null,{"$f":"IF(ISERROR(AB224), \"\",AB224)","v":0},{"$f":"IF(ISERROR($E$10-M223), \"\",$E$10-M223)","v":0.4},{"$f":"A224","v":252.5},{"$f":"I223","v":0},{"$f":"IF(ISERROR(IF(ISERROR(IF(AC222=W222,Q222+(AC222/T222),Q222+(AD222/T222))), 0,IF(AC222=W222,Q222+(AC222/T222),Q222+(AD222/T222)))), 0,IF(ISERROR(IF(AC222=W222,Q222+(AC222/T222),Q222+(AD222/T222))), 0,IF(AC222=W222,Q222+(AC222/T222),Q222+(AD222/T222))))","v":0},{"$f":"D223","v":48},{"$f":"IF(ISERROR(IF(ISERROR(Q223-R223), 0,Q223-R223)), 0,IF(ISERROR(Q223-R223), 0,Q223-R223))","v":-48},{"$f":"IF(ISERROR((O223/P223)), 0,(O223/P223))","v":0},{"$f":"IF(ISERROR(IF(ISERROR(S223*T223), 0,S223*T223)), 0,IF(ISERROR(S223*T223), 0,S223*T223))","v":0},{"$f":"IF(ISERROR(IF(ISERROR(O223/T223), 0,O223/T223)), 0,IF(ISERROR(O223/T223), 0,O223/T223))","v":0},14.2,0.4,{"$f":"IF(ISERROR(IF(ISERROR(ABS(U223)), 0,ABS(U223))), 0,IF(ISERROR(ABS(U223)), 0,ABS(U223)))","v":0},0.15000000000000002,{"$f":"IF(ISERROR(IF(ISERROR(ABS((Y223*X223)/W223)), 0,ABS((Y223*X223)/W223))), 0,IF(ISERROR(ABS((Y223*X223)/W223)), 0,ABS((Y223*X223)/W223)))","v":0},{"$f":"IF(ISERROR(IF(ISERROR(IF(AA223>Z223,Z223,AA223)), 0,IF(AA223>Z223,Z223,AA223))), 0,IF(ISERROR(IF(AA223>Z223,Z223,AA223)), 0,IF(AA223>Z223,Z223,AA223)))","v":0},{"$f":"IF(ISERROR(IF(ISERROR(IF(Y223>W223,W223,Y223)), 0,IF(Y223>W223,W223,Y223))), 0,IF(ISERROR(IF(Y223>W223,W223,Y223)), 0,IF(Y223>W223,W223,Y223)))","v":0},{"$f":"IF(ISERROR((AC223*AB223)/AA223), \"\",(AC223*AB223)/AA223)","v":""},{"$f":"IF(ISERROR(IF(AC223=W223,0,(AC223*AB223)/AA223)), \"\",IF(AC223=W223,0,(AC223*AB223)/AA223))","v":""},{"$f":"IF(ISERROR(IF(AC223=60,Q223+(AC223/T223),Q223+(AD223/T223))), \"\",IF(AC223=60,Q223+(AC223/T223),Q223+(AD223/T223)))","v":""}]
[{"$f":"R327","v":252.5},{"$f":"IF(ISERROR(IF(AND(C223<D223, E223>$E$7),\"Ignore Drill Out Lead 1; rather pop out Lead 1 and LEAVE lead # 2 to \"&K223&\" inches.\",\"\")), 0,IF(AND(C223<D223, E223>$E$7),\"Ignore Drill Out Lead 1; rather pop out Lead 1 and LEAVE lead # 2 to \"&K223&\" inches.\",\"\"))","v":""},null,null,null,null,null,null,null,null,null,null,null,{"$f":"IF(ISERROR(IF(ISERROR((G223+J223+M223)/$E$10*$E$7), 0,(G223+J223+M223)/$E$10*$E$7)), 0,IF(ISERROR((G223+J223+M223)/$E$10*$E$7), 0,(G223+J223+M223)/$E$10*$E$7))","v":0},{"$f":"A224","v":252.5},{"$f":"L223","v":0},{"$f":"IF(ISERROR(IF(AC223=W223,Q223+(AC223/T223),Q223+(AD223/T223))), \"\",IF(AC223=W223,Q223+(AC223/T223),Q223+(AD223/T223)))","v":""},{"$f":"D223","v":48},{"$f":"IF(ISERROR(Q224-R224), 0,Q224-R224)","v":0},{"$f":"IF(ISERROR(IF(ISERROR(IF(ISERROR(IF(ISERROR((O224/P224)), 0,(O224/P224))), 0,IF(ISERROR((O224/P224)), 0,(O224/P224)))), 0,IF(ISERROR(IF(ISERROR((O224/P224)), 0,(O224/P224))), 0,IF(ISERROR((O224/P224)), 0,(O224/P224))))), 0,IF(ISERROR(IF(ISERROR(IF(ISERROR((O224/P224)), 0,(O224/P224))), 0,IF(ISERROR((O224/P224)), 0,(O224/P224)))), 0,IF(ISERROR(IF(ISERROR((O224/P224)), 0,(O224/P224))), 0,IF(ISERROR((O224/P224)), 0,(O224/P224)))))","v":0},{"$f":"IF(ISERROR(S224*T224), \"\",S224*T224)","v":0},{"$f":"IF(ISERROR(IF(ISERROR(IF(ISERROR(IF(ISERROR(O224/T224), 0,O224/T224)), 0,IF(ISERROR(O224/T224), 0,O224/T224))), 0,IF(ISERROR(IF(ISERROR(O224/T224), 0,O224/T224)), 0,IF(ISERROR(O224/T224), 0,O224/T224)))), 0,IF(ISERROR(IF(ISERROR(IF(ISERROR(O224/T224), 0,O224/T224)), 0,IF(ISERROR(O224/T224), 0,O224/T224))), 0,IF(ISERROR(IF(ISERROR(O224/T224), 0,O224/T224)), 0,IF(ISERROR(O224/T224), 0,O224/T224))))","v":0},14.2,0.4,{"$f":"IF(ISERROR(ABS(U224)), \"\",ABS(U224))","v":0},0.15000000000000002,{"$f":"IF(ISERROR(ABS((Y224*X224)/W224)), \"\",ABS((Y224*X224)/W224))","v":0},{"$f":"IF(ISERROR(IF(AA224>Z224,Z224,AA224)), \"\",IF(AA224>Z224,Z224,AA224))","v":0},{"$f":"IF(ISERROR(IF(Y224>W224,W224,Y224)), \"\",IF(Y224>W224,W224,Y224))","v":0},{"$f":"IF(ISERROR((AC224*AB224)/AA224), \"\",(AC224*AB224)/AA224)","v":""},{"$f":"IF(ISERROR(IF(AC224=W224,0,(AC224*AB224)/AA224)), \"\",IF(AC224=W224,0,(AC224*AB224)/AA224))","v":""},{"$f":"IF(ISERROR(IF(AC224=60,Q224+(AC224/T224),Q224+(AD224/T224))), \"\",IF(AC224=60,Q224+(AC224/T224),Q224+(AD224/T224)))","v":""}]
[null,null,"Test","Target",null,1,"dr_o","Lv_in",2,"dr_o","Lv_in",3,"dr_o","Lv_in",{"$f":"A227","v":261.24999999999898},{"$f":"F226","v":0},{"$f":"C226","v":48},{"$f":"D226","v":48},{"$f":"Q225-R225","v":0},{"$f":"IF(ISERROR((O225/P225)), 0,(O225/P225))","v":0},{"$f":"IF(ISERROR(S225*T225), 0,S225*T225)","v":0},{"$f":"IF(ISERROR(O225/T225), 0,O225/T225)","v":0},14.2,0.4,{"$f":"IF(ISERROR(ABS(U225)), 0,ABS(U225))","v":0},0.15000000000000002,{"$f":"IF(ISERROR(ABS((Y225*X225)/W225)), 0,ABS((Y225*X225)/W225))","v":0},{"$f":"IF(ISERROR(IF(AA225>Z225,Z225,AA225)), 0,IF(AA225>Z225,Z225,AA225))","v":0},{"$f":"IF(ISERROR(IF(Y225>W225,W225,Y225)), 0,IF(Y225>W225,W225,Y225))","v":0},{"$f":"IF(ISERROR(IF(ISERROR(IF(ISERROR(IF(ISERROR((AC225*AB225)/AA225), 0,(AC225*AB225)/AA225)), 0,IF(ISERROR((AC225*AB225)/AA225), 0,(AC225*AB225)/AA225))), 0,IF(ISERROR(IF(ISERROR((AC225*AB225)/AA225), 0,(AC225*AB225)/AA225)), 0,IF(ISERROR((AC225*AB225)/AA225), 0,(AC225*AB225)/AA225)))), 0,IF(ISERROR(IF(ISERROR(IF(ISERROR((AC225*AB225)/AA225), 0,(AC225*AB225)/AA225)), 0,IF(ISERROR((AC225*AB225)/AA225), 0,(AC225*AB225)/AA225))), 0,IF(ISERROR(IF(ISERROR((AC225*AB225)/AA225), 0,(AC225*AB225)/AA225)), 0,IF(ISERROR((AC225*AB225)/AA225), 0,(AC225*AB225)/AA225))))","v":0},{"$f":"IF(ISERROR(IF(ISERROR(IF(ISERROR(IF(AC225=W225,0,(AC225*AB225)/AA225)), 0,IF(AC225=W225,0,(AC225*AB225)/AA225))), 0,IF(ISERROR(IF(AC225=W225,0,(AC225*AB225)/AA225)), 0,IF(AC225=W225,0,(AC225*AB225)/AA225)))), 0,IF(ISERROR(IF(ISERROR(IF(AC225=W225,0,(AC225*AB225)/AA225)), 0,IF(AC225=W225,0,(AC225*AB225)/AA225))), 0,IF(ISERROR(IF(AC225=W225,0,(AC225*AB225)/AA225)), 0,IF(AC225=W225,0,(AC225*AB225)/AA225))))","v":0},{"$f":"IF(ISERROR(IF(ISERROR(IF(AC225=60,Q225+(AC225/T225),Q225+(AD225/T225))), 0,IF(AC225=60,Q225+(AC225/T225),Q225+(AD225/T225)))), 0,IF(ISERROR(IF(AC225=60,Q225+(AC225/T225),Q225+(AD225/T225))), 0,IF(AC225=60,Q225+(AC225/T225),Q225+(AD225/T225))))","v":0}]
["E",68,48,48,{"$f":"IF(ISERROR(Y225), 0,Y225)","v":0},null,{"$f":"IF(ISERROR(AB225), 0,AB225)","v":0},{"$f":"IF(ISERROR($E$10-G226), 0,$E$10-G226)","v":0.4},null,{"$f":"IF(ISERROR(IF(ISERROR(AB226), 0,AB226)), 0,IF(ISERROR(AB226), 0,AB226))","v":0},{"$f":"IF(ISERROR(IF(ISERROR(ROUND($E$10-J226,3)), 0,ROUND($E$10-J226,3))), 0,IF(ISERROR(ROUND($E$10-J226,3)), 0,ROUND($E$10-J226,3)))","v":0.4},null,{"$f":"IF(ISERROR(AB227), \"\",AB227)","v":0},{"$f":"IF(ISERROR($E$10-M226), \"\",$E$10-M226)","v":0.4},{"$f":"A227","v":261.24999999999898},{"$f":"I226","v":0},{"$f":"IF(ISERROR(IF(ISERROR(IF(AC225=W225,Q225+(AC225/T225),Q225+(AD225/T225))), 0,IF(AC225=W225,Q225+(AC225/T225),Q225+(AD225/T225)))), 0,IF(ISERROR(IF(AC225=W225,Q225+(AC225/T225),Q225+(AD225/T225))), 0,IF(AC225=W225,Q225+(AC225/T225),Q225+(AD225/T225))))","v":0},{"$f":"D226","v":48},{"$f":"IF(ISERROR(IF(ISERROR(Q226-R226), 0,Q226-R226)), 0,IF(ISERROR(Q226-R226), 0,Q226-R226))","v":-48},{"$f":"IF(ISERROR((O226/P226)), 0,(O226/P226))","v":0},{"$f":"IF(ISERROR(IF(ISERROR(S226*T226), 0,S226*T226)), 0,IF(ISERROR(S226*T226), 0,S226*T226))","v":0},{"$f":"IF(ISERROR(O226/T226), 0,O226/T226)","v":0},14.2,0.4,{"$f":"IF(ISERROR(IF(ISERROR(ABS(U226)), 0,ABS(U226))), 0,IF(ISERROR(ABS(U226)), 0,ABS(U226)))","v":0},0.15000000000000002,{"$f":"IF(ISERROR(IF(ISERROR(ABS((Y226*X226)/W226)), 0,ABS((Y226*X226)/W226))), 0,IF(ISERROR(ABS((Y226*X226)/W226)), 0,ABS((Y226*X226)/W226)))","v":0},{"$f":"IF(ISERROR(IF(ISERROR(IF(AA226>Z226,Z226,AA226)), 0,IF(AA226>Z226,Z226,AA226))), 0,IF(ISERROR(IF(AA226>Z226,Z226,AA226)), 0,IF(AA226>Z226,Z226,AA226)))","v":0},{"$f":"IF(ISERROR(IF(ISERROR(IF(Y226>W226,W226,Y226)), 0,IF(Y226>W226,W226,Y226))), 0,IF(ISERROR(IF(Y226>W226,W226,Y226)), 0,IF(Y226>W226,W226,Y226)))","v":0},{"$f":"IF(ISERROR((AC226*AB226)/AA226), \"\",(AC226*AB226)/AA226)","v":""},{"$f":"IF(ISERROR(IF(AC226=W226,0,(AC226*AB226)/AA226)), \"\",IF(AC226=W226,0,(AC226*AB226)/AA226))","v":""},{"$f":"IF(ISERROR(IF(AC226=60,Q226+(AC226/T226),Q226+(AD226/T226))), \"\",IF(AC226=60,Q226+(AC226/T226),Q226+(AD226/T226)))","v":""}]
[{"$f":"F339","v":261.24999999999898},{"$f":"IF(ISERROR(IF(AND(C226<D226, E226>$E$7),\"Ignore Drill Out Lead 1; rather pop out Lead 1 and LEAVE lead # 2 to \"&K226&\" inches.\",\"\")), 0,IF(AND(C226<D226, E226>$E$7),\"Ignore Drill Out Lead 1; rather pop out Lead 1 and LEAVE lead # 2 to \"&K226&\" inches.\",\"\"))","v":""},null,null,null,null,null,null,null,null,null,null,null,{"$f":"IF(ISERROR(IF(ISERROR((G226+J226+M226)/$E$10*$E$7), 0,(G226+J226+M226)/$E$10*$E$7)), 0,IF(ISERROR((G226+J226+M226)/$E$10*$E$7), 0,(G226+J226+M226)/$E$10*$E$7))","v":0},{"$f":"A227","v":261.24999999999898},{"$f":"L226","v":0},{"$f":"IF(ISERROR(IF(AC226=W226,Q226+(AC226/T226),Q226+(AD226/T226))), \"\",IF(AC226=W226,Q226+(AC226/T226),Q226+(AD226/T226)))","v":""},{"$f":"D226","v":48},{"$f":"IF(ISERROR(Q227-R227), 0,Q227-R227)","v":0},{"$f":"IF(ISERROR(IF(ISERROR(IF(ISERROR(IF(ISERROR((O227/P227)), 0,(O227/P227))), 0,IF(ISERROR((O227/P227)), 0,(O227/P227)))), 0,IF(ISERROR(IF(ISERROR((O227/P227)), 0,(O227/P227))), 0,IF(ISERROR((O227/P227)), 0,(O227/P227))))), 0,IF(ISERROR(IF(ISERROR(IF(ISERROR((O227/P227)), 0,(O227/P227))), 0,IF(ISERROR((O227/P227)), 0,(O227/P227)))), 0,IF(ISERROR(IF(ISERROR((O227/P227)), 0,(O227/P227))), 0,IF(ISERROR((O227/P227)), 0,(O227/P227)))))","v":0},{"$f":"IF(ISERROR(S227*T227), \"\",S227*T227)","v":0},{"$f":"IF(ISERROR(IF(ISERROR(IF(ISERROR(IF(ISERROR(O227/T227), 0,O227/T227)), 0,IF(ISERROR(O227/T227), 0,O227/T227))), 0,IF(ISERROR(IF(ISERROR(O227/T227), 0,O227/T227)), 0,IF(ISERROR(O227/T227), 0,O227/T227)))), 0,IF(ISERROR(IF(ISERROR(IF(ISERROR(O227/T227), 0,O227/T227)), 0,IF(ISERROR(O227/T227), 0,O227/T227))), 0,IF(ISERROR(IF(ISERROR(O227/T227), 0,O227/T227)), 0,IF(ISERROR(O227/T227), 0,O227/T227))))","v":0},14.2,0.4,{"$f":"IF(ISERROR(ABS(U227)), \"\",ABS(U227))","v":0},0.15000000000000002,{"$f":"IF(ISERROR(ABS((Y227*X227)/W227)), \"\",ABS((Y227*X227)/W227))","v":0},{"$f":"IF(ISERROR(IF(AA227>Z227,Z227,AA227)), \"\",IF(AA227>Z227,Z227,AA227))","v":0},{"$f":"IF(ISERROR(IF(Y227>W227,W227,Y227)), \"\",IF(Y227>W227,W227,Y227))","v":0},{"$f":"IF(ISERROR((AC227*AB227)/AA227), \"\",(AC227*AB227)/AA227)","v":""},{"$f":"IF(ISERROR(IF(AC227=W227,0,(AC227*AB227)/AA227)), \"\",IF(AC227=W227,0,(AC227*AB227)/AA227))","v":""},{"$f":"IF(ISERROR(IF(AC227=60,Q227+(AC227/T227),Q227+(AD227/T227))), \"\",IF(AC227=60,Q227+(AC227/T227),Q227+(AD227/T227)))","v":""}]
[null,null,"Test","Target",null,1,"dr_o","Lv_in",2,"dr_o","Lv_in",3,"dr_o","Lv_in",{"$f":"A230","v":259.88461538461434},{"$f":"F229","v":0},{"$f":"C229","v":48},{"$f":"D229","v":48},{"$f":"Q228-R228","v":0},{"$f":"IF(ISERROR((O228/P228)), 0,(O228/P228))","v":0},{"$f":"IF(ISERROR(S228*T228), 0,S228*T228)","v":0},{"$f":"IF(ISERROR(O228/T228), 0,O228/T228)","v":0},14.2,0.4,{"$f":"IF(ISERROR(ABS(U228)), 0,ABS(U228))","v":0},0.15000000000000002,{"$f":"IF(ISERROR(ABS((Y228*X228)/W228)), 0,ABS((Y228*X228)/W228))","v":0},{"$f":"IF(ISERROR(IF(AA228>Z228,Z228,AA228)), 0,IF(AA228>Z228,Z228,AA228))","v":0},{"$f":"IF(ISERROR(IF(Y228>W228,W228,Y228)), 0,IF(Y228>W228,W228,Y228))","v":0},{"$f":"IF(ISERROR((AC228*AB228)/AA228), 0,(AC228*AB228)/AA228)","v":0},{"$f":"IF(ISERROR(IF(ISERROR(IF(AC228=W228,0,(AC228*AB228)/AA228)), 0,IF(AC228=W228,0,(AC228*AB228)/AA228))), 0,IF(ISERROR(IF(AC228=W228,0,(AC228*AB228)/AA228)), 0,IF(AC228=W228,0,(AC228*AB228)/AA228)))","v":0},{"$f":"IF(ISERROR(IF(AC228=60,Q228+(AC228/T228),Q228+(AD228/T228))), 0,IF(AC228=60,Q228+(AC228/T228),Q228+(AD228/T228)))","v":0}]
["F",69,48,48,{"$f":"IF(ISERROR(Y228), 0,Y228)","v":0},null,{"$f":"IF(ISERROR(AB228), 0,AB228)","v":0},{"$f":"IF(ISERROR($E$10-G229), 0,$E$10-G229)","v":0.4},null,{"$f":"IF(ISERROR(AB229), 0,AB229)","v":0},{"$f":"IF(ISERROR(ROUND($E$10-J229,3)), 0,ROUND($E$10-J229,3))","v":0.4},null,{"$f":"IF(ISERROR(IF(ISERROR(IF(ISERROR(IF(ISERROR(AB230), 0,AB230)), 0,IF(ISERROR(AB230), 0,AB230))), 0,IF(ISERROR(IF(ISERROR(AB230), 0,AB230)), 0,IF(ISERROR(AB230), 0,AB230)))), 0,IF(ISERROR(IF(ISERROR(IF(ISERROR(AB230), 0,AB230)), 0,IF(ISERROR(AB230), 0,AB230))), 0,IF(ISERROR(IF(ISERROR(AB230), 0,AB230)), 0,IF(ISERROR(AB230), 0,AB230))))","v":0},{"$f":"IF(ISERROR(IF(ISERROR(IF(ISERROR(IF(ISERROR($E$10-M229), 0,$E$10-M229)), 0,IF(ISERROR($E$10-M229), 0,$E$10-M229))), 0,IF(ISERROR(IF(ISERROR($E$10-M229), 0,$E$10-M229)), 0,IF(ISERROR($E$10-M229), 0,$E$10-M229)))), 0,IF(ISERROR(IF(ISERROR(IF(ISERROR($E$10-M229), 0,$E$10-M229)), 0,IF(ISERROR($E$10-M229), 0,$E$10-M229))), 0,IF(ISERROR(IF(ISERROR($E$10-M229), 0,$E$10-M229)), 0,IF(ISERROR($E$10-M229), 0,$E$10-M229))))","v":0.4},{"$f":"A230","v":259.88461538461434},{"$f":"I229","v":0},{"$f":"IF(ISERROR(IF(AC228=W228,Q228+(AC228/T228),Q228+(AD228/T228))), 0,IF(AC228=W228,Q228+(AC228/T228),Q228+(AD228/T228)))","v":0},{"$f":"D229","v":48},{"$f":"IF(ISERROR(Q229-R229), 0,Q229-R229)","v":-48},{"$f":"IF(ISERROR((O229/P229)), 0,(O229/P229))","v":0},{"$f":"IF(ISERROR(S229*T229), 0,S229*T229)","v":0},{"$f":"IF(ISERROR(O229/T229), 0,O229/T229)","v":0},14.2,0.4,{"$f":"IF(ISERROR(ABS(U229)), 0,ABS(U229))","v":0},0.15000000000000002,{"$f":"IF(ISERROR(ABS((Y229*X229)/W229)), 0,ABS((Y229*X229)/W229))","v":0},{"$f":"IF(ISERROR(IF(AA229>Z229,Z229,AA229)), 0,IF(AA229>Z229,Z229,AA229))","v":0},{"$f":"IF(ISERROR(IF(Y229>W229,W229,Y229)), 0,IF(Y229>W229,W229,Y229))","v":0},{"$f":"IF(ISERROR(IF(ISERROR(IF(ISERROR((AC229*AB229)/AA229), 0,(AC229*AB229)/AA229)), 0,IF(ISERROR((AC229*AB229)/AA229), 0,(AC229*AB229)/AA229))), 0,IF(ISERROR(IF(ISERROR((AC229*AB229)/AA229), 0,(AC229*AB229)/AA229)), 0,IF(ISERROR((AC229*AB229)/AA229), 0,(AC229*AB229)/AA229)))","v":0},{"$f":"IF(ISERROR(IF(ISERROR(IF(ISERROR(IF(AC229=W229,0,(AC229*AB229)/AA229)), 0,IF(AC229=W229,0,(AC229*AB229)/AA229))), 0,IF(ISERROR(IF(AC229=W229,0,(AC229*AB229)/AA229)), 0,IF(AC229=W229,0,(AC229*AB229)/AA229)))), 0,IF(ISERROR(IF(ISERROR(IF(AC229=W229,0,(AC229*AB229)/AA229)), 0,IF(AC229=W229,0,(AC229*AB229)/AA229))), 0,IF(ISERROR(IF(AC229=W229,0,(AC229*AB229)/AA229)), 0,IF(AC229=W229,0,(AC229*AB229)/AA229))))","v":0},{"$f":"IF(ISERROR(IF(ISERROR(IF(AC229=60,Q229+(AC229/T229),Q229+(AD229/T229))), 0,IF(AC229=60,Q229+(AC229/T229),Q229+(AD229/T229)))), 0,IF(ISERROR(IF(AC229=60,Q229+(AC229/T229),Q229+(AD229/T229))), 0,IF(AC229=60,Q229+(AC229/T229),Q229+(AD229/T229))))","v":0}]
[{"$f":"F340","v":259.88461538461434},{"$f":"IF(ISERROR(IF(AND(C229<D229, E229>$E$7),\"Ignore Drill Out Lead 1; rather pop out Lead 1 and LEAVE lead # 2 to \"&K229&\" inches.\",\"\")), 0,IF(AND(C229<D229, E229>$E$7),\"Ignore Drill Out Lead 1; rather pop out Lead 1 and LEAVE lead # 2 to \"&K229&\" inches.\",\"\"))","v":""},null,null,null,null,null,null,null,null,null,null,null,{"$f":"(G229+J229+M229)/$E$10*$E$7","v":0},{"$f":"A230","v":259.88461538461434},{"$f":"L229","v":0},{"$f":"IF(ISERROR(IF(ISERROR(IF(AC229=W229,Q229+(AC229/T229),Q229+(AD229/T229))), 0,IF(AC229=W229,Q229+(AC229/T229),Q229+(AD229/T229)))), 0,IF(ISERROR(IF(AC229=W229,Q229+(AC229/T229),Q229+(AD229/T229))), 0,IF(AC229=W229,Q229+(AC229/T229),Q229+(AD229/T229))))","v":0},{"$f":"D229","v":48},{"$f":"IF(ISERROR(Q230-R230), 0,Q230-R230)","v":-48},{"$f":"IF(ISERROR(IF(ISERROR(IF(ISERROR(IF(ISERROR((O230/P230)), 0,(O230/P230))), 0,IF(ISERROR((O230/P230)), 0,(O230/P230)))), 0,IF(ISERROR(IF(ISERROR((O230/P230)), 0,(O230/P230))), 0,IF(ISERROR((O230/P230)), 0,(O230/P230))))), 0,IF(ISERROR(IF(ISERROR(IF(ISERROR((O230/P230)), 0,(O230/P230))), 0,IF(ISERROR((O230/P230)), 0,(O230/P230)))), 0,IF(ISERROR(IF(ISERROR((O230/P230)), 0,(O230/P230))), 0,IF(ISERROR((O230/P230)), 0,(O230/P230)))))","v":0},{"$f":"IF(ISERROR(IF(ISERROR(IF(ISERROR(IF(ISERROR(S230*T230), 0,S230*T230)), 0,IF(ISERROR(S230*T230), 0,S230*T230))), 0,IF(ISERROR(IF(ISERROR(S230*T230), 0,S230*T230)), 0,IF(ISERROR(S230*T230), 0,S230*T230)))), 0,IF(ISERROR(IF(ISERROR(IF(ISERROR(S230*T230), 0,S230*T230)), 0,IF(ISERROR(S230*T230), 0,S230*T230))), 0,IF(ISERROR(IF(ISERROR(S230*T230), 0,S230*T230)), 0,IF(ISERROR(S230*T230), 0,S230*T230))))","v":0},{"$f":"IF(ISERROR(IF(ISERROR(IF(ISERROR(IF(ISERROR(O230/T230), 0,O230/T230)), 0,IF(ISERROR(O230/T230), 0,O230/T230))), 0,IF(ISERROR(IF(ISERROR(O230/T230), 0,O230/T230)), 0,IF(ISERROR(O230/T230), 0,O230/T230)))), 0,IF(ISERROR(IF(ISERROR(IF(ISERROR(O230/T230), 0,O230/T230)), 0,IF(ISERROR(O230/T230), 0,O230/T230))), 0,IF(ISERROR(IF(ISERROR(O230/T230), 0,O230/T230)), 0,IF(ISERROR(O230/T230), 0,O230/T230))))","v":0},14.2,0.4,{"$f":"IF(ISERROR(IF(ISERROR(IF(ISERROR(ABS(U230)), 0,ABS(U230))), 0,IF(ISERROR(ABS(U230)), 0,ABS(U230)))), 0,IF(ISERROR(IF(ISERROR(ABS(U230)), 0,ABS(U230))), 0,IF(ISERROR(ABS(U230)), 0,ABS(U230))))","v":0},0.15000000000000002,{"$f":"IF(ISERROR(IF(ISERROR(IF(ISERROR(ABS((Y230*X230)/W230)), 0,ABS((Y230*X230)/W230))), 0,IF(ISERROR(ABS((Y230*X230)/W230)), 0,ABS((Y230*X230)/W230)))), 0,IF(ISERROR(IF(ISERROR(ABS((Y230*X230)/W230)), 0,ABS((Y230*X230)/W230))), 0,IF(ISERROR(ABS((Y230*X230)/W230)), 0,ABS((Y230*X230)/W230))))","v":0},{"$f":"IF(ISERROR(IF(ISERROR(IF(ISERROR(IF(AA230>Z230,Z230,AA230)), 0,IF(AA230>Z230,Z230,AA230))), 0,IF(ISERROR(IF(AA230>Z230,Z230,AA230)), 0,IF(AA230>Z230,Z230,AA230)))), 0,IF(ISERROR(IF(ISERROR(IF(AA230>Z230,Z230,AA230)), 0,IF(AA230>Z230,Z230,AA230))), 0,IF(ISERROR(IF(AA230>Z230,Z230,AA230)), 0,IF(AA230>Z230,Z230,AA230))))","v":0},{"$f":"IF(ISERROR(IF(ISERROR(IF(ISERROR(IF(Y230>W230,W230,Y230)), 0,IF(Y230>W230,W230,Y230))), 0,IF(ISERROR(IF(Y230>W230,W230,Y230)), 0,IF(Y230>W230,W230,Y230)))), 0,IF(ISERROR(IF(ISERROR(IF(Y230>W230,W230,Y230)), 0,IF(Y230>W230,W230,Y230))), 0,IF(ISERROR(IF(Y230>W230,W230,Y230)), 0,IF(Y230>W230,W230,Y230))))","v":0},{"$f":"IF(ISERROR((AC230*AB230)/AA230), \"\",(AC230*AB230)/AA230)","v":""},{"$f":"IF(ISERROR(IF(AC230=W230,0,(AC230*AB230)/AA230)), \"\",IF(AC230=W230,0,(AC230*AB230)/AA230))","v":""},{"$f":"IF(ISERROR(IF(AC230=60,Q230+(AC230/T230),Q230+(AD230/T230))), \"\",IF(AC230=60,Q230+(AC230/T230),Q230+(AD230/T230)))","v":""}]
[null,null,"Test","Target",null,1,"dr_o","Lv_in",2,"dr_o","Lv_in",3,"dr_o","Lv_in",{"$f":"A233","v":251.5},{"$f":"F232","v":0},{"$f":"C232","v":48},{"$f":"D232","v":48},{"$f":"Q231-R231","v":0},{"$f":"IF(ISERROR((O231/P231)), 0,(O231/P231))","v":0},{"$f":"IF(ISERROR(S231*T231), 0,S231*T231)","v":0},{"$f":"IF(ISERROR(O231/T231), 0,O231/T231)","v":0},14.2,0.4,{"$f":"IF(ISERROR(ABS(U231)), 0,ABS(U231))","v":0},0.15000000000000002,{"$f":"IF(ISERROR(ABS((Y231*X231)/W231)), 0,ABS((Y231*X231)/W231))","v":0},{"$f":"IF(ISERROR(IF(AA231>Z231,Z231,AA231)), 0,IF(AA231>Z231,Z231,AA231))","v":0},{"$f":"IF(ISERROR(IF(Y231>W231,W231,Y231)), 0,IF(Y231>W231,W231,Y231))","v":0},{"$f":"IF(ISERROR(IF(ISERROR(IF(ISERROR(IF(ISERROR((AC231*AB231)/AA231), 0,(AC231*AB231)/AA231)), 0,IF(ISERROR((AC231*AB231)/AA231), 0,(AC231*AB231)/AA231))), 0,IF(ISERROR(IF(ISERROR((AC231*AB231)/AA231), 0,(AC231*AB231)/AA231)), 0,IF(ISERROR((AC231*AB231)/AA231), 0,(AC231*AB231)/AA231)))), 0,IF(ISERROR(IF(ISERROR(IF(ISERROR((AC231*AB231)/AA231), 0,(AC231*AB231)/AA231)), 0,IF(ISERROR((AC231*AB231)/AA231), 0,(AC231*AB231)/AA231))), 0,IF(ISERROR(IF(ISERROR((AC231*AB231)/AA231), 0,(AC231*AB231)/AA231)), 0,IF(ISERROR((AC231*AB231)/AA231), 0,(AC231*AB231)/AA231))))","v":0},{"$f":"IF(ISERROR(IF(ISERROR(IF(ISERROR(IF(AC231=W231,0,(AC231*AB231)/AA231)), 0,IF(AC231=W231,0,(AC231*AB231)/AA231))), 0,IF(ISERROR(IF(AC231=W231,0,(AC231*AB231)/AA231)), 0,IF(AC231=W231,0,(AC231*AB231)/AA231)))), 0,IF(ISERROR(IF(ISERROR(IF(AC231=W231,0,(AC231*AB231)/AA231)), 0,IF(AC231=W231,0,(AC231*AB231)/AA231))), 0,IF(ISERROR(IF(AC231=W231,0,(AC231*AB231)/AA231)), 0,IF(AC231=W231,0,(AC231*AB231)/AA231))))","v":0},{"$f":"IF(ISERROR(IF(ISERROR(IF(AC231=60,Q231+(AC231/T231),Q231+(AD231/T231))), 0,IF(AC231=60,Q231+(AC231/T231),Q231+(AD231/T231)))), 0,IF(ISERROR(IF(AC231=60,Q231+(AC231/T231),Q231+(AD231/T231))), 0,IF(AC231=60,Q231+(AC231/T231),Q231+(AD231/T231))))","v":0}]
["F#",70,48,48,{"$f":"IF(ISERROR(Y231), 0,Y231)","v":0},null,{"$f":"IF(ISERROR(AB231), 0,AB231)","v":0},{"$f":"IF(ISERROR($E$10-G232), 0,$E$10-G232)","v":0.4},null,{"$f":"IF(ISERROR(IF(ISERROR(AB232), 0,AB232)), 0,IF(ISERROR(AB232), 0,AB232))","v":0},{"$f":"IF(ISERROR(IF(ISERROR(ROUND($E$10-J232,3)), 0,ROUND($E$10-J232,3))), 0,IF(ISERROR(ROUND($E$10-J232,3)), 0,ROUND($E$10-J232,3)))","v":0.4},null,{"$f":"IF(ISERROR(AB233), 0,AB233)","v":0},{"$f":"IF(ISERROR($E$10-M232), 0,$E$10-M232)","v":0.4},{"$f":"A233","v":251.5},{"$f":"I232","v":0},{"$f":"IF(ISERROR(IF(ISERROR(IF(AC231=W231,Q231+(AC231/T231),Q231+(AD231/T231))), 0,IF(AC231=W231,Q231+(AC231/T231),Q231+(AD231/T231)))), 0,IF(ISERROR(IF(AC231=W231,Q231+(AC231/T231),Q231+(AD231/T231))), 0,IF(AC231=W231,Q231+(AC231/T231),Q231+(AD231/T231))))","v":0},{"$f":"D232","v":48},{"$f":"IF(ISERROR(IF(ISERROR(Q232-R232), 0,Q232-R232)), 0,IF(ISERROR(Q232-R232), 0,Q232-R232))","v":-48},{"$f":"IF(ISERROR((O232/P232)), 0,(O232/P232))","v":0},{"$f":"IF(ISERROR(IF(ISERROR(S232*T232), 0,S232*T232)), 0,IF(ISERROR(S232*T232), 0,S232*T232))","v":0},{"$f":"IF(ISERROR(IF(ISERROR(O232/T232), 0,O232/T232)), 0,IF(ISERROR(O232/T232), 0,O232/T232))","v":0},14.2,0.4,{"$f":"IF(ISERROR(IF(ISERROR(ABS(U232)), 0,ABS(U232))), 0,IF(ISERROR(ABS(U232)), 0,ABS(U232)))","v":0},0.15000000000000002,{"$f":"IF(ISERROR(IF(ISERROR(ABS((Y232*X232)/W232)), 0,ABS((Y232*X232)/W232))), 0,IF(ISERROR(ABS((Y232*X232)/W232)), 0,ABS((Y232*X232)/W232)))","v":0},{"$f":"IF(ISERROR(IF(ISERROR(IF(AA232>Z232,Z232,AA232)), 0,IF(AA232>Z232,Z232,AA232))), 0,IF(ISERROR(IF(AA232>Z232,Z232,AA232)), 0,IF(AA232>Z232,Z232,AA232)))","v":0},{"$f":"IF(ISERROR(IF(ISERROR(IF(Y232>W232,W232,Y232)), 0,IF(Y232>W232,W232,Y232))), 0,IF(ISERROR(IF(Y232>W232,W232,Y232)), 0,IF(Y232>W232,W232,Y232)))","v":0},{"$f":"IF(ISERROR((AC232*AB232)/AA232), 0,(AC232*AB232)/AA232)","v":0},{"$f":"IF(ISERROR(IF(ISERROR(IF(AC232=W232,0,(AC232*AB232)/AA232)), 0,IF(AC232=W232,0,(AC232*AB232)/AA232))), 0,IF(ISERROR(IF(AC232=W232,0,(AC232*AB232)/AA232)), 0,IF(AC232=W232,0,(AC232*AB232)/AA232)))","v":0},{"$f":"IF(ISERROR(IF(AC232=60,Q232+(AC232/T232),Q232+(AD232/T232))), 0,IF(AC232=60,Q232+(AC232/T232),Q232+(AD232/T232)))","v":0}]
[{"$f":"R328","v":251.5},{"$f":"IF(ISERROR(IF(AND(C232<D232, E232>$E$7),\"Ignore Drill Out Lead 1; rather pop out Lead 1 and LEAVE lead # 2 to \"&K232&\" inches.\",\"\")), 0,IF(AND(C232<D232, E232>$E$7),\"Ignore Drill Out Lead 1; rather pop out Lead 1 and LEAVE lead # 2 to \"&K232&\" inches.\",\"\"))","v":""},null,null,null,null,null,null,null,null,null,null,null,{"$f":"IF(ISERROR(IF(ISERROR((G232+J232+M232)/$E$10*$E$7), 0,(G232+J232+M232)/$E$10*$E$7)), 0,IF(ISERROR((G232+J232+M232)/$E$10*$E$7), 0,(G232+J232+M232)/$E$10*$E$7))","v":0},{"$f":"A233","v":251.5},{"$f":"L232","v":0},{"$f":"IF(ISERROR(IF(AC232=W232,Q232+(AC232/T232),Q232+(AD232/T232))), 0,IF(AC232=W232,Q232+(AC232/T232),Q232+(AD232/T232)))","v":0},{"$f":"D232","v":48},{"$f":"IF(ISERROR(Q233-R233), 0,Q233-R233)","v":-48},{"$f":"IF(ISERROR(IF(ISERROR((O233/P233)), 0,(O233/P233))), 0,IF(ISERROR((O233/P233)), 0,(O233/P233)))","v":0},{"$f":"IF(ISERROR(IF(ISERROR(S233*T233), 0,S233*T233)), 0,IF(ISERROR(S233*T233), 0,S233*T233))","v":0},{"$f":"IF(ISERROR(IF(ISERROR(IF(ISERROR(O233/T233), 0,O233/T233)), 0,IF(ISERROR(O233/T233), 0,O233/T233))), 0,IF(ISERROR(IF(ISERROR(O233/T233), 0,O233/T233)), 0,IF(ISERROR(O233/T233), 0,O233/T233)))","v":0},14.2,0.4,{"$f":"IF(ISERROR(IF(ISERROR(ABS(U233)), 0,ABS(U233))), 0,IF(ISERROR(ABS(U233)), 0,ABS(U233)))","v":0},0.15000000000000002,{"$f":"IF(ISERROR(IF(ISERROR(ABS((Y233*X233)/W233)), 0,ABS((Y233*X233)/W233))), 0,IF(ISERROR(ABS((Y233*X233)/W233)), 0,ABS((Y233*X233)/W233)))","v":0},{"$f":"IF(ISERROR(IF(ISERROR(IF(AA233>Z233,Z233,AA233)), 0,IF(AA233>Z233,Z233,AA233))), 0,IF(ISERROR(IF(AA233>Z233,Z233,AA233)), 0,IF(AA233>Z233,Z233,AA233)))","v":0},{"$f":"IF(ISERROR(IF(ISERROR(IF(Y233>W233,W233,Y233)), 0,IF(Y233>W233,W233,Y233))), 0,IF(ISERROR(IF(Y233>W233,W233,Y233)), 0,IF(Y233>W233,W233,Y233)))","v":0},{"$f":"IF(ISERROR((AC233*AB233)/AA233), \"\",(AC233*AB233)/AA233)","v":""},{"$f":"IF(ISERROR(IF(AC233=W233,0,(AC233*AB233)/AA233)), \"\",IF(AC233=W233,0,(AC233*AB233)/AA233))","v":""},{"$f":"IF(ISERROR(IF(AC233=60,Q233+(AC233/T233),Q233+(AD233/T233))), \"\",IF(AC233=60,Q233+(AC233/T233),Q233+(AD233/T233)))","v":""}]
[null,null,"Test","Target",null,1,"dr_o","Lv_in",2,"dr_o","Lv_in",3,"dr_o","Lv_in",{"$f":"A236","v":258.51923076922969},{"$f":"F235","v":0},{"$f":"C235","v":48},{"$f":"D235","v":48},{"$f":"Q234-R234","v":0},{"$f":"IF(ISERROR((O234/P234)), 0,(O234/P234))","v":0},{"$f":"IF(ISERROR(S234*T234), 0,S234*T234)","v":0},{"$f":"IF(ISERROR(O234/T234), 0,O234/T234)","v":0},14.2,0.4,{"$f":"IF(ISERROR(ABS(U234)), 0,ABS(U234))","v":0},0.15000000000000002,{"$f":"IF(ISERROR(ABS((Y234*X234)/W234)), 0,ABS((Y234*X234)/W234))","v":0},{"$f":"IF(ISERROR(IF(AA234>Z234,Z234,AA234)), 0,IF(AA234>Z234,Z234,AA234))","v":0},{"$f":"IF(ISERROR(IF(Y234>W234,W234,Y234)), 0,IF(Y234>W234,W234,Y234))","v":0},{"$f":"IF(ISERROR(IF(ISERROR(IF(ISERROR(IF(ISERROR((AC234*AB234)/AA234), 0,(AC234*AB234)/AA234)), 0,IF(ISERROR((AC234*AB234)/AA234), 0,(AC234*AB234)/AA234))), 0,IF(ISERROR(IF(ISERROR((AC234*AB234)/AA234), 0,(AC234*AB234)/AA234)), 0,IF(ISERROR((AC234*AB234)/AA234), 0,(AC234*AB234)/AA234)))), 0,IF(ISERROR(IF(ISERROR(IF(ISERROR((AC234*AB234)/AA234), 0,(AC234*AB234)/AA234)), 0,IF(ISERROR((AC234*AB234)/AA234), 0,(AC234*AB234)/AA234))), 0,IF(ISERROR(IF(ISERROR((AC234*AB234)/AA234), 0,(AC234*AB234)/AA234)), 0,IF(ISERROR((AC234*AB234)/AA234), 0,(AC234*AB234)/AA234))))","v":0},{"$f":"IF(ISERROR(IF(ISERROR(IF(ISERROR(IF(AC234=W234,0,(AC234*AB234)/AA234)), 0,IF(AC234=W234,0,(AC234*AB234)/AA234))), 0,IF(ISERROR(IF(AC234=W234,0,(AC234*AB234)/AA234)), 0,IF(AC234=W234,0,(AC234*AB234)/AA234)))), 0,IF(ISERROR(IF(ISERROR(IF(AC234=W234,0,(AC234*AB234)/AA234)), 0,IF(AC234=W234,0,(AC234*AB234)/AA234))), 0,IF(ISERROR(IF(AC234=W234,0,(AC234*AB234)/AA234)), 0,IF(AC234=W234,0,(AC234*AB234)/AA234))))","v":0},{"$f":"IF(ISERROR(IF(ISERROR(IF(AC234=60,Q234+(AC234/T234),Q234+(AD234/T234))), 0,IF(AC234=60,Q234+(AC234/T234),Q234+(AD234/T234)))), 0,IF(ISERROR(IF(AC234=60,Q234+(AC234/T234),Q234+(AD234/T234))), 0,IF(AC234=60,Q234+(AC234/T234),Q234+(AD234/T234))))","v":0}]
["G",71,48,48,{"$f":"IF(ISERROR(Y234), 0,Y234)","v":0},null,{"$f":"IF(ISERROR(AB234), 0,AB234)","v":0},{"$f":"IF(ISERROR($E$10-G235), 0,$E$10-G235)","v":0.4},null,{"$f":"IF(ISERROR(AB235), \"\",AB235)","v":0},{"$f":"IF(ISERROR(ROUND($E$10-J235,3)), \"\",ROUND($E$10-J235,3))","v":0.4},null,{"$f":"IF(ISERROR(AB236), \"\",AB236)","v":0},{"$f":"IF(ISERROR($E$10-M235), \"\",$E$10-M235)","v":0.4},{"$f":"A236","v":258.51923076922969},{"$f":"I235","v":0},{"$f":"IF(ISERROR(IF(ISERROR(IF(AC234=W234,Q234+(AC234/T234),Q234+(AD234/T234))), 0,IF(AC234=W234,Q234+(AC234/T234),Q234+(AD234/T234)))), 0,IF(ISERROR(IF(AC234=W234,Q234+(AC234/T234),Q234+(AD234/T234))), 0,IF(AC234=W234,Q234+(AC234/T234),Q234+(AD234/T234))))","v":0},{"$f":"D235","v":48},{"$f":"IF(ISERROR(IF(ISERROR(Q235-R235), 0,Q235-R235)), 0,IF(ISERROR(Q235-R235), 0,Q235-R235))","v":-48},{"$f":"IF(ISERROR((O235/P235)), 0,(O235/P235))","v":0},{"$f":"IF(ISERROR(IF(ISERROR(S235*T235), 0,S235*T235)), 0,IF(ISERROR(S235*T235), 0,S235*T235))","v":0},{"$f":"IF(ISERROR(O235/T235), 0,O235/T235)","v":0},14.2,0.4,{"$f":"IF(ISERROR(IF(ISERROR(ABS(U235)), 0,ABS(U235))), 0,IF(ISERROR(ABS(U235)), 0,ABS(U235)))","v":0},0.15000000000000002,{"$f":"IF(ISERROR(IF(ISERROR(ABS((Y235*X235)/W235)), 0,ABS((Y235*X235)/W235))), 0,IF(ISERROR(ABS((Y235*X235)/W235)), 0,ABS((Y235*X235)/W235)))","v":0},{"$f":"IF(ISERROR(IF(ISERROR(IF(AA235>Z235,Z235,AA235)), 0,IF(AA235>Z235,Z235,AA235))), 0,IF(ISERROR(IF(AA235>Z235,Z235,AA235)), 0,IF(AA235>Z235,Z235,AA235)))","v":0},{"$f":"IF(ISERROR(IF(ISERROR(IF(Y235>W235,W235,Y235)), 0,IF(Y235>W235,W235,Y235))), 0,IF(ISERROR(IF(Y235>W235,W235,Y235)), 0,IF(Y235>W235,W235,Y235)))","v":0},{"$f":"IF(ISERROR((AC235*AB235)/AA235), \"\",(AC235*AB235)/AA235)","v":""},{"$f":"IF(ISERROR(IF(AC235=W235,0,(AC235*AB235)/AA235)), \"\",IF(AC235=W235,0,(AC235*AB235)/AA235))","v":""},{"$f":"IF(ISERROR(IF(AC235=60,Q235+(AC235/T235),Q235+(AD235/T235))), \"\",IF(AC235=60,Q235+(AC235/T235),Q235+(AD235/T235)))","v":""}]
[{"$f":"F341","v":258.51923076922969},{"$f":"IF(ISERROR(IF(AND(C235<D235, E235>$E$7),\"Ignore Drill Out Lead 1; rather pop out Lead 1 and LEAVE lead # 2 to \"&K235&\" inches.\",\"\")), 0,IF(AND(C235<D235, E235>$E$7),\"Ignore Drill Out Lead 1; rather pop out Lead 1 and LEAVE lead # 2 to \"&K235&\" inches.\",\"\"))","v":""},null,null,null,null,null,null,null,null,null,null,null,{"$f":"(G235+J235+M235)/$E$10*$E$7","v":0},{"$f":"A236","v":258.51923076922969},{"$f":"L235","v":0},{"$f":"IF(ISERROR(IF(AC235=W235,Q235+(AC235/T235),Q235+(AD235/T235))), \"\",IF(AC235=W235,Q235+(AC235/T235),Q235+(AD235/T235)))","v":""},{"$f":"D235","v":48},{"$f":"IF(ISERROR(Q236-R236), 0,Q236-R236)","v":0},{"$f":"IF(ISERROR(IF(ISERROR(IF(ISERROR((O236/P236)), 0,(O236/P236))), 0,IF(ISERROR((O236/P236)), 0,(O236/P236)))), 0,IF(ISERROR(IF(ISERROR((O236/P236)), 0,(O236/P236))), 0,IF(ISERROR((O236/P236)), 0,(O236/P236))))","v":0},{"$f":"IF(ISERROR(S236*T236), \"\",S236*T236)","v":0},{"$f":"IF(ISERROR(IF(ISERROR(IF(ISERROR(IF(ISERROR(O236/T236), 0,O236/T236)), 0,IF(ISERROR(O236/T236), 0,O236/T236))), 0,IF(ISERROR(IF(ISERROR(O236/T236), 0,O236/T236)), 0,IF(ISERROR(O236/T236), 0,O236/T236)))), 0,IF(ISERROR(IF(ISERROR(IF(ISERROR(O236/T236), 0,O236/T236)), 0,IF(ISERROR(O236/T236), 0,O236/T236))), 0,IF(ISERROR(IF(ISERROR(O236/T236), 0,O236/T236)), 0,IF(ISERROR(O236/T236), 0,O236/T236))))","v":0},14.2,0.4,{"$f":"IF(ISERROR(ABS(U236)), \"\",ABS(U236))","v":0},0.15000000000000002,{"$f":"IF(ISERROR(ABS((Y236*X236)/W236)), \"\",ABS((Y236*X236)/W236))","v":0},{"$f":"IF(ISERROR(IF(AA236>Z236,Z236,AA236)), \"\",IF(AA236>Z236,Z236,AA236))","v":0},{"$f":"IF(ISERROR(IF(Y236>W236,W236,Y236)), \"\",IF(Y236>W236,W236,Y236))","v":0},{"$f":"IF(ISERROR((AC236*AB236)/AA236), \"\",(AC236*AB236)/AA236)","v":""},{"$f":"IF(ISERROR(IF(AC236=W236,0,(AC236*AB236)/AA236)), \"\",IF(AC236=W236,0,(AC236*AB236)/AA236))","v":""},{"$f":"IF(ISERROR(IF(AC236=60,Q236+(AC236/T236),Q236+(AD236/T236))), \"\",IF(AC236=60,Q236+(AC236/T236),Q236+(AD236/T236)))","v":""}]
[null,null,"Test","Target",null,1,"dr_o","Lv_in",2,"dr_o","Lv_in",3,"dr_o","Lv_in",{"$f":"A239","v":250.5},{"$f":"F238","v":0},{"$f":"C238","v":48},{"$f":"D238","v":48},{"$f":"Q237-R237","v":0},{"$f":"IF(ISERROR((O237/P237)), 0,(O237/P237))","v":0},{"$f":"IF(ISERROR(S237*T237), 0,S237*T237)","v":0},{"$f":"IF(ISERROR(O237/T237), 0,O237/T237)","v":0},14.2,0.4,{"$f":"IF(ISERROR(ABS(U237)), 0,ABS(U237))","v":0},0.15000000000000002,{"$f":"IF(ISERROR(ABS((Y237*X237)/W237)), 0,ABS((Y237*X237)/W237))","v":0},{"$f":"IF(ISERROR(IF(AA237>Z237,Z237,AA237)), 0,IF(AA237>Z237,Z237,AA237))","v":0},{"$f":"IF(ISERROR(IF(Y237>W237,W237,Y237)), 0,IF(Y237>W237,W237,Y237))","v":0},{"$f":"IF(ISERROR(IF(ISERROR(IF(ISERROR(IF(ISERROR((AC237*AB237)/AA237), 0,(AC237*AB237)/AA237)), 0,IF(ISERROR((AC237*AB237)/AA237), 0,(AC237*AB237)/AA237))), 0,IF(ISERROR(IF(ISERROR((AC237*AB237)/AA237), 0,(AC237*AB237)/AA237)), 0,IF(ISERROR((AC237*AB237)/AA237), 0,(AC237*AB237)/AA237)))), 0,IF(ISERROR(IF(ISERROR(IF(ISERROR((AC237*AB237)/AA237), 0,(AC237*AB237)/AA237)), 0,IF(ISERROR((AC237*AB237)/AA237), 0,(AC237*AB237)/AA237))), 0,IF(ISERROR(IF(ISERROR((AC237*AB237)/AA237), 0,(AC237*AB237)/AA237)), 0,IF(ISERROR((AC237*AB237)/AA237), 0,(AC237*AB237)/AA237))))","v":0},{"$f":"IF(ISERROR(IF(ISERROR(IF(ISERROR(IF(AC237=W237,0,(AC237*AB237)/AA237)), 0,IF(AC237=W237,0,(AC237*AB237)/AA237))), 0,IF(ISERROR(IF(AC237=W237,0,(AC237*AB237)/AA237)), 0,IF(AC237=W237,0,(AC237*AB237)/AA237)))), 0,IF(ISERROR(IF(ISERROR(IF(AC237=W237,0,(AC237*AB237)/AA237)), 0,IF(AC237=W237,0,(AC237*AB237)/AA237))), 0,IF(ISERROR(IF(AC237=W237,0,(AC237*AB237)/AA237)), 0,IF(AC237=W237,0,(AC237*AB237)/AA237))))","v":0},{"$f":"IF(ISERROR(IF(ISERROR(IF(AC237=60,Q237+(AC237/T237),Q237+(AD237/T237))), 0,IF(AC237=60,Q237+(AC237/T237),Q237+(AD237/T237)))), 0,IF(ISERROR(IF(AC237=60,Q237+(AC237/T237),Q237+(AD237/T237))), 0,IF(AC237=60,Q237+(AC237/T237),Q237+(AD237/T237))))","v":0}]
["G#",72,48,48,{"$f":"IF(ISERROR(Y237), 0,Y237)","v":0},null,{"$f":"IF(ISERROR(AB237), 0,AB237)","v":0},{"$f":"IF(ISERROR($E$10-G238), 0,$E$10-G238)","v":0.4},null,{"$f":"IF(ISERROR(AB238), \"\",AB238)","v":0},{"$f":"IF(ISERROR(ROUND($E$10-J238,3)), \"\",ROUND($E$10-J238,3))","v":0.4},null,{"$f":"IF(ISERROR(AB239), \"\",AB239)","v":0},{"$f":"IF(ISERROR($E$10-M238), \"\",$E$10-M238)","v":0.4},{"$f":"A239","v":250.5},{"$f":"I238","v":0},{"$f":"IF(ISERROR(IF(ISERROR(IF(AC237=W237,Q237+(AC237/T237),Q237+(AD237/T237))), 0,IF(AC237=W237,Q237+(AC237/T237),Q237+(AD237/T237)))), 0,IF(ISERROR(IF(AC237=W237,Q237+(AC237/T237),Q237+(AD237/T237))), 0,IF(AC237=W237,Q237+(AC237/T237),Q237+(AD237/T237))))","v":0},{"$f":"D238","v":48},{"$f":"IF(ISERROR(IF(ISERROR(Q238-R238), 0,Q238-R238)), 0,IF(ISERROR(Q238-R238), 0,Q238-R238))","v":-48},{"$f":"IF(ISERROR(IF(ISERROR(IF(ISERROR(IF(ISERROR((O238/P238)), 0,(O238/P238))), 0,IF(ISERROR((O238/P238)), 0,(O238/P238)))), 0,IF(ISERROR(IF(ISERROR((O238/P238)), 0,(O238/P238))), 0,IF(ISERROR((O238/P238)), 0,(O238/P238))))), 0,IF(ISERROR(IF(ISERROR(IF(ISERROR((O238/P238)), 0,(O238/P238))), 0,IF(ISERROR((O238/P238)), 0,(O238/P238)))), 0,IF(ISERROR(IF(ISERROR((O238/P238)), 0,(O238/P238))), 0,IF(ISERROR((O238/P238)), 0,(O238/P238)))))","v":0},{"$f":"IF(ISERROR(IF(ISERROR(IF(ISERROR(IF(ISERROR(S238*T238), 0,S238*T238)), 0,IF(ISERROR(S238*T238), 0,S238*T238))), 0,IF(ISERROR(IF(ISERROR(S238*T238), 0,S238*T238)), 0,IF(ISERROR(S238*T238), 0,S238*T238)))), 0,IF(ISERROR(IF(ISERROR(IF(ISERROR(S238*T238), 0,S238*T238)), 0,IF(ISERROR(S238*T238), 0,S238*T238))), 0,IF(ISERROR(IF(ISERROR(S238*T238), 0,S238*T238)), 0,IF(ISERROR(S238*T238), 0,S238*T238))))","v":0},{"$f":"IF(ISERROR(IF(ISERROR(IF(ISERROR(IF(ISERROR(O238/T238), 0,O238/T238)), 0,IF(ISERROR(O238/T238), 0,O238/T238))), 0,IF(ISERROR(IF(ISERROR(O238/T238), 0,O238/T238)), 0,IF(ISERROR(O238/T238), 0,O238/T238)))), 0,IF(ISERROR(IF(ISERROR(IF(ISERROR(O238/T238), 0,O238/T238)), 0,IF(ISERROR(O238/T238), 0,O238/T238))), 0,IF(ISERROR(IF(ISERROR(O238/T238), 0,O238/T238)), 0,IF(ISERROR(O238/T238), 0,O238/T238))))","v":0},14.2,0.4,{"$f":"IF(ISERROR(IF(ISERROR(IF(ISERROR(ABS(U238)), 0,ABS(U238))), 0,IF(ISERROR(ABS(U238)), 0,ABS(U238)))), 0,IF(ISERROR(IF(ISERROR(ABS(U238)), 0,ABS(U238))), 0,IF(ISERROR(ABS(U238)), 0,ABS(U238))))","v":0},0.15000000000000002,{"$f":"IF(ISERROR(IF(ISERROR(IF(ISERROR(ABS((Y238*X238)/W238)), 0,ABS((Y238*X238)/W238))), 0,IF(ISERROR(ABS((Y238*X238)/W238)), 0,ABS((Y238*X238)/W238)))), 0,IF(ISERROR(IF(ISERROR(ABS((Y238*X238)/W238)), 0,ABS((Y238*X238)/W238))), 0,IF(ISERROR(ABS((Y238*X238)/W238)), 0,ABS((Y238*X238)/W238))))","v":0},{"$f":"IF(ISERROR(IF(ISERROR(IF(ISERROR(IF(AA238>Z238,Z238,AA238)), 0,IF(AA238>Z238,Z238,AA238))), 0,IF(ISERROR(IF(AA238>Z238,Z238,AA238)), 0,IF(AA238>Z238,Z238,AA238)))), 0,IF(ISERROR(IF(ISERROR(IF(AA238>Z238,Z238,AA238)), 0,IF(AA238>Z238,Z238,AA238))), 0,IF(ISERROR(IF(AA238>Z238,Z238,AA238)), 0,IF(AA238>Z238,Z238,AA238))))","v":0},{"$f":"IF(ISERROR(IF(ISERROR(IF(ISERROR(IF(Y238>W238,W238,Y238)), 0,IF(Y238>W238,W238,Y238))), 0,IF(ISERROR(IF(Y238>W238,W238,Y238)), 0,IF(Y238>W238,W238,Y238)))), 0,IF(ISERROR(IF(ISERROR(IF(Y238>W238,W238,Y238)), 0,IF(Y238>W238,W238,Y238))), 0,IF(ISERROR(IF(Y238>W238,W238,Y238)), 0,IF(Y238>W238,W238,Y238))))","v":0},{"$f":"IF(ISERROR((AC238*AB238)/AA238), \"\",(AC238*AB238)/AA238)","v":""},{"$f":"IF(ISERROR(IF(AC238=W238,0,(AC238*AB238)/AA238)), \"\",IF(AC238=W238,0,(AC238*AB238)/AA238))","v":""},{"$f":"IF(ISERROR(IF(AC238=60,Q238+(AC238/T238),Q238+(AD238/T238))), \"\",IF(AC238=60,Q238+(AC238/T238),Q238+(AD238/T238)))","v":""}]
[{"$f":"R329","v":250.5},{"$f":"IF(ISERROR(IF(AND(C238<D238, E238>$E$7),\"Ignore Drill Out Lead 1; rather pop out Lead 1 and LEAVE lead # 2 to \"&K238&\" inches.\",\"\")), 0,IF(AND(C238<D238, E238>$E$7),\"Ignore Drill Out Lead 1; rather pop out Lead 1 and LEAVE lead # 2 to \"&K238&\" inches.\",\"\"))","v":""},null,null,null,null,null,null,null,null,null,null,null,{"$f":"(G238+J238+M238)/$E$10*$E$7","v":0},{"$f":"A239","v":250.5},{"$f":"L238","v":0},{"$f":"IF(ISERROR(IF(AC238=W238,Q238+(AC238/T238),Q238+(AD238/T238))), \"\",IF(AC238=W238,Q238+(AC238/T238),Q238+(AD238/T238)))","v":""},{"$f":"D238","v":48},{"$f":"IF(ISERROR(Q239-R239), 0,Q239-R239)","v":0},{"$f":"IF(ISERROR(IF(ISERROR(IF(ISERROR((O239/P239)), 0,(O239/P239))), 0,IF(ISERROR((O239/P239)), 0,(O239/P239)))), 0,IF(ISERROR(IF(ISERROR((O239/P239)), 0,(O239/P239))), 0,IF(ISERROR((O239/P239)), 0,(O239/P239))))","v":0},{"$f":"IF(ISERROR(S239*T239), \"\",S239*T239)","v":0},{"$f":"IF(ISERROR(IF(ISERROR(IF(ISERROR(IF(ISERROR(O239/T239), 0,O239/T239)), 0,IF(ISERROR(O239/T239), 0,O239/T239))), 0,IF(ISERROR(IF(ISERROR(O239/T239), 0,O239/T239)), 0,IF(ISERROR(O239/T239), 0,O239/T239)))), 0,IF(ISERROR(IF(ISERROR(IF(ISERROR(O239/T239), 0,O239/T239)), 0,IF(ISERROR(O239/T239), 0,O239/T239))), 0,IF(ISERROR(IF(ISERROR(O239/T239), 0,O239/T239)), 0,IF(ISERROR(O239/T239), 0,O239/T239))))","v":0},14.2,0.4,{"$f":"IF(ISERROR(ABS(U239)), \"\",ABS(U239))","v":0},0.15000000000000002,{"$f":"IF(ISERROR(ABS((Y239*X239)/W239)), \"\",ABS((Y239*X239)/W239))","v":0},{"$f":"IF(ISERROR(IF(AA239>Z239,Z239,AA239)), \"\",IF(AA239>Z239,Z239,AA239))","v":0},{"$f":"IF(ISERROR(IF(Y239>W239,W239,Y239)), \"\",IF(Y239>W239,W239,Y239))","v":0},{"$f":"IF(ISERROR((AC239*AB239)/AA239), \"\",(AC239*AB239)/AA239)","v":""},{"$f":"IF(ISERROR(IF(AC239=W239,0,(AC239*AB239)/AA239)), \"\",IF(AC239=W239,0,(AC239*AB239)/AA239))","v":""},{"$f":"IF(ISERROR(IF(AC239=60,Q239+(AC239/T239),Q239+(AD239/T239))), \"\",IF(AC239=60,Q239+(AC239/T239),Q239+(AD239/T239)))","v":""}]
[]
[null,null,"Gram Test","Desired DW","Total Lead to remove","Location mm","Drill Depth Inches","Leave this much lead","Location mm","Depth","Leave this much lead","Location mm","Depth","Leave this much lead",null,null,"delta DW","ddw","dif_dw","key_ro","reqd_ld","key_div","slugs","lead_wid","reqd_ld","max_drill","tot_drill","act_drill","lead_out","fac","slug_rmn","delta_DW"]
[null,"Key #","DW","DDW","Ld. Out","Lead 1","Drill Out ","LEAVE","2nd","Drill  ","LEAVE","3rd","Drill  ","LEAVE",{"$f":"A244","v":257.15384615384505},{"$f":"F243","v":0},{"$f":"C243","v":48},{"$f":"D243","v":47},{"$f":"Q242-R242","v":1},{"$f":"IF(ISERROR((O242/P242)), 0,(O242/P242))","v":0},{"$f":"IF(ISERROR(S242*T242), 0,S242*T242)","v":0},{"$f":"IF(ISERROR(O242/T242), 0,O242/T242)","v":0},{"$f":"$E$7","v":14.2},{"$f":"$E$10","v":0.4},{"$f":"IF(ISERROR(ABS(U242)), 0,ABS(U242))","v":0},{"$f":"$X$14-$G$11","v":0.15000000000000002},{"$f":"IF(ISERROR(ABS((Y242*X242)/W242)), 0,ABS((Y242*X242)/W242))","v":0},{"$f":"IF(ISERROR(IF(AA242>Z242,Z242,AA242)), 0,IF(AA242>Z242,Z242,AA242))","v":0},{"$f":"IF(ISERROR(IF(Y242>W242,W242,Y242)), 0,IF(Y242>W242,W242,Y242))","v":0},{"$f":"IF(ISERROR(IF(ISERROR((AC242*AB242)/AA242), 0,(AC242*AB242)/AA242)), 0,IF(ISERROR((AC242*AB242)/AA242), 0,(AC242*AB242)/AA242))","v":0},{"$f":"IF(ISERROR(IF(ISERROR(IF(ISERROR(IF(AC242=W242,0,(AC242*AB242)/AA242)), 0,IF(AC242=W242,0,(AC242*AB242)/AA242))), 0,IF(ISERROR(IF(AC242=W242,0,(AC242*AB242)/AA242)), 0,IF(AC242=W242,0,(AC242*AB242)/AA242)))), 0,IF(ISERROR(IF(ISERROR(IF(AC242=W242,0,(AC242*AB242)/AA242)), 0,IF(AC242=W242,0,(AC242*AB242)/AA242))), 0,IF(ISERROR(IF(AC242=W242,0,(AC242*AB242)/AA242)), 0,IF(AC242=W242,0,(AC242*AB242)/AA242))))","v":0},{"$f":"IF(ISERROR(IF(ISERROR(IF(ISERROR(IF(AC242=60,Q242+(AC242/T242),Q242+(AD242/T242))), 0,IF(AC242=60,Q242+(AC242/T242),Q242+(AD242/T242)))), 0,IF(ISERROR(IF(AC242=60,Q242+(AC242/T242),Q242+(AD242/T242))), 0,IF(AC242=60,Q242+(AC242/T242),Q242+(AD242/T242))))), 0,IF(ISERROR(IF(ISERROR(IF(AC242=60,Q242+(AC242/T242),Q242+(AD242/T242))), 0,IF(AC242=60,Q242+(AC242/T242),Q242+(AD242/T242)))), 0,IF(ISERROR(IF(AC242=60,Q242+(AC242/T242),Q242+(AD242/T242))), 0,IF(AC242=60,Q242+(AC242/T242),Q242+(AD242/T242)))))","v":0}]
["A",73,48,47,{"$f":"IF(ISERROR(Y242), 0,Y242)","v":0},null,{"$f":"IF(ISERROR(AB242), 0,AB242)","v":0},{"$f":"IF(ISERROR($E$10-G243), 0,$E$10-G243)","v":0.4},null,{"$f":"IF(ISERROR(IF(ISERROR(IF(ISERROR(IF(ISERROR(AB243), 0,AB243)), 0,IF(ISERROR(AB243), 0,AB243))), 0,IF(ISERROR(IF(ISERROR(AB243), 0,AB243)), 0,IF(ISERROR(AB243), 0,AB243)))), 0,IF(ISERROR(IF(ISERROR(IF(ISERROR(AB243), 0,AB243)), 0,IF(ISERROR(AB243), 0,AB243))), 0,IF(ISERROR(IF(ISERROR(AB243), 0,AB243)), 0,IF(ISERROR(AB243), 0,AB243))))","v":0},{"$f":"IF(ISERROR(IF(ISERROR(IF(ISERROR(ROUND($E$10-J243,3)), 0,ROUND($E$10-J243,3))), 0,IF(ISERROR(ROUND($E$10-J243,3)), 0,ROUND($E$10-J243,3)))), 0,IF(ISERROR(IF(ISERROR(ROUND($E$10-J243,3)), 0,ROUND($E$10-J243,3))), 0,IF(ISERROR(ROUND($E$10-J243,3)), 0,ROUND($E$10-J243,3))))","v":0.4},null,{"$f":"IF(ISERROR(IF(ISERROR(IF(ISERROR(IF(ISERROR(AB244), 0,AB244)), 0,IF(ISERROR(AB244), 0,AB244))), 0,IF(ISERROR(IF(ISERROR(AB244), 0,AB244)), 0,IF(ISERROR(AB244), 0,AB244)))), 0,IF(ISERROR(IF(ISERROR(IF(ISERROR(AB244), 0,AB244)), 0,IF(ISERROR(AB244), 0,AB244))), 0,IF(ISERROR(IF(ISERROR(AB244), 0,AB244)), 0,IF(ISERROR(AB244), 0,AB244))))","v":0},{"$f":"IF(ISERROR(IF(ISERROR(IF(ISERROR(IF(ISERROR($E$10-M243), 0,$E$10-M243)), 0,IF(ISERROR($E$10-M243), 0,$E$10-M243))), 0,IF(ISERROR(IF(ISERROR($E$10-M243), 0,$E$10-M243)), 0,IF(ISERROR($E$10-M243), 0,$E$10-M243)))), 0,IF(ISERROR(IF(ISERROR(IF(ISERROR($E$10-M243), 0,$E$10-M243)), 0,IF(ISERROR($E$10-M243), 0,$E$10-M243))), 0,IF(ISERROR(IF(ISERROR($E$10-M243), 0,$E$10-M243)), 0,IF(ISERROR($E$10-M243), 0,$E$10-M243))))","v":0.4},{"$f":"A244","v":257.15384615384505},{"$f":"I243","v":0},{"$f":"IF(ISERROR(IF(ISERROR(IF(ISERROR(IF(AC242=W242,Q242+(AC242/T242),Q242+(AD242/T242))), 0,IF(AC242=W242,Q242+(AC242/T242),Q242+(AD242/T242)))), 0,IF(ISERROR(IF(AC242=W242,Q242+(AC242/T242),Q242+(AD242/T242))), 0,IF(AC242=W242,Q242+(AC242/T242),Q242+(AD242/T242))))), 0,IF(ISERROR(IF(ISERROR(IF(AC242=W242,Q242+(AC242/T242),Q242+(AD242/T242))), 0,IF(AC242=W242,Q242+(AC242/T242),Q242+(AD242/T242)))), 0,IF(ISERROR(IF(AC242=W242,Q242+(AC242/T242),Q242+(AD242/T242))), 0,IF(AC242=W242,Q242+(AC242/T242),Q242+(AD242/T242)))))","v":0},{"$f":"D243","v":47},{"$f":"IF(ISERROR(IF(ISERROR(IF(ISERROR(IF(ISERROR(Q243-R243), 0,Q243-R243)), 0,IF(ISERROR(Q243-R243), 0,Q243-R243))), 0,IF(ISERROR(IF(ISERROR(Q243-R243), 0,Q243-R243)), 0,IF(ISERROR(Q243-R243), 0,Q243-R243)))), 0,IF(ISERROR(IF(ISERROR(IF(ISERROR(Q243-R243), 0,Q243-R243)), 0,IF(ISERROR(Q243-R243), 0,Q243-R243))), 0,IF(ISERROR(IF(ISERROR(Q243-R243), 0,Q243-R243)), 0,IF(ISERROR(Q243-R243), 0,Q243-R243))))","v":-47},{"$f":"IF(ISERROR((O243/P243)), 0,(O243/P243))","v":0},{"$f":"IF(ISERROR(IF(ISERROR(IF(ISERROR(IF(ISERROR(S243*T243), 0,S243*T243)), 0,IF(ISERROR(S243*T243), 0,S243*T243))), 0,IF(ISERROR(IF(ISERROR(S243*T243), 0,S243*T243)), 0,IF(ISERROR(S243*T243), 0,S243*T243)))), 0,IF(ISERROR(IF(ISERROR(IF(ISERROR(S243*T243), 0,S243*T243)), 0,IF(ISERROR(S243*T243), 0,S243*T243))), 0,IF(ISERROR(IF(ISERROR(S243*T243), 0,S243*T243)), 0,IF(ISERROR(S243*T243), 0,S243*T243))))","v":0},{"$f":"IF(ISERROR(IF(ISERROR(IF(ISERROR(IF(ISERROR(O243/T243), 0,O243/T243)), 0,IF(ISERROR(O243/T243), 0,O243/T243))), 0,IF(ISERROR(IF(ISERROR(O243/T243), 0,O243/T243)), 0,IF(ISERROR(O243/T243), 0,O243/T243)))), 0,IF(ISERROR(IF(ISERROR(IF(ISERROR(O243/T243), 0,O243/T243)), 0,IF(ISERROR(O243/T243), 0,O243/T243))), 0,IF(ISERROR(IF(ISERROR(O243/T243), 0,O243/T243)), 0,IF(ISERROR(O243/T243), 0,O243/T243))))","v":0},14.2,0.4,{"$f":"IF(ISERROR(IF(ISERROR(IF(ISERROR(ABS(U243)), 0,ABS(U243))), 0,IF(ISERROR(ABS(U243)), 0,ABS(U243)))), 0,IF(ISERROR(IF(ISERROR(ABS(U243)), 0,ABS(U243))), 0,IF(ISERROR(ABS(U243)), 0,ABS(U243))))","v":0},0.15000000000000002,{"$f":"IF(ISERROR(IF(ISERROR(IF(ISERROR(ABS((Y243*X243)/W243)), 0,ABS((Y243*X243)/W243))), 0,IF(ISERROR(ABS((Y243*X243)/W243)), 0,ABS((Y243*X243)/W243)))), 0,IF(ISERROR(IF(ISERROR(ABS((Y243*X243)/W243)), 0,ABS((Y243*X243)/W243))), 0,IF(ISERROR(ABS((Y243*X243)/W243)), 0,ABS((Y243*X243)/W243))))","v":0},{"$f":"IF(ISERROR(IF(ISERROR(IF(ISERROR(IF(AA243>Z243,Z243,AA243)), 0,IF(AA243>Z243,Z243,AA243))), 0,IF(ISERROR(IF(AA243>Z243,Z243,AA243)), 0,IF(AA243>Z243,Z243,AA243)))), 0,IF(ISERROR(IF(ISERROR(IF(AA243>Z243,Z243,AA243)), 0,IF(AA243>Z243,Z243,AA243))), 0,IF(ISERROR(IF(AA243>Z243,Z243,AA243)), 0,IF(AA243>Z243,Z243,AA243))))","v":0},{"$f":"IF(ISERROR(IF(ISERROR(IF(ISERROR(IF(Y243>W243,W243,Y243)), 0,IF(Y243>W243,W243,Y243))), 0,IF(ISERROR(IF(Y243>W243,W243,Y243)), 0,IF(Y243>W243,W243,Y243)))), 0,IF(ISERROR(IF(ISERROR(IF(Y243>W243,W243,Y243)), 0,IF(Y243>W243,W243,Y243))), 0,IF(ISERROR(IF(Y243>W243,W243,Y243)), 0,IF(Y243>W243,W243,Y243))))","v":0},{"$f":"IF(ISERROR(IF(ISERROR(IF(ISERROR(IF(ISERROR((AC243*AB243)/AA243), 0,(AC243*AB243)/AA243)), 0,IF(ISERROR((AC243*AB243)/AA243), 0,(AC243*AB243)/AA243))), 0,IF(ISERROR(IF(ISERROR((AC243*AB243)/AA243), 0,(AC243*AB243)/AA243)), 0,IF(ISERROR((AC243*AB243)/AA243), 0,(AC243*AB243)/AA243)))), 0,IF(ISERROR(IF(ISERROR(IF(ISERROR((AC243*AB243)/AA243), 0,(AC243*AB243)/AA243)), 0,IF(ISERROR((AC243*AB243)/AA243), 0,(AC243*AB243)/AA243))), 0,IF(ISERROR(IF(ISERROR((AC243*AB243)/AA243), 0,(AC243*AB243)/AA243)), 0,IF(ISERROR((AC243*AB243)/AA243), 0,(AC243*AB243)/AA243))))","v":0},{"$f":"IF(ISERROR(IF(ISERROR(IF(ISERROR(IF(AC243=W243,0,(AC243*AB243)/AA243)), 0,IF(AC243=W243,0,(AC243*AB243)/AA243))), 0,IF(ISERROR(IF(AC243=W243,0,(AC243*AB243)/AA243)), 0,IF(AC243=W243,0,(AC243*AB243)/AA243)))), 0,IF(ISERROR(IF(ISERROR(IF(AC243=W243,0,(AC243*AB243)/AA243)), 0,IF(AC243=W243,0,(AC243*AB243)/AA243))), 0,IF(ISERROR(IF(AC243=W243,0,(AC243*AB243)/AA243)), 0,IF(AC243=W243,0,(AC243*AB243)/AA243))))","v":0},{"$f":"IF(ISERROR(IF(ISERROR(IF(ISERROR(IF(AC243=60,Q243+(AC243/T243),Q243+(AD243/T243))), 0,IF(AC243=60,Q243+(AC243/T243),Q243+(AD243/T243)))), 0,IF(ISERROR(IF(AC243=60,Q243+(AC243/T243),Q243+(AD243/T243))), 0,IF(AC243=60,Q243+(AC243/T243),Q243+(AD243/T243))))), 0,IF(ISERROR(IF(ISERROR(IF(AC243=60,Q243+(AC243/T243),Q243+(AD243/T243))), 0,IF(AC243=60,Q243+(AC243/T243),Q243+(AD243/T243)))), 0,IF(ISERROR(IF(AC243=60,Q243+(AC243/T243),Q243+(AD243/T243))), 0,IF(AC243=60,Q243+(AC243/T243),Q243+(AD243/T243)))))","v":0}]
[{"$f":"F342","v":257.15384615384505},{"$f":"IF(ISERROR(IF(AND(C243<D243, E243>$E$7),\"Ignore Drill Out Lead 1; rather pop out Lead 1 and LEAVE lead # 2 to \"&K243&\" inches.\",\"\")), 0,IF(AND(C243<D243, E243>$E$7),\"Ignore Drill Out Lead 1; rather pop out Lead 1 and LEAVE lead # 2 to \"&K243&\" inches.\",\"\"))","v":""},null,null,null,null,null,null,null,null,null,null,null,{"$f":"(G243+J243+M243)/$E$10*$E$7","v":0},{"$f":"A244","v":257.15384615384505},{"$f":"L243","v":0},{"$f":"IF(ISERROR(IF(ISERROR(IF(ISERROR(IF(AC243=W243,Q243+(AC243/T243),Q243+(AD243/T243))), 0,IF(AC243=W243,Q243+(AC243/T243),Q243+(AD243/T243)))), 0,IF(ISERROR(IF(AC243=W243,Q243+(AC243/T243),Q243+(AD243/T243))), 0,IF(AC243=W243,Q243+(AC243/T243),Q243+(AD243/T243))))), 0,IF(ISERROR(IF(ISERROR(IF(AC243=W243,Q243+(AC243/T243),Q243+(AD243/T243))), 0,IF(AC243=W243,Q243+(AC243/T243),Q243+(AD243/T243)))), 0,IF(ISERROR(IF(AC243=W243,Q243+(AC243/T243),Q243+(AD243/T243))), 0,IF(AC243=W243,Q243+(AC243/T243),Q243+(AD243/T243)))))","v":0},{"$f":"D243","v":47},{"$f":"IF(ISERROR(Q244-R244), 0,Q244-R244)","v":-47},{"$f":"IF(ISERROR(IF(ISERROR(IF(ISERROR(IF(ISERROR((O244/P244)), 0,(O244/P244))), 0,IF(ISERROR((O244/P244)), 0,(O244/P244)))), 0,IF(ISERROR(IF(ISERROR((O244/P244)), 0,(O244/P244))), 0,IF(ISERROR((O244/P244)), 0,(O244/P244))))), 0,IF(ISERROR(IF(ISERROR(IF(ISERROR((O244/P244)), 0,(O244/P244))), 0,IF(ISERROR((O244/P244)), 0,(O244/P244)))), 0,IF(ISERROR(IF(ISERROR((O244/P244)), 0,(O244/P244))), 0,IF(ISERROR((O244/P244)), 0,(O244/P244)))))","v":0},{"$f":"IF(ISERROR(IF(ISERROR(IF(ISERROR(IF(ISERROR(S244*T244), 0,S244*T244)), 0,IF(ISERROR(S244*T244), 0,S244*T244))), 0,IF(ISERROR(IF(ISERROR(S244*T244), 0,S244*T244)), 0,IF(ISERROR(S244*T244), 0,S244*T244)))), 0,IF(ISERROR(IF(ISERROR(IF(ISERROR(S244*T244), 0,S244*T244)), 0,IF(ISERROR(S244*T244), 0,S244*T244))), 0,IF(ISERROR(IF(ISERROR(S244*T244), 0,S244*T244)), 0,IF(ISERROR(S244*T244), 0,S244*T244))))","v":0},{"$f":"IF(ISERROR(IF(ISERROR(IF(ISERROR(IF(ISERROR(O244/T244), 0,O244/T244)), 0,IF(ISERROR(O244/T244), 0,O244/T244))), 0,IF(ISERROR(IF(ISERROR(O244/T244), 0,O244/T244)), 0,IF(ISERROR(O244/T244), 0,O244/T244)))), 0,IF(ISERROR(IF(ISERROR(IF(ISERROR(O244/T244), 0,O244/T244)), 0,IF(ISERROR(O244/T244), 0,O244/T244))), 0,IF(ISERROR(IF(ISERROR(O244/T244), 0,O244/T244)), 0,IF(ISERROR(O244/T244), 0,O244/T244))))","v":0},14.2,0.4,{"$f":"IF(ISERROR(IF(ISERROR(IF(ISERROR(ABS(U244)), 0,ABS(U244))), 0,IF(ISERROR(ABS(U244)), 0,ABS(U244)))), 0,IF(ISERROR(IF(ISERROR(ABS(U244)), 0,ABS(U244))), 0,IF(ISERROR(ABS(U244)), 0,ABS(U244))))","v":0},0.15000000000000002,{"$f":"IF(ISERROR(IF(ISERROR(IF(ISERROR(ABS((Y244*X244)/W244)), 0,ABS((Y244*X244)/W244))), 0,IF(ISERROR(ABS((Y244*X244)/W244)), 0,ABS((Y244*X244)/W244)))), 0,IF(ISERROR(IF(ISERROR(ABS((Y244*X244)/W244)), 0,ABS((Y244*X244)/W244))), 0,IF(ISERROR(ABS((Y244*X244)/W244)), 0,ABS((Y244*X244)/W244))))","v":0},{"$f":"IF(ISERROR(IF(ISERROR(IF(ISERROR(IF(AA244>Z244,Z244,AA244)), 0,IF(AA244>Z244,Z244,AA244))), 0,IF(ISERROR(IF(AA244>Z244,Z244,AA244)), 0,IF(AA244>Z244,Z244,AA244)))), 0,IF(ISERROR(IF(ISERROR(IF(AA244>Z244,Z244,AA244)), 0,IF(AA244>Z244,Z244,AA244))), 0,IF(ISERROR(IF(AA244>Z244,Z244,AA244)), 0,IF(AA244>Z244,Z244,AA244))))","v":0},{"$f":"IF(ISERROR(IF(ISERROR(IF(ISERROR(IF(Y244>W244,W244,Y244)), 0,IF(Y244>W244,W244,Y244))), 0,IF(ISERROR(IF(Y244>W244,W244,Y244)), 0,IF(Y244>W244,W244,Y244)))), 0,IF(ISERROR(IF(ISERROR(IF(Y244>W244,W244,Y244)), 0,IF(Y244>W244,W244,Y244))), 0,IF(ISERROR(IF(Y244>W244,W244,Y244)), 0,IF(Y244>W244,W244,Y244))))","v":0},{"$f":"IF(ISERROR((AC244*AB244)/AA244), \"\",(AC244*AB244)/AA244)","v":""},{"$f":"IF(ISERROR(IF(AC244=W244,0,(AC244*AB244)/AA244)), \"\",IF(AC244=W244,0,(AC244*AB244)/AA244))","v":""},{"$f":"IF(ISERROR(IF(AC244=60,Q244+(AC244/T244),Q244+(AD244/T244))), \"\",IF(AC244=60,Q244+(AC244/T244),Q244+(AD244/T244)))","v":""}]
[null,null,"Test","Target",null,1,"dr_o","Lv_in",2,"dr_o","Lv_in",3,"dr_o","Lv_in",{"$f":"A247","v":249.5},{"$f":"F246","v":0},{"$f":"C246","v":48},{"$f":"D246","v":47},{"$f":"Q245-R245","v":1},{"$f":"IF(ISERROR((O245/P245)), 0,(O245/P245))","v":0},{"$f":"IF(ISERROR(S245*T245), 0,S245*T245)","v":0},{"$f":"IF(ISERROR(IF(ISERROR(O245/T245), 0,O245/T245)), 0,IF(ISERROR(O245/T245), 0,O245/T245))","v":0},14.2,0.4,{"$f":"IF(ISERROR(ABS(U245)), 0,ABS(U245))","v":0},0.15000000000000002,{"$f":"IF(ISERROR(ABS((Y245*X245)/W245)), 0,ABS((Y245*X245)/W245))","v":0},{"$f":"IF(ISERROR(IF(AA245>Z245,Z245,AA245)), 0,IF(AA245>Z245,Z245,AA245))","v":0},{"$f":"IF(ISERROR(IF(Y245>W245,W245,Y245)), 0,IF(Y245>W245,W245,Y245))","v":0},{"$f":"IF(ISERROR(IF(ISERROR(IF(ISERROR(IF(ISERROR((AC245*AB245)/AA245), 0,(AC245*AB245)/AA245)), 0,IF(ISERROR((AC245*AB245)/AA245), 0,(AC245*AB245)/AA245))), 0,IF(ISERROR(IF(ISERROR((AC245*AB245)/AA245), 0,(AC245*AB245)/AA245)), 0,IF(ISERROR((AC245*AB245)/AA245), 0,(AC245*AB245)/AA245)))), 0,IF(ISERROR(IF(ISERROR(IF(ISERROR((AC245*AB245)/AA245), 0,(AC245*AB245)/AA245)), 0,IF(ISERROR((AC245*AB245)/AA245), 0,(AC245*AB245)/AA245))), 0,IF(ISERROR(IF(ISERROR((AC245*AB245)/AA245), 0,(AC245*AB245)/AA245)), 0,IF(ISERROR((AC245*AB245)/AA245), 0,(AC245*AB245)/AA245))))","v":0},{"$f":"IF(ISERROR(IF(ISERROR(IF(ISERROR(IF(AC245=W245,0,(AC245*AB245)/AA245)), 0,IF(AC245=W245,0,(AC245*AB245)/AA245))), 0,IF(ISERROR(IF(AC245=W245,0,(AC245*AB245)/AA245)), 0,IF(AC245=W245,0,(AC245*AB245)/AA245)))), 0,IF(ISERROR(IF(ISERROR(IF(AC245=W245,0,(AC245*AB245)/AA245)), 0,IF(AC245=W245,0,(AC245*AB245)/AA245))), 0,IF(ISERROR(IF(AC245=W245,0,(AC245*AB245)/AA245)), 0,IF(AC245=W245,0,(AC245*AB245)/AA245))))","v":0},{"$f":"IF(ISERROR(IF(ISERROR(IF(AC245=60,Q245+(AC245/T245),Q245+(AD245/T245))), 0,IF(AC245=60,Q245+(AC245/T245),Q245+(AD245/T245)))), 0,IF(ISERROR(IF(AC245=60,Q245+(AC245/T245),Q245+(AD245/T245))), 0,IF(AC245=60,Q245+(AC245/T245),Q245+(AD245/T245))))","v":0}]
["A#",74,48,47,{"$f":"IF(ISERROR(Y245), 0,Y245)","v":0},null,{"$f":"IF(ISERROR(AB245), 0,AB245)","v":0},{"$f":"IF(ISERROR($E$10-G246), 0,$E$10-G246)","v":0.4},null,{"$f":"IF(ISERROR(AB246), \"\",AB246)","v":0},{"$f":"IF(ISERROR(ROUND($E$10-J246,3)), \"\",ROUND($E$10-J246,3))","v":0.4},null,{"$f":"IF(ISERROR(AB247), \"\",AB247)","v":0},{"$f":"IF(ISERROR($E$10-M246), \"\",$E$10-M246)","v":0.4},{"$f":"A247","v":249.5},{"$f":"I246","v":0},{"$f":"IF(ISERROR(IF(ISERROR(IF(AC245=W245,Q245+(AC245/T245),Q245+(AD245/T245))), 0,IF(AC245=W245,Q245+(AC245/T245),Q245+(AD245/T245)))), 0,IF(ISERROR(IF(AC245=W245,Q245+(AC245/T245),Q245+(AD245/T245))), 0,IF(AC245=W245,Q245+(AC245/T245),Q245+(AD245/T245))))","v":0},{"$f":"D246","v":47},{"$f":"IF(ISERROR(IF(ISERROR(Q246-R246), 0,Q246-R246)), 0,IF(ISERROR(Q246-R246), 0,Q246-R246))","v":-47},{"$f":"IF(ISERROR(IF(ISERROR(IF(ISERROR(IF(ISERROR((O246/P246)), 0,(O246/P246))), 0,IF(ISERROR((O246/P246)), 0,(O246/P246)))), 0,IF(ISERROR(IF(ISERROR((O246/P246)), 0,(O246/P246))), 0,IF(ISERROR((O246/P246)), 0,(O246/P246))))), 0,IF(ISERROR(IF(ISERROR(IF(ISERROR((O246/P246)), 0,(O246/P246))), 0,IF(ISERROR((O246/P246)), 0,(O246/P246)))), 0,IF(ISERROR(IF(ISERROR((O246/P246)), 0,(O246/P246))), 0,IF(ISERROR((O246/P246)), 0,(O246/P246)))))","v":0},{"$f":"IF(ISERROR(IF(ISERROR(IF(ISERROR(IF(ISERROR(S246*T246), 0,S246*T246)), 0,IF(ISERROR(S246*T246), 0,S246*T246))), 0,IF(ISERROR(IF(ISERROR(S246*T246), 0,S246*T246)), 0,IF(ISERROR(S246*T246), 0,S246*T246)))), 0,IF(ISERROR(IF(ISERROR(IF(ISERROR(S246*T246), 0,S246*T246)), 0,IF(ISERROR(S246*T246), 0,S246*T246))), 0,IF(ISERROR(IF(ISERROR(S246*T246), 0,S246*T246)), 0,IF(ISERROR(S246*T246), 0,S246*T246))))","v":0},{"$f":"IF(ISERROR(IF(ISERROR(IF(ISERROR(IF(ISERROR(O246/T246), 0,O246/T246)), 0,IF(ISERROR(O246/T246), 0,O246/T246))), 0,IF(ISERROR(IF(ISERROR(O246/T246), 0,O246/T246)), 0,IF(ISERROR(O246/T246), 0,O246/T246)))), 0,IF(ISERROR(IF(ISERROR(IF(ISERROR(O246/T246), 0,O246/T246)), 0,IF(ISERROR(O246/T246), 0,O246/T246))), 0,IF(ISERROR(IF(ISERROR(O246/T246), 0,O246/T246)), 0,IF(ISERROR(O246/T246), 0,O246/T246))))","v":0},14.2,0.4,{"$f":"IF(ISERROR(IF(ISERROR(IF(ISERROR(ABS(U246)), 0,ABS(U246))), 0,IF(ISERROR(ABS(U246)), 0,ABS(U246)))), 0,IF(ISERROR(IF(ISERROR(ABS(U246)), 0,ABS(U246))), 0,IF(ISERROR(ABS(U246)), 0,ABS(U246))))","v":0},0.15000000000000002,{"$f":"IF(ISERROR(IF(ISERROR(IF(ISERROR(ABS((Y246*X246)/W246)), 0,ABS((Y246*X246)/W246))), 0,IF(ISERROR(ABS((Y246*X246)/W246)), 0,ABS((Y246*X246)/W246)))), 0,IF(ISERROR(IF(ISERROR(ABS((Y246*X246)/W246)), 0,ABS((Y246*X246)/W246))), 0,IF(ISERROR(ABS((Y246*X246)/W246)), 0,ABS((Y246*X246)/W246))))","v":0},{"$f":"IF(ISERROR(IF(ISERROR(IF(ISERROR(IF(AA246>Z246,Z246,AA246)), 0,IF(AA246>Z246,Z246,AA246))), 0,IF(ISERROR(IF(AA246>Z246,Z246,AA246)), 0,IF(AA246>Z246,Z246,AA246)))), 0,IF(ISERROR(IF(ISERROR(IF(AA246>Z246,Z246,AA246)), 0,IF(AA246>Z246,Z246,AA246))), 0,IF(ISERROR(IF(AA246>Z246,Z246,AA246)), 0,IF(AA246>Z246,Z246,AA246))))","v":0},{"$f":"IF(ISERROR(IF(ISERROR(IF(ISERROR(IF(Y246>W246,W246,Y246)), 0,IF(Y246>W246,W246,Y246))), 0,IF(ISERROR(IF(Y246>W246,W246,Y246)), 0,IF(Y246>W246,W246,Y246)))), 0,IF(ISERROR(IF(ISERROR(IF(Y246>W246,W246,Y246)), 0,IF(Y246>W246,W246,Y246))), 0,IF(ISERROR(IF(Y246>W246,W246,Y246)), 0,IF(Y246>W246,W246,Y246))))","v":0},{"$f":"IF(ISERROR((AC246*AB246)/AA246), \"\",(AC246*AB246)/AA246)","v":""},{"$f":"IF(ISERROR(IF(AC246=W246,0,(AC246*AB246)/AA246)), \"\",IF(AC246=W246,0,(AC246*AB246)/AA246))","v":""},{"$f":"IF(ISERROR(IF(AC246=60,Q246+(AC246/T246),Q246+(AD246/T246))), \"\",IF(AC246=60,Q246+(AC246/T246),Q246+(AD246/T246)))","v":""}]
[{"$f":"R330","v":249.5},{"$f":"IF(ISERROR(IF(AND(C246<D246, E246>$E$7),\"Ignore Drill Out Lead 1; rather pop out Lead 1 and LEAVE lead # 2 to \"&K246&\" inches.\",\"\")), 0,IF(AND(C246<D246, E246>$E$7),\"Ignore Drill Out Lead 1; rather pop out Lead 1 and LEAVE lead # 2 to \"&K246&\" inches.\",\"\"))","v":""},null,null,null,null,null,null,null,null,null,null,null,null,{"$f":"A247","v":249.5},{"$f":"L246","v":0},{"$f":"IF(ISERROR(IF(AC246=W246,Q246+(AC246/T246),Q246+(AD246/T246))), \"\",IF(AC246=W246,Q246+(AC246/T246),Q246+(AD246/T246)))","v":""},{"$f":"D246","v":47},{"$f":"IF(ISERROR(Q247-R247), 0,Q247-R247)","v":0},{"$f":"IF(ISERROR(IF(ISERROR(IF(ISERROR((O247/P247)), 0,(O247/P247))), 0,IF(ISERROR((O247/P247)), 0,(O247/P247)))), 0,IF(ISERROR(IF(ISERROR((O247/P247)), 0,(O247/P247))), 0,IF(ISERROR((O247/P247)), 0,(O247/P247))))","v":0},{"$f":"IF(ISERROR(S247*T247), \"\",S247*T247)","v":0},{"$f":"IF(ISERROR(IF(ISERROR(IF(ISERROR(IF(ISERROR(O247/T247), 0,O247/T247)), 0,IF(ISERROR(O247/T247), 0,O247/T247))), 0,IF(ISERROR(IF(ISERROR(O247/T247), 0,O247/T247)), 0,IF(ISERROR(O247/T247), 0,O247/T247)))), 0,IF(ISERROR(IF(ISERROR(IF(ISERROR(O247/T247), 0,O247/T247)), 0,IF(ISERROR(O247/T247), 0,O247/T247))), 0,IF(ISERROR(IF(ISERROR(O247/T247), 0,O247/T247)), 0,IF(ISERROR(O247/T247), 0,O247/T247))))","v":0},14.2,0.4,{"$f":"IF(ISERROR(ABS(U247)), \"\",ABS(U247))","v":0},0.15000000000000002,{"$f":"IF(ISERROR(ABS((Y247*X247)/W247)), \"\",ABS((Y247*X247)/W247))","v":0},{"$f":"IF(ISERROR(IF(AA247>Z247,Z247,AA247)), \"\",IF(AA247>Z247,Z247,AA247))","v":0},{"$f":"IF(ISERROR(IF(Y247>W247,W247,Y247)), \"\",IF(Y247>W247,W247,Y247))","v":0},{"$f":"IF(ISERROR((AC247*AB247)/AA247), \"\",(AC247*AB247)/AA247)","v":""},{"$f":"IF(ISERROR(IF(AC247=W247,0,(AC247*AB247)/AA247)), \"\",IF(AC247=W247,0,(AC247*AB247)/AA247))","v":""},{"$f":"IF(ISERROR(IF(AC247=60,Q247+(AC247/T247),Q247+(AD247/T247))), \"\",IF(AC247=60,Q247+(AC247/T247),Q247+(AD247/T247)))","v":""}]
[null,null,"Test","Target",null,1,"dr_o","Lv_in",2,"dr_o","Lv_in",3,"dr_o","Lv_in",{"$f":"A250","v":255.78846153846044},{"$f":"F249","v":0},{"$f":"C249","v":48},{"$f":"D249","v":47},{"$f":"Q248-R248","v":1},{"$f":"IF(ISERROR((O248/P248)), 0,(O248/P248))","v":0},{"$f":"IF(ISERROR(S248*T248), 0,S248*T248)","v":0},{"$f":"IF(ISERROR(IF(ISERROR(IF(ISERROR(IF(ISERROR(O248/T248), 0,O248/T248)), 0,IF(ISERROR(O248/T248), 0,O248/T248))), 0,IF(ISERROR(IF(ISERROR(O248/T248), 0,O248/T248)), 0,IF(ISERROR(O248/T248), 0,O248/T248)))), 0,IF(ISERROR(IF(ISERROR(IF(ISERROR(O248/T248), 0,O248/T248)), 0,IF(ISERROR(O248/T248), 0,O248/T248))), 0,IF(ISERROR(IF(ISERROR(O248/T248), 0,O248/T248)), 0,IF(ISERROR(O248/T248), 0,O248/T248))))","v":0},14.2,0.4,{"$f":"IF(ISERROR(ABS(U248)), 0,ABS(U248))","v":0},0.15000000000000002,{"$f":"IF(ISERROR(ABS((Y248*X248)/W248)), 0,ABS((Y248*X248)/W248))","v":0},{"$f":"IF(ISERROR(IF(AA248>Z248,Z248,AA248)), 0,IF(AA248>Z248,Z248,AA248))","v":0},{"$f":"IF(ISERROR(IF(Y248>W248,W248,Y248)), 0,IF(Y248>W248,W248,Y248))","v":0},{"$f":"IF(ISERROR(IF(ISERROR(IF(ISERROR(IF(ISERROR((AC248*AB248)/AA248), 0,(AC248*AB248)/AA248)), 0,IF(ISERROR((AC248*AB248)/AA248), 0,(AC248*AB248)/AA248))), 0,IF(ISERROR(IF(ISERROR((AC248*AB248)/AA248), 0,(AC248*AB248)/AA248)), 0,IF(ISERROR((AC248*AB248)/AA248), 0,(AC248*AB248)/AA248)))), 0,IF(ISERROR(IF(ISERROR(IF(ISERROR((AC248*AB248)/AA248), 0,(AC248*AB248)/AA248)), 0,IF(ISERROR((AC248*AB248)/AA248), 0,(AC248*AB248)/AA248))), 0,IF(ISERROR(IF(ISERROR((AC248*AB248)/AA248), 0,(AC248*AB248)/AA248)), 0,IF(ISERROR((AC248*AB248)/AA248), 0,(AC248*AB248)/AA248))))","v":0},{"$f":"IF(ISERROR(IF(ISERROR(IF(ISERROR(IF(AC248=W248,0,(AC248*AB248)/AA248)), 0,IF(AC248=W248,0,(AC248*AB248)/AA248))), 0,IF(ISERROR(IF(AC248=W248,0,(AC248*AB248)/AA248)), 0,IF(AC248=W248,0,(AC248*AB248)/AA248)))), 0,IF(ISERROR(IF(ISERROR(IF(AC248=W248,0,(AC248*AB248)/AA248)), 0,IF(AC248=W248,0,(AC248*AB248)/AA248))), 0,IF(ISERROR(IF(AC248=W248,0,(AC248*AB248)/AA248)), 0,IF(AC248=W248,0,(AC248*AB248)/AA248))))","v":0},{"$f":"IF(ISERROR(IF(ISERROR(IF(ISERROR(IF(AC248=60,Q248+(AC248/T248),Q248+(AD248/T248))), 0,IF(AC248=60,Q248+(AC248/T248),Q248+(AD248/T248)))), 0,IF(ISERROR(IF(AC248=60,Q248+(AC248/T248),Q248+(AD248/T248))), 0,IF(AC248=60,Q248+(AC248/T248),Q248+(AD248/T248))))), 0,IF(ISERROR(IF(ISERROR(IF(AC248=60,Q248+(AC248/T248),Q248+(AD248/T248))), 0,IF(AC248=60,Q248+(AC248/T248),Q248+(AD248/T248)))), 0,IF(ISERROR(IF(AC248=60,Q248+(AC248/T248),Q248+(AD248/T248))), 0,IF(AC248=60,Q248+(AC248/T248),Q248+(AD248/T248)))))","v":0}]
["B",75,48,47,{"$f":"IF(ISERROR(Y248), 0,Y248)","v":0},null,{"$f":"IF(ISERROR(AB248), 0,AB248)","v":0},{"$f":"IF(ISERROR($E$10-G249), 0,$E$10-G249)","v":0.4},null,{"$f":"IF(ISERROR(IF(ISERROR(IF(ISERROR(IF(ISERROR(AB249), 0,AB249)), 0,IF(ISERROR(AB249), 0,AB249))), 0,IF(ISERROR(IF(ISERROR(AB249), 0,AB249)), 0,IF(ISERROR(AB249), 0,AB249)))), 0,IF(ISERROR(IF(ISERROR(IF(ISERROR(AB249), 0,AB249)), 0,IF(ISERROR(AB249), 0,AB249))), 0,IF(ISERROR(IF(ISERROR(AB249), 0,AB249)), 0,IF(ISERROR(AB249), 0,AB249))))","v":0},{"$f":"IF(ISERROR(IF(ISERROR(IF(ISERROR(ROUND($E$10-J249,3)), 0,ROUND($E$10-J249,3))), 0,IF(ISERROR(ROUND($E$10-J249,3)), 0,ROUND($E$10-J249,3)))), 0,IF(ISERROR(IF(ISERROR(ROUND($E$10-J249,3)), 0,ROUND($E$10-J249,3))), 0,IF(ISERROR(ROUND($E$10-J249,3)), 0,ROUND($E$10-J249,3))))","v":0.4},null,{"$f":"IF(ISERROR(IF(ISERROR(IF(ISERROR(IF(ISERROR(AB250), 0,AB250)), 0,IF(ISERROR(AB250), 0,AB250))), 0,IF(ISERROR(IF(ISERROR(AB250), 0,AB250)), 0,IF(ISERROR(AB250), 0,AB250)))), 0,IF(ISERROR(IF(ISERROR(IF(ISERROR(AB250), 0,AB250)), 0,IF(ISERROR(AB250), 0,AB250))), 0,IF(ISERROR(IF(ISERROR(AB250), 0,AB250)), 0,IF(ISERROR(AB250), 0,AB250))))","v":0},{"$f":"IF(ISERROR(IF(ISERROR(IF(ISERROR(IF(ISERROR($E$10-M249), 0,$E$10-M249)), 0,IF(ISERROR($E$10-M249), 0,$E$10-M249))), 0,IF(ISERROR(IF(ISERROR($E$10-M249), 0,$E$10-M249)), 0,IF(ISERROR($E$10-M249), 0,$E$10-M249)))), 0,IF(ISERROR(IF(ISERROR(IF(ISERROR($E$10-M249), 0,$E$10-M249)), 0,IF(ISERROR($E$10-M249), 0,$E$10-M249))), 0,IF(ISERROR(IF(ISERROR($E$10-M249), 0,$E$10-M249)), 0,IF(ISERROR($E$10-M249), 0,$E$10-M249))))","v":0.4},{"$f":"A250","v":255.78846153846044},{"$f":"I249","v":0},{"$f":"IF(ISERROR(IF(ISERROR(IF(ISERROR(IF(AC248=W248,Q248+(AC248/T248),Q248+(AD248/T248))), 0,IF(AC248=W248,Q248+(AC248/T248),Q248+(AD248/T248)))), 0,IF(ISERROR(IF(AC248=W248,Q248+(AC248/T248),Q248+(AD248/T248))), 0,IF(AC248=W248,Q248+(AC248/T248),Q248+(AD248/T248))))), 0,IF(ISERROR(IF(ISERROR(IF(AC248=W248,Q248+(AC248/T248),Q248+(AD248/T248))), 0,IF(AC248=W248,Q248+(AC248/T248),Q248+(AD248/T248)))), 0,IF(ISERROR(IF(AC248=W248,Q248+(AC248/T248),Q248+(AD248/T248))), 0,IF(AC248=W248,Q248+(AC248/T248),Q248+(AD248/T248)))))","v":0},{"$f":"D249","v":47},{"$f":"IF(ISERROR(IF(ISERROR(IF(ISERROR(Q249-R249), 0,Q249-R249)), 0,IF(ISERROR(Q249-R249), 0,Q249-R249))), 0,IF(ISERROR(IF(ISERROR(Q249-R249), 0,Q249-R249)), 0,IF(ISERROR(Q249-R249), 0,Q249-R249)))","v":-47},{"$f":"IF(ISERROR((O249/P249)), 0,(O249/P249))","v":0},{"$f":"IF(ISERROR(IF(ISERROR(IF(ISERROR(S249*T249), 0,S249*T249)), 0,IF(ISERROR(S249*T249), 0,S249*T249))), 0,IF(ISERROR(IF(ISERROR(S249*T249), 0,S249*T249)), 0,IF(ISERROR(S249*T249), 0,S249*T249)))","v":0},{"$f":"IF(ISERROR(IF(ISERROR(IF(ISERROR(IF(ISERROR(O249/T249), 0,O249/T249)), 0,IF(ISERROR(O249/T249), 0,O249/T249))), 0,IF(ISERROR(IF(ISERROR(O249/T249), 0,O249/T249)), 0,IF(ISERROR(O249/T249), 0,O249/T249)))), 0,IF(ISERROR(IF(ISERROR(IF(ISERROR(O249/T249), 0,O249/T249)), 0,IF(ISERROR(O249/T249), 0,O249/T249))), 0,IF(ISERROR(IF(ISERROR(O249/T249), 0,O249/T249)), 0,IF(ISERROR(O249/T249), 0,O249/T249))))","v":0},14.2,0.4,{"$f":"IF(ISERROR(IF(ISERROR(IF(ISERROR(ABS(U249)), 0,ABS(U249))), 0,IF(ISERROR(ABS(U249)), 0,ABS(U249)))), 0,IF(ISERROR(IF(ISERROR(ABS(U249)), 0,ABS(U249))), 0,IF(ISERROR(ABS(U249)), 0,ABS(U249))))","v":0},0.15000000000000002,{"$f":"IF(ISERROR(IF(ISERROR(IF(ISERROR(ABS((Y249*X249)/W249)), 0,ABS((Y249*X249)/W249))), 0,IF(ISERROR(ABS((Y249*X249)/W249)), 0,ABS((Y249*X249)/W249)))), 0,IF(ISERROR(IF(ISERROR(ABS((Y249*X249)/W249)), 0,ABS((Y249*X249)/W249))), 0,IF(ISERROR(ABS((Y249*X249)/W249)), 0,ABS((Y249*X249)/W249))))","v":0},{"$f":"IF(ISERROR(IF(ISERROR(IF(ISERROR(IF(AA249>Z249,Z249,AA249)), 0,IF(AA249>Z249,Z249,AA249))), 0,IF(ISERROR(IF(AA249>Z249,Z249,AA249)), 0,IF(AA249>Z249,Z249,AA249)))), 0,IF(ISERROR(IF(ISERROR(IF(AA249>Z249,Z249,AA249)), 0,IF(AA249>Z249,Z249,AA249))), 0,IF(ISERROR(IF(AA249>Z249,Z249,AA249)), 0,IF(AA249>Z249,Z249,AA249))))","v":0},{"$f":"IF(ISERROR(IF(ISERROR(IF(ISERROR(IF(Y249>W249,W249,Y249)), 0,IF(Y249>W249,W249,Y249))), 0,IF(ISERROR(IF(Y249>W249,W249,Y249)), 0,IF(Y249>W249,W249,Y249)))), 0,IF(ISERROR(IF(ISERROR(IF(Y249>W249,W249,Y249)), 0,IF(Y249>W249,W249,Y249))), 0,IF(ISERROR(IF(Y249>W249,W249,Y249)), 0,IF(Y249>W249,W249,Y249))))","v":0},{"$f":"IF(ISERROR((AC249*AB249)/AA249), 0,(AC249*AB249)/AA249)","v":0},{"$f":"IF(ISERROR(IF(ISERROR(IF(AC249=W249,0,(AC249*AB249)/AA249)), 0,IF(AC249=W249,0,(AC249*AB249)/AA249))), 0,IF(ISERROR(IF(AC249=W249,0,(AC249*AB249)/AA249)), 0,IF(AC249=W249,0,(AC249*AB249)/AA249)))","v":0},{"$f":"IF(ISERROR(IF(AC249=60,Q249+(AC249/T249),Q249+(AD249/T249))), 0,IF(AC249=60,Q249+(AC249/T249),Q249+(AD249/T249)))","v":0}]
[{"$f":"F343","v":255.78846153846044},{"$f":"IF(ISERROR(IF(AND(C249<D249, E249>$E$7),\"Ignore Drill Out Lead 1; rather pop out Lead 1 and LEAVE lead # 2 to \"&K249&\" inches.\",\"\")), 0,IF(AND(C249<D249, E249>$E$7),\"Ignore Drill Out Lead 1; rather pop out Lead 1 and LEAVE lead # 2 to \"&K249&\" inches.\",\"\"))","v":""},null,null,null,null,null,null,null,null,null,null,null,{"$f":"(G249+J249+M249)/$E$10*$E$7","v":0},{"$f":"A250","v":255.78846153846044},{"$f":"L249","v":0},{"$f":"IF(ISERROR(IF(AC249=W249,Q249+(AC249/T249),Q249+(AD249/T249))), 0,IF(AC249=W249,Q249+(AC249/T249),Q249+(AD249/T249)))","v":0},{"$f":"D249","v":47},{"$f":"IF(ISERROR(Q250-R250), 0,Q250-R250)","v":-47},{"$f":"IF(ISERROR(IF(ISERROR(IF(ISERROR(IF(ISERROR((O250/P250)), 0,(O250/P250))), 0,IF(ISERROR((O250/P250)), 0,(O250/P250)))), 0,IF(ISERROR(IF(ISERROR((O250/P250)), 0,(O250/P250))), 0,IF(ISERROR((O250/P250)), 0,(O250/P250))))), 0,IF(ISERROR(IF(ISERROR(IF(ISERROR((O250/P250)), 0,(O250/P250))), 0,IF(ISERROR((O250/P250)), 0,(O250/P250)))), 0,IF(ISERROR(IF(ISERROR((O250/P250)), 0,(O250/P250))), 0,IF(ISERROR((O250/P250)), 0,(O250/P250)))))","v":0},{"$f":"IF(ISERROR(IF(ISERROR(IF(ISERROR(IF(ISERROR(S250*T250), 0,S250*T250)), 0,IF(ISERROR(S250*T250), 0,S250*T250))), 0,IF(ISERROR(IF(ISERROR(S250*T250), 0,S250*T250)), 0,IF(ISERROR(S250*T250), 0,S250*T250)))), 0,IF(ISERROR(IF(ISERROR(IF(ISERROR(S250*T250), 0,S250*T250)), 0,IF(ISERROR(S250*T250), 0,S250*T250))), 0,IF(ISERROR(IF(ISERROR(S250*T250), 0,S250*T250)), 0,IF(ISERROR(S250*T250), 0,S250*T250))))","v":0},{"$f":"IF(ISERROR(IF(ISERROR(IF(ISERROR(IF(ISERROR(O250/T250), 0,O250/T250)), 0,IF(ISERROR(O250/T250), 0,O250/T250))), 0,IF(ISERROR(IF(ISERROR(O250/T250), 0,O250/T250)), 0,IF(ISERROR(O250/T250), 0,O250/T250)))), 0,IF(ISERROR(IF(ISERROR(IF(ISERROR(O250/T250), 0,O250/T250)), 0,IF(ISERROR(O250/T250), 0,O250/T250))), 0,IF(ISERROR(IF(ISERROR(O250/T250), 0,O250/T250)), 0,IF(ISERROR(O250/T250), 0,O250/T250))))","v":0},14.2,0.4,{"$f":"IF(ISERROR(IF(ISERROR(IF(ISERROR(ABS(U250)), 0,ABS(U250))), 0,IF(ISERROR(ABS(U250)), 0,ABS(U250)))), 0,IF(ISERROR(IF(ISERROR(ABS(U250)), 0,ABS(U250))), 0,IF(ISERROR(ABS(U250)), 0,ABS(U250))))","v":0},0.15000000000000002,{"$f":"IF(ISERROR(IF(ISERROR(IF(ISERROR(ABS((Y250*X250)/W250)), 0,ABS((Y250*X250)/W250))), 0,IF(ISERROR(ABS((Y250*X250)/W250)), 0,ABS((Y250*X250)/W250)))), 0,IF(ISERROR(IF(ISERROR(ABS((Y250*X250)/W250)), 0,ABS((Y250*X250)/W250))), 0,IF(ISERROR(ABS((Y250*X250)/W250)), 0,ABS((Y250*X250)/W250))))","v":0},{"$f":"IF(ISERROR(IF(ISERROR(IF(ISERROR(IF(AA250>Z250,Z250,AA250)), 0,IF(AA250>Z250,Z250,AA250))), 0,IF(ISERROR(IF(AA250>Z250,Z250,AA250)), 0,IF(AA250>Z250,Z250,AA250)))), 0,IF(ISERROR(IF(ISERROR(IF(AA250>Z250,Z250,AA250)), 0,IF(AA250>Z250,Z250,AA250))), 0,IF(ISERROR(IF(AA250>Z250,Z250,AA250)), 0,IF(AA250>Z250,Z250,AA250))))","v":0},{"$f":"IF(ISERROR(IF(ISERROR(IF(ISERROR(IF(Y250>W250,W250,Y250)), 0,IF(Y250>W250,W250,Y250))), 0,IF(ISERROR(IF(Y250>W250,W250,Y250)), 0,IF(Y250>W250,W250,Y250)))), 0,IF(ISERROR(IF(ISERROR(IF(Y250>W250,W250,Y250)), 0,IF(Y250>W250,W250,Y250))), 0,IF(ISERROR(IF(Y250>W250,W250,Y250)), 0,IF(Y250>W250,W250,Y250))))","v":0},{"$f":"IF(ISERROR((AC250*AB250)/AA250), \"\",(AC250*AB250)/AA250)","v":""},{"$f":"IF(ISERROR(IF(AC250=W250,0,(AC250*AB250)/AA250)), \"\",IF(AC250=W250,0,(AC250*AB250)/AA250))","v":""},{"$f":"IF(ISERROR(IF(AC250=60,Q250+(AC250/T250),Q250+(AD250/T250))), \"\",IF(AC250=60,Q250+(AC250/T250),Q250+(AD250/T250)))","v":""}]
[null,null,"Test","Target",null,1,"dr_o","Lv_in",2,"dr_o","Lv_in",3,"dr_o","Lv_in",{"$f":"A253","v":254.42307692307583},{"$f":"F252","v":0},{"$f":"C252","v":48},{"$f":"D252","v":47},{"$f":"Q251-R251","v":1},{"$f":"IF(ISERROR((O251/P251)), 0,(O251/P251))","v":0},{"$f":"IF(ISERROR(S251*T251), 0,S251*T251)","v":0},{"$f":"IF(ISERROR(IF(ISERROR(O251/T251), 0,O251/T251)), 0,IF(ISERROR(O251/T251), 0,O251/T251))","v":0},14.2,0.4,{"$f":"IF(ISERROR(ABS(U251)), 0,ABS(U251))","v":0},0.15000000000000002,{"$f":"IF(ISERROR(ABS((Y251*X251)/W251)), 0,ABS((Y251*X251)/W251))","v":0},{"$f":"IF(ISERROR(IF(AA251>Z251,Z251,AA251)), 0,IF(AA251>Z251,Z251,AA251))","v":0},{"$f":"IF(ISERROR(IF(Y251>W251,W251,Y251)), 0,IF(Y251>W251,W251,Y251))","v":0},{"$f":"IF(ISERROR(IF(ISERROR(IF(ISERROR(IF(ISERROR((AC251*AB251)/AA251), 0,(AC251*AB251)/AA251)), 0,IF(ISERROR((AC251*AB251)/AA251), 0,(AC251*AB251)/AA251))), 0,IF(ISERROR(IF(ISERROR((AC251*AB251)/AA251), 0,(AC251*AB251)/AA251)), 0,IF(ISERROR((AC251*AB251)/AA251), 0,(AC251*AB251)/AA251)))), 0,IF(ISERROR(IF(ISERROR(IF(ISERROR((AC251*AB251)/AA251), 0,(AC251*AB251)/AA251)), 0,IF(ISERROR((AC251*AB251)/AA251), 0,(AC251*AB251)/AA251))), 0,IF(ISERROR(IF(ISERROR((AC251*AB251)/AA251), 0,(AC251*AB251)/AA251)), 0,IF(ISERROR((AC251*AB251)/AA251), 0,(AC251*AB251)/AA251))))","v":0},{"$f":"IF(ISERROR(IF(ISERROR(IF(ISERROR(IF(AC251=W251,0,(AC251*AB251)/AA251)), 0,IF(AC251=W251,0,(AC251*AB251)/AA251))), 0,IF(ISERROR(IF(AC251=W251,0,(AC251*AB251)/AA251)), 0,IF(AC251=W251,0,(AC251*AB251)/AA251)))), 0,IF(ISERROR(IF(ISERROR(IF(AC251=W251,0,(AC251*AB251)/AA251)), 0,IF(AC251=W251,0,(AC251*AB251)/AA251))), 0,IF(ISERROR(IF(AC251=W251,0,(AC251*AB251)/AA251)), 0,IF(AC251=W251,0,(AC251*AB251)/AA251))))","v":0},{"$f":"IF(ISERROR(IF(ISERROR(IF(AC251=60,Q251+(AC251/T251),Q251+(AD251/T251))), 0,IF(AC251=60,Q251+(AC251/T251),Q251+(AD251/T251)))), 0,IF(ISERROR(IF(AC251=60,Q251+(AC251/T251),Q251+(AD251/T251))), 0,IF(AC251=60,Q251+(AC251/T251),Q251+(AD251/T251))))","v":0}]
["C",76,48,47,{"$f":"IF(ISERROR(Y251), 0,Y251)","v":0},null,{"$f":"IF(ISERROR(AB251), 0,AB251)","v":0},{"$f":"IF(ISERROR($E$10-G252), 0,$E$10-G252)","v":0.4},null,{"$f":"IF(ISERROR(AB252), \"\",AB252)","v":0},{"$f":"IF(ISERROR(ROUND($E$10-J252,3)), \"\",ROUND($E$10-J252,3))","v":0.4},null,{"$f":"IF(ISERROR(AB253), \"\",AB253)","v":0},{"$f":"IF(ISERROR($E$10-M252), \"\",$E$10-M252)","v":0.4},{"$f":"A253","v":254.42307692307583},{"$f":"I252","v":0},{"$f":"IF(ISERROR(IF(ISERROR(IF(AC251=W251,Q251+(AC251/T251),Q251+(AD251/T251))), 0,IF(AC251=W251,Q251+(AC251/T251),Q251+(AD251/T251)))), 0,IF(ISERROR(IF(AC251=W251,Q251+(AC251/T251),Q251+(AD251/T251))), 0,IF(AC251=W251,Q251+(AC251/T251),Q251+(AD251/T251))))","v":0},{"$f":"D252","v":47},{"$f":"IF(ISERROR(IF(ISERROR(Q252-R252), 0,Q252-R252)), 0,IF(ISERROR(Q252-R252), 0,Q252-R252))","v":-47},{"$f":"IF(ISERROR(IF(ISERROR(IF(ISERROR(IF(ISERROR((O252/P252)), 0,(O252/P252))), 0,IF(ISERROR((O252/P252)), 0,(O252/P252)))), 0,IF(ISERROR(IF(ISERROR((O252/P252)), 0,(O252/P252))), 0,IF(ISERROR((O252/P252)), 0,(O252/P252))))), 0,IF(ISERROR(IF(ISERROR(IF(ISERROR((O252/P252)), 0,(O252/P252))), 0,IF(ISERROR((O252/P252)), 0,(O252/P252)))), 0,IF(ISERROR(IF(ISERROR((O252/P252)), 0,(O252/P252))), 0,IF(ISERROR((O252/P252)), 0,(O252/P252)))))","v":0},{"$f":"IF(ISERROR(IF(ISERROR(IF(ISERROR(IF(ISERROR(S252*T252), 0,S252*T252)), 0,IF(ISERROR(S252*T252), 0,S252*T252))), 0,IF(ISERROR(IF(ISERROR(S252*T252), 0,S252*T252)), 0,IF(ISERROR(S252*T252), 0,S252*T252)))), 0,IF(ISERROR(IF(ISERROR(IF(ISERROR(S252*T252), 0,S252*T252)), 0,IF(ISERROR(S252*T252), 0,S252*T252))), 0,IF(ISERROR(IF(ISERROR(S252*T252), 0,S252*T252)), 0,IF(ISERROR(S252*T252), 0,S252*T252))))","v":0},{"$f":"IF(ISERROR(IF(ISERROR(IF(ISERROR(IF(ISERROR(O252/T252), 0,O252/T252)), 0,IF(ISERROR(O252/T252), 0,O252/T252))), 0,IF(ISERROR(IF(ISERROR(O252/T252), 0,O252/T252)), 0,IF(ISERROR(O252/T252), 0,O252/T252)))), 0,IF(ISERROR(IF(ISERROR(IF(ISERROR(O252/T252), 0,O252/T252)), 0,IF(ISERROR(O252/T252), 0,O252/T252))), 0,IF(ISERROR(IF(ISERROR(O252/T252), 0,O252/T252)), 0,IF(ISERROR(O252/T252), 0,O252/T252))))","v":0},14.2,0.4,{"$f":"IF(ISERROR(IF(ISERROR(IF(ISERROR(ABS(U252)), 0,ABS(U252))), 0,IF(ISERROR(ABS(U252)), 0,ABS(U252)))), 0,IF(ISERROR(IF(ISERROR(ABS(U252)), 0,ABS(U252))), 0,IF(ISERROR(ABS(U252)), 0,ABS(U252))))","v":0},0.15000000000000002,{"$f":"IF(ISERROR(IF(ISERROR(IF(ISERROR(ABS((Y252*X252)/W252)), 0,ABS((Y252*X252)/W252))), 0,IF(ISERROR(ABS((Y252*X252)/W252)), 0,ABS((Y252*X252)/W252)))), 0,IF(ISERROR(IF(ISERROR(ABS((Y252*X252)/W252)), 0,ABS((Y252*X252)/W252))), 0,IF(ISERROR(ABS((Y252*X252)/W252)), 0,ABS((Y252*X252)/W252))))","v":0},{"$f":"IF(ISERROR(IF(ISERROR(IF(ISERROR(IF(AA252>Z252,Z252,AA252)), 0,IF(AA252>Z252,Z252,AA252))), 0,IF(ISERROR(IF(AA252>Z252,Z252,AA252)), 0,IF(AA252>Z252,Z252,AA252)))), 0,IF(ISERROR(IF(ISERROR(IF(AA252>Z252,Z252,AA252)), 0,IF(AA252>Z252,Z252,AA252))), 0,IF(ISERROR(IF(AA252>Z252,Z252,AA252)), 0,IF(AA252>Z252,Z252,AA252))))","v":0},{"$f":"IF(ISERROR(IF(ISERROR(IF(ISERROR(IF(Y252>W252,W252,Y252)), 0,IF(Y252>W252,W252,Y252))), 0,IF(ISERROR(IF(Y252>W252,W252,Y252)), 0,IF(Y252>W252,W252,Y252)))), 0,IF(ISERROR(IF(ISERROR(IF(Y252>W252,W252,Y252)), 0,IF(Y252>W252,W252,Y252))), 0,IF(ISERROR(IF(Y252>W252,W252,Y252)), 0,IF(Y252>W252,W252,Y252))))","v":0},{"$f":"IF(ISERROR((AC252*AB252)/AA252), \"\",(AC252*AB252)/AA252)","v":""},{"$f":"IF(ISERROR(IF(AC252=W252,0,(AC252*AB252)/AA252)), \"\",IF(AC252=W252,0,(AC252*AB252)/AA252))","v":""},{"$f":"IF(ISERROR(IF(AC252=60,Q252+(AC252/T252),Q252+(AD252/T252))), \"\",IF(AC252=60,Q252+(AC252/T252),Q252+(AD252/T252)))","v":""}]
[{"$f":"F344","v":254.42307692307583},{"$f":"IF(AND(C252<D252, E252>$E$7),\"Ignore Drill Out Lead 1; rather pop out Lead 1 and LEAVE lead # 2 to \"&K252&\" inches.\",\"\")","v":""},null,null,null,null,null,null,null,null,null,null,null,{"$f":"(G252+J252+M252)/$E$10*$E$7","v":0},{"$f":"A253","v":254.42307692307583},{"$f":"L252","v":0},{"$f":"IF(ISERROR(IF(AC252=W252,Q252+(AC252/T252),Q252+(AD252/T252))), \"\",IF(AC252=W252,Q252+(AC252/T252),Q252+(AD252/T252)))","v":""},{"$f":"D252","v":47},{"$f":"IF(ISERROR(Q253-R253), 0,Q253-R253)","v":0},{"$f":"IF(ISERROR(IF(ISERROR(IF(ISERROR((O253/P253)), 0,(O253/P253))), 0,IF(ISERROR((O253/P253)), 0,(O253/P253)))), 0,IF(ISERROR(IF(ISERROR((O253/P253)), 0,(O253/P253))), 0,IF(ISERROR((O253/P253)), 0,(O253/P253))))","v":0},{"$f":"IF(ISERROR(S253*T253), \"\",S253*T253)","v":0},{"$f":"IF(ISERROR(IF(ISERROR(IF(ISERROR(IF(ISERROR(O253/T253), 0,O253/T253)), 0,IF(ISERROR(O253/T253), 0,O253/T253))), 0,IF(ISERROR(IF(ISERROR(O253/T253), 0,O253/T253)), 0,IF(ISERROR(O253/T253), 0,O253/T253)))), 0,IF(ISERROR(IF(ISERROR(IF(ISERROR(O253/T253), 0,O253/T253)), 0,IF(ISERROR(O253/T253), 0,O253/T253))), 0,IF(ISERROR(IF(ISERROR(O253/T253), 0,O253/T253)), 0,IF(ISERROR(O253/T253), 0,O253/T253))))","v":0},14.2,0.4,{"$f":"IF(ISERROR(ABS(U253)), \"\",ABS(U253))","v":0},0.15000000000000002,{"$f":"IF(ISERROR(ABS((Y253*X253)/W253)), \"\",ABS((Y253*X253)/W253))","v":0},{"$f":"IF(ISERROR(IF(AA253>Z253,Z253,AA253)), \"\",IF(AA253>Z253,Z253,AA253))","v":0},{"$f":"IF(ISERROR(IF(Y253>W253,W253,Y253)), \"\",IF(Y253>W253,W253,Y253))","v":0},{"$f":"IF(ISERROR((AC253*AB253)/AA253), \"\",(AC253*AB253)/AA253)","v":""},{"$f":"IF(ISERROR(IF(AC253=W253,0,(AC253*AB253)/AA253)), \"\",IF(AC253=W253,0,(AC253*AB253)/AA253))","v":""},{"$f":"IF(ISERROR(IF(AC253=60,Q253+(AC253/T253),Q253+(AD253/T253))), \"\",IF(AC253=60,Q253+(AC253/T253),Q253+(AD253/T253)))","v":""}]
[null,null,"Test","Target",null,1,"dr_o","Lv_in",2,"dr_o","Lv_in",3,"dr_o","Lv_in",{"$f":"A256","v":248.5},{"$f":"F255","v":0},{"$f":"C255","v":48},{"$f":"D255","v":47},{"$f":"Q254-R254","v":1},{"$f":"IF(ISERROR((O254/P254)), 0,(O254/P254))","v":0},{"$f":"IF(ISERROR(S254*T254), 0,S254*T254)","v":0},{"$f":"IF(ISERROR(IF(ISERROR(O254/T254), 0,O254/T254)), 0,IF(ISERROR(O254/T254), 0,O254/T254))","v":0},14.2,0.4,{"$f":"IF(ISERROR(ABS(U254)), 0,ABS(U254))","v":0},0.15000000000000002,{"$f":"IF(ISERROR(ABS((Y254*X254)/W254)), 0,ABS((Y254*X254)/W254))","v":0},{"$f":"IF(ISERROR(IF(AA254>Z254,Z254,AA254)), 0,IF(AA254>Z254,Z254,AA254))","v":0},{"$f":"IF(ISERROR(IF(Y254>W254,W254,Y254)), 0,IF(Y254>W254,W254,Y254))","v":0},{"$f":"IF(ISERROR(IF(ISERROR(IF(ISERROR(IF(ISERROR((AC254*AB254)/AA254), 0,(AC254*AB254)/AA254)), 0,IF(ISERROR((AC254*AB254)/AA254), 0,(AC254*AB254)/AA254))), 0,IF(ISERROR(IF(ISERROR((AC254*AB254)/AA254), 0,(AC254*AB254)/AA254)), 0,IF(ISERROR((AC254*AB254)/AA254), 0,(AC254*AB254)/AA254)))), 0,IF(ISERROR(IF(ISERROR(IF(ISERROR((AC254*AB254)/AA254), 0,(AC254*AB254)/AA254)), 0,IF(ISERROR((AC254*AB254)/AA254), 0,(AC254*AB254)/AA254))), 0,IF(ISERROR(IF(ISERROR((AC254*AB254)/AA254), 0,(AC254*AB254)/AA254)), 0,IF(ISERROR((AC254*AB254)/AA254), 0,(AC254*AB254)/AA254))))","v":0},{"$f":"IF(ISERROR(IF(ISERROR(IF(ISERROR(IF(AC254=W254,0,(AC254*AB254)/AA254)), 0,IF(AC254=W254,0,(AC254*AB254)/AA254))), 0,IF(ISERROR(IF(AC254=W254,0,(AC254*AB254)/AA254)), 0,IF(AC254=W254,0,(AC254*AB254)/AA254)))), 0,IF(ISERROR(IF(ISERROR(IF(AC254=W254,0,(AC254*AB254)/AA254)), 0,IF(AC254=W254,0,(AC254*AB254)/AA254))), 0,IF(ISERROR(IF(AC254=W254,0,(AC254*AB254)/AA254)), 0,IF(AC254=W254,0,(AC254*AB254)/AA254))))","v":0},{"$f":"IF(ISERROR(IF(ISERROR(IF(AC254=60,Q254+(AC254/T254),Q254+(AD254/T254))), 0,IF(AC254=60,Q254+(AC254/T254),Q254+(AD254/T254)))), 0,IF(ISERROR(IF(AC254=60,Q254+(AC254/T254),Q254+(AD254/T254))), 0,IF(AC254=60,Q254+(AC254/T254),Q254+(AD254/T254))))","v":0}]
["C#",77,48,47,{"$f":"IF(ISERROR(Y254), 0,Y254)","v":0},null,{"$f":"IF(ISERROR(AB254), 0,AB254)","v":0},{"$f":"IF(ISERROR($E$10-G255), 0,$E$10-G255)","v":0.4},null,{"$f":"IF(ISERROR(AB255), \"\",AB255)","v":0},{"$f":"IF(ISERROR(ROUND($E$10-J255,3)), \"\",ROUND($E$10-J255,3))","v":0.4},null,{"$f":"IF(ISERROR(AB256), \"\",AB256)","v":0},{"$f":"IF(ISERROR($E$10-M255), \"\",$E$10-M255)","v":0.4},{"$f":"A256","v":248.5},{"$f":"I255","v":0},{"$f":"IF(ISERROR(IF(ISERROR(IF(AC254=W254,Q254+(AC254/T254),Q254+(AD254/T254))), 0,IF(AC254=W254,Q254+(AC254/T254),Q254+(AD254/T254)))), 0,IF(ISERROR(IF(AC254=W254,Q254+(AC254/T254),Q254+(AD254/T254))), 0,IF(AC254=W254,Q254+(AC254/T254),Q254+(AD254/T254))))","v":0},{"$f":"D255","v":47},{"$f":"IF(ISERROR(IF(ISERROR(Q255-R255), 0,Q255-R255)), 0,IF(ISERROR(Q255-R255), 0,Q255-R255))","v":-47},{"$f":"IF(ISERROR((O255/P255)), 0,(O255/P255))","v":0},{"$f":"IF(ISERROR(S255*T255), 0,S255*T255)","v":0},{"$f":"IF(ISERROR(IF(ISERROR(O255/T255), 0,O255/T255)), 0,IF(ISERROR(O255/T255), 0,O255/T255))","v":0},14.2,0.4,{"$f":"IF(ISERROR(ABS(U255)), 0,ABS(U255))","v":0},0.15000000000000002,{"$f":"IF(ISERROR(ABS((Y255*X255)/W255)), 0,ABS((Y255*X255)/W255))","v":0},{"$f":"IF(ISERROR(IF(AA255>Z255,Z255,AA255)), 0,IF(AA255>Z255,Z255,AA255))","v":0},{"$f":"IF(ISERROR(IF(Y255>W255,W255,Y255)), 0,IF(Y255>W255,W255,Y255))","v":0},{"$f":"IF(ISERROR((AC255*AB255)/AA255), \"\",(AC255*AB255)/AA255)","v":""},{"$f":"IF(ISERROR(IF(AC255=W255,0,(AC255*AB255)/AA255)), \"\",IF(AC255=W255,0,(AC255*AB255)/AA255))","v":""},{"$f":"IF(ISERROR(IF(AC255=60,Q255+(AC255/T255),Q255+(AD255/T255))), \"\",IF(AC255=60,Q255+(AC255/T255),Q255+(AD255/T255)))","v":""}]
[{"$f":"R331","v":248.5},{"$f":"IF(AND(C255<D255, E255>$E$7),\"Ignore Drill Out Lead 1; rather pop out Lead 1 and LEAVE lead # 2 to \"&K255&\" inches.\",\"\")","v":""},null,null,null,null,null,null,null,null,null,null,null,{"$f":"(G255+J255+M255)/$E$10*$E$7","v":0},{"$f":"A256","v":248.5},{"$f":"L255","v":0},{"$f":"IF(ISERROR(IF(AC255=W255,Q255+(AC255/T255),Q255+(AD255/T255))), \"\",IF(AC255=W255,Q255+(AC255/T255),Q255+(AD255/T255)))","v":""},{"$f":"D255","v":47},{"$f":"IF(ISERROR(Q256-R256), 0,Q256-R256)","v":0},{"$f":"IF(ISERROR(IF(ISERROR(IF(ISERROR((O256/P256)), 0,(O256/P256))), 0,IF(ISERROR((O256/P256)), 0,(O256/P256)))), 0,IF(ISERROR(IF(ISERROR((O256/P256)), 0,(O256/P256))), 0,IF(ISERROR((O256/P256)), 0,(O256/P256))))","v":0},{"$f":"IF(ISERROR(S256*T256), \"\",S256*T256)","v":0},{"$f":"IF(ISERROR(IF(ISERROR(IF(ISERROR(IF(ISERROR(O256/T256), 0,O256/T256)), 0,IF(ISERROR(O256/T256), 0,O256/T256))), 0,IF(ISERROR(IF(ISERROR(O256/T256), 0,O256/T256)), 0,IF(ISERROR(O256/T256), 0,O256/T256)))), 0,IF(ISERROR(IF(ISERROR(IF(ISERROR(O256/T256), 0,O256/T256)), 0,IF(ISERROR(O256/T256), 0,O256/T256))), 0,IF(ISERROR(IF(ISERROR(O256/T256), 0,O256/T256)), 0,IF(ISERROR(O256/T256), 0,O256/T256))))","v":0},14.2,0.4,{"$f":"IF(ISERROR(ABS(U256)), \"\",ABS(U256))","v":0},0.15000000000000002,{"$f":"IF(ISERROR(ABS((Y256*X256)/W256)), \"\",ABS((Y256*X256)/W256))","v":0},{"$f":"IF(ISERROR(IF(AA256>Z256,Z256,AA256)), \"\",IF(AA256>Z256,Z256,AA256))","v":0},{"$f":"IF(ISERROR(IF(Y256>W256,W256,Y256)), \"\",IF(Y256>W256,W256,Y256))","v":0},{"$f":"IF(ISERROR((AC256*AB256)/AA256), \"\",(AC256*AB256)/AA256)","v":""},{"$f":"IF(ISERROR(IF(AC256=W256,0,(AC256*AB256)/AA256)), \"\",IF(AC256=W256,0,(AC256*AB256)/AA256))","v":""},{"$f":"IF(ISERROR(IF(AC256=60,Q256+(AC256/T256),Q256+(AD256/T256))), \"\",IF(AC256=60,Q256+(AC256/T256),Q256+(AD256/T256)))","v":""}]
[null,null,"Test","Target",null,1,"dr_o","Lv_in",2,"dr_o","Lv_in",3,"dr_o","Lv_in",{"$f":"A259","v":253.05769230769121},{"$f":"F258","v":0},{"$f":"C258","v":48},{"$f":"D258","v":47},{"$f":"Q257-R257","v":1},{"$f":"IF(ISERROR((O257/P257)), 0,(O257/P257))","v":0},{"$f":"IF(ISERROR(S257*T257), 0,S257*T257)","v":0},{"$f":"IF(ISERROR(O257/T257), 0,O257/T257)","v":0},14.2,0.4,{"$f":"IF(ISERROR(ABS(U257)), 0,ABS(U257))","v":0},0.15000000000000002,{"$f":"IF(ISERROR(ABS((Y257*X257)/W257)), 0,ABS((Y257*X257)/W257))","v":0},{"$f":"IF(ISERROR(IF(AA257>Z257,Z257,AA257)), 0,IF(AA257>Z257,Z257,AA257))","v":0},{"$f":"IF(ISERROR(IF(Y257>W257,W257,Y257)), 0,IF(Y257>W257,W257,Y257))","v":0},{"$f":"IF(ISERROR(IF(ISERROR(IF(ISERROR(IF(ISERROR((AC257*AB257)/AA257), 0,(AC257*AB257)/AA257)), 0,IF(ISERROR((AC257*AB257)/AA257), 0,(AC257*AB257)/AA257))), 0,IF(ISERROR(IF(ISERROR((AC257*AB257)/AA257), 0,(AC257*AB257)/AA257)), 0,IF(ISERROR((AC257*AB257)/AA257), 0,(AC257*AB257)/AA257)))), 0,IF(ISERROR(IF(ISERROR(IF(ISERROR((AC257*AB257)/AA257), 0,(AC257*AB257)/AA257)), 0,IF(ISERROR((AC257*AB257)/AA257), 0,(AC257*AB257)/AA257))), 0,IF(ISERROR(IF(ISERROR((AC257*AB257)/AA257), 0,(AC257*AB257)/AA257)), 0,IF(ISERROR((AC257*AB257)/AA257), 0,(AC257*AB257)/AA257))))","v":0},{"$f":"IF(ISERROR(IF(ISERROR(IF(ISERROR(IF(AC257=W257,0,(AC257*AB257)/AA257)), 0,IF(AC257=W257,0,(AC257*AB257)/AA257))), 0,IF(ISERROR(IF(AC257=W257,0,(AC257*AB257)/AA257)), 0,IF(AC257=W257,0,(AC257*AB257)/AA257)))), 0,IF(ISERROR(IF(ISERROR(IF(AC257=W257,0,(AC257*AB257)/AA257)), 0,IF(AC257=W257,0,(AC257*AB257)/AA257))), 0,IF(ISERROR(IF(AC257=W257,0,(AC257*AB257)/AA257)), 0,IF(AC257=W257,0,(AC257*AB257)/AA257))))","v":0},{"$f":"IF(ISERROR(IF(ISERROR(IF(AC257=60,Q257+(AC257/T257),Q257+(AD257/T257))), 0,IF(AC257=60,Q257+(AC257/T257),Q257+(AD257/T257)))), 0,IF(ISERROR(IF(AC257=60,Q257+(AC257/T257),Q257+(AD257/T257))), 0,IF(AC257=60,Q257+(AC257/T257),Q257+(AD257/T257))))","v":0}]
["D",78,48,47,{"$f":"IF(ISERROR(Y257), 0,Y257)","v":0},null,{"$f":"IF(ISERROR(AB257), 0,AB257)","v":0},{"$f":"IF(ISERROR($E$10-G258), 0,$E$10-G258)","v":0.4},null,{"$f":"IF(ISERROR(AB258), \"\",AB258)","v":0},{"$f":"IF(ISERROR(ROUND($E$10-J258,3)), \"\",ROUND($E$10-J258,3))","v":0.4},null,{"$f":"IF(ISERROR(AB259), \"\",AB259)","v":0},{"$f":"IF(ISERROR($E$10-M258), \"\",$E$10-M258)","v":0.4},{"$f":"A259","v":253.05769230769121},{"$f":"I258","v":0},{"$f":"IF(ISERROR(IF(ISERROR(IF(AC257=W257,Q257+(AC257/T257),Q257+(AD257/T257))), 0,IF(AC257=W257,Q257+(AC257/T257),Q257+(AD257/T257)))), 0,IF(ISERROR(IF(AC257=W257,Q257+(AC257/T257),Q257+(AD257/T257))), 0,IF(AC257=W257,Q257+(AC257/T257),Q257+(AD257/T257))))","v":0},{"$f":"D258","v":47},{"$f":"IF(ISERROR(IF(ISERROR(Q258-R258), 0,Q258-R258)), 0,IF(ISERROR(Q258-R258), 0,Q258-R258))","v":-47},{"$f":"IF(ISERROR(IF(ISERROR(IF(ISERROR((O258/P258)), 0,(O258/P258))), 0,IF(ISERROR((O258/P258)), 0,(O258/P258)))), 0,IF(ISERROR(IF(ISERROR((O258/P258)), 0,(O258/P258))), 0,IF(ISERROR((O258/P258)), 0,(O258/P258))))","v":0},{"$f":"IF(ISERROR(IF(ISERROR(IF(ISERROR(S258*T258), 0,S258*T258)), 0,IF(ISERROR(S258*T258), 0,S258*T258))), 0,IF(ISERROR(IF(ISERROR(S258*T258), 0,S258*T258)), 0,IF(ISERROR(S258*T258), 0,S258*T258)))","v":0},{"$f":"IF(ISERROR(IF(ISERROR(IF(ISERROR(IF(ISERROR(O258/T258), 0,O258/T258)), 0,IF(ISERROR(O258/T258), 0,O258/T258))), 0,IF(ISERROR(IF(ISERROR(O258/T258), 0,O258/T258)), 0,IF(ISERROR(O258/T258), 0,O258/T258)))), 0,IF(ISERROR(IF(ISERROR(IF(ISERROR(O258/T258), 0,O258/T258)), 0,IF(ISERROR(O258/T258), 0,O258/T258))), 0,IF(ISERROR(IF(ISERROR(O258/T258), 0,O258/T258)), 0,IF(ISERROR(O258/T258), 0,O258/T258))))","v":0},14.2,0.4,{"$f":"IF(ISERROR(IF(ISERROR(IF(ISERROR(ABS(U258)), 0,ABS(U258))), 0,IF(ISERROR(ABS(U258)), 0,ABS(U258)))), 0,IF(ISERROR(IF(ISERROR(ABS(U258)), 0,ABS(U258))), 0,IF(ISERROR(ABS(U258)), 0,ABS(U258))))","v":0},0.15000000000000002,{"$f":"IF(ISERROR(IF(ISERROR(IF(ISERROR(ABS((Y258*X258)/W258)), 0,ABS((Y258*X258)/W258))), 0,IF(ISERROR(ABS((Y258*X258)/W258)), 0,ABS((Y258*X258)/W258)))), 0,IF(ISERROR(IF(ISERROR(ABS((Y258*X258)/W258)), 0,ABS((Y258*X258)/W258))), 0,IF(ISERROR(ABS((Y258*X258)/W258)), 0,ABS((Y258*X258)/W258))))","v":0},{"$f":"IF(ISERROR(IF(ISERROR(IF(ISERROR(IF(AA258>Z258,Z258,AA258)), 0,IF(AA258>Z258,Z258,AA258))), 0,IF(ISERROR(IF(AA258>Z258,Z258,AA258)), 0,IF(AA258>Z258,Z258,AA258)))), 0,IF(ISERROR(IF(ISERROR(IF(AA258>Z258,Z258,AA258)), 0,IF(AA258>Z258,Z258,AA258))), 0,IF(ISERROR(IF(AA258>Z258,Z258,AA258)), 0,IF(AA258>Z258,Z258,AA258))))","v":0},{"$f":"IF(ISERROR(IF(ISERROR(IF(ISERROR(IF(Y258>W258,W258,Y258)), 0,IF(Y258>W258,W258,Y258))), 0,IF(ISERROR(IF(Y258>W258,W258,Y258)), 0,IF(Y258>W258,W258,Y258)))), 0,IF(ISERROR(IF(ISERROR(IF(Y258>W258,W258,Y258)), 0,IF(Y258>W258,W258,Y258))), 0,IF(ISERROR(IF(Y258>W258,W258,Y258)), 0,IF(Y258>W258,W258,Y258))))","v":0},{"$f":"IF(ISERROR((AC258*AB258)/AA258), \"\",(AC258*AB258)/AA258)","v":""},{"$f":"IF(ISERROR(IF(AC258=W258,0,(AC258*AB258)/AA258)), \"\",IF(AC258=W258,0,(AC258*AB258)/AA258))","v":""},{"$f":"IF(ISERROR(IF(AC258=60,Q258+(AC258/T258),Q258+(AD258/T258))), \"\",IF(AC258=60,Q258+(AC258/T258),Q258+(AD258/T258)))","v":""}]
[{"$f":"F345","v":253.05769230769121},{"$f":"IF(ISERROR(IF(AND(C258<D258, E258>$E$7),\"Ignore Drill Out Lead 1; rather pop out Lead 1 and LEAVE lead # 2 to \"&K258&\" inches.\",\"\")), 0,IF(AND(C258<D258, E258>$E$7),\"Ignore Drill Out Lead 1; rather pop out Lead 1 and LEAVE lead # 2 to \"&K258&\" inches.\",\"\"))","v":""},null,null,null,null,null,null,null,null,null,null,null,{"$f":"(G258+J258+M258)/$E$10*$E$7","v":0},{"$f":"A259","v":253.05769230769121},{"$f":"L258","v":0},{"$f":"IF(ISERROR(IF(AC258=W258,Q258+(AC258/T258),Q258+(AD258/T258))), \"\",IF(AC258=W258,Q258+(AC258/T258),Q258+(AD258/T258)))","v":""},{"$f":"D258","v":47},{"$f":"IF(ISERROR(Q259-R259), 0,Q259-R259)","v":0},{"$f":"IF(ISERROR(IF(ISERROR(IF(ISERROR((O259/P259)), 0,(O259/P259))), 0,IF(ISERROR((O259/P259)), 0,(O259/P259)))), 0,IF(ISERROR(IF(ISERROR((O259/P259)), 0,(O259/P259))), 0,IF(ISERROR((O259/P259)), 0,(O259/P259))))","v":0},{"$f":"IF(ISERROR(S259*T259), \"\",S259*T259)","v":0},{"$f":"IF(ISERROR(IF(ISERROR(IF(ISERROR(IF(ISERROR(O259/T259), 0,O259/T259)), 0,IF(ISERROR(O259/T259), 0,O259/T259))), 0,IF(ISERROR(IF(ISERROR(O259/T259), 0,O259/T259)), 0,IF(ISERROR(O259/T259), 0,O259/T259)))), 0,IF(ISERROR(IF(ISERROR(IF(ISERROR(O259/T259), 0,O259/T259)), 0,IF(ISERROR(O259/T259), 0,O259/T259))), 0,IF(ISERROR(IF(ISERROR(O259/T259), 0,O259/T259)), 0,IF(ISERROR(O259/T259), 0,O259/T259))))","v":0},14.2,0.4,{"$f":"IF(ISERROR(ABS(U259)), \"\",ABS(U259))","v":0},0.15000000000000002,{"$f":"IF(ISERROR(ABS((Y259*X259)/W259)), \"\",ABS((Y259*X259)/W259))","v":0},{"$f":"IF(ISERROR(IF(AA259>Z259,Z259,AA259)), \"\",IF(AA259>Z259,Z259,AA259))","v":0},{"$f":"IF(ISERROR(IF(Y259>W259,W259,Y259)), \"\",IF(Y259>W259,W259,Y259))","v":0},{"$f":"IF(ISERROR((AC259*AB259)/AA259), \"\",(AC259*AB259)/AA259)","v":""},{"$f":"IF(ISERROR(IF(AC259=W259,0,(AC259*AB259)/AA259)), \"\",IF(AC259=W259,0,(AC259*AB259)/AA259))","v":""},{"$f":"IF(ISERROR(IF(AC259=60,Q259+(AC259/T259),Q259+(AD259/T259))), \"\",IF(AC259=60,Q259+(AC259/T259),Q259+(AD259/T259)))","v":""}]
[null,null,"Test","Target",null,1,"dr_o","Lv_in",2,"dr_o","Lv_in",3,"dr_o","Lv_in",{"$f":"A262","v":247.5},{"$f":"F261","v":0},{"$f":"C261","v":46},{"$f":"D261","v":47},{"$f":"Q260-R260","v":-1},{"$f":"IF(ISERROR((O260/P260)), 0,(O260/P260))","v":0},{"$f":"IF(ISERROR(S260*T260), 0,S260*T260)","v":0},{"$f":"IF(ISERROR(IF(ISERROR(O260/T260), 0,O260/T260)), 0,IF(ISERROR(O260/T260), 0,O260/T260))","v":0},14.2,0.4,{"$f":"IF(ISERROR(ABS(U260)), 0,ABS(U260))","v":0},0.15000000000000002,{"$f":"IF(ISERROR(ABS((Y260*X260)/W260)), 0,ABS((Y260*X260)/W260))","v":0},{"$f":"IF(ISERROR(IF(AA260>Z260,Z260,AA260)), 0,IF(AA260>Z260,Z260,AA260))","v":0},{"$f":"IF(ISERROR(IF(Y260>W260,W260,Y260)), 0,IF(Y260>W260,W260,Y260))","v":0},{"$f":"IF(ISERROR(IF(ISERROR(IF(ISERROR(IF(ISERROR((AC260*AB260)/AA260), 0,(AC260*AB260)/AA260)), 0,IF(ISERROR((AC260*AB260)/AA260), 0,(AC260*AB260)/AA260))), 0,IF(ISERROR(IF(ISERROR((AC260*AB260)/AA260), 0,(AC260*AB260)/AA260)), 0,IF(ISERROR((AC260*AB260)/AA260), 0,(AC260*AB260)/AA260)))), 0,IF(ISERROR(IF(ISERROR(IF(ISERROR((AC260*AB260)/AA260), 0,(AC260*AB260)/AA260)), 0,IF(ISERROR((AC260*AB260)/AA260), 0,(AC260*AB260)/AA260))), 0,IF(ISERROR(IF(ISERROR((AC260*AB260)/AA260), 0,(AC260*AB260)/AA260)), 0,IF(ISERROR((AC260*AB260)/AA260), 0,(AC260*AB260)/AA260))))","v":0},{"$f":"IF(ISERROR(IF(ISERROR(IF(ISERROR(IF(AC260=W260,0,(AC260*AB260)/AA260)), 0,IF(AC260=W260,0,(AC260*AB260)/AA260))), 0,IF(ISERROR(IF(AC260=W260,0,(AC260*AB260)/AA260)), 0,IF(AC260=W260,0,(AC260*AB260)/AA260)))), 0,IF(ISERROR(IF(ISERROR(IF(AC260=W260,0,(AC260*AB260)/AA260)), 0,IF(AC260=W260,0,(AC260*AB260)/AA260))), 0,IF(ISERROR(IF(AC260=W260,0,(AC260*AB260)/AA260)), 0,IF(AC260=W260,0,(AC260*AB260)/AA260))))","v":0},{"$f":"IF(ISERROR(IF(ISERROR(IF(AC260=60,Q260+(AC260/T260),Q260+(AD260/T260))), 0,IF(AC260=60,Q260+(AC260/T260),Q260+(AD260/T260)))), 0,IF(ISERROR(IF(AC260=60,Q260+(AC260/T260),Q260+(AD260/T260))), 0,IF(AC260=60,Q260+(AC260/T260),Q260+(AD260/T260))))","v":0}]
["D#",79,46,47,{"$f":"IF(ISERROR(Y260), 0,Y260)","v":0},null,{"$f":"IF(ISERROR(AB260), 0,AB260)","v":0},{"$f":"IF(ISERROR($E$10-G261), 0,$E$10-G261)","v":0.4},null,{"$f":"IF(ISERROR(AB261), \"\",AB261)","v":0},{"$f":"IF(ISERROR(ROUND($E$10-J261,3)), \"\",ROUND($E$10-J261,3))","v":0.4},null,{"$f":"IF(ISERROR(AB262), \"\",AB262)","v":0},{"$f":"IF(ISERROR($E$10-M261), \"\",$E$10-M261)","v":0.4},{"$f":"A262","v":247.5},{"$f":"I261","v":0},{"$f":"IF(ISERROR(IF(ISERROR(IF(AC260=W260,Q260+(AC260/T260),Q260+(AD260/T260))), 0,IF(AC260=W260,Q260+(AC260/T260),Q260+(AD260/T260)))), 0,IF(ISERROR(IF(AC260=W260,Q260+(AC260/T260),Q260+(AD260/T260))), 0,IF(AC260=W260,Q260+(AC260/T260),Q260+(AD260/T260))))","v":0},{"$f":"D261","v":47},{"$f":"IF(ISERROR(IF(ISERROR(Q261-R261), 0,Q261-R261)), 0,IF(ISERROR(Q261-R261), 0,Q261-R261))","v":-47},{"$f":"IF(ISERROR(IF(ISERROR(IF(ISERROR(IF(ISERROR((O261/P261)), 0,(O261/P261))), 0,IF(ISERROR((O261/P261)), 0,(O261/P261)))), 0,IF(ISERROR(IF(ISERROR((O261/P261)), 0,(O261/P261))), 0,IF(ISERROR((O261/P261)), 0,(O261/P261))))), 0,IF(ISERROR(IF(ISERROR(IF(ISERROR((O261/P261)), 0,(O261/P261))), 0,IF(ISERROR((O261/P261)), 0,(O261/P261)))), 0,IF(ISERROR(IF(ISERROR((O261/P261)), 0,(O261/P261))), 0,IF(ISERROR((O261/P261)), 0,(O261/P261)))))","v":0},{"$f":"IF(ISERROR(IF(ISERROR(IF(ISERROR(IF(ISERROR(S261*T261), 0,S261*T261)), 0,IF(ISERROR(S261*T261), 0,S261*T261))), 0,IF(ISERROR(IF(ISERROR(S261*T261), 0,S261*T261)), 0,IF(ISERROR(S261*T261), 0,S261*T261)))), 0,IF(ISERROR(IF(ISERROR(IF(ISERROR(S261*T261), 0,S261*T261)), 0,IF(ISERROR(S261*T261), 0,S261*T261))), 0,IF(ISERROR(IF(ISERROR(S261*T261), 0,S261*T261)), 0,IF(ISERROR(S261*T261), 0,S261*T261))))","v":0},{"$f":"IF(ISERROR(IF(ISERROR(IF(ISERROR(IF(ISERROR(O261/T261), 0,O261/T261)), 0,IF(ISERROR(O261/T261), 0,O261/T261))), 0,IF(ISERROR(IF(ISERROR(O261/T261), 0,O261/T261)), 0,IF(ISERROR(O261/T261), 0,O261/T261)))), 0,IF(ISERROR(IF(ISERROR(IF(ISERROR(O261/T261), 0,O261/T261)), 0,IF(ISERROR(O261/T261), 0,O261/T261))), 0,IF(ISERROR(IF(ISERROR(O261/T261), 0,O261/T261)), 0,IF(ISERROR(O261/T261), 0,O261/T261))))","v":0},14.2,0.4,{"$f":"IF(ISERROR(IF(ISERROR(IF(ISERROR(ABS(U261)), 0,ABS(U261))), 0,IF(ISERROR(ABS(U261)), 0,ABS(U261)))), 0,IF(ISERROR(IF(ISERROR(ABS(U261)), 0,ABS(U261))), 0,IF(ISERROR(ABS(U261)), 0,ABS(U261))))","v":0},0.15000000000000002,{"$f":"IF(ISERROR(IF(ISERROR(IF(ISERROR(ABS((Y261*X261)/W261)), 0,ABS((Y261*X261)/W261))), 0,IF(ISERROR(ABS((Y261*X261)/W261)), 0,ABS((Y261*X261)/W261)))), 0,IF(ISERROR(IF(ISERROR(ABS((Y261*X261)/W261)), 0,ABS((Y261*X261)/W261))), 0,IF(ISERROR(ABS((Y261*X261)/W261)), 0,ABS((Y261*X261)/W261))))","v":0},{"$f":"IF(ISERROR(IF(ISERROR(IF(ISERROR(IF(AA261>Z261,Z261,AA261)), 0,IF(AA261>Z261,Z261,AA261))), 0,IF(ISERROR(IF(AA261>Z261,Z261,AA261)), 0,IF(AA261>Z261,Z261,AA261)))), 0,IF(ISERROR(IF(ISERROR(IF(AA261>Z261,Z261,AA261)), 0,IF(AA261>Z261,Z261,AA261))), 0,IF(ISERROR(IF(AA261>Z261,Z261,AA261)), 0,IF(AA261>Z261,Z261,AA261))))","v":0},{"$f":"IF(ISERROR(IF(ISERROR(IF(ISERROR(IF(Y261>W261,W261,Y261)), 0,IF(Y261>W261,W261,Y261))), 0,IF(ISERROR(IF(Y261>W261,W261,Y261)), 0,IF(Y261>W261,W261,Y261)))), 0,IF(ISERROR(IF(ISERROR(IF(Y261>W261,W261,Y261)), 0,IF(Y261>W261,W261,Y261))), 0,IF(ISERROR(IF(Y261>W261,W261,Y261)), 0,IF(Y261>W261,W261,Y261))))","v":0},{"$f":"IF(ISERROR((AC261*AB261)/AA261), \"\",(AC261*AB261)/AA261)","v":""},{"$f":"IF(ISERROR(IF(AC261=W261,0,(AC261*AB261)/AA261)), \"\",IF(AC261=W261,0,(AC261*AB261)/AA261))","v":""},{"$f":"IF(ISERROR(IF(AC261=60,Q261+(AC261/T261),Q261+(AD261/T261))), \"\",IF(AC261=60,Q261+(AC261/T261),Q261+(AD261/T261)))","v":""}]
[{"$f":"R332","v":247.5},{"$f":"IF(AND(C261<D261, E261>$E$7),\"Ignore Drill Out Lead 1; rather pop out Lead 1 and LEAVE lead # 2 to \"&K261&\" inches.\",\"\")","v":""},null,null,null,null,null,null,null,null,null,null,null,{"$f":"(G261+J261+M261)/$E$10*$E$7","v":0},{"$f":"A262","v":247.5},{"$f":"L261","v":0},{"$f":"IF(ISERROR(IF(AC261=W261,Q261+(AC261/T261),Q261+(AD261/T261))), \"\",IF(AC261=W261,Q261+(AC261/T261),Q261+(AD261/T261)))","v":""},{"$f":"D261","v":47},{"$f":"IF(ISERROR(Q262-R262), 0,Q262-R262)","v":0},{"$f":"IF(ISERROR(IF(ISERROR(IF(ISERROR((O262/P262)), 0,(O262/P262))), 0,IF(ISERROR((O262/P262)), 0,(O262/P262)))), 0,IF(ISERROR(IF(ISERROR((O262/P262)), 0,(O262/P262))), 0,IF(ISERROR((O262/P262)), 0,(O262/P262))))","v":0},{"$f":"IF(ISERROR(S262*T262), \"\",S262*T262)","v":0},{"$f":"IF(ISERROR(IF(ISERROR(IF(ISERROR(IF(ISERROR(O262/T262), 0,O262/T262)), 0,IF(ISERROR(O262/T262), 0,O262/T262))), 0,IF(ISERROR(IF(ISERROR(O262/T262), 0,O262/T262)), 0,IF(ISERROR(O262/T262), 0,O262/T262)))), 0,IF(ISERROR(IF(ISERROR(IF(ISERROR(O262/T262), 0,O262/T262)), 0,IF(ISERROR(O262/T262), 0,O262/T262))), 0,IF(ISERROR(IF(ISERROR(O262/T262), 0,O262/T262)), 0,IF(ISERROR(O262/T262), 0,O262/T262))))","v":0},14.2,0.4,{"$f":"IF(ISERROR(ABS(U262)), \"\",ABS(U262))","v":0},0.15000000000000002,{"$f":"IF(ISERROR(ABS((Y262*X262)/W262)), \"\",ABS((Y262*X262)/W262))","v":0},{"$f":"IF(ISERROR(IF(AA262>Z262,Z262,AA262)), \"\",IF(AA262>Z262,Z262,AA262))","v":0},{"$f":"IF(ISERROR(IF(Y262>W262,W262,Y262)), \"\",IF(Y262>W262,W262,Y262))","v":0},{"$f":"IF(ISERROR((AC262*AB262)/AA262), \"\",(AC262*AB262)/AA262)","v":""},{"$f":"IF(ISERROR(IF(AC262=W262,0,(AC262*AB262)/AA262)), \"\",IF(AC262=W262,0,(AC262*AB262)/AA262))","v":""},{"$f":"IF(ISERROR(IF(AC262=60,Q262+(AC262/T262),Q262+(AD262/T262))), \"\",IF(AC262=60,Q262+(AC262/T262),Q262+(AD262/T262)))","v":""}]
[null,null,"Test","Target",null,1,"dr_o","Lv_in",2,"dr_o","Lv_in",3,"dr_o","Lv_in",{"$f":"A265","v":251.6923076923066},{"$f":"F264","v":0},{"$f":"C264","v":46},{"$f":"D264","v":47},{"$f":"Q263-R263","v":-1},{"$f":"IF(ISERROR((O263/P263)), 0,(O263/P263))","v":0},{"$f":"IF(ISERROR(S263*T263), 0,S263*T263)","v":0},{"$f":"IF(ISERROR(IF(ISERROR(O263/T263), 0,O263/T263)), 0,IF(ISERROR(O263/T263), 0,O263/T263))","v":0},14.2,0.4,{"$f":"IF(ISERROR(ABS(U263)), 0,ABS(U263))","v":0},0.15000000000000002,{"$f":"IF(ISERROR(ABS((Y263*X263)/W263)), 0,ABS((Y263*X263)/W263))","v":0},{"$f":"IF(ISERROR(IF(AA263>Z263,Z263,AA263)), 0,IF(AA263>Z263,Z263,AA263))","v":0},{"$f":"IF(ISERROR(IF(Y263>W263,W263,Y263)), 0,IF(Y263>W263,W263,Y263))","v":0},{"$f":"IF(ISERROR(IF(ISERROR(IF(ISERROR(IF(ISERROR((AC263*AB263)/AA263), 0,(AC263*AB263)/AA263)), 0,IF(ISERROR((AC263*AB263)/AA263), 0,(AC263*AB263)/AA263))), 0,IF(ISERROR(IF(ISERROR((AC263*AB263)/AA263), 0,(AC263*AB263)/AA263)), 0,IF(ISERROR((AC263*AB263)/AA263), 0,(AC263*AB263)/AA263)))), 0,IF(ISERROR(IF(ISERROR(IF(ISERROR((AC263*AB263)/AA263), 0,(AC263*AB263)/AA263)), 0,IF(ISERROR((AC263*AB263)/AA263), 0,(AC263*AB263)/AA263))), 0,IF(ISERROR(IF(ISERROR((AC263*AB263)/AA263), 0,(AC263*AB263)/AA263)), 0,IF(ISERROR((AC263*AB263)/AA263), 0,(AC263*AB263)/AA263))))","v":0},{"$f":"IF(ISERROR(IF(ISERROR(IF(ISERROR(IF(AC263=W263,0,(AC263*AB263)/AA263)), 0,IF(AC263=W263,0,(AC263*AB263)/AA263))), 0,IF(ISERROR(IF(AC263=W263,0,(AC263*AB263)/AA263)), 0,IF(AC263=W263,0,(AC263*AB263)/AA263)))), 0,IF(ISERROR(IF(ISERROR(IF(AC263=W263,0,(AC263*AB263)/AA263)), 0,IF(AC263=W263,0,(AC263*AB263)/AA263))), 0,IF(ISERROR(IF(AC263=W263,0,(AC263*AB263)/AA263)), 0,IF(AC263=W263,0,(AC263*AB263)/AA263))))","v":0},{"$f":"IF(ISERROR(IF(ISERROR(IF(AC263=60,Q263+(AC263/T263),Q263+(AD263/T263))), 0,IF(AC263=60,Q263+(AC263/T263),Q263+(AD263/T263)))), 0,IF(ISERROR(IF(AC263=60,Q263+(AC263/T263),Q263+(AD263/T263))), 0,IF(AC263=60,Q263+(AC263/T263),Q263+(AD263/T263))))","v":0}]
["E",80,46,47,{"$f":"IF(ISERROR(Y263), 0,Y263)","v":0},null,{"$f":"IF(ISERROR(AB263), 0,AB263)","v":0},{"$f":"IF(ISERROR($E$10-G264), 0,$E$10-G264)","v":0.4},null,{"$f":"IF(ISERROR(AB264), \"\",AB264)","v":0},{"$f":"IF(ISERROR(ROUND($E$10-J264,3)), \"\",ROUND($E$10-J264,3))","v":0.4},null,{"$f":"IF(ISERROR(AB265), \"\",AB265)","v":0},{"$f":"IF(ISERROR($E$10-M264), \"\",$E$10-M264)","v":0.4},{"$f":"A265","v":251.6923076923066},{"$f":"I264","v":0},{"$f":"IF(ISERROR(IF(ISERROR(IF(AC263=W263,Q263+(AC263/T263),Q263+(AD263/T263))), 0,IF(AC263=W263,Q263+(AC263/T263),Q263+(AD263/T263)))), 0,IF(ISERROR(IF(AC263=W263,Q263+(AC263/T263),Q263+(AD263/T263))), 0,IF(AC263=W263,Q263+(AC263/T263),Q263+(AD263/T263))))","v":0},{"$f":"D264","v":47},{"$f":"IF(ISERROR(IF(ISERROR(Q264-R264), 0,Q264-R264)), 0,IF(ISERROR(Q264-R264), 0,Q264-R264))","v":-47},{"$f":"IF(ISERROR(IF(ISERROR(IF(ISERROR(IF(ISERROR((O264/P264)), 0,(O264/P264))), 0,IF(ISERROR((O264/P264)), 0,(O264/P264)))), 0,IF(ISERROR(IF(ISERROR((O264/P264)), 0,(O264/P264))), 0,IF(ISERROR((O264/P264)), 0,(O264/P264))))), 0,IF(ISERROR(IF(ISERROR(IF(ISERROR((O264/P264)), 0,(O264/P264))), 0,IF(ISERROR((O264/P264)), 0,(O264/P264)))), 0,IF(ISERROR(IF(ISERROR((O264/P264)), 0,(O264/P264))), 0,IF(ISERROR((O264/P264)), 0,(O264/P264)))))","v":0},{"$f":"IF(ISERROR(IF(ISERROR(IF(ISERROR(IF(ISERROR(S264*T264), 0,S264*T264)), 0,IF(ISERROR(S264*T264), 0,S264*T264))), 0,IF(ISERROR(IF(ISERROR(S264*T264), 0,S264*T264)), 0,IF(ISERROR(S264*T264), 0,S264*T264)))), 0,IF(ISERROR(IF(ISERROR(IF(ISERROR(S264*T264), 0,S264*T264)), 0,IF(ISERROR(S264*T264), 0,S264*T264))), 0,IF(ISERROR(IF(ISERROR(S264*T264), 0,S264*T264)), 0,IF(ISERROR(S264*T264), 0,S264*T264))))","v":0},{"$f":"IF(ISERROR(IF(ISERROR(IF(ISERROR(IF(ISERROR(O264/T264), 0,O264/T264)), 0,IF(ISERROR(O264/T264), 0,O264/T264))), 0,IF(ISERROR(IF(ISERROR(O264/T264), 0,O264/T264)), 0,IF(ISERROR(O264/T264), 0,O264/T264)))), 0,IF(ISERROR(IF(ISERROR(IF(ISERROR(O264/T264), 0,O264/T264)), 0,IF(ISERROR(O264/T264), 0,O264/T264))), 0,IF(ISERROR(IF(ISERROR(O264/T264), 0,O264/T264)), 0,IF(ISERROR(O264/T264), 0,O264/T264))))","v":0},14.2,0.4,{"$f":"IF(ISERROR(IF(ISERROR(IF(ISERROR(ABS(U264)), 0,ABS(U264))), 0,IF(ISERROR(ABS(U264)), 0,ABS(U264)))), 0,IF(ISERROR(IF(ISERROR(ABS(U264)), 0,ABS(U264))), 0,IF(ISERROR(ABS(U264)), 0,ABS(U264))))","v":0},0.15000000000000002,{"$f":"IF(ISERROR(IF(ISERROR(IF(ISERROR(ABS((Y264*X264)/W264)), 0,ABS((Y264*X264)/W264))), 0,IF(ISERROR(ABS((Y264*X264)/W264)), 0,ABS((Y264*X264)/W264)))), 0,IF(ISERROR(IF(ISERROR(ABS((Y264*X264)/W264)), 0,ABS((Y264*X264)/W264))), 0,IF(ISERROR(ABS((Y264*X264)/W264)), 0,ABS((Y264*X264)/W264))))","v":0},{"$f":"IF(ISERROR(IF(ISERROR(IF(ISERROR(IF(AA264>Z264,Z264,AA264)), 0,IF(AA264>Z264,Z264,AA264))), 0,IF(ISERROR(IF(AA264>Z264,Z264,AA264)), 0,IF(AA264>Z264,Z264,AA264)))), 0,IF(ISERROR(IF(ISERROR(IF(AA264>Z264,Z264,AA264)), 0,IF(AA264>Z264,Z264,AA264))), 0,IF(ISERROR(IF(AA264>Z264,Z264,AA264)), 0,IF(AA264>Z264,Z264,AA264))))","v":0},{"$f":"IF(ISERROR(IF(ISERROR(IF(ISERROR(IF(Y264>W264,W264,Y264)), 0,IF(Y264>W264,W264,Y264))), 0,IF(ISERROR(IF(Y264>W264,W264,Y264)), 0,IF(Y264>W264,W264,Y264)))), 0,IF(ISERROR(IF(ISERROR(IF(Y264>W264,W264,Y264)), 0,IF(Y264>W264,W264,Y264))), 0,IF(ISERROR(IF(Y264>W264,W264,Y264)), 0,IF(Y264>W264,W264,Y264))))","v":0},{"$f":"IF(ISERROR((AC264*AB264)/AA264), \"\",(AC264*AB264)/AA264)","v":""},{"$f":"IF(ISERROR(IF(AC264=W264,0,(AC264*AB264)/AA264)), \"\",IF(AC264=W264,0,(AC264*AB264)/AA264))","v":""},{"$f":"IF(ISERROR(IF(AC264=60,Q264+(AC264/T264),Q264+(AD264/T264))), \"\",IF(AC264=60,Q264+(AC264/T264),Q264+(AD264/T264)))","v":""}]
[{"$f":"F346","v":251.6923076923066},{"$f":"IF(AND(C264<D264, E264>$E$7),\"Ignore Drill Out Lead 1; rather pop out Lead 1 and LEAVE lead # 2 to \"&K264&\" inches.\",\"\")","v":""},null,null,null,null,null,null,null,null,null,null,null,{"$f":"(G264+J264+M264)/$E$10*$E$7","v":0},{"$f":"A265","v":251.6923076923066},{"$f":"L264","v":0},{"$f":"IF(ISERROR(IF(AC264=W264,Q264+(AC264/T264),Q264+(AD264/T264))), \"\",IF(AC264=W264,Q264+(AC264/T264),Q264+(AD264/T264)))","v":""},{"$f":"D264","v":47},{"$f":"IF(ISERROR(Q265-R265), 0,Q265-R265)","v":0},{"$f":"IF(ISERROR(IF(ISERROR(IF(ISERROR((O265/P265)), 0,(O265/P265))), 0,IF(ISERROR((O265/P265)), 0,(O265/P265)))), 0,IF(ISERROR(IF(ISERROR((O265/P265)), 0,(O265/P265))), 0,IF(ISERROR((O265/P265)), 0,(O265/P265))))","v":0},{"$f":"IF(ISERROR(S265*T265), \"\",S265*T265)","v":0},{"$f":"IF(ISERROR(IF(ISERROR(IF(ISERROR(IF(ISERROR(O265/T265), 0,O265/T265)), 0,IF(ISERROR(O265/T265), 0,O265/T265))), 0,IF(ISERROR(IF(ISERROR(O265/T265), 0,O265/T265)), 0,IF(ISERROR(O265/T265), 0,O265/T265)))), 0,IF(ISERROR(IF(ISERROR(IF(ISERROR(O265/T265), 0,O265/T265)), 0,IF(ISERROR(O265/T265), 0,O265/T265))), 0,IF(ISERROR(IF(ISERROR(O265/T265), 0,O265/T265)), 0,IF(ISERROR(O265/T265), 0,O265/T265))))","v":0},14.2,0.4,{"$f":"IF(ISERROR(ABS(U265)), \"\",ABS(U265))","v":0},0.15000000000000002,{"$f":"IF(ISERROR(ABS((Y265*X265)/W265)), \"\",ABS((Y265*X265)/W265))","v":0},{"$f":"IF(ISERROR(IF(AA265>Z265,Z265,AA265)), \"\",IF(AA265>Z265,Z265,AA265))","v":0},{"$f":"IF(ISERROR(IF(Y265>W265,W265,Y265)), \"\",IF(Y265>W265,W265,Y265))","v":0},{"$f":"IF(ISERROR((AC265*AB265)/AA265), \"\",(AC265*AB265)/AA265)","v":""},{"$f":"IF(ISERROR(IF(AC265=W265,0,(AC265*AB265)/AA265)), \"\",IF(AC265=W265,0,(AC265*AB265)/AA265))","v":""},{"$f":"IF(ISERROR(IF(AC265=60,Q265+(AC265/T265),Q265+(AD265/T265))), \"\",IF(AC265=60,Q265+(AC265/T265),Q265+(AD265/T265)))","v":""}]
[null,null,"Test","Target",null,1,"dr_o","Lv_in",2,"dr_o","Lv_in",3,"dr_o","Lv_in",{"$f":"A268","v":250.32692307692199},{"$f":"F267","v":0},{"$f":"C267","v":46},{"$f":"D267","v":47},{"$f":"Q266-R266","v":-1},{"$f":"IF(ISERROR((O266/P266)), 0,(O266/P266))","v":0},{"$f":"IF(ISERROR(S266*T266), 0,S266*T266)","v":0},{"$f":"IF(ISERROR(IF(ISERROR(O266/T266), 0,O266/T266)), 0,IF(ISERROR(O266/T266), 0,O266/T266))","v":0},14.2,0.4,{"$f":"IF(ISERROR(ABS(U266)), 0,ABS(U266))","v":0},0.15000000000000002,{"$f":"IF(ISERROR(ABS((Y266*X266)/W266)), 0,ABS((Y266*X266)/W266))","v":0},{"$f":"IF(ISERROR(IF(AA266>Z266,Z266,AA266)), 0,IF(AA266>Z266,Z266,AA266))","v":0},{"$f":"IF(ISERROR(IF(Y266>W266,W266,Y266)), 0,IF(Y266>W266,W266,Y266))","v":0},{"$f":"IF(ISERROR(IF(ISERROR(IF(ISERROR(IF(ISERROR((AC266*AB266)/AA266), 0,(AC266*AB266)/AA266)), 0,IF(ISERROR((AC266*AB266)/AA266), 0,(AC266*AB266)/AA266))), 0,IF(ISERROR(IF(ISERROR((AC266*AB266)/AA266), 0,(AC266*AB266)/AA266)), 0,IF(ISERROR((AC266*AB266)/AA266), 0,(AC266*AB266)/AA266)))), 0,IF(ISERROR(IF(ISERROR(IF(ISERROR((AC266*AB266)/AA266), 0,(AC266*AB266)/AA266)), 0,IF(ISERROR((AC266*AB266)/AA266), 0,(AC266*AB266)/AA266))), 0,IF(ISERROR(IF(ISERROR((AC266*AB266)/AA266), 0,(AC266*AB266)/AA266)), 0,IF(ISERROR((AC266*AB266)/AA266), 0,(AC266*AB266)/AA266))))","v":0},{"$f":"IF(ISERROR(IF(ISERROR(IF(ISERROR(IF(AC266=W266,0,(AC266*AB266)/AA266)), 0,IF(AC266=W266,0,(AC266*AB266)/AA266))), 0,IF(ISERROR(IF(AC266=W266,0,(AC266*AB266)/AA266)), 0,IF(AC266=W266,0,(AC266*AB266)/AA266)))), 0,IF(ISERROR(IF(ISERROR(IF(AC266=W266,0,(AC266*AB266)/AA266)), 0,IF(AC266=W266,0,(AC266*AB266)/AA266))), 0,IF(ISERROR(IF(AC266=W266,0,(AC266*AB266)/AA266)), 0,IF(AC266=W266,0,(AC266*AB266)/AA266))))","v":0},{"$f":"IF(ISERROR(IF(ISERROR(IF(AC266=60,Q266+(AC266/T266),Q266+(AD266/T266))), 0,IF(AC266=60,Q266+(AC266/T266),Q266+(AD266/T266)))), 0,IF(ISERROR(IF(AC266=60,Q266+(AC266/T266),Q266+(AD266/T266))), 0,IF(AC266=60,Q266+(AC266/T266),Q266+(AD266/T266))))","v":0}]
["F",81,46,47,{"$f":"IF(ISERROR(Y266), 0,Y266)","v":0},null,{"$f":"IF(ISERROR(AB266), 0,AB266)","v":0},{"$f":"IF(ISERROR($E$10-G267), 0,$E$10-G267)","v":0.4},null,{"$f":"IF(ISERROR(AB267), \"\",AB267)","v":0},{"$f":"IF(ISERROR(ROUND($E$10-J267,3)), \"\",ROUND($E$10-J267,3))","v":0.4},null,{"$f":"IF(ISERROR(AB268), \"\",AB268)","v":0},{"$f":"IF(ISERROR($E$10-M267), \"\",$E$10-M267)","v":0.4},{"$f":"A268","v":250.32692307692199},{"$f":"I267","v":0},{"$f":"IF(ISERROR(IF(ISERROR(IF(AC266=W266,Q266+(AC266/T266),Q266+(AD266/T266))), 0,IF(AC266=W266,Q266+(AC266/T266),Q266+(AD266/T266)))), 0,IF(ISERROR(IF(AC266=W266,Q266+(AC266/T266),Q266+(AD266/T266))), 0,IF(AC266=W266,Q266+(AC266/T266),Q266+(AD266/T266))))","v":0},{"$f":"D267","v":47},{"$f":"IF(ISERROR(IF(ISERROR(Q267-R267), 0,Q267-R267)), 0,IF(ISERROR(Q267-R267), 0,Q267-R267))","v":-47},{"$f":"IF(ISERROR(IF(ISERROR(IF(ISERROR(IF(ISERROR((O267/P267)), 0,(O267/P267))), 0,IF(ISERROR((O267/P267)), 0,(O267/P267)))), 0,IF(ISERROR(IF(ISERROR((O267/P267)), 0,(O267/P267))), 0,IF(ISERROR((O267/P267)), 0,(O267/P267))))), 0,IF(ISERROR(IF(ISERROR(IF(ISERROR((O267/P267)), 0,(O267/P267))), 0,IF(ISERROR((O267/P267)), 0,(O267/P267)))), 0,IF(ISERROR(IF(ISERROR((O267/P267)), 0,(O267/P267))), 0,IF(ISERROR((O267/P267)), 0,(O267/P267)))))","v":0},{"$f":"IF(ISERROR(IF(ISERROR(IF(ISERROR(IF(ISERROR(S267*T267), 0,S267*T267)), 0,IF(ISERROR(S267*T267), 0,S267*T267))), 0,IF(ISERROR(IF(ISERROR(S267*T267), 0,S267*T267)), 0,IF(ISERROR(S267*T267), 0,S267*T267)))), 0,IF(ISERROR(IF(ISERROR(IF(ISERROR(S267*T267), 0,S267*T267)), 0,IF(ISERROR(S267*T267), 0,S267*T267))), 0,IF(ISERROR(IF(ISERROR(S267*T267), 0,S267*T267)), 0,IF(ISERROR(S267*T267), 0,S267*T267))))","v":0},{"$f":"IF(ISERROR(IF(ISERROR(IF(ISERROR(IF(ISERROR(O267/T267), 0,O267/T267)), 0,IF(ISERROR(O267/T267), 0,O267/T267))), 0,IF(ISERROR(IF(ISERROR(O267/T267), 0,O267/T267)), 0,IF(ISERROR(O267/T267), 0,O267/T267)))), 0,IF(ISERROR(IF(ISERROR(IF(ISERROR(O267/T267), 0,O267/T267)), 0,IF(ISERROR(O267/T267), 0,O267/T267))), 0,IF(ISERROR(IF(ISERROR(O267/T267), 0,O267/T267)), 0,IF(ISERROR(O267/T267), 0,O267/T267))))","v":0},14.2,0.4,{"$f":"IF(ISERROR(IF(ISERROR(IF(ISERROR(ABS(U267)), 0,ABS(U267))), 0,IF(ISERROR(ABS(U267)), 0,ABS(U267)))), 0,IF(ISERROR(IF(ISERROR(ABS(U267)), 0,ABS(U267))), 0,IF(ISERROR(ABS(U267)), 0,ABS(U267))))","v":0},0.15000000000000002,{"$f":"IF(ISERROR(IF(ISERROR(IF(ISERROR(ABS((Y267*X267)/W267)), 0,ABS((Y267*X267)/W267))), 0,IF(ISERROR(ABS((Y267*X267)/W267)), 0,ABS((Y267*X267)/W267)))), 0,IF(ISERROR(IF(ISERROR(ABS((Y267*X267)/W267)), 0,ABS((Y267*X267)/W267))), 0,IF(ISERROR(ABS((Y267*X267)/W267)), 0,ABS((Y267*X267)/W267))))","v":0},{"$f":"IF(ISERROR(IF(ISERROR(IF(ISERROR(IF(AA267>Z267,Z267,AA267)), 0,IF(AA267>Z267,Z267,AA267))), 0,IF(ISERROR(IF(AA267>Z267,Z267,AA267)), 0,IF(AA267>Z267,Z267,AA267)))), 0,IF(ISERROR(IF(ISERROR(IF(AA267>Z267,Z267,AA267)), 0,IF(AA267>Z267,Z267,AA267))), 0,IF(ISERROR(IF(AA267>Z267,Z267,AA267)), 0,IF(AA267>Z267,Z267,AA267))))","v":0},{"$f":"IF(ISERROR(IF(ISERROR(IF(ISERROR(IF(Y267>W267,W267,Y267)), 0,IF(Y267>W267,W267,Y267))), 0,IF(ISERROR(IF(Y267>W267,W267,Y267)), 0,IF(Y267>W267,W267,Y267)))), 0,IF(ISERROR(IF(ISERROR(IF(Y267>W267,W267,Y267)), 0,IF(Y267>W267,W267,Y267))), 0,IF(ISERROR(IF(Y267>W267,W267,Y267)), 0,IF(Y267>W267,W267,Y267))))","v":0},{"$f":"IF(ISERROR((AC267*AB267)/AA267), \"\",(AC267*AB267)/AA267)","v":""},{"$f":"IF(ISERROR(IF(AC267=W267,0,(AC267*AB267)/AA267)), \"\",IF(AC267=W267,0,(AC267*AB267)/AA267))","v":""},{"$f":"IF(ISERROR(IF(AC267=60,Q267+(AC267/T267),Q267+(AD267/T267))), \"\",IF(AC267=60,Q267+(AC267/T267),Q267+(AD267/T267)))","v":""}]
[{"$f":"F347","v":250.32692307692199},{"$f":"IF(AND(C267<D267, E267>$E$7),\"Ignore Drill Out Lead 1; rather pop out Lead 1 and LEAVE lead # 2 to \"&K267&\" inches.\",\"\")","v":""},null,null,null,null,null,null,null,null,null,null,null,{"$f":"(G267+J267+M267)/$E$10*$E$7","v":0},{"$f":"A268","v":250.32692307692199},{"$f":"L267","v":0},{"$f":"IF(ISERROR(IF(AC267=W267,Q267+(AC267/T267),Q267+(AD267/T267))), \"\",IF(AC267=W267,Q267+(AC267/T267),Q267+(AD267/T267)))","v":""},{"$f":"D267","v":47},{"$f":"IF(ISERROR(Q268-R268), 0,Q268-R268)","v":0},{"$f":"IF(ISERROR(IF(ISERROR(IF(ISERROR((O268/P268)), 0,(O268/P268))), 0,IF(ISERROR((O268/P268)), 0,(O268/P268)))), 0,IF(ISERROR(IF(ISERROR((O268/P268)), 0,(O268/P268))), 0,IF(ISERROR((O268/P268)), 0,(O268/P268))))","v":0},{"$f":"IF(ISERROR(S268*T268), \"\",S268*T268)","v":0},{"$f":"IF(ISERROR(IF(ISERROR(IF(ISERROR(IF(ISERROR(O268/T268), 0,O268/T268)), 0,IF(ISERROR(O268/T268), 0,O268/T268))), 0,IF(ISERROR(IF(ISERROR(O268/T268), 0,O268/T268)), 0,IF(ISERROR(O268/T268), 0,O268/T268)))), 0,IF(ISERROR(IF(ISERROR(IF(ISERROR(O268/T268), 0,O268/T268)), 0,IF(ISERROR(O268/T268), 0,O268/T268))), 0,IF(ISERROR(IF(ISERROR(O268/T268), 0,O268/T268)), 0,IF(ISERROR(O268/T268), 0,O268/T268))))","v":0},14.2,0.4,{"$f":"IF(ISERROR(ABS(U268)), \"\",ABS(U268))","v":0},0.15000000000000002,{"$f":"IF(ISERROR(ABS((Y268*X268)/W268)), \"\",ABS((Y268*X268)/W268))","v":0},{"$f":"IF(ISERROR(IF(AA268>Z268,Z268,AA268)), \"\",IF(AA268>Z268,Z268,AA268))","v":0},{"$f":"IF(ISERROR(IF(Y268>W268,W268,Y268)), \"\",IF(Y268>W268,W268,Y268))","v":0},{"$f":"IF(ISERROR((AC268*AB268)/AA268), \"\",(AC268*AB268)/AA268)","v":""},{"$f":"IF(ISERROR(IF(AC268=W268,0,(AC268*AB268)/AA268)), \"\",IF(AC268=W268,0,(AC268*AB268)/AA268))","v":""},{"$f":"IF(ISERROR(IF(AC268=60,Q268+(AC268/T268),Q268+(AD268/T268))), \"\",IF(AC268=60,Q268+(AC268/T268),Q268+(AD268/T268)))","v":""}]
[null,null,"Test","Target",null,1,"dr_o","Lv_in",2,"dr_o","Lv_in",3,"dr_o","Lv_in",{"$f":"A271","v":246.5},{"$f":"F270","v":0},{"$f":"C270","v":99},{"$f":"D270","v":47},{"$f":"Q269-R269","v":52},{"$f":"IF(ISERROR((O269/P269)), 0,(O269/P269))","v":0},{"$f":"IF(ISERROR(S269*T269), 0,S269*T269)","v":0},{"$f":"IF(ISERROR(IF(ISERROR(O269/T269), 0,O269/T269)), 0,IF(ISERROR(O269/T269), 0,O269/T269))","v":0},14.2,0.4,{"$f":"IF(ISERROR(ABS(U269)), 0,ABS(U269))","v":0},0.15000000000000002,{"$f":"IF(ISERROR(ABS((Y269*X269)/W269)), 0,ABS((Y269*X269)/W269))","v":0},{"$f":"IF(ISERROR(IF(AA269>Z269,Z269,AA269)), 0,IF(AA269>Z269,Z269,AA269))","v":0},{"$f":"IF(ISERROR(IF(Y269>W269,W269,Y269)), 0,IF(Y269>W269,W269,Y269))","v":0},{"$f":"IF(ISERROR(IF(ISERROR(IF(ISERROR(IF(ISERROR((AC269*AB269)/AA269), 0,(AC269*AB269)/AA269)), 0,IF(ISERROR((AC269*AB269)/AA269), 0,(AC269*AB269)/AA269))), 0,IF(ISERROR(IF(ISERROR((AC269*AB269)/AA269), 0,(AC269*AB269)/AA269)), 0,IF(ISERROR((AC269*AB269)/AA269), 0,(AC269*AB269)/AA269)))), 0,IF(ISERROR(IF(ISERROR(IF(ISERROR((AC269*AB269)/AA269), 0,(AC269*AB269)/AA269)), 0,IF(ISERROR((AC269*AB269)/AA269), 0,(AC269*AB269)/AA269))), 0,IF(ISERROR(IF(ISERROR((AC269*AB269)/AA269), 0,(AC269*AB269)/AA269)), 0,IF(ISERROR((AC269*AB269)/AA269), 0,(AC269*AB269)/AA269))))","v":0},{"$f":"IF(ISERROR(IF(ISERROR(IF(ISERROR(IF(AC269=W269,0,(AC269*AB269)/AA269)), 0,IF(AC269=W269,0,(AC269*AB269)/AA269))), 0,IF(ISERROR(IF(AC269=W269,0,(AC269*AB269)/AA269)), 0,IF(AC269=W269,0,(AC269*AB269)/AA269)))), 0,IF(ISERROR(IF(ISERROR(IF(AC269=W269,0,(AC269*AB269)/AA269)), 0,IF(AC269=W269,0,(AC269*AB269)/AA269))), 0,IF(ISERROR(IF(AC269=W269,0,(AC269*AB269)/AA269)), 0,IF(AC269=W269,0,(AC269*AB269)/AA269))))","v":0},{"$f":"IF(ISERROR(IF(ISERROR(IF(AC269=60,Q269+(AC269/T269),Q269+(AD269/T269))), 0,IF(AC269=60,Q269+(AC269/T269),Q269+(AD269/T269)))), 0,IF(ISERROR(IF(AC269=60,Q269+(AC269/T269),Q269+(AD269/T269))), 0,IF(AC269=60,Q269+(AC269/T269),Q269+(AD269/T269))))","v":0}]
["F#",82,99,47,{"$f":"IF(ISERROR(Y269), 0,Y269)","v":0},null,{"$f":"IF(ISERROR(AB269), 0,AB269)","v":0},{"$f":"IF(ISERROR($E$10-G270), 0,$E$10-G270)","v":0.4},null,{"$f":"IF(ISERROR(AB270), \"\",AB270)","v":0},{"$f":"IF(ISERROR(ROUND($E$10-J270,3)), \"\",ROUND($E$10-J270,3))","v":0.4},null,{"$f":"IF(ISERROR(AB271), \"\",AB271)","v":0},{"$f":"IF(ISERROR($E$10-M270), \"\",$E$10-M270)","v":0.4},{"$f":"A271","v":246.5},{"$f":"I270","v":0},{"$f":"IF(ISERROR(IF(ISERROR(IF(AC269=W269,Q269+(AC269/T269),Q269+(AD269/T269))), 0,IF(AC269=W269,Q269+(AC269/T269),Q269+(AD269/T269)))), 0,IF(ISERROR(IF(AC269=W269,Q269+(AC269/T269),Q269+(AD269/T269))), 0,IF(AC269=W269,Q269+(AC269/T269),Q269+(AD269/T269))))","v":0},{"$f":"D270","v":47},{"$f":"IF(ISERROR(IF(ISERROR(Q270-R270), 0,Q270-R270)), 0,IF(ISERROR(Q270-R270), 0,Q270-R270))","v":-47},{"$f":"IF(ISERROR(IF(ISERROR(IF(ISERROR(IF(ISERROR((O270/P270)), 0,(O270/P270))), 0,IF(ISERROR((O270/P270)), 0,(O270/P270)))), 0,IF(ISERROR(IF(ISERROR((O270/P270)), 0,(O270/P270))), 0,IF(ISERROR((O270/P270)), 0,(O270/P270))))), 0,IF(ISERROR(IF(ISERROR(IF(ISERROR((O270/P270)), 0,(O270/P270))), 0,IF(ISERROR((O270/P270)), 0,(O270/P270)))), 0,IF(ISERROR(IF(ISERROR((O270/P270)), 0,(O270/P270))), 0,IF(ISERROR((O270/P270)), 0,(O270/P270)))))","v":0},{"$f":"IF(ISERROR(IF(ISERROR(IF(ISERROR(IF(ISERROR(S270*T270), 0,S270*T270)), 0,IF(ISERROR(S270*T270), 0,S270*T270))), 0,IF(ISERROR(IF(ISERROR(S270*T270), 0,S270*T270)), 0,IF(ISERROR(S270*T270), 0,S270*T270)))), 0,IF(ISERROR(IF(ISERROR(IF(ISERROR(S270*T270), 0,S270*T270)), 0,IF(ISERROR(S270*T270), 0,S270*T270))), 0,IF(ISERROR(IF(ISERROR(S270*T270), 0,S270*T270)), 0,IF(ISERROR(S270*T270), 0,S270*T270))))","v":0},{"$f":"IF(ISERROR(IF(ISERROR(IF(ISERROR(IF(ISERROR(O270/T270), 0,O270/T270)), 0,IF(ISERROR(O270/T270), 0,O270/T270))), 0,IF(ISERROR(IF(ISERROR(O270/T270), 0,O270/T270)), 0,IF(ISERROR(O270/T270), 0,O270/T270)))), 0,IF(ISERROR(IF(ISERROR(IF(ISERROR(O270/T270), 0,O270/T270)), 0,IF(ISERROR(O270/T270), 0,O270/T270))), 0,IF(ISERROR(IF(ISERROR(O270/T270), 0,O270/T270)), 0,IF(ISERROR(O270/T270), 0,O270/T270))))","v":0},14.2,0.4,{"$f":"IF(ISERROR(IF(ISERROR(IF(ISERROR(ABS(U270)), 0,ABS(U270))), 0,IF(ISERROR(ABS(U270)), 0,ABS(U270)))), 0,IF(ISERROR(IF(ISERROR(ABS(U270)), 0,ABS(U270))), 0,IF(ISERROR(ABS(U270)), 0,ABS(U270))))","v":0},0.15000000000000002,{"$f":"IF(ISERROR(IF(ISERROR(IF(ISERROR(ABS((Y270*X270)/W270)), 0,ABS((Y270*X270)/W270))), 0,IF(ISERROR(ABS((Y270*X270)/W270)), 0,ABS((Y270*X270)/W270)))), 0,IF(ISERROR(IF(ISERROR(ABS((Y270*X270)/W270)), 0,ABS((Y270*X270)/W270))), 0,IF(ISERROR(ABS((Y270*X270)/W270)), 0,ABS((Y270*X270)/W270))))","v":0},{"$f":"IF(ISERROR(IF(ISERROR(IF(ISERROR(IF(AA270>Z270,Z270,AA270)), 0,IF(AA270>Z270,Z270,AA270))), 0,IF(ISERROR(IF(AA270>Z270,Z270,AA270)), 0,IF(AA270>Z270,Z270,AA270)))), 0,IF(ISERROR(IF(ISERROR(IF(AA270>Z270,Z270,AA270)), 0,IF(AA270>Z270,Z270,AA270))), 0,IF(ISERROR(IF(AA270>Z270,Z270,AA270)), 0,IF(AA270>Z270,Z270,AA270))))","v":0},{"$f":"IF(ISERROR(IF(ISERROR(IF(ISERROR(IF(Y270>W270,W270,Y270)), 0,IF(Y270>W270,W270,Y270))), 0,IF(ISERROR(IF(Y270>W270,W270,Y270)), 0,IF(Y270>W270,W270,Y270)))), 0,IF(ISERROR(IF(ISERROR(IF(Y270>W270,W270,Y270)), 0,IF(Y270>W270,W270,Y270))), 0,IF(ISERROR(IF(Y270>W270,W270,Y270)), 0,IF(Y270>W270,W270,Y270))))","v":0},{"$f":"IF(ISERROR((AC270*AB270)/AA270), \"\",(AC270*AB270)/AA270)","v":""},{"$f":"IF(ISERROR(IF(AC270=W270,0,(AC270*AB270)/AA270)), \"\",IF(AC270=W270,0,(AC270*AB270)/AA270))","v":""},{"$f":"IF(ISERROR(IF(AC270=60,Q270+(AC270/T270),Q270+(AD270/T270))), \"\",IF(AC270=60,Q270+(AC270/T270),Q270+(AD270/T270)))","v":""}]
[{"$f":"R333","v":246.5},{"$f":"IF(AND(C270<D270, E270>$E$7),\"Ignore Drill Out Lead 1; rather pop out Lead 1 and LEAVE lead # 2 to \"&K270&\" inches.\",\"\")","v":""},null,null,null,null,null,null,null,null,null,null,null,{"$f":"(G270+J270+M270)/$E$10*$E$7","v":0},{"$f":"A271","v":246.5},{"$f":"L270","v":0},{"$f":"IF(ISERROR(IF(AC270=W270,Q270+(AC270/T270),Q270+(AD270/T270))), \"\",IF(AC270=W270,Q270+(AC270/T270),Q270+(AD270/T270)))","v":""},{"$f":"D270","v":47},{"$f":"IF(ISERROR(Q271-R271), 0,Q271-R271)","v":0},{"$f":"IF(ISERROR(IF(ISERROR(IF(ISERROR((O271/P271)), 0,(O271/P271))), 0,IF(ISERROR((O271/P271)), 0,(O271/P271)))), 0,IF(ISERROR(IF(ISERROR((O271/P271)), 0,(O271/P271))), 0,IF(ISERROR((O271/P271)), 0,(O271/P271))))","v":0},{"$f":"IF(ISERROR(S271*T271), \"\",S271*T271)","v":0},{"$f":"IF(ISERROR(IF(ISERROR(IF(ISERROR(IF(ISERROR(O271/T271), 0,O271/T271)), 0,IF(ISERROR(O271/T271), 0,O271/T271))), 0,IF(ISERROR(IF(ISERROR(O271/T271), 0,O271/T271)), 0,IF(ISERROR(O271/T271), 0,O271/T271)))), 0,IF(ISERROR(IF(ISERROR(IF(ISERROR(O271/T271), 0,O271/T271)), 0,IF(ISERROR(O271/T271), 0,O271/T271))), 0,IF(ISERROR(IF(ISERROR(O271/T271), 0,O271/T271)), 0,IF(ISERROR(O271/T271), 0,O271/T271))))","v":0},14.2,0.4,{"$f":"IF(ISERROR(ABS(U271)), \"\",ABS(U271))","v":0},0.15000000000000002,{"$f":"IF(ISERROR(ABS((Y271*X271)/W271)), \"\",ABS((Y271*X271)/W271))","v":0},{"$f":"IF(ISERROR(IF(AA271>Z271,Z271,AA271)), \"\",IF(AA271>Z271,Z271,AA271))","v":0},{"$f":"IF(ISERROR(IF(Y271>W271,W271,Y271)), \"\",IF(Y271>W271,W271,Y271))","v":0},{"$f":"IF(ISERROR((AC271*AB271)/AA271), \"\",(AC271*AB271)/AA271)","v":""},{"$f":"IF(ISERROR(IF(AC271=W271,0,(AC271*AB271)/AA271)), \"\",IF(AC271=W271,0,(AC271*AB271)/AA271))","v":""},{"$f":"IF(ISERROR(IF(AC271=60,Q271+(AC271/T271),Q271+(AD271/T271))), \"\",IF(AC271=60,Q271+(AC271/T271),Q271+(AD271/T271)))","v":""}]
[null,null,"Test","Target",null,1,"dr_o","Lv_in",2,"dr_o","Lv_in",3,"dr_o","Lv_in",{"$f":"A274","v":248.96153846153737},{"$f":"F273","v":0},{"$f":"C273","v":50},{"$f":"D273","v":47},{"$f":"Q272-R272","v":3},{"$f":"IF(ISERROR((O272/P272)), 0,(O272/P272))","v":0},{"$f":"IF(ISERROR(S272*T272), 0,S272*T272)","v":0},{"$f":"IF(ISERROR(IF(ISERROR(O272/T272), 0,O272/T272)), 0,IF(ISERROR(O272/T272), 0,O272/T272))","v":0},14.2,0.4,{"$f":"IF(ISERROR(ABS(U272)), 0,ABS(U272))","v":0},0.15000000000000002,{"$f":"IF(ISERROR(ABS((Y272*X272)/W272)), 0,ABS((Y272*X272)/W272))","v":0},{"$f":"IF(ISERROR(IF(AA272>Z272,Z272,AA272)), 0,IF(AA272>Z272,Z272,AA272))","v":0},{"$f":"IF(ISERROR(IF(Y272>W272,W272,Y272)), 0,IF(Y272>W272,W272,Y272))","v":0},{"$f":"IF(ISERROR(IF(ISERROR(IF(ISERROR(IF(ISERROR((AC272*AB272)/AA272), 0,(AC272*AB272)/AA272)), 0,IF(ISERROR((AC272*AB272)/AA272), 0,(AC272*AB272)/AA272))), 0,IF(ISERROR(IF(ISERROR((AC272*AB272)/AA272), 0,(AC272*AB272)/AA272)), 0,IF(ISERROR((AC272*AB272)/AA272), 0,(AC272*AB272)/AA272)))), 0,IF(ISERROR(IF(ISERROR(IF(ISERROR((AC272*AB272)/AA272), 0,(AC272*AB272)/AA272)), 0,IF(ISERROR((AC272*AB272)/AA272), 0,(AC272*AB272)/AA272))), 0,IF(ISERROR(IF(ISERROR((AC272*AB272)/AA272), 0,(AC272*AB272)/AA272)), 0,IF(ISERROR((AC272*AB272)/AA272), 0,(AC272*AB272)/AA272))))","v":0},{"$f":"IF(ISERROR(IF(ISERROR(IF(ISERROR(IF(AC272=W272,0,(AC272*AB272)/AA272)), 0,IF(AC272=W272,0,(AC272*AB272)/AA272))), 0,IF(ISERROR(IF(AC272=W272,0,(AC272*AB272)/AA272)), 0,IF(AC272=W272,0,(AC272*AB272)/AA272)))), 0,IF(ISERROR(IF(ISERROR(IF(AC272=W272,0,(AC272*AB272)/AA272)), 0,IF(AC272=W272,0,(AC272*AB272)/AA272))), 0,IF(ISERROR(IF(AC272=W272,0,(AC272*AB272)/AA272)), 0,IF(AC272=W272,0,(AC272*AB272)/AA272))))","v":0},{"$f":"IF(ISERROR(IF(ISERROR(IF(AC272=60,Q272+(AC272/T272),Q272+(AD272/T272))), 0,IF(AC272=60,Q272+(AC272/T272),Q272+(AD272/T272)))), 0,IF(ISERROR(IF(AC272=60,Q272+(AC272/T272),Q272+(AD272/T272))), 0,IF(AC272=60,Q272+(AC272/T272),Q272+(AD272/T272))))","v":0}]
["G",83,50,47,{"$f":"IF(ISERROR(Y272), 0,Y272)","v":0},null,{"$f":"IF(ISERROR(AB272), 0,AB272)","v":0},{"$f":"IF(ISERROR($E$10-G273), 0,$E$10-G273)","v":0.4},null,{"$f":"IF(ISERROR(AB273), \"\",AB273)","v":0},{"$f":"IF(ISERROR(ROUND($E$10-J273,3)), \"\",ROUND($E$10-J273,3))","v":0.4},null,{"$f":"IF(ISERROR(AB274), \"\",AB274)","v":0},{"$f":"IF(ISERROR($E$10-M273), \"\",$E$10-M273)","v":0.4},{"$f":"A274","v":248.96153846153737},{"$f":"I273","v":0},{"$f":"IF(ISERROR(IF(ISERROR(IF(AC272=W272,Q272+(AC272/T272),Q272+(AD272/T272))), 0,IF(AC272=W272,Q272+(AC272/T272),Q272+(AD272/T272)))), 0,IF(ISERROR(IF(AC272=W272,Q272+(AC272/T272),Q272+(AD272/T272))), 0,IF(AC272=W272,Q272+(AC272/T272),Q272+(AD272/T272))))","v":0},{"$f":"D273","v":47},{"$f":"IF(ISERROR(IF(ISERROR(Q273-R273), 0,Q273-R273)), 0,IF(ISERROR(Q273-R273), 0,Q273-R273))","v":-47},{"$f":"IF(ISERROR(IF(ISERROR(IF(ISERROR(IF(ISERROR((O273/P273)), 0,(O273/P273))), 0,IF(ISERROR((O273/P273)), 0,(O273/P273)))), 0,IF(ISERROR(IF(ISERROR((O273/P273)), 0,(O273/P273))), 0,IF(ISERROR((O273/P273)), 0,(O273/P273))))), 0,IF(ISERROR(IF(ISERROR(IF(ISERROR((O273/P273)), 0,(O273/P273))), 0,IF(ISERROR((O273/P273)), 0,(O273/P273)))), 0,IF(ISERROR(IF(ISERROR((O273/P273)), 0,(O273/P273))), 0,IF(ISERROR((O273/P273)), 0,(O273/P273)))))","v":0},{"$f":"IF(ISERROR(IF(ISERROR(IF(ISERROR(IF(ISERROR(S273*T273), 0,S273*T273)), 0,IF(ISERROR(S273*T273), 0,S273*T273))), 0,IF(ISERROR(IF(ISERROR(S273*T273), 0,S273*T273)), 0,IF(ISERROR(S273*T273), 0,S273*T273)))), 0,IF(ISERROR(IF(ISERROR(IF(ISERROR(S273*T273), 0,S273*T273)), 0,IF(ISERROR(S273*T273), 0,S273*T273))), 0,IF(ISERROR(IF(ISERROR(S273*T273), 0,S273*T273)), 0,IF(ISERROR(S273*T273), 0,S273*T273))))","v":0},{"$f":"IF(ISERROR(IF(ISERROR(IF(ISERROR(IF(ISERROR(O273/T273), 0,O273/T273)), 0,IF(ISERROR(O273/T273), 0,O273/T273))), 0,IF(ISERROR(IF(ISERROR(O273/T273), 0,O273/T273)), 0,IF(ISERROR(O273/T273), 0,O273/T273)))), 0,IF(ISERROR(IF(ISERROR(IF(ISERROR(O273/T273), 0,O273/T273)), 0,IF(ISERROR(O273/T273), 0,O273/T273))), 0,IF(ISERROR(IF(ISERROR(O273/T273), 0,O273/T273)), 0,IF(ISERROR(O273/T273), 0,O273/T273))))","v":0},14.2,0.4,{"$f":"IF(ISERROR(IF(ISERROR(IF(ISERROR(ABS(U273)), 0,ABS(U273))), 0,IF(ISERROR(ABS(U273)), 0,ABS(U273)))), 0,IF(ISERROR(IF(ISERROR(ABS(U273)), 0,ABS(U273))), 0,IF(ISERROR(ABS(U273)), 0,ABS(U273))))","v":0},0.15000000000000002,{"$f":"IF(ISERROR(IF(ISERROR(IF(ISERROR(ABS((Y273*X273)/W273)), 0,ABS((Y273*X273)/W273))), 0,IF(ISERROR(ABS((Y273*X273)/W273)), 0,ABS((Y273*X273)/W273)))), 0,IF(ISERROR(IF(ISERROR(ABS((Y273*X273)/W273)), 0,ABS((Y273*X273)/W273))), 0,IF(ISERROR(ABS((Y273*X273)/W273)), 0,ABS((Y273*X273)/W273))))","v":0},{"$f":"IF(ISERROR(IF(ISERROR(IF(ISERROR(IF(AA273>Z273,Z273,AA273)), 0,IF(AA273>Z273,Z273,AA273))), 0,IF(ISERROR(IF(AA273>Z273,Z273,AA273)), 0,IF(AA273>Z273,Z273,AA273)))), 0,IF(ISERROR(IF(ISERROR(IF(AA273>Z273,Z273,AA273)), 0,IF(AA273>Z273,Z273,AA273))), 0,IF(ISERROR(IF(AA273>Z273,Z273,AA273)), 0,IF(AA273>Z273,Z273,AA273))))","v":0},{"$f":"IF(ISERROR(IF(ISERROR(IF(ISERROR(IF(Y273>W273,W273,Y273)), 0,IF(Y273>W273,W273,Y273))), 0,IF(ISERROR(IF(Y273>W273,W273,Y273)), 0,IF(Y273>W273,W273,Y273)))), 0,IF(ISERROR(IF(ISERROR(IF(Y273>W273,W273,Y273)), 0,IF(Y273>W273,W273,Y273))), 0,IF(ISERROR(IF(Y273>W273,W273,Y273)), 0,IF(Y273>W273,W273,Y273))))","v":0},{"$f":"IF(ISERROR((AC273*AB273)/AA273), \"\",(AC273*AB273)/AA273)","v":""},{"$f":"IF(ISERROR(IF(AC273=W273,0,(AC273*AB273)/AA273)), \"\",IF(AC273=W273,0,(AC273*AB273)/AA273))","v":""},{"$f":"IF(ISERROR(IF(AC273=60,Q273+(AC273/T273),Q273+(AD273/T273))), \"\",IF(AC273=60,Q273+(AC273/T273),Q273+(AD273/T273)))","v":""}]
[{"$f":"F348","v":248.96153846153737},{"$f":"IF(AND(C273<D273, E273>$E$7),\"Ignore Drill Out Lead 1; rather pop out Lead 1 and LEAVE lead # 2 to \"&K273&\" inches.\",\"\")","v":""},null,null,null,null,null,null,null,null,null,null,null,{"$f":"(G273+J273+M273)/$E$10*$E$7","v":0},{"$f":"A274","v":248.96153846153737},{"$f":"L273","v":0},{"$f":"IF(ISERROR(IF(AC273=W273,Q273+(AC273/T273),Q273+(AD273/T273))), \"\",IF(AC273=W273,Q273+(AC273/T273),Q273+(AD273/T273)))","v":""},{"$f":"D273","v":47},{"$f":"IF(ISERROR(Q274-R274), 0,Q274-R274)","v":0},{"$f":"IF(ISERROR(IF(ISERROR(IF(ISERROR((O274/P274)), 0,(O274/P274))), 0,IF(ISERROR((O274/P274)), 0,(O274/P274)))), 0,IF(ISERROR(IF(ISERROR((O274/P274)), 0,(O274/P274))), 0,IF(ISERROR((O274/P274)), 0,(O274/P274))))","v":0},{"$f":"IF(ISERROR(S274*T274), \"\",S274*T274)","v":0},{"$f":"IF(ISERROR(IF(ISERROR(IF(ISERROR(IF(ISERROR(O274/T274), 0,O274/T274)), 0,IF(ISERROR(O274/T274), 0,O274/T274))), 0,IF(ISERROR(IF(ISERROR(O274/T274), 0,O274/T274)), 0,IF(ISERROR(O274/T274), 0,O274/T274)))), 0,IF(ISERROR(IF(ISERROR(IF(ISERROR(O274/T274), 0,O274/T274)), 0,IF(ISERROR(O274/T274), 0,O274/T274))), 0,IF(ISERROR(IF(ISERROR(O274/T274), 0,O274/T274)), 0,IF(ISERROR(O274/T274), 0,O274/T274))))","v":0},14.2,0.4,{"$f":"IF(ISERROR(ABS(U274)), \"\",ABS(U274))","v":0},0.15000000000000002,{"$f":"IF(ISERROR(ABS((Y274*X274)/W274)), \"\",ABS((Y274*X274)/W274))","v":0},{"$f":"IF(ISERROR(IF(AA274>Z274,Z274,AA274)), \"\",IF(AA274>Z274,Z274,AA274))","v":0},{"$f":"IF(ISERROR(IF(Y274>W274,W274,Y274)), \"\",IF(Y274>W274,W274,Y274))","v":0},{"$f":"IF(ISERROR((AC274*AB274)/AA274), \"\",(AC274*AB274)/AA274)","v":""},{"$f":"IF(ISERROR(IF(AC274=W274,0,(AC274*AB274)/AA274)), \"\",IF(AC274=W274,0,(AC274*AB274)/AA274))","v":""},{"$f":"IF(ISERROR(IF(AC274=60,Q274+(AC274/T274),Q274+(AD274/T274))), \"\",IF(AC274=60,Q274+(AC274/T274),Q274+(AD274/T274)))","v":""}]
[null,null,"Test","Target",null,1,"dr_o","Lv_in",2,"dr_o","Lv_in",3,"dr_o","Lv_in",{"$f":"A277","v":245.5},{"$f":"F276","v":0},{"$f":"C276","v":45},{"$f":"D276","v":47},{"$f":"Q275-R275","v":-2},{"$f":"IF(ISERROR((O275/P275)), 0,(O275/P275))","v":0},{"$f":"IF(ISERROR(S275*T275), 0,S275*T275)","v":0},{"$f":"IF(ISERROR(IF(ISERROR(O275/T275), 0,O275/T275)), 0,IF(ISERROR(O275/T275), 0,O275/T275))","v":0},14.2,0.4,{"$f":"IF(ISERROR(ABS(U275)), 0,ABS(U275))","v":0},0.15000000000000002,{"$f":"IF(ISERROR(ABS((Y275*X275)/W275)), 0,ABS((Y275*X275)/W275))","v":0},{"$f":"IF(ISERROR(IF(AA275>Z275,Z275,AA275)), 0,IF(AA275>Z275,Z275,AA275))","v":0},{"$f":"IF(ISERROR(IF(Y275>W275,W275,Y275)), 0,IF(Y275>W275,W275,Y275))","v":0},{"$f":"IF(ISERROR(IF(ISERROR(IF(ISERROR(IF(ISERROR((AC275*AB275)/AA275), 0,(AC275*AB275)/AA275)), 0,IF(ISERROR((AC275*AB275)/AA275), 0,(AC275*AB275)/AA275))), 0,IF(ISERROR(IF(ISERROR((AC275*AB275)/AA275), 0,(AC275*AB275)/AA275)), 0,IF(ISERROR((AC275*AB275)/AA275), 0,(AC275*AB275)/AA275)))), 0,IF(ISERROR(IF(ISERROR(IF(ISERROR((AC275*AB275)/AA275), 0,(AC275*AB275)/AA275)), 0,IF(ISERROR((AC275*AB275)/AA275), 0,(AC275*AB275)/AA275))), 0,IF(ISERROR(IF(ISERROR((AC275*AB275)/AA275), 0,(AC275*AB275)/AA275)), 0,IF(ISERROR((AC275*AB275)/AA275), 0,(AC275*AB275)/AA275))))","v":0},{"$f":"IF(ISERROR(IF(ISERROR(IF(ISERROR(IF(AC275=W275,0,(AC275*AB275)/AA275)), 0,IF(AC275=W275,0,(AC275*AB275)/AA275))), 0,IF(ISERROR(IF(AC275=W275,0,(AC275*AB275)/AA275)), 0,IF(AC275=W275,0,(AC275*AB275)/AA275)))), 0,IF(ISERROR(IF(ISERROR(IF(AC275=W275,0,(AC275*AB275)/AA275)), 0,IF(AC275=W275,0,(AC275*AB275)/AA275))), 0,IF(ISERROR(IF(AC275=W275,0,(AC275*AB275)/AA275)), 0,IF(AC275=W275,0,(AC275*AB275)/AA275))))","v":0},{"$f":"IF(ISERROR(IF(ISERROR(IF(AC275=60,Q275+(AC275/T275),Q275+(AD275/T275))), 0,IF(AC275=60,Q275+(AC275/T275),Q275+(AD275/T275)))), 0,IF(ISERROR(IF(AC275=60,Q275+(AC275/T275),Q275+(AD275/T275))), 0,IF(AC275=60,Q275+(AC275/T275),Q275+(AD275/T275))))","v":0}]
["G#",84,45,47,{"$f":"IF(ISERROR(Y275), 0,Y275)","v":0},null,{"$f":"IF(ISERROR(AB275), 0,AB275)","v":0},{"$f":"IF(ISERROR($E$10-G276), 0,$E$10-G276)","v":0.4},null,{"$f":"IF(ISERROR(AB276), \"\",AB276)","v":0},{"$f":"IF(ISERROR(ROUND($E$10-J276,3)), \"\",ROUND($E$10-J276,3))","v":0.4},null,{"$f":"IF(ISERROR(AB277), \"\",AB277)","v":0},{"$f":"IF(ISERROR($E$10-M276), \"\",$E$10-M276)","v":0.4},{"$f":"A277","v":245.5},{"$f":"I276","v":0},{"$f":"IF(ISERROR(IF(ISERROR(IF(AC275=W275,Q275+(AC275/T275),Q275+(AD275/T275))), 0,IF(AC275=W275,Q275+(AC275/T275),Q275+(AD275/T275)))), 0,IF(ISERROR(IF(AC275=W275,Q275+(AC275/T275),Q275+(AD275/T275))), 0,IF(AC275=W275,Q275+(AC275/T275),Q275+(AD275/T275))))","v":0},{"$f":"D276","v":47},{"$f":"IF(ISERROR(IF(ISERROR(Q276-R276), 0,Q276-R276)), 0,IF(ISERROR(Q276-R276), 0,Q276-R276))","v":-47},{"$f":"IF(ISERROR(IF(ISERROR(IF(ISERROR(IF(ISERROR((O276/P276)), 0,(O276/P276))), 0,IF(ISERROR((O276/P276)), 0,(O276/P276)))), 0,IF(ISERROR(IF(ISERROR((O276/P276)), 0,(O276/P276))), 0,IF(ISERROR((O276/P276)), 0,(O276/P276))))), 0,IF(ISERROR(IF(ISERROR(IF(ISERROR((O276/P276)), 0,(O276/P276))), 0,IF(ISERROR((O276/P276)), 0,(O276/P276)))), 0,IF(ISERROR(IF(ISERROR((O276/P276)), 0,(O276/P276))), 0,IF(ISERROR((O276/P276)), 0,(O276/P276)))))","v":0},{"$f":"IF(ISERROR(IF(ISERROR(IF(ISERROR(IF(ISERROR(S276*T276), 0,S276*T276)), 0,IF(ISERROR(S276*T276), 0,S276*T276))), 0,IF(ISERROR(IF(ISERROR(S276*T276), 0,S276*T276)), 0,IF(ISERROR(S276*T276), 0,S276*T276)))), 0,IF(ISERROR(IF(ISERROR(IF(ISERROR(S276*T276), 0,S276*T276)), 0,IF(ISERROR(S276*T276), 0,S276*T276))), 0,IF(ISERROR(IF(ISERROR(S276*T276), 0,S276*T276)), 0,IF(ISERROR(S276*T276), 0,S276*T276))))","v":0},{"$f":"IF(ISERROR(IF(ISERROR(IF(ISERROR(IF(ISERROR(O276/T276), 0,O276/T276)), 0,IF(ISERROR(O276/T276), 0,O276/T276))), 0,IF(ISERROR(IF(ISERROR(O276/T276), 0,O276/T276)), 0,IF(ISERROR(O276/T276), 0,O276/T276)))), 0,IF(ISERROR(IF(ISERROR(IF(ISERROR(O276/T276), 0,O276/T276)), 0,IF(ISERROR(O276/T276), 0,O276/T276))), 0,IF(ISERROR(IF(ISERROR(O276/T276), 0,O276/T276)), 0,IF(ISERROR(O276/T276), 0,O276/T276))))","v":0},14.2,0.4,{"$f":"IF(ISERROR(IF(ISERROR(IF(ISERROR(ABS(U276)), 0,ABS(U276))), 0,IF(ISERROR(ABS(U276)), 0,ABS(U276)))), 0,IF(ISERROR(IF(ISERROR(ABS(U276)), 0,ABS(U276))), 0,IF(ISERROR(ABS(U276)), 0,ABS(U276))))","v":0},0.15000000000000002,{"$f":"IF(ISERROR(IF(ISERROR(IF(ISERROR(ABS((Y276*X276)/W276)), 0,ABS((Y276*X276)/W276))), 0,IF(ISERROR(ABS((Y276*X276)/W276)), 0,ABS((Y276*X276)/W276)))), 0,IF(ISERROR(IF(ISERROR(ABS((Y276*X276)/W276)), 0,ABS((Y276*X276)/W276))), 0,IF(ISERROR(ABS((Y276*X276)/W276)), 0,ABS((Y276*X276)/W276))))","v":0},{"$f":"IF(ISERROR(IF(ISERROR(IF(ISERROR(IF(AA276>Z276,Z276,AA276)), 0,IF(AA276>Z276,Z276,AA276))), 0,IF(ISERROR(IF(AA276>Z276,Z276,AA276)), 0,IF(AA276>Z276,Z276,AA276)))), 0,IF(ISERROR(IF(ISERROR(IF(AA276>Z276,Z276,AA276)), 0,IF(AA276>Z276,Z276,AA276))), 0,IF(ISERROR(IF(AA276>Z276,Z276,AA276)), 0,IF(AA276>Z276,Z276,AA276))))","v":0},{"$f":"IF(ISERROR(IF(ISERROR(IF(ISERROR(IF(Y276>W276,W276,Y276)), 0,IF(Y276>W276,W276,Y276))), 0,IF(ISERROR(IF(Y276>W276,W276,Y276)), 0,IF(Y276>W276,W276,Y276)))), 0,IF(ISERROR(IF(ISERROR(IF(Y276>W276,W276,Y276)), 0,IF(Y276>W276,W276,Y276))), 0,IF(ISERROR(IF(Y276>W276,W276,Y276)), 0,IF(Y276>W276,W276,Y276))))","v":0},{"$f":"IF(ISERROR((AC276*AB276)/AA276), \"\",(AC276*AB276)/AA276)","v":""},{"$f":"IF(ISERROR(IF(AC276=W276,0,(AC276*AB276)/AA276)), \"\",IF(AC276=W276,0,(AC276*AB276)/AA276))","v":""},{"$f":"IF(ISERROR(IF(AC276=60,Q276+(AC276/T276),Q276+(AD276/T276))), \"\",IF(AC276=60,Q276+(AC276/T276),Q276+(AD276/T276)))","v":""}]
[{"$f":"R334","v":245.5},{"$f":"IF(AND(C276<D276, E276>$E$7),\"Ignore Drill Out Lead 1; rather pop out Lead 1 and LEAVE lead # 2 to \"&K276&\" inches.\",\"\")","v":""},null,null,null,null,null,null,null,null,null,null,null,{"$f":"(G276+J276+M276)/$E$10*$E$7","v":0},{"$f":"A277","v":245.5},{"$f":"L276","v":0},{"$f":"IF(ISERROR(IF(AC276=W276,Q276+(AC276/T276),Q276+(AD276/T276))), \"\",IF(AC276=W276,Q276+(AC276/T276),Q276+(AD276/T276)))","v":""},{"$f":"D276","v":47},{"$f":"IF(ISERROR(Q277-R277), 0,Q277-R277)","v":0},{"$f":"IF(ISERROR(IF(ISERROR(IF(ISERROR((O277/P277)), 0,(O277/P277))), 0,IF(ISERROR((O277/P277)), 0,(O277/P277)))), 0,IF(ISERROR(IF(ISERROR((O277/P277)), 0,(O277/P277))), 0,IF(ISERROR((O277/P277)), 0,(O277/P277))))","v":0},{"$f":"IF(ISERROR(S277*T277), \"\",S277*T277)","v":0},{"$f":"IF(ISERROR(IF(ISERROR(IF(ISERROR(IF(ISERROR(O277/T277), 0,O277/T277)), 0,IF(ISERROR(O277/T277), 0,O277/T277))), 0,IF(ISERROR(IF(ISERROR(O277/T277), 0,O277/T277)), 0,IF(ISERROR(O277/T277), 0,O277/T277)))), 0,IF(ISERROR(IF(ISERROR(IF(ISERROR(O277/T277), 0,O277/T277)), 0,IF(ISERROR(O277/T277), 0,O277/T277))), 0,IF(ISERROR(IF(ISERROR(O277/T277), 0,O277/T277)), 0,IF(ISERROR(O277/T277), 0,O277/T277))))","v":0},14.2,0.4,{"$f":"IF(ISERROR(ABS(U277)), \"\",ABS(U277))","v":0},0.15000000000000002,{"$f":"IF(ISERROR(ABS((Y277*X277)/W277)), \"\",ABS((Y277*X277)/W277))","v":0},{"$f":"IF(ISERROR(IF(AA277>Z277,Z277,AA277)), \"\",IF(AA277>Z277,Z277,AA277))","v":0},{"$f":"IF(ISERROR(IF(Y277>W277,W277,Y277)), \"\",IF(Y277>W277,W277,Y277))","v":0},{"$f":"IF(ISERROR((AC277*AB277)/AA277), \"\",(AC277*AB277)/AA277)","v":""},{"$f":"IF(ISERROR(IF(AC277=W277,0,(AC277*AB277)/AA277)), \"\",IF(AC277=W277,0,(AC277*AB277)/AA277))","v":""},{"$f":"IF(ISERROR(IF(AC277=60,Q277+(AC277/T277),Q277+(AD277/T277))), \"\",IF(AC277=60,Q277+(AC277/T277),Q277+(AD277/T277)))","v":""}]
[null,null,"Test","Target",null,1,"dr_o","Lv_in",2,"dr_o","Lv_in",3,"dr_o","Lv_in",{"$f":"A280","v":247.59615384615276},{"$f":"F279","v":0},{"$f":"C279","v":47},{"$f":"D279","v":47},{"$f":"Q278-R278","v":0},{"$f":"IF(ISERROR((O278/P278)), 0,(O278/P278))","v":0},{"$f":"IF(ISERROR(S278*T278), 0,S278*T278)","v":0},{"$f":"IF(ISERROR(IF(ISERROR(O278/T278), 0,O278/T278)), 0,IF(ISERROR(O278/T278), 0,O278/T278))","v":0},14.2,0.4,{"$f":"IF(ISERROR(ABS(U278)), 0,ABS(U278))","v":0},0.15000000000000002,{"$f":"IF(ISERROR(ABS((Y278*X278)/W278)), 0,ABS((Y278*X278)/W278))","v":0},{"$f":"IF(ISERROR(IF(AA278>Z278,Z278,AA278)), 0,IF(AA278>Z278,Z278,AA278))","v":0},{"$f":"IF(ISERROR(IF(Y278>W278,W278,Y278)), 0,IF(Y278>W278,W278,Y278))","v":0},{"$f":"IF(ISERROR((AC278*AB278)/AA278), 0,(AC278*AB278)/AA278)","v":0},{"$f":"IF(ISERROR(IF(ISERROR(IF(AC278=W278,0,(AC278*AB278)/AA278)), 0,IF(AC278=W278,0,(AC278*AB278)/AA278))), 0,IF(ISERROR(IF(AC278=W278,0,(AC278*AB278)/AA278)), 0,IF(AC278=W278,0,(AC278*AB278)/AA278)))","v":0},{"$f":"IF(ISERROR(IF(AC278=60,Q278+(AC278/T278),Q278+(AD278/T278))), 0,IF(AC278=60,Q278+(AC278/T278),Q278+(AD278/T278)))","v":0}]
["A",85,47,47,{"$f":"IF(ISERROR(Y278), 0,Y278)","v":0},null,{"$f":"IF(ISERROR(AB278), 0,AB278)","v":0},{"$f":"IF(ISERROR($E$10-G279), 0,$E$10-G279)","v":0.4},null,{"$f":"IF(ISERROR(AB279), \"\",AB279)","v":0},{"$f":"IF(ISERROR(ROUND($E$10-J279,3)), \"\",ROUND($E$10-J279,3))","v":0.4},null,{"$f":"IF(ISERROR(AB280), \"\",AB280)","v":0},{"$f":"IF(ISERROR($E$10-M279), \"\",$E$10-M279)","v":0.4},{"$f":"A280","v":247.59615384615276},{"$f":"I279","v":0},{"$f":"IF(ISERROR(IF(AC278=W278,Q278+(AC278/T278),Q278+(AD278/T278))), 0,IF(AC278=W278,Q278+(AC278/T278),Q278+(AD278/T278)))","v":0},{"$f":"D279","v":47},{"$f":"IF(ISERROR(Q279-R279), 0,Q279-R279)","v":-47},{"$f":"IF(ISERROR(IF(ISERROR(IF(ISERROR(IF(ISERROR((O279/P279)), 0,(O279/P279))), 0,IF(ISERROR((O279/P279)), 0,(O279/P279)))), 0,IF(ISERROR(IF(ISERROR((O279/P279)), 0,(O279/P279))), 0,IF(ISERROR((O279/P279)), 0,(O279/P279))))), 0,IF(ISERROR(IF(ISERROR(IF(ISERROR((O279/P279)), 0,(O279/P279))), 0,IF(ISERROR((O279/P279)), 0,(O279/P279)))), 0,IF(ISERROR(IF(ISERROR((O279/P279)), 0,(O279/P279))), 0,IF(ISERROR((O279/P279)), 0,(O279/P279)))))","v":0},{"$f":"IF(ISERROR(IF(ISERROR(IF(ISERROR(IF(ISERROR(S279*T279), 0,S279*T279)), 0,IF(ISERROR(S279*T279), 0,S279*T279))), 0,IF(ISERROR(IF(ISERROR(S279*T279), 0,S279*T279)), 0,IF(ISERROR(S279*T279), 0,S279*T279)))), 0,IF(ISERROR(IF(ISERROR(IF(ISERROR(S279*T279), 0,S279*T279)), 0,IF(ISERROR(S279*T279), 0,S279*T279))), 0,IF(ISERROR(IF(ISERROR(S279*T279), 0,S279*T279)), 0,IF(ISERROR(S279*T279), 0,S279*T279))))","v":0},{"$f":"IF(ISERROR(IF(ISERROR(IF(ISERROR(IF(ISERROR(O279/T279), 0,O279/T279)), 0,IF(ISERROR(O279/T279), 0,O279/T279))), 0,IF(ISERROR(IF(ISERROR(O279/T279), 0,O279/T279)), 0,IF(ISERROR(O279/T279), 0,O279/T279)))), 0,IF(ISERROR(IF(ISERROR(IF(ISERROR(O279/T279), 0,O279/T279)), 0,IF(ISERROR(O279/T279), 0,O279/T279))), 0,IF(ISERROR(IF(ISERROR(O279/T279), 0,O279/T279)), 0,IF(ISERROR(O279/T279), 0,O279/T279))))","v":0},14.2,0.4,{"$f":"IF(ISERROR(IF(ISERROR(IF(ISERROR(ABS(U279)), 0,ABS(U279))), 0,IF(ISERROR(ABS(U279)), 0,ABS(U279)))), 0,IF(ISERROR(IF(ISERROR(ABS(U279)), 0,ABS(U279))), 0,IF(ISERROR(ABS(U279)), 0,ABS(U279))))","v":0},0.15000000000000002,{"$f":"IF(ISERROR(IF(ISERROR(IF(ISERROR(ABS((Y279*X279)/W279)), 0,ABS((Y279*X279)/W279))), 0,IF(ISERROR(ABS((Y279*X279)/W279)), 0,ABS((Y279*X279)/W279)))), 0,IF(ISERROR(IF(ISERROR(ABS((Y279*X279)/W279)), 0,ABS((Y279*X279)/W279))), 0,IF(ISERROR(ABS((Y279*X279)/W279)), 0,ABS((Y279*X279)/W279))))","v":0},{"$f":"IF(ISERROR(IF(ISERROR(IF(ISERROR(IF(AA279>Z279,Z279,AA279)), 0,IF(AA279>Z279,Z279,AA279))), 0,IF(ISERROR(IF(AA279>Z279,Z279,AA279)), 0,IF(AA279>Z279,Z279,AA279)))), 0,IF(ISERROR(IF(ISERROR(IF(AA279>Z279,Z279,AA279)), 0,IF(AA279>Z279,Z279,AA279))), 0,IF(ISERROR(IF(AA279>Z279,Z279,AA279)), 0,IF(AA279>Z279,Z279,AA279))))","v":0},{"$f":"IF(ISERROR(IF(ISERROR(IF(ISERROR(IF(Y279>W279,W279,Y279)), 0,IF(Y279>W279,W279,Y279))), 0,IF(ISERROR(IF(Y279>W279,W279,Y279)), 0,IF(Y279>W279,W279,Y279)))), 0,IF(ISERROR(IF(ISERROR(IF(Y279>W279,W279,Y279)), 0,IF(Y279>W279,W279,Y279))), 0,IF(ISERROR(IF(Y279>W279,W279,Y279)), 0,IF(Y279>W279,W279,Y279))))","v":0},{"$f":"IF(ISERROR((AC279*AB279)/AA279), \"\",(AC279*AB279)/AA279)","v":""},{"$f":"IF(ISERROR(IF(AC279=W279,0,(AC279*AB279)/AA279)), \"\",IF(AC279=W279,0,(AC279*AB279)/AA279))","v":""},{"$f":"IF(ISERROR(IF(AC279=60,Q279+(AC279/T279),Q279+(AD279/T279))), \"\",IF(AC279=60,Q279+(AC279/T279),Q279+(AD279/T279)))","v":""}]
[{"$f":"F349","v":247.59615384615276},{"$f":"IF(AND(C279<D279, E279>$E$7),\"Ignore Drill Out Lead 1; rather pop out Lead 1 and LEAVE lead # 2 to \"&K279&\" inches.\",\"\")","v":""},null,null,null,null,null,null,null,null,null,null,null,{"$f":"(G279+J279+M279)/$E$10*$E$7","v":0},{"$f":"A280","v":247.59615384615276},{"$f":"L279","v":0},{"$f":"IF(ISERROR(IF(AC279=W279,Q279+(AC279/T279),Q279+(AD279/T279))), \"\",IF(AC279=W279,Q279+(AC279/T279),Q279+(AD279/T279)))","v":""},{"$f":"D279","v":47},{"$f":"IF(ISERROR(Q280-R280), 0,Q280-R280)","v":0},{"$f":"IF(ISERROR(IF(ISERROR(IF(ISERROR((O280/P280)), 0,(O280/P280))), 0,IF(ISERROR((O280/P280)), 0,(O280/P280)))), 0,IF(ISERROR(IF(ISERROR((O280/P280)), 0,(O280/P280))), 0,IF(ISERROR((O280/P280)), 0,(O280/P280))))","v":0},{"$f":"IF(ISERROR(S280*T280), \"\",S280*T280)","v":0},{"$f":"IF(ISERROR(IF(ISERROR(IF(ISERROR(IF(ISERROR(O280/T280), 0,O280/T280)), 0,IF(ISERROR(O280/T280), 0,O280/T280))), 0,IF(ISERROR(IF(ISERROR(O280/T280), 0,O280/T280)), 0,IF(ISERROR(O280/T280), 0,O280/T280)))), 0,IF(ISERROR(IF(ISERROR(IF(ISERROR(O280/T280), 0,O280/T280)), 0,IF(ISERROR(O280/T280), 0,O280/T280))), 0,IF(ISERROR(IF(ISERROR(O280/T280), 0,O280/T280)), 0,IF(ISERROR(O280/T280), 0,O280/T280))))","v":0},14.2,0.4,{"$f":"IF(ISERROR(ABS(U280)), \"\",ABS(U280))","v":0},0.15000000000000002,{"$f":"IF(ISERROR(ABS((Y280*X280)/W280)), \"\",ABS((Y280*X280)/W280))","v":0},{"$f":"IF(ISERROR(IF(AA280>Z280,Z280,AA280)), \"\",IF(AA280>Z280,Z280,AA280))","v":0},{"$f":"IF(ISERROR(IF(Y280>W280,W280,Y280)), \"\",IF(Y280>W280,W280,Y280))","v":0},{"$f":"IF(ISERROR((AC280*AB280)/AA280), \"\",(AC280*AB280)/AA280)","v":""},{"$f":"IF(ISERROR(IF(AC280=W280,0,(AC280*AB280)/AA280)), \"\",IF(AC280=W280,0,(AC280*AB280)/AA280))","v":""},{"$f":"IF(ISERROR(IF(AC280=60,Q280+(AC280/T280),Q280+(AD280/T280))), \"\",IF(AC280=60,Q280+(AC280/T280),Q280+(AD280/T280)))","v":""}]
[null,null,"Test","Target",null,1,"dr_o","Lv_in",2,"dr_o","Lv_in",3,"dr_o","Lv_in",{"$f":"A283","v":244.5},{"$f":"F282","v":0},{"$f":"C282","v":47},{"$f":"D282","v":46},{"$f":"Q281-R281","v":1},{"$f":"IF(ISERROR((O281/P281)), 0,(O281/P281))","v":0},{"$f":"IF(ISERROR(S281*T281), 0,S281*T281)","v":0},{"$f":"IF(ISERROR(O281/T281), 0,O281/T281)","v":0},14.2,0.4,{"$f":"IF(ISERROR(ABS(U281)), 0,ABS(U281))","v":0},0.15000000000000002,{"$f":"IF(ISERROR(ABS((Y281*X281)/W281)), 0,ABS((Y281*X281)/W281))","v":0},{"$f":"IF(ISERROR(IF(AA281>Z281,Z281,AA281)), 0,IF(AA281>Z281,Z281,AA281))","v":0},{"$f":"IF(ISERROR(IF(Y281>W281,W281,Y281)), 0,IF(Y281>W281,W281,Y281))","v":0},{"$f":"IF(ISERROR(IF(ISERROR(IF(ISERROR(IF(ISERROR((AC281*AB281)/AA281), 0,(AC281*AB281)/AA281)), 0,IF(ISERROR((AC281*AB281)/AA281), 0,(AC281*AB281)/AA281))), 0,IF(ISERROR(IF(ISERROR((AC281*AB281)/AA281), 0,(AC281*AB281)/AA281)), 0,IF(ISERROR((AC281*AB281)/AA281), 0,(AC281*AB281)/AA281)))), 0,IF(ISERROR(IF(ISERROR(IF(ISERROR((AC281*AB281)/AA281), 0,(AC281*AB281)/AA281)), 0,IF(ISERROR((AC281*AB281)/AA281), 0,(AC281*AB281)/AA281))), 0,IF(ISERROR(IF(ISERROR((AC281*AB281)/AA281), 0,(AC281*AB281)/AA281)), 0,IF(ISERROR((AC281*AB281)/AA281), 0,(AC281*AB281)/AA281))))","v":0},{"$f":"IF(ISERROR(IF(ISERROR(IF(ISERROR(IF(AC281=W281,0,(AC281*AB281)/AA281)), 0,IF(AC281=W281,0,(AC281*AB281)/AA281))), 0,IF(ISERROR(IF(AC281=W281,0,(AC281*AB281)/AA281)), 0,IF(AC281=W281,0,(AC281*AB281)/AA281)))), 0,IF(ISERROR(IF(ISERROR(IF(AC281=W281,0,(AC281*AB281)/AA281)), 0,IF(AC281=W281,0,(AC281*AB281)/AA281))), 0,IF(ISERROR(IF(AC281=W281,0,(AC281*AB281)/AA281)), 0,IF(AC281=W281,0,(AC281*AB281)/AA281))))","v":0},{"$f":"IF(ISERROR(IF(ISERROR(IF(AC281=60,Q281+(AC281/T281),Q281+(AD281/T281))), 0,IF(AC281=60,Q281+(AC281/T281),Q281+(AD281/T281)))), 0,IF(ISERROR(IF(AC281=60,Q281+(AC281/T281),Q281+(AD281/T281))), 0,IF(AC281=60,Q281+(AC281/T281),Q281+(AD281/T281))))","v":0}]
["A#",86,47,46,{"$f":"IF(ISERROR(Y281), 0,Y281)","v":0},null,{"$f":"IF(ISERROR(AB281), 0,AB281)","v":0},{"$f":"IF(ISERROR($E$10-G282), 0,$E$10-G282)","v":0.4},null,{"$f":"IF(ISERROR(AB282), \"\",AB282)","v":0},{"$f":"IF(ISERROR(ROUND($E$10-J282,3)), \"\",ROUND($E$10-J282,3))","v":0.4},null,{"$f":"IF(ISERROR(AB283), \"\",AB283)","v":0},{"$f":"IF(ISERROR($E$10-M282), \"\",$E$10-M282)","v":0.4},{"$f":"A283","v":244.5},{"$f":"I282","v":0},{"$f":"IF(ISERROR(IF(ISERROR(IF(AC281=W281,Q281+(AC281/T281),Q281+(AD281/T281))), 0,IF(AC281=W281,Q281+(AC281/T281),Q281+(AD281/T281)))), 0,IF(ISERROR(IF(AC281=W281,Q281+(AC281/T281),Q281+(AD281/T281))), 0,IF(AC281=W281,Q281+(AC281/T281),Q281+(AD281/T281))))","v":0},{"$f":"D282","v":46},{"$f":"IF(ISERROR(IF(ISERROR(Q282-R282), 0,Q282-R282)), 0,IF(ISERROR(Q282-R282), 0,Q282-R282))","v":-46},{"$f":"IF(ISERROR(IF(ISERROR(IF(ISERROR(IF(ISERROR((O282/P282)), 0,(O282/P282))), 0,IF(ISERROR((O282/P282)), 0,(O282/P282)))), 0,IF(ISERROR(IF(ISERROR((O282/P282)), 0,(O282/P282))), 0,IF(ISERROR((O282/P282)), 0,(O282/P282))))), 0,IF(ISERROR(IF(ISERROR(IF(ISERROR((O282/P282)), 0,(O282/P282))), 0,IF(ISERROR((O282/P282)), 0,(O282/P282)))), 0,IF(ISERROR(IF(ISERROR((O282/P282)), 0,(O282/P282))), 0,IF(ISERROR((O282/P282)), 0,(O282/P282)))))","v":0},{"$f":"IF(ISERROR(IF(ISERROR(IF(ISERROR(IF(ISERROR(S282*T282), 0,S282*T282)), 0,IF(ISERROR(S282*T282), 0,S282*T282))), 0,IF(ISERROR(IF(ISERROR(S282*T282), 0,S282*T282)), 0,IF(ISERROR(S282*T282), 0,S282*T282)))), 0,IF(ISERROR(IF(ISERROR(IF(ISERROR(S282*T282), 0,S282*T282)), 0,IF(ISERROR(S282*T282), 0,S282*T282))), 0,IF(ISERROR(IF(ISERROR(S282*T282), 0,S282*T282)), 0,IF(ISERROR(S282*T282), 0,S282*T282))))","v":0},{"$f":"IF(ISERROR(IF(ISERROR(IF(ISERROR(IF(ISERROR(O282/T282), 0,O282/T282)), 0,IF(ISERROR(O282/T282), 0,O282/T282))), 0,IF(ISERROR(IF(ISERROR(O282/T282), 0,O282/T282)), 0,IF(ISERROR(O282/T282), 0,O282/T282)))), 0,IF(ISERROR(IF(ISERROR(IF(ISERROR(O282/T282), 0,O282/T282)), 0,IF(ISERROR(O282/T282), 0,O282/T282))), 0,IF(ISERROR(IF(ISERROR(O282/T282), 0,O282/T282)), 0,IF(ISERROR(O282/T282), 0,O282/T282))))","v":0},14.2,0.4,{"$f":"IF(ISERROR(IF(ISERROR(IF(ISERROR(ABS(U282)), 0,ABS(U282))), 0,IF(ISERROR(ABS(U282)), 0,ABS(U282)))), 0,IF(ISERROR(IF(ISERROR(ABS(U282)), 0,ABS(U282))), 0,IF(ISERROR(ABS(U282)), 0,ABS(U282))))","v":0},0.15000000000000002,{"$f":"IF(ISERROR(IF(ISERROR(IF(ISERROR(ABS((Y282*X282)/W282)), 0,ABS((Y282*X282)/W282))), 0,IF(ISERROR(ABS((Y282*X282)/W282)), 0,ABS((Y282*X282)/W282)))), 0,IF(ISERROR(IF(ISERROR(ABS((Y282*X282)/W282)), 0,ABS((Y282*X282)/W282))), 0,IF(ISERROR(ABS((Y282*X282)/W282)), 0,ABS((Y282*X282)/W282))))","v":0},{"$f":"IF(ISERROR(IF(ISERROR(IF(ISERROR(IF(AA282>Z282,Z282,AA282)), 0,IF(AA282>Z282,Z282,AA282))), 0,IF(ISERROR(IF(AA282>Z282,Z282,AA282)), 0,IF(AA282>Z282,Z282,AA282)))), 0,IF(ISERROR(IF(ISERROR(IF(AA282>Z282,Z282,AA282)), 0,IF(AA282>Z282,Z282,AA282))), 0,IF(ISERROR(IF(AA282>Z282,Z282,AA282)), 0,IF(AA282>Z282,Z282,AA282))))","v":0},{"$f":"IF(ISERROR(IF(ISERROR(IF(ISERROR(IF(Y282>W282,W282,Y282)), 0,IF(Y282>W282,W282,Y282))), 0,IF(ISERROR(IF(Y282>W282,W282,Y282)), 0,IF(Y282>W282,W282,Y282)))), 0,IF(ISERROR(IF(ISERROR(IF(Y282>W282,W282,Y282)), 0,IF(Y282>W282,W282,Y282))), 0,IF(ISERROR(IF(Y282>W282,W282,Y282)), 0,IF(Y282>W282,W282,Y282))))","v":0},{"$f":"IF(ISERROR((AC282*AB282)/AA282), \"\",(AC282*AB282)/AA282)","v":""},{"$f":"IF(ISERROR(IF(AC282=W282,0,(AC282*AB282)/AA282)), \"\",IF(AC282=W282,0,(AC282*AB282)/AA282))","v":""},{"$f":"IF(ISERROR(IF(AC282=60,Q282+(AC282/T282),Q282+(AD282/T282))), \"\",IF(AC282=60,Q282+(AC282/T282),Q282+(AD282/T282)))","v":""}]
[{"$f":"R335","v":244.5},{"$f":"IF(ISERROR(IF(AND(C282<D282, E282>$E$7),\"Ignore Drill Out Lead 1; rather pop out Lead 1 and LEAVE lead # 2 to \"&K282&\" inches.\",\"\")), 0,IF(AND(C282<D282, E282>$E$7),\"Ignore Drill Out Lead 1; rather pop out Lead 1 and LEAVE lead # 2 to \"&K282&\" inches.\",\"\"))","v":""},null,null,null,null,null,null,null,null,null,null,null,{"$f":"(G282+J282+M282)/$E$10*$E$7","v":0},{"$f":"A283","v":244.5},{"$f":"L282","v":0},{"$f":"IF(ISERROR(IF(AC282=W282,Q282+(AC282/T282),Q282+(AD282/T282))), \"\",IF(AC282=W282,Q282+(AC282/T282),Q282+(AD282/T282)))","v":""},{"$f":"D282","v":46},{"$f":"IF(ISERROR(Q283-R283), 0,Q283-R283)","v":0},{"$f":"IF(ISERROR(IF(ISERROR(IF(ISERROR((O283/P283)), 0,(O283/P283))), 0,IF(ISERROR((O283/P283)), 0,(O283/P283)))), 0,IF(ISERROR(IF(ISERROR((O283/P283)), 0,(O283/P283))), 0,IF(ISERROR((O283/P283)), 0,(O283/P283))))","v":0},{"$f":"IF(ISERROR(S283*T283), \"\",S283*T283)","v":0},{"$f":"IF(ISERROR(IF(ISERROR(IF(ISERROR(IF(ISERROR(O283/T283), 0,O283/T283)), 0,IF(ISERROR(O283/T283), 0,O283/T283))), 0,IF(ISERROR(IF(ISERROR(O283/T283), 0,O283/T283)), 0,IF(ISERROR(O283/T283), 0,O283/T283)))), 0,IF(ISERROR(IF(ISERROR(IF(ISERROR(O283/T283), 0,O283/T283)), 0,IF(ISERROR(O283/T283), 0,O283/T283))), 0,IF(ISERROR(IF(ISERROR(O283/T283), 0,O283/T283)), 0,IF(ISERROR(O283/T283), 0,O283/T283))))","v":0},14.2,0.4,{"$f":"IF(ISERROR(ABS(U283)), \"\",ABS(U283))","v":0},0.15000000000000002,{"$f":"IF(ISERROR(ABS((Y283*X283)/W283)), \"\",ABS((Y283*X283)/W283))","v":0},{"$f":"IF(ISERROR(IF(AA283>Z283,Z283,AA283)), \"\",IF(AA283>Z283,Z283,AA283))","v":0},{"$f":"IF(ISERROR(IF(Y283>W283,W283,Y283)), \"\",IF(Y283>W283,W283,Y283))","v":0},{"$f":"IF(ISERROR((AC283*AB283)/AA283), \"\",(AC283*AB283)/AA283)","v":""},{"$f":"IF(ISERROR(IF(AC283=W283,0,(AC283*AB283)/AA283)), \"\",IF(AC283=W283,0,(AC283*AB283)/AA283))","v":""},{"$f":"IF(ISERROR(IF(AC283=60,Q283+(AC283/T283),Q283+(AD283/T283))), \"\",IF(AC283=60,Q283+(AC283/T283),Q283+(AD283/T283)))","v":""}]
[null,null,"Test","Target",null,1,"dr_o","Lv_in",2,"dr_o","Lv_in",3,"dr_o","Lv_in",{"$f":"A286","v":246.23076923076815},{"$f":"F285","v":0},{"$f":"C285","v":45},{"$f":"D285","v":46},{"$f":"Q284-R284","v":-1},{"$f":"IF(ISERROR((O284/P284)), 0,(O284/P284))","v":0},{"$f":"IF(ISERROR(S284*T284), 0,S284*T284)","v":0},{"$f":"IF(ISERROR(O284/T284), 0,O284/T284)","v":0},14.2,0.4,{"$f":"IF(ISERROR(ABS(U284)), 0,ABS(U284))","v":0},0.15000000000000002,{"$f":"IF(ISERROR(ABS((Y284*X284)/W284)), 0,ABS((Y284*X284)/W284))","v":0},{"$f":"IF(ISERROR(IF(AA284>Z284,Z284,AA284)), 0,IF(AA284>Z284,Z284,AA284))","v":0},{"$f":"IF(ISERROR(IF(Y284>W284,W284,Y284)), 0,IF(Y284>W284,W284,Y284))","v":0},{"$f":"IF(ISERROR(IF(ISERROR(IF(ISERROR(IF(ISERROR((AC284*AB284)/AA284), 0,(AC284*AB284)/AA284)), 0,IF(ISERROR((AC284*AB284)/AA284), 0,(AC284*AB284)/AA284))), 0,IF(ISERROR(IF(ISERROR((AC284*AB284)/AA284), 0,(AC284*AB284)/AA284)), 0,IF(ISERROR((AC284*AB284)/AA284), 0,(AC284*AB284)/AA284)))), 0,IF(ISERROR(IF(ISERROR(IF(ISERROR((AC284*AB284)/AA284), 0,(AC284*AB284)/AA284)), 0,IF(ISERROR((AC284*AB284)/AA284), 0,(AC284*AB284)/AA284))), 0,IF(ISERROR(IF(ISERROR((AC284*AB284)/AA284), 0,(AC284*AB284)/AA284)), 0,IF(ISERROR((AC284*AB284)/AA284), 0,(AC284*AB284)/AA284))))","v":0},{"$f":"IF(ISERROR(IF(ISERROR(IF(ISERROR(IF(AC284=W284,0,(AC284*AB284)/AA284)), 0,IF(AC284=W284,0,(AC284*AB284)/AA284))), 0,IF(ISERROR(IF(AC284=W284,0,(AC284*AB284)/AA284)), 0,IF(AC284=W284,0,(AC284*AB284)/AA284)))), 0,IF(ISERROR(IF(ISERROR(IF(AC284=W284,0,(AC284*AB284)/AA284)), 0,IF(AC284=W284,0,(AC284*AB284)/AA284))), 0,IF(ISERROR(IF(AC284=W284,0,(AC284*AB284)/AA284)), 0,IF(AC284=W284,0,(AC284*AB284)/AA284))))","v":0},{"$f":"IF(ISERROR(IF(ISERROR(IF(AC284=60,Q284+(AC284/T284),Q284+(AD284/T284))), 0,IF(AC284=60,Q284+(AC284/T284),Q284+(AD284/T284)))), 0,IF(ISERROR(IF(AC284=60,Q284+(AC284/T284),Q284+(AD284/T284))), 0,IF(AC284=60,Q284+(AC284/T284),Q284+(AD284/T284))))","v":0}]
["B",87,45,46,{"$f":"IF(ISERROR(Y284), 0,Y284)","v":0},null,{"$f":"IF(ISERROR(AB284), 0,AB284)","v":0},{"$f":"IF(ISERROR($E$10-G285), 0,$E$10-G285)","v":0.4},null,{"$f":"IF(ISERROR(AB285), \"\",AB285)","v":0},{"$f":"IF(ISERROR(ROUND($E$10-J285,3)), \"\",ROUND($E$10-J285,3))","v":0.4},null,{"$f":"IF(ISERROR(AB286), \"\",AB286)","v":0},{"$f":"IF(ISERROR($E$10-M285), \"\",$E$10-M285)","v":0.4},{"$f":"A286","v":246.23076923076815},{"$f":"I285","v":0},{"$f":"IF(ISERROR(IF(ISERROR(IF(AC284=W284,Q284+(AC284/T284),Q284+(AD284/T284))), 0,IF(AC284=W284,Q284+(AC284/T284),Q284+(AD284/T284)))), 0,IF(ISERROR(IF(AC284=W284,Q284+(AC284/T284),Q284+(AD284/T284))), 0,IF(AC284=W284,Q284+(AC284/T284),Q284+(AD284/T284))))","v":0},{"$f":"D285","v":46},{"$f":"IF(ISERROR(IF(ISERROR(Q285-R285), 0,Q285-R285)), 0,IF(ISERROR(Q285-R285), 0,Q285-R285))","v":-46},{"$f":"IF(ISERROR(IF(ISERROR(IF(ISERROR(IF(ISERROR((O285/P285)), 0,(O285/P285))), 0,IF(ISERROR((O285/P285)), 0,(O285/P285)))), 0,IF(ISERROR(IF(ISERROR((O285/P285)), 0,(O285/P285))), 0,IF(ISERROR((O285/P285)), 0,(O285/P285))))), 0,IF(ISERROR(IF(ISERROR(IF(ISERROR((O285/P285)), 0,(O285/P285))), 0,IF(ISERROR((O285/P285)), 0,(O285/P285)))), 0,IF(ISERROR(IF(ISERROR((O285/P285)), 0,(O285/P285))), 0,IF(ISERROR((O285/P285)), 0,(O285/P285)))))","v":0},{"$f":"IF(ISERROR(IF(ISERROR(IF(ISERROR(IF(ISERROR(S285*T285), 0,S285*T285)), 0,IF(ISERROR(S285*T285), 0,S285*T285))), 0,IF(ISERROR(IF(ISERROR(S285*T285), 0,S285*T285)), 0,IF(ISERROR(S285*T285), 0,S285*T285)))), 0,IF(ISERROR(IF(ISERROR(IF(ISERROR(S285*T285), 0,S285*T285)), 0,IF(ISERROR(S285*T285), 0,S285*T285))), 0,IF(ISERROR(IF(ISERROR(S285*T285), 0,S285*T285)), 0,IF(ISERROR(S285*T285), 0,S285*T285))))","v":0},{"$f":"IF(ISERROR(IF(ISERROR(IF(ISERROR(IF(ISERROR(O285/T285), 0,O285/T285)), 0,IF(ISERROR(O285/T285), 0,O285/T285))), 0,IF(ISERROR(IF(ISERROR(O285/T285), 0,O285/T285)), 0,IF(ISERROR(O285/T285), 0,O285/T285)))), 0,IF(ISERROR(IF(ISERROR(IF(ISERROR(O285/T285), 0,O285/T285)), 0,IF(ISERROR(O285/T285), 0,O285/T285))), 0,IF(ISERROR(IF(ISERROR(O285/T285), 0,O285/T285)), 0,IF(ISERROR(O285/T285), 0,O285/T285))))","v":0},14.2,0.4,{"$f":"IF(ISERROR(IF(ISERROR(IF(ISERROR(ABS(U285)), 0,ABS(U285))), 0,IF(ISERROR(ABS(U285)), 0,ABS(U285)))), 0,IF(ISERROR(IF(ISERROR(ABS(U285)), 0,ABS(U285))), 0,IF(ISERROR(ABS(U285)), 0,ABS(U285))))","v":0},0.15000000000000002,{"$f":"IF(ISERROR(IF(ISERROR(IF(ISERROR(ABS((Y285*X285)/W285)), 0,ABS((Y285*X285)/W285))), 0,IF(ISERROR(ABS((Y285*X285)/W285)), 0,ABS((Y285*X285)/W285)))), 0,IF(ISERROR(IF(ISERROR(ABS((Y285*X285)/W285)), 0,ABS((Y285*X285)/W285))), 0,IF(ISERROR(ABS((Y285*X285)/W285)), 0,ABS((Y285*X285)/W285))))","v":0},{"$f":"IF(ISERROR(IF(ISERROR(IF(ISERROR(IF(AA285>Z285,Z285,AA285)), 0,IF(AA285>Z285,Z285,AA285))), 0,IF(ISERROR(IF(AA285>Z285,Z285,AA285)), 0,IF(AA285>Z285,Z285,AA285)))), 0,IF(ISERROR(IF(ISERROR(IF(AA285>Z285,Z285,AA285)), 0,IF(AA285>Z285,Z285,AA285))), 0,IF(ISERROR(IF(AA285>Z285,Z285,AA285)), 0,IF(AA285>Z285,Z285,AA285))))","v":0},{"$f":"IF(ISERROR(IF(ISERROR(IF(ISERROR(IF(Y285>W285,W285,Y285)), 0,IF(Y285>W285,W285,Y285))), 0,IF(ISERROR(IF(Y285>W285,W285,Y285)), 0,IF(Y285>W285,W285,Y285)))), 0,IF(ISERROR(IF(ISERROR(IF(Y285>W285,W285,Y285)), 0,IF(Y285>W285,W285,Y285))), 0,IF(ISERROR(IF(Y285>W285,W285,Y285)), 0,IF(Y285>W285,W285,Y285))))","v":0},{"$f":"IF(ISERROR((AC285*AB285)/AA285), \"\",(AC285*AB285)/AA285)","v":""},{"$f":"IF(ISERROR(IF(AC285=W285,0,(AC285*AB285)/AA285)), \"\",IF(AC285=W285,0,(AC285*AB285)/AA285))","v":""},{"$f":"IF(ISERROR(IF(AC285=60,Q285+(AC285/T285),Q285+(AD285/T285))), \"\",IF(AC285=60,Q285+(AC285/T285),Q285+(AD285/T285)))","v":""}]
[{"$f":"F350","v":246.23076923076815},{"$f":"IF(ISERROR(IF(AND(C285<D285, E285>$E$7),\"Ignore Drill Out Lead 1; rather pop out Lead 1 and LEAVE lead # 2 to \"&K285&\" inches.\",\"\")), 0,IF(AND(C285<D285, E285>$E$7),\"Ignore Drill Out Lead 1; rather pop out Lead 1 and LEAVE lead # 2 to \"&K285&\" inches.\",\"\"))","v":""},null,null,null,null,null,null,null,null,null,null,null,{"$f":"(G285+J285+M285)/$E$10*$E$7","v":0},{"$f":"A286","v":246.23076923076815},{"$f":"L285","v":0},{"$f":"IF(ISERROR(IF(AC285=W285,Q285+(AC285/T285),Q285+(AD285/T285))), \"\",IF(AC285=W285,Q285+(AC285/T285),Q285+(AD285/T285)))","v":""},{"$f":"D285","v":46},{"$f":"IF(ISERROR(Q286-R286), 0,Q286-R286)","v":0},{"$f":"IF(ISERROR(IF(ISERROR(IF(ISERROR((O286/P286)), 0,(O286/P286))), 0,IF(ISERROR((O286/P286)), 0,(O286/P286)))), 0,IF(ISERROR(IF(ISERROR((O286/P286)), 0,(O286/P286))), 0,IF(ISERROR((O286/P286)), 0,(O286/P286))))","v":0},{"$f":"IF(ISERROR(S286*T286), \"\",S286*T286)","v":0},{"$f":"IF(ISERROR(IF(ISERROR(IF(ISERROR(IF(ISERROR(O286/T286), 0,O286/T286)), 0,IF(ISERROR(O286/T286), 0,O286/T286))), 0,IF(ISERROR(IF(ISERROR(O286/T286), 0,O286/T286)), 0,IF(ISERROR(O286/T286), 0,O286/T286)))), 0,IF(ISERROR(IF(ISERROR(IF(ISERROR(O286/T286), 0,O286/T286)), 0,IF(ISERROR(O286/T286), 0,O286/T286))), 0,IF(ISERROR(IF(ISERROR(O286/T286), 0,O286/T286)), 0,IF(ISERROR(O286/T286), 0,O286/T286))))","v":0},14.2,0.4,{"$f":"IF(ISERROR(ABS(U286)), \"\",ABS(U286))","v":0},0.15000000000000002,{"$f":"IF(ISERROR(ABS((Y286*X286)/W286)), \"\",ABS((Y286*X286)/W286))","v":0},{"$f":"IF(ISERROR(IF(AA286>Z286,Z286,AA286)), \"\",IF(AA286>Z286,Z286,AA286))","v":0},{"$f":"IF(ISERROR(IF(Y286>W286,W286,Y286)), \"\",IF(Y286>W286,W286,Y286))","v":0},{"$f":"IF(ISERROR((AC286*AB286)/AA286), \"\",(AC286*AB286)/AA286)","v":""},{"$f":"IF(ISERROR(IF(AC286=W286,0,(AC286*AB286)/AA286)), \"\",IF(AC286=W286,0,(AC286*AB286)/AA286))","v":""},{"$f":"IF(ISERROR(IF(AC286=60,Q286+(AC286/T286),Q286+(AD286/T286))), \"\",IF(AC286=60,Q286+(AC286/T286),Q286+(AD286/T286)))","v":""}]
[null,null,"Test","Target",null,1,"dr_o","Lv_in",2,"dr_o","Lv_in",3,"dr_o","Lv_in",{"$f":"A289","v":244.86538461538353},{"$f":"F288","v":0},{"$f":"C288","v":42},{"$f":"D288","v":46},{"$f":"Q287-R287","v":-4},{"$f":"IF(ISERROR((O287/P287)), 0,(O287/P287))","v":0},{"$f":"IF(ISERROR(S287*T287), 0,S287*T287)","v":0},{"$f":"IF(ISERROR(O287/T287), 0,O287/T287)","v":0},14.2,0.4,{"$f":"IF(ISERROR(ABS(U287)), 0,ABS(U287))","v":0},0.15000000000000002,{"$f":"IF(ISERROR(ABS((Y287*X287)/W287)), 0,ABS((Y287*X287)/W287))","v":0},{"$f":"IF(ISERROR(IF(AA287>Z287,Z287,AA287)), 0,IF(AA287>Z287,Z287,AA287))","v":0},{"$f":"IF(ISERROR(IF(Y287>W287,W287,Y287)), 0,IF(Y287>W287,W287,Y287))","v":0},{"$f":"IF(ISERROR(IF(ISERROR(IF(ISERROR(IF(ISERROR((AC287*AB287)/AA287), 0,(AC287*AB287)/AA287)), 0,IF(ISERROR((AC287*AB287)/AA287), 0,(AC287*AB287)/AA287))), 0,IF(ISERROR(IF(ISERROR((AC287*AB287)/AA287), 0,(AC287*AB287)/AA287)), 0,IF(ISERROR((AC287*AB287)/AA287), 0,(AC287*AB287)/AA287)))), 0,IF(ISERROR(IF(ISERROR(IF(ISERROR((AC287*AB287)/AA287), 0,(AC287*AB287)/AA287)), 0,IF(ISERROR((AC287*AB287)/AA287), 0,(AC287*AB287)/AA287))), 0,IF(ISERROR(IF(ISERROR((AC287*AB287)/AA287), 0,(AC287*AB287)/AA287)), 0,IF(ISERROR((AC287*AB287)/AA287), 0,(AC287*AB287)/AA287))))","v":0},{"$f":"IF(ISERROR(IF(ISERROR(IF(ISERROR(IF(AC287=W287,0,(AC287*AB287)/AA287)), 0,IF(AC287=W287,0,(AC287*AB287)/AA287))), 0,IF(ISERROR(IF(AC287=W287,0,(AC287*AB287)/AA287)), 0,IF(AC287=W287,0,(AC287*AB287)/AA287)))), 0,IF(ISERROR(IF(ISERROR(IF(AC287=W287,0,(AC287*AB287)/AA287)), 0,IF(AC287=W287,0,(AC287*AB287)/AA287))), 0,IF(ISERROR(IF(AC287=W287,0,(AC287*AB287)/AA287)), 0,IF(AC287=W287,0,(AC287*AB287)/AA287))))","v":0},{"$f":"IF(ISERROR(IF(ISERROR(IF(AC287=60,Q287+(AC287/T287),Q287+(AD287/T287))), 0,IF(AC287=60,Q287+(AC287/T287),Q287+(AD287/T287)))), 0,IF(ISERROR(IF(AC287=60,Q287+(AC287/T287),Q287+(AD287/T287))), 0,IF(AC287=60,Q287+(AC287/T287),Q287+(AD287/T287))))","v":0}]
["C",88,42,46,{"$f":"IF(ISERROR(Y287), 0,Y287)","v":0},null,{"$f":"IF(ISERROR(AB287), 0,AB287)","v":0},{"$f":"IF(ISERROR($E$10-G288), 0,$E$10-G288)","v":0.4},null,{"$f":"IF(ISERROR(AB288), \"\",AB288)","v":0},{"$f":"IF(ISERROR(ROUND($E$10-J288,3)), \"\",ROUND($E$10-J288,3))","v":0.4},null,{"$f":"IF(ISERROR(AB289), \"\",AB289)","v":0},{"$f":"IF(ISERROR($E$10-M288), \"\",$E$10-M288)","v":0.4},{"$f":"A289","v":244.86538461538353},{"$f":"I288","v":0},{"$f":"IF(ISERROR(IF(ISERROR(IF(AC287=W287,Q287+(AC287/T287),Q287+(AD287/T287))), 0,IF(AC287=W287,Q287+(AC287/T287),Q287+(AD287/T287)))), 0,IF(ISERROR(IF(AC287=W287,Q287+(AC287/T287),Q287+(AD287/T287))), 0,IF(AC287=W287,Q287+(AC287/T287),Q287+(AD287/T287))))","v":0},{"$f":"D288","v":46},{"$f":"IF(ISERROR(IF(ISERROR(Q288-R288), 0,Q288-R288)), 0,IF(ISERROR(Q288-R288), 0,Q288-R288))","v":-46},{"$f":"IF(ISERROR(IF(ISERROR(IF(ISERROR(IF(ISERROR((O288/P288)), 0,(O288/P288))), 0,IF(ISERROR((O288/P288)), 0,(O288/P288)))), 0,IF(ISERROR(IF(ISERROR((O288/P288)), 0,(O288/P288))), 0,IF(ISERROR((O288/P288)), 0,(O288/P288))))), 0,IF(ISERROR(IF(ISERROR(IF(ISERROR((O288/P288)), 0,(O288/P288))), 0,IF(ISERROR((O288/P288)), 0,(O288/P288)))), 0,IF(ISERROR(IF(ISERROR((O288/P288)), 0,(O288/P288))), 0,IF(ISERROR((O288/P288)), 0,(O288/P288)))))","v":0},{"$f":"IF(ISERROR(IF(ISERROR(IF(ISERROR(IF(ISERROR(S288*T288), 0,S288*T288)), 0,IF(ISERROR(S288*T288), 0,S288*T288))), 0,IF(ISERROR(IF(ISERROR(S288*T288), 0,S288*T288)), 0,IF(ISERROR(S288*T288), 0,S288*T288)))), 0,IF(ISERROR(IF(ISERROR(IF(ISERROR(S288*T288), 0,S288*T288)), 0,IF(ISERROR(S288*T288), 0,S288*T288))), 0,IF(ISERROR(IF(ISERROR(S288*T288), 0,S288*T288)), 0,IF(ISERROR(S288*T288), 0,S288*T288))))","v":0},{"$f":"IF(ISERROR(IF(ISERROR(IF(ISERROR(IF(ISERROR(O288/T288), 0,O288/T288)), 0,IF(ISERROR(O288/T288), 0,O288/T288))), 0,IF(ISERROR(IF(ISERROR(O288/T288), 0,O288/T288)), 0,IF(ISERROR(O288/T288), 0,O288/T288)))), 0,IF(ISERROR(IF(ISERROR(IF(ISERROR(O288/T288), 0,O288/T288)), 0,IF(ISERROR(O288/T288), 0,O288/T288))), 0,IF(ISERROR(IF(ISERROR(O288/T288), 0,O288/T288)), 0,IF(ISERROR(O288/T288), 0,O288/T288))))","v":0},14.2,0.4,{"$f":"IF(ISERROR(IF(ISERROR(IF(ISERROR(ABS(U288)), 0,ABS(U288))), 0,IF(ISERROR(ABS(U288)), 0,ABS(U288)))), 0,IF(ISERROR(IF(ISERROR(ABS(U288)), 0,ABS(U288))), 0,IF(ISERROR(ABS(U288)), 0,ABS(U288))))","v":0},0.15000000000000002,{"$f":"IF(ISERROR(IF(ISERROR(IF(ISERROR(ABS((Y288*X288)/W288)), 0,ABS((Y288*X288)/W288))), 0,IF(ISERROR(ABS((Y288*X288)/W288)), 0,ABS((Y288*X288)/W288)))), 0,IF(ISERROR(IF(ISERROR(ABS((Y288*X288)/W288)), 0,ABS((Y288*X288)/W288))), 0,IF(ISERROR(ABS((Y288*X288)/W288)), 0,ABS((Y288*X288)/W288))))","v":0},{"$f":"IF(ISERROR(IF(ISERROR(IF(ISERROR(IF(AA288>Z288,Z288,AA288)), 0,IF(AA288>Z288,Z288,AA288))), 0,IF(ISERROR(IF(AA288>Z288,Z288,AA288)), 0,IF(AA288>Z288,Z288,AA288)))), 0,IF(ISERROR(IF(ISERROR(IF(AA288>Z288,Z288,AA288)), 0,IF(AA288>Z288,Z288,AA288))), 0,IF(ISERROR(IF(AA288>Z288,Z288,AA288)), 0,IF(AA288>Z288,Z288,AA288))))","v":0},{"$f":"IF(ISERROR(IF(ISERROR(IF(ISERROR(IF(Y288>W288,W288,Y288)), 0,IF(Y288>W288,W288,Y288))), 0,IF(ISERROR(IF(Y288>W288,W288,Y288)), 0,IF(Y288>W288,W288,Y288)))), 0,IF(ISERROR(IF(ISERROR(IF(Y288>W288,W288,Y288)), 0,IF(Y288>W288,W288,Y288))), 0,IF(ISERROR(IF(Y288>W288,W288,Y288)), 0,IF(Y288>W288,W288,Y288))))","v":0},{"$f":"IF(ISERROR((AC288*AB288)/AA288), \"\",(AC288*AB288)/AA288)","v":""},{"$f":"IF(ISERROR(IF(AC288=W288,0,(AC288*AB288)/AA288)), \"\",IF(AC288=W288,0,(AC288*AB288)/AA288))","v":""},{"$f":"IF(ISERROR(IF(AC288=60,Q288+(AC288/T288),Q288+(AD288/T288))), \"\",IF(AC288=60,Q288+(AC288/T288),Q288+(AD288/T288)))","v":""}]
[{"$f":"F351","v":244.86538461538353},{"$f":"IF(ISERROR(IF(AND(C288<D288, E288>$E$7),\"Ignore Drill Out Lead 1; rather pop out Lead 1 and LEAVE lead # 2 to \"&K288&\" inches.\",\"\")), 0,IF(AND(C288<D288, E288>$E$7),\"Ignore Drill Out Lead 1; rather pop out Lead 1 and LEAVE lead # 2 to \"&K288&\" inches.\",\"\"))","v":""},null,null,null,null,null,null,null,null,null,null,null,{"$f":"(G288+J288+M288)/$E$10*$E$7","v":0},{"$f":"A289","v":244.86538461538353},{"$f":"L288","v":0},{"$f":"IF(ISERROR(IF(AC288=W288,Q288+(AC288/T288),Q288+(AD288/T288))), \"\",IF(AC288=W288,Q288+(AC288/T288),Q288+(AD288/T288)))","v":""},{"$f":"D288","v":46},{"$f":"IF(ISERROR(Q289-R289), 0,Q289-R289)","v":0},{"$f":"IF(ISERROR(IF(ISERROR(IF(ISERROR((O289/P289)), 0,(O289/P289))), 0,IF(ISERROR((O289/P289)), 0,(O289/P289)))), 0,IF(ISERROR(IF(ISERROR((O289/P289)), 0,(O289/P289))), 0,IF(ISERROR((O289/P289)), 0,(O289/P289))))","v":0},{"$f":"IF(ISERROR(S289*T289), \"\",S289*T289)","v":0},{"$f":"IF(ISERROR(IF(ISERROR(IF(ISERROR(IF(ISERROR(O289/T289), 0,O289/T289)), 0,IF(ISERROR(O289/T289), 0,O289/T289))), 0,IF(ISERROR(IF(ISERROR(O289/T289), 0,O289/T289)), 0,IF(ISERROR(O289/T289), 0,O289/T289)))), 0,IF(ISERROR(IF(ISERROR(IF(ISERROR(O289/T289), 0,O289/T289)), 0,IF(ISERROR(O289/T289), 0,O289/T289))), 0,IF(ISERROR(IF(ISERROR(O289/T289), 0,O289/T289)), 0,IF(ISERROR(O289/T289), 0,O289/T289))))","v":0},14.2,0.4,{"$f":"IF(ISERROR(ABS(U289)), \"\",ABS(U289))","v":0},0.15000000000000002,{"$f":"IF(ISERROR(ABS((Y289*X289)/W289)), \"\",ABS((Y289*X289)/W289))","v":0},{"$f":"IF(ISERROR(IF(AA289>Z289,Z289,AA289)), \"\",IF(AA289>Z289,Z289,AA289))","v":0},{"$f":"IF(ISERROR(IF(Y289>W289,W289,Y289)), \"\",IF(Y289>W289,W289,Y289))","v":0},{"$f":"IF(ISERROR((AC289*AB289)/AA289), \"\",(AC289*AB289)/AA289)","v":""},{"$f":"IF(ISERROR(IF(AC289=W289,0,(AC289*AB289)/AA289)), \"\",IF(AC289=W289,0,(AC289*AB289)/AA289))","v":""},{"$f":"IF(ISERROR(IF(AC289=60,Q289+(AC289/T289),Q289+(AD289/T289))), \"\",IF(AC289=60,Q289+(AC289/T289),Q289+(AD289/T289)))","v":""}]
[]
[]
[]
[]
[]
[]
[]
[]
[null,null,null,"WHITE KEYS",null,null,null,null,null,null,null,null,null,null,"BLACK KEYS"]
[null,"mm",null,"NOTE #","Seque","mm","CELL #",null,null,null,null,null,null,null,"mm",null,"NOTE#","mm"]
[null,{"$f":"B305-B308","v":314.5},null,1,1,{"$f":"B300","v":314.5},14,null,298,null,null,null,null,null,{"$f":"O305-B308","v":279.5},"A#",2,{"$f":"O300","v":279.5}]
[null,{"$f":"B306-B308","v":243.5},null,3,2,{"$f":"F300-$B$303","v":313.13461538461536},20,null,299,null,null,null,null,null,{"$f":"O306-B308","v":243.5},"C#",5,{"$f":"R300-$O$303","v":278.5}]
[null,{"$f":"B300-B301","v":71},null,4,3,311.76923076923072,23,null,300,null,null,null,null,null,{"$f":"O300-O301","v":36},"D#",7,277.5]
[null,{"$f":"B302/52","v":1.3653846153846154},null,6,4,310.40384615384608,29,null,301,null,null,null,null,null,{"$f":"O302/36","v":1},"F#",10,276.5]
[null,null,null,8,5,309.03846153846143,35,null,302,null,null,null,null,null,null,"G#",12,275.5]
[null,{"$f":"F4","v":323},"Tot. mm",9,6,307.67307692307679,38,null,303,null,null,null,null,null,{"$f":"F5","v":288},"A#",14,274.5]
[null,{"$f":"I4","v":252},"Tot. mm",11,7,306.30769230769215,44,null,304,null,null,null,null,null,{"$f":"I5","v":252},"C#",17,273.5]
[null,{"$f":"E12","v":17},null,13,8,304.94230769230751,52,null,305,null,null,null,null,null,null,"D#",19,272.5]
[null,{"$f":"E12/2","v":8.5},"1/2 test",15,9,303.57692307692287,58,null,306,null,null,null,null,null,null,"F#",22,271.5]
[null,null,null,16,10,302.21153846153823,61,null,307,null,null,null,null,null,null,"G#",24,270.5]
[null,null,null,18,11,300.84615384615358,67,null,308,null,null,null,null,null,null,"A#",26,269.5]
[null,null,null,20,12,299.48076923076894,73,null,309,null,null,null,null,null,null,"C#",29,268.5]
[null,null,null,21,13,298.1153846153843,76,null,310,null,null,null,null,null,null,"D#",31,267.5]
[null,null,null,23,14,296.74999999999966,82,null,311,null,null,null,null,null,null,"F#",34,266.5]
[null,null,null,25,15,295.38461538461502,90,null,312,null,null,null,null,null,null,"G#",36,265.5]
[null,null,null,27,16,294.01923076923038,96,null,313,null,null,null,null,null,null,"A#",38,264.5]
[null,null,null,28,17,292.65384615384573,99,null,314,null,null,null,null,null,null,"C#",41,263.5]
[null,null,null,30,18,291.28846153846109,105,null,315,null,null,null,null,null,null,"D#",43,262.5]
[null,null,null,32,19,289.92307692307645,111,null,316,null,null,null,null,null,null,"F#",46,261.5]
[null,null,null,33,20,288.55769230769181,114,null,317,null,null,null,null,null,null,"G#",48,260.5]
[null,null,null,35,21,287.19230769230717,120,null,318,null,null,null,null,null,null,"A#",50,259.5]
[null,null,null,37,22,285.82692307692253,128,null,319,null,null,null,null,null,null,"C#",53,258.5]
[null,null,null,39,23,284.46153846153788,134,null,320,null,null,null,null,null,null,"D#",55,257.5]
[null,null,null,40,24,283.09615384615324,137,null,321,null,null,null,null,null,null,"F#",58,256.5]
[null,null,null,42,25,281.7307692307686,143,null,322,null,null,null,null,null,null,"G#",60,255.5]
[null,null,null,44,26,280.36538461538396,149,null,323,null,null,null,null,null,null,"A#",62,254.5]
[null,null,null,45,27,278.99999999999932,152,null,324,null,null,null,null,null,null,"C#",65,253.5]
[null,null,null,47,28,277.63461538461468,158,null,325,null,null,null,null,null,null,"D#",67,252.5]
[null,null,null,49,29,276.26923076923003,166,null,326,null,null,null,null,null,null,"F#",70,251.5]
[null,null,null,51,30,274.90384615384539,172,null,327,null,null,null,null,null,null,"G#",72,250.5]
[null,null,null,52,31,273.53846153846075,175,null,328,null,null,null,null,null,null,"A#",74,249.5]
[null,null,null,54,32,272.17307692307611,181,null,329,null,null,null,null,null,null,"C#",77,248.5]
[null,null,null,56,33,270.80769230769147,187,null,330,null,null,null,null,null,null,"D#",79,247.5]
[null,null,null,57,34,{"$f":"F332-$B$303","v":269.44230769230683},190,null,331,null,null,null,null,null,null,"F#",82,246.5]
[null,null,null,59,35,268.07692307692218,196,null,332,null,null,null,null,null,null,"G#",84,245.5]
[null,null,null,61,36,266.71153846153754,204,null,333,null,null,null,null,null,null,"A#",86,244.5]
[null,null,null,63,37,265.3461538461529,210,null,334]
[null,null,null,64,38,263.98076923076826,213,null,335]
[null,null,null,66,39,262.61538461538362,219,null,336]
[null,null,null,68,40,261.24999999999898,225,null,337]
[null,null,null,69,41,259.88461538461434,228,null,338]
[null,null,null,71,42,258.51923076922969,234,null,339]
[null,null,null,73,43,257.15384615384505,242,null,340]
[null,null,null,75,44,255.78846153846044,248,null,341]
[null,null,null,76,45,254.42307692307583,251,null,342]
[null,null,null,78,46,253.05769230769121,257,null,343]
[null,null,null,80,47,251.6923076923066,263,null,344]
[null,null,null,81,48,250.32692307692199,266,null,345]
[null,null,null,83,49,248.96153846153737,272,null,346]
[null,null,null,85,50,247.59615384615276,278,null,347]
[null,null,null,87,51,246.23076923076815,281,null,348]
[null,null,null,88,52,244.86538461538353,287,null,349]

{"sheet":"Key Graphics","index":3,"n_rows":304,"n_cols":17,"rows_kept":304,"cut":false,"hidden":true,"merged":[]}
[]
[]
[null,null,null,null,null,null,null,null,null,null,null,null,null,"Key Input","enter - >",250,"mm"]
[null,null,null,null,null,null,null,null,null,null,null,null,null,"K / Divide","enter - >",150,"mm"]
[null,null,null,null,null,null,null,null,null,null,null,null,null,"DW","enter - >",67]
[null,null,null,null,null,null,null,null,null,null,null,null,null,"DD Target","enter - >",50]
[]
[null,null,null,null,null,null,null,null,null,null,null,null,null,"Diff DW",null,{"$f":"P5-P6","v":17}]
[null,null,null,null,null,null,null,null,null,null,null,null,null,"LeadPosRatio",null,{"$f":"P3/P4","v":1.6666666666666667}]
[null,null,null,null,null,null,null,null,null,null,null,null,null,"Req'd Lead",null,{"$f":"P8*P9","v":28.333333333333336},"grams"]
[null,null,null,null,null,null,null,null,250,null,null,null,null,"KeyDivide",null,{"$f":"P3/P9","v":150}]
[]
[null,null,null,null,null,"        150 mm to \"Key Divide\""]
[null,null,null,null,null,null,null,null,null,null,null,null,null,"Use below when you know mass of "]
[null,null,51,null,null,null,null,null,null,null,null,null,null,"grams you are using"]
[]
[null,null,null,null,null,null,null,null,null,null,null,null,null,"Key Input","enter - >",250]
[null,null,48,null,null,null,null,null,null,null,null,null,null,"Lead Sum*","enter - >",30.4,"grams"]
[null,null,null,null,null,null,null,null,"50 mm",null,null,null,null,"DW","enter - >",67]
[null,null,null,null,null,null,null,null,null,null,null,null,null,"DW Target","enter - >",50]
[null,null,48,null,null,null,null,null,null,null,null,null,null,"Diff DW",null,{"$f":"P19-P20","v":17}]
[null,null,null,null,null,null,null,null,null,null,null,null,null,"Factor",null,{"$f":"P17/P18","v":8.2236842105263168}]
[null,null,null,null,null,null,null,null,null,null,null,null,null,"Key Divide",null,{"$f":"P21*P22","v":139.8026315789474},"mm"]
[null,null,52]
[null,null,null,null,null,null,null,null,null,null,null,null,null,"*here two 15.2 gram leads are used"]
[]
[]
[]
[]
[]
[]
[]
[]
[]
[]
[]
[]
[]
[null,null,null,null,null,null,null,null,250]
[null,null,null,null,null,null,null,175]
[null,null,null,null,null,null,145]
[null,null,null,null,null,125]
[]
[null,null,null,null,null,null,null,null,null,null,null,null,null,"Key Input","enter - >",250,"mm"]
[null,null,null,null,null,null,null,null,null,null,null,null,null,"Lead Location","enter - >",145,"mm"]
[null,null,null,null,null,null,null,null,null,null,null,null,null,"DW","enter - >",42]
[null,null,null,null,null,null,null,null,null,null,null,null,null,"DDW","enter - >",50]
[]
[null,null,null,null,null,null,null,null,null,null,null,null,null,"DifDW",null,{"$f":"P46-P47","v":-8}]
[null,null,null,null,null,null,null,null,null,null,null,null,null,"LeadPosRatio",null,{"$f":"P44/P45","v":1.7241379310344827}]
[null,null,null,null,null,null,null,null,null,null,null,null,null,"Req'd Lead",null,{"$f":"P49*P50","v":-13.793103448275861},"grams"]
[null,null,null,null,null,null,null,null,null,null,null,null,null,"KeyDivide",null,{"$f":"P44/P50","v":145}]
[]
[]
[]
[]
[]
[]
[]
[]
[]
[]
[]
[]
[]
[]
[]
[]
[]
[]
[]
[]
[]
[]
[]
[]
[]
[]
[]
[]
[]
[]
[]
[]
[]
[null,null,45]
[]
[]
[]
[]
[]
[]
[]
[]
[]
[]
[]
[]
[]
[]
[]
[]
[]
[]
[]
[]
[]
[]
[null,null,42]
[]
[]
[]
[]
[]
[null,null,50]
[]
[]
[]
[]
[]
[]
[]
[]
[]
[]
[]
[]
[]
[]
[]
[]
[]
[]
[]
[null,null,48]
[]
[]
[]
[]
[]
[]
[]
[]
[]
[]
[]
[]
[]
[]
[]
[]
[]
[null,null,47]
[]
[]
[]
[]
[]
[null,null,49]
[]
[]
[null,null,46]
[]
[]
[]
[]
[null,null,49]
[]
[]
[]
[]
[]
[]
[]
[]
[]
[]
[]
[]
[]
[]
[]
[]
[]
[]
[]
[]
[]
[]
[]
[]
[]
[]
[]
[]
[]
[]
[]
[]
[]
[]
[]
[]
[]
[]
[]
[]
[]
[]
[]
[null,null,46]
[]
[]
[]
[]
[]
[]
[]
[]
[null,null,45]
[]
[]
[]
[]
[]
[]
[]
[]
[]
[]
[]
[]
[]
[]
[null,null,null,null,null,null,null,null,null,{"$f":"IF(ISERROR(AB235), \"\",AB235)","v":0}]
[]
[]
[]
[]
[]
[]
[]
[null,null,47]
[]
[]
[]
[]
[]
[null,null,47]
[]
[]
[null,null,47]
[]
[]
[]
[]
[]
[]
[]
[]
[]
[]
[]
[null,null,47]
[]
[]
[]
[]
[]
[]
[]
[]
[null,null,46]
[]
[]
[null,null,45]
[]
[]
[]
[]
[]
[null,null,43]
[]
[]
[null,null,45]
[]
[]
[]
[]
[]
[]
[]
[]
[]
[]
[]
[]
[null,null,null,null,null,null,null,null,null,null,51]
[]
[]
[null,null,null,null,null,null,null,null,null,null,51]
[]
[]
[null,null,null,null,null,null,null,null,null,null,51]

{"sheet":"Lead Removal Basics","index":4,"n_rows":79,"n_cols":22,"rows_kept":79,"cut":false,"hidden":false,"merged":[[16,4,16,11],[17,4,17,11],[18,4,18,11],[19,4,19,11],[76,21,76,30],[20,4,20,11],[24,4,24,11],[23,4,23,11],[22,4,22,11],[21,4,21,11],[77,21,77,29],[78,21,78,28],[25,4,25,11],[57,6,57,13],[58,6,58,13],[38,3,38,12],[57,2,63,2],[47,6,47,13],[48,6,48,13],[49,6,49,13],[50,6,50,13],[51,6,52,13],[54,6,54,13],[55,6,55,13],[53,6,53,13],[56,6,56,13],[7,2,7,10],[11,4,11,11],[14,4,14,11],[15,4,15,11],[8,4,8,11],[9,4,9,11],[10,4,10,11],[12,4,12,11],[13,4,13,11]]}
[]
[]
[]
[]
[]
[]
[]
[null,null,"CALCULATION OF KEY LEADS POSITION / LEAD REMOVAL"]
[null,null,"GIVEN:","Enter Below"]
[null,null,"Key Input  mm =  ",240,"  Front key lever measured from center of test weights to center of balance hole"]
[null,null,"Lead Pos # 1 = ",123,"  Lead Position (mm) located on key being considered for removal of lead mass"]
[null,null,"Lead Pos # 2 = ",89,"  If no 2nd lead then no entry required "]
[null,null,"Lead Pos # 3 = ",70,"  If no 3rd lead then no entry required "]
[null,null,"DW = ",42,"  Downweight as measured with gram test weights"]
[null,null,"DDW = ",50,"  Desired Target Downweight (DW)"]
[null,null,"DifDW = ",{"$f":"D14-D15","v":-8},"  Calculated difference in DW from what is measured and what is desired"]
[null,null,"Lead # 1 grams",14.2,"Enter weights of the key lead slugs as found in the existing keyboard (read comment ->)"]
[null,null,"Lead # 2 grams",14.2,"See below at keystick graphic how to measure lead locations in mm"]
[null,null,"Lead # 3 grams",11.2]
[null,null,"Lead Remain Limit",0.2,"  Must leave a reasonably stout disk of lead in hole after drilling (recommend min 0.150\")"]
[null,null,"Lead Width",0.42,"  Decimal inches side-to-side width of key lead (pop one out and measure with calipers)"]
[null,null,"CALCULATED STUFF:"]
[null,null,"LeadPosRatio = ",null,"  Magic Ratio factor calculated by program"]
[null,null,"DifDW_Ratio =  ",null,"  Magic Ratio factor calculated by program and yields REQ'D KEY LEADS"]
[null,null,"KeyDivide = ",null,"  Same as LeadPos means add or remove key leads at location called key divide"]
[null,null,"DRILL DP.",null,"  At drill press, how deep to drill out lead with forstner bit (use stem of dial calipers)"]
[]
[null,null,null,null,null,null,null,null,null,null,{"$f":"D10","v":240}]
[null,null,null,null,null,null,null,null,null,{"$f":"D11","v":123}]
[null,null,null,null,null,null,null,null,{"$f":"D12","v":89}]
[null,null,null,null,null,null,null,{"$f":"D13","v":70},null,null,null,null,null,null,null,null,null,"Key Input  mm =  ",240]
[null,null,null,null,null,null,null,null,null,null,null,null,null,null,null,null,null,"Lead Pos # 1 = ",123]
[null,null,null,null,null,null,null,null,null,null,null,null,null,null,null,null,null,"Lead Pos # 2 = ",89]
[null,null,null,null,null,null,null,null,null,null,null,null,null,null,null,null,null,"Lead Pos # 3 = ",70]
[null,null,null,null,null,null,null,null,null,null,null,null,null,null,null,null,null,"DW = ",42]
[null,null,null,null,null,null,null,null,null,null,null,null,null,null,null,null,null,"DDW = ",50]
[null,null,"SUMMARY","DW","DDW","TOT. LD. ","LEAD 1","DRILL DP.","LEAD 2","DRILL DP.","LEAD 3","DRILL DP.",null,null,null,null,null,"DifDW = ",-8]
[null,null,null,{"$f":"D14","v":42},{"$f":"D15","v":50},{"$f":"D54","v":-15.609756097560975},{"$f":"D49","v":123},{"$f":"D60","v":0.46169701133631053},{"$f":"E49","v":89},{"$f":"IF(ISERROR(E60), \"\",E60)","v":5.7626206678271605E-2},{"$f":"F49","v":70},{"$f":"IF(ISERROR(F54), \"\",F54)","v":0},null,null,null,null,null,"Lead # 1 grams",14.2]
[null,null,"DO THIS! ",{"$f":"IF(ISERROR(IF(ISERROR(IF(D62=D56,\"Pop out lead # 1 and drill out lead # 2 to a depth of \" & E59 & \" inches\", \"Drill out lead # 1  to a depth of \" &#REF! & \" inches and drill out lead # 2 to a depth of \" & E59 & \"  inches.\")), \"\",IF(D62=D56,\"Pop out lead # 1 and drill out lead # 2 to a depth of \" & E59 & \" inches\", \"Drill out lead # 1  to a depth of \" &#REF! & \" inches and drill out lead # 2 to a depth of \" & E59 & \"  inches.\"))), \"\",IF(ISERROR(IF(D62=D56,\"Pop out lead # 1 and drill out lead # 2 to a depth of \" & E59 & \" inches\", \"Drill out lead # 1  to a depth of \" &#REF! & \" inches and drill out lead # 2 to a depth of \" & E59 & \"  inches.\")), \"\",IF(D62=D56,\"Pop out lead # 1 and drill out lead # 2 to a depth of \" & E59 & \" inches\", \"Drill out lead # 1  to a depth of \" &#REF! & \" inches and drill out lead # 2 to a depth of \" & E59 & \"  inches.\")))","v":"Pop out lead # 1 and drill out lead # 2 to a depth of 0.22 inches"},null,null,null,null,null,null,null,null,null,null,null,null,null,"Lead # 2 grams",14.2]
[null,null,null,null,null,null,null,null,null,null,null,null,null,null,null,null,null,"Lead # 3 grams",11.2]
[null,null,null,null,null,null,null,null,null,null,null,null,null,null,null,null,null,"Lead Remain Limit",0.15]
[null,null,null,null,null,null,null,null,null,null,null,null,null,null,null,null,null,"Lead Width",0.42]
[]
[]
[]
[]
[null,null,null,"Lead 1","Lead 2","Lead 3"]
[null,null,"Key Input",{"$f":"$D$10","v":240},{"$f":"D48","v":240},{"$f":"D10","v":240},"  Measure from front of key to middle of balance hole"]
[null,null,"LeadPos",{"$f":"$D$11","v":123},{"$f":"D12","v":89},{"$f":"D13","v":70},"  Measure from middle of balance hole to center of lead under consideration"]
[null,null,"DW",{"$f":"$D$38","v":42},{"$f":"$D$65","v":49.277500000000003},{"$f":"IF(ISERROR($E$65), \"\",$E$65)","v":50},"  Downweight as measured with test gram weights (and as changes w/ lead removal)"]
[null,null,"DDW",{"$f":"$D$15","v":50},{"$f":"$D$51","v":50},{"$f":"$D$51","v":50},"  Desired DW"]
[null,null,"DifDW",{"$f":"$D$50-$D$51","v":-8},{"$f":"$E$50-$E$51","v":-0.72249999999999659},{"$f":"IF(ISERROR(IF(ISERROR($F$50-$F$51), \"\",$F$50-$F$51)), \"\",IF(ISERROR($F$50-$F$51), \"\",$F$50-$F$51))","v":0}]
[null,null,"LeadPosRatio",{"$f":"($D$48/$D$49)","v":1.9512195121951219},{"$f":"IF(ISERROR(IF(ISERROR(IF(ISERROR($E$48/$E$49), \"\",$E$48/$E$49)), \"\",IF(ISERROR($E$48/$E$49), \"\",$E$48/$E$49))), \"\",IF(ISERROR(IF(ISERROR($E$48/$E$49), \"\",$E$48/$E$49)), \"\",IF(ISERROR($E$48/$E$49), \"\",$E$48/$E$49)))","v":2.696629213483146},{"$f":"IF(ISERROR(IF(ISERROR($F$48/$F$49), \"\",$F$48/$F$49)), \"\",IF(ISERROR($F$48/$F$49), \"\",$F$48/$F$49))","v":3.4285714285714284}]
[null,null,"Req'd Lead ",{"$f":"$D$52*$D$53","v":-15.609756097560975},{"$f":"IF(ISERROR(IF(ISERROR(IF(ISERROR(IF(ISERROR($E$52*$E$53), \"\",$E$52*$E$53)), \"\",IF(ISERROR($E$52*$E$53), \"\",$E$52*$E$53))), \"\",IF(ISERROR(IF(ISERROR($E$52*$E$53), \"\",$E$52*$E$53)), \"\",IF(ISERROR($E$52*$E$53), \"\",$E$52*$E$53)))), \"\",IF(ISERROR(IF(ISERROR(IF(ISERROR($E$52*$E$53), \"\",$E$52*$E$53)), \"\",IF(ISERROR($E$52*$E$53), \"\",$E$52*$E$53))), \"\",IF(ISERROR(IF(ISERROR($E$52*$E$53), \"\",$E$52*$E$53)), \"\",IF(ISERROR($E$52*$E$53), \"\",$E$52*$E$53))))","v":-1.9483146067415638},{"$f":"IF(ISERROR(IF(ISERROR(IF(ISERROR($F$52*$F$53), \"\",$F$52*$F$53)), \"\",IF(ISERROR($F$52*$F$53), \"\",$F$52*$F$53))), \"\",IF(ISERROR(IF(ISERROR($F$52*$F$53), \"\",$F$52*$F$53)), \"\",IF(ISERROR($F$52*$F$53), \"\",$F$52*$F$53)))","v":0},"  Grams to remove at relative lead location"]
[null,null,"KeyDivide",{"$f":"$D$48/$D$53","v":123},{"$f":"IF(ISERROR(IF(ISERROR(IF(ISERROR(IF(ISERROR($E$48/$E$53), \"\",$E$48/$E$53)), \"\",IF(ISERROR($E$48/$E$53), \"\",$E$48/$E$53))), \"\",IF(ISERROR(IF(ISERROR($E$48/$E$53), \"\",$E$48/$E$53)), \"\",IF(ISERROR($E$48/$E$53), \"\",$E$48/$E$53)))), \"\",IF(ISERROR(IF(ISERROR(IF(ISERROR($E$48/$E$53), \"\",$E$48/$E$53)), \"\",IF(ISERROR($E$48/$E$53), \"\",$E$48/$E$53))), \"\",IF(ISERROR(IF(ISERROR($E$48/$E$53), \"\",$E$48/$E$53)), \"\",IF(ISERROR($E$48/$E$53), \"\",$E$48/$E$53))))","v":89},{"$f":"IF(ISERROR(IF(ISERROR(IF(ISERROR(IF(ISERROR($F$48/$F$53), \"\",$F$48/$F$53)), \"\",IF(ISERROR($F$48/$F$53), \"\",$F$48/$F$53))), \"\",IF(ISERROR(IF(ISERROR($F$48/$F$53), \"\",$F$48/$F$53)), \"\",IF(ISERROR($F$48/$F$53), \"\",$F$48/$F$53)))), \"\",IF(ISERROR(IF(ISERROR(IF(ISERROR($F$48/$F$53), \"\",$F$48/$F$53)), \"\",IF(ISERROR($F$48/$F$53), \"\",$F$48/$F$53))), \"\",IF(ISERROR(IF(ISERROR($F$48/$F$53), \"\",$F$48/$F$53)), \"\",IF(ISERROR($F$48/$F$53), \"\",$F$48/$F$53))))","v":70}]
[null,null,"Enter lead mass ->",{"$f":"$D$17","v":14.2},{"$f":"$D$18","v":14.2},{"$f":"$D$19","v":11.2},"  Gram leads as existing in the keys (knock a few out and weigh and measure)"]
[null,null,"Width of lead ->",{"$f":"$D$21","v":0.42},{"$f":"$D$21","v":0.42},{"$f":"$D$21","v":0.42},"  Lead side-to-side in decimal Inches (e.g. 7/16'\" = 0.438\", so measure with calipers)"]
[null,null,"Copyright ©         Nick Gravagne 2014 Do not distribute",{"$f":"ABS($D$54)","v":15.609756097560975},{"$f":"IF(ISERROR(IF(ISERROR(IF(ISERROR(ABS($E$54)), \"\",ABS($E$54))), \"\",IF(ISERROR(ABS($E$54)), \"\",ABS($E$54)))), \"\",IF(ISERROR(IF(ISERROR(ABS($E$54)), \"\",ABS($E$54))), \"\",IF(ISERROR(ABS($E$54)), \"\",ABS($E$54))))","v":1.9483146067415638},{"$f":"IF(ISERROR(IF(ISERROR(IF(ISERROR(ABS(F54)), \"\",ABS(F54))), \"\",IF(ISERROR(ABS(F54)), \"\",ABS(F54)))), \"\",IF(ISERROR(IF(ISERROR(ABS(F54)), \"\",ABS(F54))), \"\",IF(ISERROR(ABS(F54)), \"\",ABS(F54))))","v":0},"  Total Grams Req'd Lead reduction at location in key @ lead locations"]
[null,null,null,{"$f":"$D$57-$D$20","v":0.21999999999999997},{"$f":"$E$57-$D$20","v":0.21999999999999997},{"$f":"$F$57-$D$20","v":0.21999999999999997},"  Max allowable drill depth in decimal inches (retains a disk in the hole)"]
[null,null,null,{"$f":"ABS(($D$54*$D$57)/$D$56)","v":0.46169701133631053},{"$f":"IF(ISERROR(IF(ISERROR(IF(ISERROR(ABS(($E$54*$E$57)/$E$56)), \"\",ABS(($E$54*$E$57)/$E$56))), \"\",IF(ISERROR(ABS(($E$54*$E$57)/$E$56)), \"\",ABS(($E$54*$E$57)/$E$56)))), \"\",IF(ISERROR(IF(ISERROR(ABS(($E$54*$E$57)/$E$56)), \"\",ABS(($E$54*$E$57)/$E$56))), \"\",IF(ISERROR(ABS(($E$54*$E$57)/$E$56)), \"\",ABS(($E$54*$E$57)/$E$56))))","v":5.7626206678271605E-2},{"$f":"IF(ISERROR(IF(ISERROR(IF(ISERROR(ABS(($F$54*$F$57)/$F$56)), \"\",ABS(($F$54*$F$57)/$F$56))), \"\",IF(ISERROR(ABS(($F$54*$F$57)/$F$56)), \"\",ABS(($F$54*$F$57)/$F$56)))), \"\",IF(ISERROR(IF(ISERROR(ABS(($F$54*$F$57)/$F$56)), \"\",ABS(($F$54*$F$57)/$F$56))), \"\",IF(ISERROR(ABS(($F$54*$F$57)/$F$56)), \"\",ABS(($F$54*$F$57)/$F$56))))","v":0}," <-- Drill depth to remove Total Req'd Lead mass (inches)"]
[null,null,null,{"$f":"IF($D$60>$D$59,$D$59,$D$60)","v":0.21999999999999997},{"$f":"IF(ISERROR(IF(ISERROR(IF(ISERROR(IF($E$60>$E$59,$E$59,$E$60)), \"\",IF($E$60>$E$59,$E$59,$E$60))), \"\",IF(ISERROR(IF($E$60>$E$59,$E$59,$E$60)), \"\",IF($E$60>$E$59,$E$59,$E$60)))), \"\",IF(ISERROR(IF(ISERROR(IF($E$60>$E$59,$E$59,$E$60)), \"\",IF($E$60>$E$59,$E$59,$E$60))), \"\",IF(ISERROR(IF($E$60>$E$59,$E$59,$E$60)), \"\",IF($E$60>$E$59,$E$59,$E$60))))","v":5.7626206678271605E-2},{"$f":"IF(ISERROR(IF(ISERROR(IF(ISERROR(IF($F$60>$F$59,$F$59,$F$60)), \"\",IF($F$60>$F$59,$F$59,$F$60))), \"\",IF(ISERROR(IF($F$60>$F$59,$F$59,$F$60)), \"\",IF($F$60>$F$59,$F$59,$F$60)))), \"\",IF(ISERROR(IF(ISERROR(IF($F$60>$F$59,$F$59,$F$60)), \"\",IF($F$60>$F$59,$F$59,$F$60))), \"\",IF(ISERROR(IF($F$60>$F$59,$F$59,$F$60)), \"\",IF($F$60>$F$59,$F$59,$F$60))))","v":0}," <-- Drill depth default retains a disk in the hole (inches)"]
[null,null,null,{"$f":"IF($D$58>$D$56,$D$56,$D$58)","v":14.2},{"$f":"IF(ISERROR(IF(ISERROR(IF($E$58>$E$56,$E$56,$E$58)), \"\",IF($E$58>$E$56,$E$56,$E$58))), \"\",IF(ISERROR(IF($E$58>$E$56,$E$56,$E$58)), \"\",IF($E$58>$E$56,$E$56,$E$58)))","v":1.9483146067415638},{"$f":"IF(ISERROR(IF(ISERROR(IF($F$58>$F56,$F$56,$F$58)), \"\",IF($F$58>$F56,$F$56,$F$58))), \"\",IF(ISERROR(IF($F$58>$F56,$F$56,$F$58)), \"\",IF($F$58>$F56,$F$56,$F$58)))","v":0}," <-- if this number =                         hen knock out whole lead",null,{"$f":"D17","v":14.2},"(or very close in any column) then punch out  lead "]
[null,null,null,{"$f":"($D$62*$D$61)/$D$60","v":6.7663422619047617},{"$f":"IF(ISERROR(IF(ISERROR(IF(ISERROR(IF(ISERROR(($E$62*$E$61)/$E$60), \"\",($E$62*$E$61)/$E$60)), \"\",IF(ISERROR(($E$62*$E$61)/$E$60), \"\",($E$62*$E$61)/$E$60))), \"\",IF(ISERROR(IF(ISERROR(($E$62*$E$61)/$E$60), \"\",($E$62*$E$61)/$E$60)), \"\",IF(ISERROR(($E$62*$E$61)/$E$60), \"\",($E$62*$E$61)/$E$60)))), \"\",IF(ISERROR(IF(ISERROR(IF(ISERROR(($E$62*$E$61)/$E$60), \"\",($E$62*$E$61)/$E$60)), \"\",IF(ISERROR(($E$62*$E$61)/$E$60), \"\",($E$62*$E$61)/$E$60))), \"\",IF(ISERROR(IF(ISERROR(($E$62*$E$61)/$E$60), \"\",($E$62*$E$61)/$E$60)), \"\",IF(ISERROR(($E$62*$E$61)/$E$60), \"\",($E$62*$E$61)/$E$60))))","v":1.9483146067415638},{"$f":"IF(ISERROR(($F$62*$F$61)/$F$60), \"\",($F$62*$F$61)/$F$60)","v":""}]
[null,null,null,{"$f":"IF($D$62=$D$56,0,($D$62*$D$61)/$D$60)","v":0},{"$f":"IF(ISERROR(IF(ISERROR(IF(ISERROR(IF($E$62=$E$56,0,($E$62*$E$61)/$E$60)), \"\",IF($E$62=$E$56,0,($E$62*$E$61)/$E$60))), \"\",IF(ISERROR(IF($E$62=$E$56,0,($E$62*$E$61)/$E$60)), \"\",IF($E$62=$E$56,0,($E$62*$E$61)/$E$60)))), \"\",IF(ISERROR(IF(ISERROR(IF($E$62=$E$56,0,($E$62*$E$61)/$E$60)), \"\",IF($E$62=$E$56,0,($E$62*$E$61)/$E$60))), \"\",IF(ISERROR(IF($E$62=$E$56,0,($E$62*$E$61)/$E$60)), \"\",IF($E$62=$E$56,0,($E$62*$E$61)/$E$60))))","v":1.9483146067415638},{"$f":"IF(ISERROR(IF(ISERROR(IF($F$62=$F$56,0,($F$62*$F$61)/$F$60)), \"\",IF($F$62=$F$56,0,($F$62*$F$61)/$F$60))), \"\",IF(ISERROR(IF($F$62=$F$56,0,($F$62*$F$61)/$F$60)), \"\",IF($F$62=$F$56,0,($F$62*$F$61)/$F$60)))","v":""},"    i.e.max.grams allowed if drilling as opposed to knocking out whole lead"]
[null,null,null,{"$f":"IF($D$62=$D$56,$D$50+($D$62/$D$53),$D$50+($D$63/$D$53))","v":49.277500000000003},{"$f":"IF(ISERROR(IF(ISERROR(IF(ISERROR(IF($E$62=$E$56,$E$50+($E$62/$E$53),$E$50+($E$63/$E$53))), \"\",IF($E$62=$E$56,$E$50+($E$62/$E$53),$E$50+($E$63/$E$53)))), \"\",IF(ISERROR(IF($E$62=$E$56,$E$50+($E$62/$E$53),$E$50+($E$63/$E$53))), \"\",IF($E$62=$E$56,$E$50+($E$62/$E$53),$E$50+($E$63/$E$53))))), \"\",IF(ISERROR(IF(ISERROR(IF($E$62=$E$56,$E$50+($E$62/$E$53),$E$50+($E$63/$E$53))), \"\",IF($E$62=$E$56,$E$50+($E$62/$E$53),$E$50+($E$63/$E$53)))), \"\",IF(ISERROR(IF($E$62=$E$56,$E$50+($E$62/$E$53),$E$50+($E$63/$E$53))), \"\",IF($E$62=$E$56,$E$50+($E$62/$E$53),$E$50+($E$63/$E$53)))))","v":50},{"$f":"IF(ISERROR(IF(ISERROR(IF(ISERROR(IF($F$62=$F$56,$F$50+($F$62/$F$53),$F$50+($F$63/$F$53))), \"\",IF($F$62=$F$56,$F$50+($F$62/$F$53),$F$50+($F$63/$F$53)))), \"\",IF(ISERROR(IF($F$62=$F$56,$F$50+($F$62/$F$53),$F$50+($F$63/$F$53))), \"\",IF($F$62=$F$56,$F$50+($F$62/$F$53),$F$50+($F$63/$F$53))))), \"\",IF(ISERROR(IF(ISERROR(IF($F$62=$F$56,$F$50+($F$62/$F$53),$F$50+($F$63/$F$53))), \"\",IF($F$62=$F$56,$F$50+($F$62/$F$53),$F$50+($F$63/$F$53)))), \"\",IF(ISERROR(IF($F$62=$F$56,$F$50+($F$62/$F$53),$F$50+($F$63/$F$53))), \"\",IF($F$62=$F$56,$F$50+($F$62/$F$53),$F$50+($F$63/$F$53)))))","v":""}]
[]
[]
[]
[]
[]
[]
[]
[]
[]
[null,null,null,1,2,3,4,5,6,7,8,9,10,11,12,13,14,15,16,17,18]
[null,null,null,null,null,"delta DW","ddw","dif_dw","key_ro","reqd_ld","key_div","slugs","lead_wid","reqd_ld","max_drill","tot_drill","act_drill","lead_out","fac","slug_rmn","delta_DW"]
[null,null,null,{"$f":"$D$10","v":240},{"$f":"D49","v":123},{"$f":"D38","v":42},{"$f":"D15","v":50},{"$f":"F77-G77","v":-8},{"$f":"(D77/E77)","v":1.9512195121951219},{"$f":"H77*I77","v":-15.609756097560975},{"$f":"D77/I77","v":123},{"$f":"D17","v":14.2},{"$f":"D21","v":0.42},{"$f":"ABS(J77)","v":15.609756097560975},{"$f":"M77-D20","v":0.21999999999999997},{"$f":"ABS((N77*M77)/L77)","v":0.46169701133631053},{"$f":"IF(P77>O77,O77,P77)","v":0.21999999999999997},{"$f":"IF(N77>L77,L77,N77)","v":14.2},{"$f":"(R77*Q77)/P77","v":6.7663422619047617},{"$f":"IF(R77=L77,0,(R77*Q77)/P77)","v":0},{"$f":"IF(R77=60,F77+(R77/I77),F77+(S77/I77))","v":45.467750409226191},"  Target DW Achieved RE Lead # 1"]
[null,null,null,{"$f":"$D$10","v":240},{"$f":"E49","v":89},{"$f":"IF(R77=L77,F77+(R77/I77),F77+(S77/I77))","v":49.277500000000003},{"$f":"D51","v":50},{"$f":"F78-G78","v":-0.72249999999999659},{"$f":"IF(ISERROR(IF(ISERROR(IF(ISERROR((D78/E78)), \"\",(D78/E78))), \"\",IF(ISERROR((D78/E78)), \"\",(D78/E78)))), \"\",IF(ISERROR(IF(ISERROR((D78/E78)), \"\",(D78/E78))), \"\",IF(ISERROR((D78/E78)), \"\",(D78/E78))))","v":2.696629213483146},{"$f":"IF(ISERROR(IF(ISERROR(IF(ISERROR(IF(ISERROR(H78*I78), \"\",H78*I78)), \"\",IF(ISERROR(H78*I78), \"\",H78*I78))), \"\",IF(ISERROR(IF(ISERROR(H78*I78), \"\",H78*I78)), \"\",IF(ISERROR(H78*I78), \"\",H78*I78)))), \"\",IF(ISERROR(IF(ISERROR(IF(ISERROR(H78*I78), \"\",H78*I78)), \"\",IF(ISERROR(H78*I78), \"\",H78*I78))), \"\",IF(ISERROR(IF(ISERROR(H78*I78), \"\",H78*I78)), \"\",IF(ISERROR(H78*I78), \"\",H78*I78))))","v":-1.9483146067415638},{"$f":"IF(ISERROR(IF(ISERROR(IF(ISERROR(D78/I78), \"\",D78/I78)), \"\",IF(ISERROR(D78/I78), \"\",D78/I78))), \"\",IF(ISERROR(IF(ISERROR(D78/I78), \"\",D78/I78)), \"\",IF(ISERROR(D78/I78), \"\",D78/I78)))","v":89},{"$f":"D18","v":14.2},{"$f":"D21","v":0.42},{"$f":"IF(ISERROR(IF(ISERROR(IF(ISERROR(ABS(J78)), \"\",ABS(J78))), \"\",IF(ISERROR(ABS(J78)), \"\",ABS(J78)))), \"\",IF(ISERROR(IF(ISERROR(ABS(J78)), \"\",ABS(J78))), \"\",IF(ISERROR(ABS(J78)), \"\",ABS(J78))))","v":1.9483146067415638},{"$f":"M78-D20","v":0.21999999999999997},{"$f":"IF(ISERROR(IF(ISERROR(IF(ISERROR(ABS((N78*M78)/L78)), \"\",ABS((N78*M78)/L78))), \"\",IF(ISERROR(ABS((N78*M78)/L78)), \"\",ABS((N78*M78)/L78)))), \"\",IF(ISERROR(IF(ISERROR(ABS((N78*M78)/L78)), \"\",ABS((N78*M78)/L78))), \"\",IF(ISERROR(ABS((N78*M78)/L78)), \"\",ABS((N78*M78)/L78))))","v":5.7626206678271605E-2},{"$f":"IF(ISERROR(IF(ISERROR(IF(ISERROR(IF(P78>O78,O78,P78)), \"\",IF(P78>O78,O78,P78))), \"\",IF(ISERROR(IF(P78>O78,O78,P78)), \"\",IF(P78>O78,O78,P78)))), \"\",IF(ISERROR(IF(ISERROR(IF(P78>O78,O78,P78)), \"\",IF(P78>O78,O78,P78))), \"\",IF(ISERROR(IF(P78>O78,O78,P78)), \"\",IF(P78>O78,O78,P78))))","v":5.7626206678271605E-2},{"$f":"IF(ISERROR(IF(ISERROR(IF(ISERROR(IF(N78>L78,L78,N78)), \"\",IF(N78>L78,L78,N78))), \"\",IF(ISERROR(IF(N78>L78,L78,N78)), \"\",IF(N78>L78,L78,N78)))), \"\",IF(ISERROR(IF(ISERROR(IF(N78>L78,L78,N78)), \"\",IF(N78>L78,L78,N78))), \"\",IF(ISERROR(IF(N78>L78,L78,N78)), \"\",IF(N78>L78,L78,N78))))","v":1.9483146067415638},{"$f":"IF(ISERROR(IF(ISERROR(IF(ISERROR(IF(ISERROR((R78*Q78)/P78), \"\",(R78*Q78)/P78)), \"\",IF(ISERROR((R78*Q78)/P78), \"\",(R78*Q78)/P78))), \"\",IF(ISERROR(IF(ISERROR((R78*Q78)/P78), \"\",(R78*Q78)/P78)), \"\",IF(ISERROR((R78*Q78)/P78), \"\",(R78*Q78)/P78)))), \"\",IF(ISERROR(IF(ISERROR(IF(ISERROR((R78*Q78)/P78), \"\",(R78*Q78)/P78)), \"\",IF(ISERROR((R78*Q78)/P78), \"\",(R78*Q78)/P78))), \"\",IF(ISERROR(IF(ISERROR((R78*Q78)/P78), \"\",(R78*Q78)/P78)), \"\",IF(ISERROR((R78*Q78)/P78), \"\",(R78*Q78)/P78))))","v":1.9483146067415638},{"$f":"IF(ISERROR(IF(ISERROR(IF(ISERROR(IF(R78=L78,0,(R78*Q78)/P78)), \"\",IF(R78=L78,0,(R78*Q78)/P78))), \"\",IF(ISERROR(IF(R78=L78,0,(R78*Q78)/P78)), \"\",IF(R78=L78,0,(R78*Q78)/P78)))), \"\",IF(ISERROR(IF(ISERROR(IF(R78=L78,0,(R78*Q78)/P78)), \"\",IF(R78=L78,0,(R78*Q78)/P78))), \"\",IF(ISERROR(IF(R78=L78,0,(R78*Q78)/P78)), \"\",IF(R78=L78,0,(R78*Q78)/P78))))","v":1.9483146067415638},{"$f":"IF(ISERROR(IF(ISERROR(IF(ISERROR(IF(R78=60,F78+(R78/I78),F78+(S78/I78))), \"\",IF(R78=60,F78+(R78/I78),F78+(S78/I78)))), \"\",IF(ISERROR(IF(R78=60,F78+(R78/I78),F78+(S78/I78))), \"\",IF(R78=60,F78+(R78/I78),F78+(S78/I78))))), \"\",IF(ISERROR(IF(ISERROR(IF(R78=60,F78+(R78/I78),F78+(S78/I78))), \"\",IF(R78=60,F78+(R78/I78),F78+(S78/I78)))), \"\",IF(ISERROR(IF(R78=60,F78+(R78/I78),F78+(S78/I78))), \"\",IF(R78=60,F78+(R78/I78),F78+(S78/I78)))))","v":50},"  Target DW Achieved RE Lead # 2 (if necessary)"]
[null,null,null,{"$f":"$D$10","v":240},{"$f":"F49","v":70},{"$f":"IF(ISERROR(IF(ISERROR(IF(ISERROR(IF(R78=L78,F78+(R78/I78),F78+(S78/I78))), \"\",IF(R78=L78,F78+(R78/I78),F78+(S78/I78)))), \"\",IF(ISERROR(IF(R78=L78,F78+(R78/I78),F78+(S78/I78))), \"\",IF(R78=L78,F78+(R78/I78),F78+(S78/I78))))), \"\",IF(ISERROR(IF(ISERROR(IF(R78=L78,F78+(R78/I78),F78+(S78/I78))), \"\",IF(R78=L78,F78+(R78/I78),F78+(S78/I78)))), \"\",IF(ISERROR(IF(R78=L78,F78+(R78/I78),F78+(S78/I78))), \"\",IF(R78=L78,F78+(R78/I78),F78+(S78/I78)))))","v":50},{"$f":"D51","v":50},{"$f":"IF(ISERROR(IF(ISERROR(IF(ISERROR(F79-G79), \"\",F79-G79)), \"\",IF(ISERROR(F79-G79), \"\",F79-G79))), \"\",IF(ISERROR(IF(ISERROR(F79-G79), \"\",F79-G79)), \"\",IF(ISERROR(F79-G79), \"\",F79-G79)))","v":0},{"$f":"IF(ISERROR(IF(ISERROR(IF(ISERROR((D79/E79)), \"\",(D79/E79))), \"\",IF(ISERROR((D79/E79)), \"\",(D79/E79)))), \"\",IF(ISERROR(IF(ISERROR((D79/E79)), \"\",(D79/E79))), \"\",IF(ISERROR((D79/E79)), \"\",(D79/E79))))","v":3.4285714285714284},{"$f":"IF(ISERROR(IF(ISERROR(IF(ISERROR(H79*I79), \"\",H79*I79)), \"\",IF(ISERROR(H79*I79), \"\",H79*I79))), \"\",IF(ISERROR(IF(ISERROR(H79*I79), \"\",H79*I79)), \"\",IF(ISERROR(H79*I79), \"\",H79*I79)))","v":0},{"$f":"IF(ISERROR(IF(ISERROR(IF(ISERROR(D79/I79), \"\",D79/I79)), \"\",IF(ISERROR(D79/I79), \"\",D79/I79))), \"\",IF(ISERROR(IF(ISERROR(D79/I79), \"\",D79/I79)), \"\",IF(ISERROR(D79/I79), \"\",D79/I79)))","v":70},{"$f":"D19","v":11.2},{"$f":"D21","v":0.42},{"$f":"IF(ISERROR(IF(ISERROR(IF(ISERROR(ABS(J79)), \"\",ABS(J79))), \"\",IF(ISERROR(ABS(J79)), \"\",ABS(J79)))), \"\",IF(ISERROR(IF(ISERROR(ABS(J79)), \"\",ABS(J79))), \"\",IF(ISERROR(ABS(J79)), \"\",ABS(J79))))","v":0},{"$f":"M79-D20","v":0.21999999999999997},{"$f":"IF(ISERROR(IF(ISERROR(IF(ISERROR(ABS((N79*M79)/L79)), \"\",ABS((N79*M79)/L79))), \"\",IF(ISERROR(ABS((N79*M79)/L79)), \"\",ABS((N79*M79)/L79)))), \"\",IF(ISERROR(IF(ISERROR(ABS((N79*M79)/L79)), \"\",ABS((N79*M79)/L79))), \"\",IF(ISERROR(ABS((N79*M79)/L79)), \"\",ABS((N79*M79)/L79))))","v":0},{"$f":"IF(ISERROR(IF(ISERROR(IF(ISERROR(IF(P79>O79,O79,P79)), \"\",IF(P79>O79,O79,P79))), \"\",IF(ISERROR(IF(P79>O79,O79,P79)), \"\",IF(P79>O79,O79,P79)))), \"\",IF(ISERROR(IF(ISERROR(IF(P79>O79,O79,P79)), \"\",IF(P79>O79,O79,P79))), \"\",IF(ISERROR(IF(P79>O79,O79,P79)), \"\",IF(P79>O79,O79,P79))))","v":0},{"$f":"IF(ISERROR(IF(ISERROR(IF(ISERROR(IF(N79>L79,L79,N79)), \"\",IF(N79>L79,L79,N79))), \"\",IF(ISERROR(IF(N79>L79,L79,N79)), \"\",IF(N79>L79,L79,N79)))), \"\",IF(ISERROR(IF(ISERROR(IF(N79>L79,L79,N79)), \"\",IF(N79>L79,L79,N79))), \"\",IF(ISERROR(IF(N79>L79,L79,N79)), \"\",IF(N79>L79,L79,N79))))","v":0},{"$f":"IF(ISERROR(IF(ISERROR(IF(ISERROR(IF(ISERROR((R79*Q79)/P79), \"\",(R79*Q79)/P79)), \"\",IF(ISERROR((R79*Q79)/P79), \"\",(R79*Q79)/P79))), \"\",IF(ISERROR(IF(ISERROR((R79*Q79)/P79), \"\",(R79*Q79)/P79)), \"\",IF(ISERROR((R79*Q79)/P79), \"\",(R79*Q79)/P79)))), \"\",IF(ISERROR(IF(ISERROR(IF(ISERROR((R79*Q79)/P79), \"\",(R79*Q79)/P79)), \"\",IF(ISERROR((R79*Q79)/P79), \"\",(R79*Q79)/P79))), \"\",IF(ISERROR(IF(ISERROR((R79*Q79)/P79), \"\",(R79*Q79)/P79)), \"\",IF(ISERROR((R79*Q79)/P79), \"\",(R79*Q79)/P79))))","v":""},{"$f":"IF(ISERROR(IF(ISERROR(IF(ISERROR(IF(R79=L79,0,(R79*Q79)/P79)), \"\",IF(R79=L79,0,(R79*Q79)/P79))), \"\",IF(ISERROR(IF(R79=L79,0,(R79*Q79)/P79)), \"\",IF(R79=L79,0,(R79*Q79)/P79)))), \"\",IF(ISERROR(IF(ISERROR(IF(R79=L79,0,(R79*Q79)/P79)), \"\",IF(R79=L79,0,(R79*Q79)/P79))), \"\",IF(ISERROR(IF(R79=L79,0,(R79*Q79)/P79)), \"\",IF(R79=L79,0,(R79*Q79)/P79))))","v":""},{"$f":"IF(ISERROR(IF(ISERROR(IF(ISERROR(IF(R79=60,F79+(R79/I79),F79+(S79/I79))), \"\",IF(R79=60,F79+(R79/I79),F79+(S79/I79)))), \"\",IF(ISERROR(IF(R79=60,F79+(R79/I79),F79+(S79/I79))), \"\",IF(R79=60,F79+(R79/I79),F79+(S79/I79))))), \"\",IF(ISERROR(IF(ISERROR(IF(R79=60,F79+(R79/I79),F79+(S79/I79))), \"\",IF(R79=60,F79+(R79/I79),F79+(S79/I79)))), \"\",IF(ISERROR(IF(R79=60,F79+(R79/I79),F79+(S79/I79))), \"\",IF(R79=60,F79+(R79/I79),F79+(S79/I79)))))","v":""},"  Target DW Achieved RE Lead # 3 (if necessary)"]

{"sheet":"DWBCD","index":5,"n_rows":288,"n_cols":4,"rows_kept":288,"cut":false,"hidden":true,"merged":[[8,3,12,3]]}
[]
[]
[]
[]
[]
[]
[]
[]
[null,null,null,"52g to 47 in 16 note divisions"]
[]
[]
[]
[]
[]
[1,1,50,51]
[null,null,50," "]
[null,null,50]
[null,2,50,51]
[null,null,50]
[null,null,50]
[null,3,50,51]
[null,null,50]
[null,null,50]
[null,4,50,51]
[null,null,50]
[null,null,50]
[null,5,50,51]
[null,null,50]
[null,null,50]
[null,6,50,51]
[null,null,50]
[null,null,50]
[null,7,50,51]
[null,null,50]
[null,null,50]
[null,8,50,51]
[null,null,50]
[null,null,50]
[null,9,50,51]
[null,null,50]
[null,null,50]
[null,10,50,51]
[null,null,50]
[null,null,50]
[null,11,50,51]
[null,null,50]
[null,null,50]
[null,12,50,51]
[null,null,50]
[null,null,50]
[null,null,50]
[null,null,50]
[2,13,50,51]
[null,null,50," "]
[null,null,50]
[null,14,50,51]
[null,null,50]
[null,null,50]
[null,15,50,51]
[null,null,50]
[null,null,50]
[null,16,50,51]
[null,null,50]
[null,null,50]
[null,17,50,51]
[null,null,50]
[null,null,50]
[null,18,50,51]
[null,null,50]
[null,null,50]
[null,19,50,51]
[null,null,50]
[null,null,50]
[null,20,50,51]
[null,null,50]
[null,null,50]
[null,21,50,51]
[null,null,50]
[null,null,50]
[null,22,50,51]
[null,null,50]
[null,null,50]
[null,23,50,51]
[null,null,50]
[null,null,50]
[null,24,50,51]
[null,null,50]
[null,null,50]
[null,null,50]
[null,null,50]
[3,25,50,51]
[null,null,50," "]
[null,null,50]
[null,26,50,51]
[null,null,50]
[null,null,50]
[null,27,50,51]
[null,null,50]
[null,null,50]
[null,28,50,51]
[null,null,50]
[null,null,50]
[null,29,50,51]
[null,null,50]
[null,null,50]
[null,30,50,51]
[null,null,50]
[null,null,50]
[null,31,50,51]
[null,null,50]
[null,null,50]
[null,32,50,51]
[null,null,50]
[null,null,50]
[null,33,50,50]
[null,null,50]
[null,null,50]
[null,34,50,50]
[null,null,50]
[null,null,50]
[null,35,50,50]
[null,null,50]
[null,null,50]
[null,36,50,50]
[null,null,50]
[null,null,50]
[null,null,50]
[null,null,50]
[4,37,50,50]
[null,null,50," "]
[null,null,50]
[null,38,50,50]
[null,null,50]
[null,null,50]
[null,39,50,50]
[null,null,50]
[null,null,50]
[null,40,50,50]
[null,null,50]
[null,null,50]
[null,41,50,50]
[null,null,50]
[null,null,50]
[null,42,50,50]
[null,null,50]
[null,null,50]
[null,43,50,50]
[null,null,50]
[null,null,50]
[null,44,50,50]
[null,null,50]
[null,null,50]
[null,45,50,50]
[null,null,50]
[null,null,50]
[null,46,50,50]
[null,null,50]
[null,null,50]
[null,47,50,50]
[null,null,50]
[null,null,50]
[null,48,50,50]
[null,null,50]
[null,null,50]
[null,null,50]
[null,null,50]
[5,49,50,49]
[null,null,50," "]
[null,null,50]
[null,50,50,49]
[null,null,50]
[null,null,50]
[null,51,50,49]
[null,null,50]
[null,null,50]
[null,52,50,49]
[null,null,50]
[null,null,50]
[null,53,50,49]
[null,null,50]
[null,null,50]
[null,54,50,49]
[null,null,50]
[null,null,50]
[null,55,50,49]
[null,null,50]
[null,null,50]
[null,56,50,49]
[null,null,50]
[null,null,50]
[null,57,50,49]
[null,null,50]
[null,null,50]
[null,58,50,49]
[null,null,50]
[null,null,50]
[null,59,50,49]
[null,null,50]
[null,null,50]
[null,60,50,49]
[null,null,50]
[null,null,50]
[null,null,50]
[null,null,50]
[6,61,50,49]
[null,null,50," "]
[null,null,50]
[null,62,50,49]
[null,null,50]
[null,null,50]
[null,63,50,49]
[null,null,50]
[null,null,50]
[null,64,50,49]
[null,null,50]
[null,null,50]
[null,65,50,48]
[null,null,50]
[null,null,50]
[null,66,50,48]
[null,null,50]
[null,null,50]
[null,67,50,48]
[null,null,50]
[null,null,50]
[null,68,50,48]
[null,null,50]
[null,null,50]
[null,69,50,48]
[null,null,50]
[null,null,50]
[null,70,50,48]
[null,null,50]
[null,null,50]
[null,71,50,48]
[null,null,50]
[null,null,50]
[null,72,50,48]
[null,null,50]
[null,null,50]
[null,null,50]
[null,null,50]
[7,73,50,48]
[null,null,50," "]
[null,null,50]
[null,74,50,48]
[null,null,50]
[null,null,50]
[null,75,50,48]
[null,null,50]
[null,null,50]
[null,76,50,48]
[null,null,50]
[null,null,50]
[null,77,50,48]
[null,null,50]
[null,null,50]
[null,78,50,48]
[null,null,50]
[null,null,50]
[null,79,50,48]
[null,null,50]
[null,null,50]
[null,80,50,48]
[null,null,50]
[null,null,50]
[null,81,50,47]
[null,null,50]
[null,null,50]
[null,82,50,47]
[null,null,50]
[null,null,50]
[null,83,50,47]
[null,null,50]
[null,null,50]
[null,84,50,47]
[null,null,50]
[null,null,50]
[8,85,50,47]
[null,null,50]
[null,null,50]
[null,86,50,47]
[null,null,50]
[null,null,50]
[null,87,50,47]
[null,null,50]
[null,null,50]
[null,88,50,47]

{"sheet":"DWSMLO","index":6,"n_rows":288,"n_cols":4,"rows_kept":288,"cut":false,"hidden":true,"merged":[]}
[]
[]
[]
[]
[]
[]
[]
[]
[]
[]
[]
[]
[null,null,null,"THIS col"]
[]
[1,1,50,50]
[null,null,50," "]
[null,null,50]
[null,2,50,50]
[null,null,50]
[null,null,50]
[null,3,50,50]
[null,null,50]
[null,null,50]
[null,4,50,50]
[null,null,50]
[null,null,50]
[null,5,50,50]
[null,null,50]
[null,null,50]
[null,6,50,50]
[null,null,50]
[null,null,50]
[null,7,50,50]
[null,null,50]
[null,null,50]
[null,8,50,50]
[null,null,50]
[null,null,50]
[null,9,50,50]
[null,null,50]
[null,null,50]
[null,10,50,50]
[null,null,50]
[null,null,50]
[null,11,50,50]
[null,null,50]
[null,null,50]
[null,12,50,50]
[null,null,50]
[null,null,50]
[null,null,50]
[null,null,50]
[2,13,50,50]
[null,null,50," "]
[null,null,50]
[null,14,50,50]
[null,null,50]
[null,null,50]
[null,15,50,50]
[null,null,50]
[null,null,50]
[null,16,50,50]
[null,null,50]
[null,null,50]
[null,17,50,50]
[null,null,50]
[null,null,50]
[null,18,50,50]
[null,null,50]
[null,null,50]
[null,19,50,50]
[null,null,50]
[null,null,50]
[null,20,50,50]
[null,null,50]
[null,null,50]
[null,21,50,50]
[null,null,50]
[null,null,50]
[null,22,50,50]
[null,null,50]
[null,null,50]
[null,23,50,50]
[null,null,50]
[null,null,50]
[null,24,50,50]
[null,null,50]
[null,null,50]
[null,null,50]
[null,null,50]
[3,25,50,50]
[null,null,50," "]
[null,null,50]
[null,26,50,50]
[null,null,50]
[null,null,50]
[null,27,50,49]
[null,null,50]
[null,null,50]
[null,28,50,49]
[null,null,50]
[null,null,50]
[null,29,50,49]
[null,null,50]
[null,null,50]
[null,30,50,49]
[null,null,50]
[null,null,50]
[null,31,50,49]
[null,null,50]
[null,null,50]
[null,32,50,49]
[null,null,50]
[null,null,50]
[null,33,50,49]
[null,null,50]
[null,null,50]
[null,34,50,49]
[null,null,50]
[null,null,50]
[null,35,50,49]
[null,null,50]
[null,null,50]
[null,36,50,49]
[null,null,50]
[null,null,50]
[null,null,50]
[null,null,50]
[4,37,50,49]
[null,null,50," "]
[null,null,50]
[null,38,50,49]
[null,null,50]
[null,null,50]
[null,39,50,49]
[null,null,50]
[null,null,50]
[null,40,50,49]
[null,null,50]
[null,null,50]
[null,41,50,49]
[null,null,50,49]
[null,null,50]
[null,42,50,49]
[null,null,50]
[null,null,50]
[null,43,50,49]
[null,null,50]
[null,null,50]
[null,44,50,49]
[null,null,50]
[null,null,50]
[null,45,50,49]
[null,null,50]
[null,null,50]
[null,46,50,49]
[null,null,50]
[null,null,50]
[null,47,50,49]
[null,null,50]
[null,null,50]
[null,48,50,49]
[null,null,50]
[null,null,50]
[null,null,50]
[null,null,50]
[5,49,50,49]
[null,null,50," "]
[null,null,50]
[null,50,50,49]
[null,null,50]
[null,null,50]
[null,51,50,49]
[null,null,50]
[null,null,50]
[null,52,50,49]
[null,null,50]
[null,null,50]
[null,53,50,49]
[null,null,50]
[null,null,50]
[null,54,50,49]
[null,null,50]
[null,null,50]
[null,55,50,48]
[null,null,50]
[null,null,50]
[null,56,50,48]
[null,null,50]
[null,null,50]
[null,57,50,48]
[null,null,50]
[null,null,50]
[null,58,50,48]
[null,null,50]
[null,null,50]
[null,59,50,48]
[null,null,50]
[null,null,50]
[null,60,50,48]
[null,null,50]
[null,null,50]
[null,null,50]
[null,null,50]
[6,61,50,48]
[null,null,50," "]
[null,null,50]
[null,62,50,48]
[null,null,50]
[null,null,50]
[null,63,50,48]
[null,null,50]
[null,null,50]
[null,64,50,48]
[null,null,50]
[null,null,50]
[null,65,50,48]
[null,null,50]
[null,null,50]
[null,66,50,48]
[null,null,50]
[null,null,50]
[null,67,50,48]
[null,null,50]
[null,null,50]
[null,68,50,48]
[null,null,50]
[null,null,50]
[null,69,50,48]
[null,null,50]
[null,null,50]
[null,70,50,48]
[null,null,50]
[null,null,50]
[null,71,50,48]
[null,null,50]
[null,null,50]
[null,72,50,47]
[null,null,50]
[null,null,50]
[null,null,50]
[null,null,50]
[7,73,50,47]
[null,null,50," "]
[null,null,50]
[null,74,50,47]
[null,null,50]
[null,null,50]
[null,75,50,47]
[null,null,50]
[null,null,50]
[null,76,50,47]
[null,null,50]
[null,null,50]
[null,77,50,47]
[null,null,50]
[null,null,50]
[null,78,50,47]
[null,null,50]
[null,null,50]
[null,79,50,47]
[null,null,50]
[null,null,50]
[null,80,50,47]
[null,null,50]
[null,null,50]
[null,81,50,47]
[null,null,50]
[null,null,50]
[null,82,50,47]
[null,null,50]
[null,null,50]
[null,83,50,47]
[null,null,50]
[null,null,50]
[null,84,50,47]
[null,null,50]
[null,null,50]
[8,85,50,47]
[null,null,50]
[null,null,50]
[null,86,50,47]
[null,null,50]
[null,null,50]
[null,87,50,47]
[null,null,50]
[null,null,50]
[null,88,50,47]

{"sheet":"DW50","index":7,"n_rows":288,"n_cols":5,"rows_kept":288,"cut":false,"hidden":true,"merged":[]}
[]
[]
[]
[]
[]
[]
[]
[]
[]
[]
[]
[]
[null,null,null,"This COL"]
[]
[null,1,1,50,53]
[null,null,null,50," "]
[null,null,null,50]
[null,null,2,50,53]
[null,null,null,50]
[null,null,null,50]
[null,null,3,50,53]
[null,null,null,50]
[null,null,null,50]
[null,null,4,50,53]
[null,null,null,50]
[null,null,null,50]
[null,null,5,50,53]
[null,null,null,50]
[null,null,null,50]
[null,null,6,50,53]
[null,null,null,50]
[null,null,null,50]
[null,null,7,50,53]
[null,null,null,50]
[null,null,null,50]
[null,null,8,50,53]
[null,null,null,50]
[null,null,null,50]
[null,null,9,50,53]
[null,null,null,50]
[null,null,null,50]
[null,null,10,50,53]
[null,null,null,50]
[null,null,null,50]
[null,null,11,50,53]
[null,null,null,50]
[null,null,null,50]
[null,null,12,50,53]
[null,null,null,50]
[null,null,null,50]
[null,null,null,50]
[null,null,null,50]
[null,2,13,50,52]
[null,null,null,50," "]
[null,null,null,50]
[null,null,14,50,52]
[null,null,null,50]
[null,null,null,50]
[null,null,15,50,52]
[null,null,null,50]
[null,null,null,50]
[null,null,16,50,52]
[null,null,null,50]
[null,null,null,50]
[null,null,17,50,52]
[null,null,null,50]
[null,null,null,50]
[null,null,18,50,52]
[null,null,null,50]
[null,null,null,50]
[null,null,19,50,52]
[null,null,null,50]
[null,null,null,50]
[null,null,20,50,52]
[null,null,null,50]
[null,null,null,50]
[null,null,21,50,52]
[null,null,null,50]
[null,null,null,50]
[null,null,22,50,52]
[null,null,null,50]
[null,null,null,50]
[null,null,23,50,52]
[null,null,null,50]
[null,null,null,50]
[null,null,24,50,52]
[null,null,null,50]
[null,null,null,50]
[null,null,null,50]
[null,null,null,50]
[null,3,25,50,51]
[null,null,null,50," "]
[null,null,null,50]
[null,null,26,50,51]
[null,null,null,50]
[null,null,null,50]
[null,null,27,50,51]
[null,null,null,50]
[null,null,null,50]
[null,null,28,50,51]
[null,null,null,50]
[null,null,null,50]
[null,null,29,50,51]
[null,null,null,50]
[null,null,null,50]
[null,null,30,50,51]
[null,null,null,50]
[null,null,null,50]
[null,null,31,50,51]
[null,null,null,50]
[null,null,null,50]
[null,null,32,50,51]
[null,null,null,50]
[null,null,null,50]
[null,null,33,50,51]
[null,null,null,50]
[null,null,null,50]
[null,null,34,50,51]
[null,null,null,50]
[null,null,null,50]
[null,null,35,50,51]
[null,null,null,50]
[null,null,null,50]
[null,null,36,50,51]
[null,null,null,50]
[null,null,null,50]
[null,null,null,50]
[null,null,null,50]
[null,4,37,50,50]
[null,null,null,50," "]
[null,null,null,50]
[null,null,38,50,50]
[null,null,null,50]
[null,null,null,50]
[null,null,39,50,50]
[null,null,null,50]
[null,null,null,50]
[null,null,40,50,50]
[null,null,null,50]
[null,null,null,50]
[null,null,41,50,50]
[null,null,null,50]
[null,null,null,50]
[null,null,42,50,50]
[null,null,null,50]
[null,null,null,50]
[null,null,43,50,50]
[null,null,null,50]
[null,null,null,50]
[null,null,44,50,50]
[null,null,null,50]
[null,null,null,50]
[null,null,45,50,50]
[null,null,null,50]
[null,null,null,50]
[null,null,46,50,50]
[null,null,null,50]
[null,null,null,50]
[null,null,47,50,50]
[null,null,null,50]
[null,null,null,50]
[null,null,48,50,50]
[null,null,null,50]
[null,null,null,50]
[null,null,null,50]
[null,null,null,50]
[null,5,49,50,49]
[null,null,null,50," "]
[null,null,null,50]
[null,null,50,50,49]
[null,null,null,50]
[null,null,null,50]
[null,null,51,50,49]
[null,null,null,50]
[null,null,null,50]
[null,null,52,50,49]
[null,null,null,50]
[null,null,null,50]
[null,null,53,50,49]
[null,null,null,50]
[null,null,null,50]
[null,null,54,50,49]
[null,null,null,50]
[null,null,null,50]
[null,null,55,50,49]
[null,null,null,50]
[null,null,null,50]
[null,null,56,50,49]
[null,null,null,50]
[null,null,null,50]
[null,null,57,50,49]
[null,null,null,50]
[null,null,null,50]
[null,null,58,50,49]
[null,null,null,50]
[null,null,null,50]
[null,null,59,50,49]
[null,null,null,50]
[null,null,null,50]
[null,null,60,50,49]
[null,null,null,50]
[null,null,null,50]
[null,null,null,50]
[null,null,null,50]
[null,6,61,50,48]
[null,null,null,50," "]
[null,null,null,50]
[null,null,62,50,48]
[null,null,null,50]
[null,null,null,50]
[null,null,63,50,48]
[null,null,null,50]
[null,null,null,50]
[null,null,64,50,48]
[null,null,null,50]
[null,null,null,50]
[null,null,65,50,48]
[null,null,null,50]
[null,null,null,50]
[null,null,66,50,48]
[null,null,null,50]
[null,null,null,50]
[null,null,67,50,48]
[null,null,null,50]
[null,null,null,50]
[null,null,68,50,48]
[null,null,null,50]
[null,null,null,50]
[null,null,69,50,48]
[null,null,null,50]
[null,null,null,50]
[null,null,70,50,48]
[null,null,null,50]
[null,null,null,50]
[null,null,71,50,48]
[null,null,null,50]
[null,null,null,50]
[null,null,72,50,48]
[null,null,null,50]
[null,null,null,50]
[null,null,null,50]
[null,null,null,50]
[null,7,73,50,47]
[null,null,null,50," "]
[null,null,null,50]
[null,null,74,50,47]
[null,null,null,50]
[null,null,null,50]
[null,null,75,50,47]
[null,null,null,50]
[null,null,null,50]
[null,null,76,50,47]
[null,null,null,50]
[null,null,null,50]
[null,null,77,50,47]
[null,null,null,50]
[null,null,null,50]
[null,null,78,50,47]
[null,null,null,50]
[null,null,null,50]
[null,null,79,50,47]
[null,null,null,50]
[null,null,null,50]
[null,null,80,50,47]
[null,null,null,50]
[null,null,null,50]
[null,null,81,50,47]
[null,null,null,50]
[null,null,null,50]
[null,null,82,50,47]
[null,null,null,50]
[null,null,null,50]
[null,null,83,50,47]
[null,null,null,50]
[null,null,null,50]
[null,null,84,50,47]
[null,null,null,50]
[null,null,null,50]
[null,8,85,50,47]
[null,null,null,50]
[null,null,null,50]
[null,null,86,50,46]
[null,null,null,50]
[null,null,null,50]
[null,null,87,50,46]
[null,null,null,50]
[null,null,null,50]
[null,null,88,50,46]

{"sheet":"DWCustom","index":8,"n_rows":288,"n_cols":4,"rows_kept":288,"cut":false,"hidden":false,"merged":[[8,3,12,3]]}
[]
[]
[]
[]
[]
[]
[]
[]
[null,null,null,"52g to 47 in 16 note divisions"]
[]
[]
[]
[]
[]
[null,"octave 1","note 1",52]
[null,null,null," "]
[]
[null,null,2,52]
[]
[]
[null,null,3,52]
[]
[]
[null,null,4,52]
[]
[]
[null,null,5,52]
[]
[]
[null,null,6,52]
[]
[]
[null,null,7,52]
[]
[]
[null,null,8,52]
[]
[]
[null,null,9,52]
[]
[]
[null,null,10,52]
[]
[]
[null,null,11,52]
[]
[]
[null,null,12,52]
[]
[]
[]
[]
[null,2,13,52]
[null,null,null," "]
[]
[null,null,14,52]
[]
[]
[null,null,15,52]
[]
[]
[null,null,16,52]
[]
[]
[null,null,17,51]
[]
[]
[null,null,18,51]
[]
[]
[null,null,19,51]
[]
[]
[null,null,20,51]
[]
[]
[null,null,21,51]
[]
[]
[null,null,22,51]
[]
[]
[null,null,23,51]
[]
[]
[null,null,24,51]
[]
[]
[]
[]
[null,3,25,51]
[null,null,null," "]
[]
[null,null,26,51]
[]
[]
[null,null,27,51]
[]
[]
[null,null,28,51]
[]
[]
[null,null,29,51]
[]
[]
[null,null,30,51]
[]
[]
[null,null,31,51]
[]
[]
[null,null,32,51]
[]
[]
[null,null,33,50]
[]
[]
[null,null,34,50]
[]
[]
[null,null,35,50]
[]
[]
[null,null,36,50]
[]
[]
[]
[]
[null,4,37,50]
[null,null,null," "]
[]
[null,null,38,50]
[]
[]
[null,null,39,50]
[]
[]
[null,null,40,50]
[]
[]
[null,null,41,50]
[]
[]
[null,null,42,50]
[]
[]
[null,null,43,50]
[]
[]
[null,null,44,50]
[]
[]
[null,null,45,50]
[]
[]
[null,null,46,50]
[]
[]
[null,null,47,50]
[]
[]
[null,null,48,50]
[]
[]
[]
[]
[null,5,49,49]
[null,null,null," "]
[]
[null,null,50,49]
[]
[]
[null,null,51,49]
[]
[]
[null,null,52,49]
[]
[]
[null,null,53,49]
[]
[]
[null,null,54,49]
[]
[]
[null,null,55,49]
[]
[]
[null,null,56,49]
[]
[]
[null,null,57,49]
[]
[]
[null,null,58,49]
[]
[]
[null,null,59,49]
[]
[]
[null,null,60,49]
[]
[]
[]
[]
[null,6,61,49]
[null,null,null," "]
[]
[null,null,62,49]
[]
[]
[null,null,63,49]
[]
[]
[null,null,64,49]
[]
[]
[null,null,65,48]
[]
[]
[null,null,66,48]
[]
[]
[null,null,67,48]
[]
[]
[null,null,68,48]
[]
[]
[null,null,69,48]
[]
[]
[null,null,70,48]
[]
[]
[null,null,71,48]
[]
[]
[null,null,72,48]
[]
[]
[]
[]
[null,7,73,48]
[null,null,null," "]
[]
[null,null,74,48]
[]
[]
[null,null,75,48]
[]
[]
[null,null,76,48]
[]
[]
[null,null,77,48]
[]
[]
[null,null,78,48]
[]
[]
[null,null,79,48]
[]
[]
[null,null,80,48]
[]
[]
[null,null,81,47]
[]
[]
[null,null,82,47]
[]
[]
[null,null,83,47]
[]
[]
[null,null,84,47]
[]
[]
[null,8,85,47]
[]
[]
[null,null,86,47]
[]
[]
[null,null,87,47]
[]
[]
[null,null,88,47]

{"sheet":"DW53","index":9,"n_rows":288,"n_cols":4,"rows_kept":288,"cut":false,"hidden":true,"merged":[]}
[]
[]
[]
[]
[]
[]
[]
[]
[]
[]
[]
[]
[null,null,null,"THIS col"]
[]
[1,1,50,53]
[null,null,50," "]
[null,null,50]
[null,2,50,53]
[null,null,50]
[null,null,50]
[null,3,50,53]
[null,null,50]
[null,null,50]
[null,4,50,53]
[null,null,50]
[null,null,50]
[null,5,50,53]
[null,null,50]
[null,null,50]
[null,6,50,53]
[null,null,50]
[null,null,50]
[null,7,50,53]
[null,null,50]
[null,null,50]
[null,8,50,53]
[null,null,50]
[null,null,50]
[null,9,50,53]
[null,null,50]
[null,null,50]
[null,10,50,53]
[null,null,50]
[null,null,50]
[null,11,50,53]
[null,null,50]
[null,null,50]
[null,12,50,53]
[null,null,50]
[null,null,50]
[null,null,50]
[null,null,50]
[2,13,50,52]
[null,null,50," "]
[null,null,50]
[null,14,50,52]
[null,null,50]
[null,null,50]
[null,15,50,52]
[null,null,50]
[null,null,50]
[null,16,50,52]
[null,null,50]
[null,null,50]
[null,17,50,52]
[null,null,50]
[null,null,50]
[null,18,50,52]
[null,null,50]
[null,null,50]
[null,19,50,52]
[null,null,50]
[null,null,50]
[null,20,50,52]
[null,null,50]
[null,null,50]
[null,21,50,52]
[null,null,50]
[null,null,50]
[null,22,50,52]
[null,null,50]
[null,null,50]
[null,23,50,52]
[null,null,50]
[null,null,50]
[null,24,50,52]
[null,null,50]
[null,null,50]
[null,null,50]
[null,null,50]
[3,25,50,51]
[null,null,50," "]
[null,null,50]
[null,26,50,51]
[null,null,50]
[null,null,50]
[null,27,50,51]
[null,null,50]
[null,null,50]
[null,28,50,51]
[null,null,50]
[null,null,50]
[null,29,50,51]
[null,null,50]
[null,null,50]
[null,30,50,51]
[null,null,50]
[null,null,50]
[null,31,50,51]
[null,null,50]
[null,null,50]
[null,32,50,51]
[null,null,50]
[null,null,50]
[null,33,50,51]
[null,null,50]
[null,null,50]
[null,34,50,51]
[null,null,50]
[null,null,50]
[null,35,50,51]
[null,null,50]
[null,null,50]
[null,36,50,51]
[null,null,50]
[null,null,50]
[null,null,50]
[null,null,50]
[4,37,50,50]
[null,null,50," "]
[null,null,50]
[null,38,50,50]
[null,null,50]
[null,null,50]
[null,39,50,50]
[null,null,50]
[null,null,50]
[null,40,50,50]
[null,null,50]
[null,null,50]
[null,41,50,50]
[null,null,50]
[null,null,50]
[null,42,50,50]
[null,null,50]
[null,null,50]
[null,43,50,50]
[null,null,50]
[null,null,50]
[null,44,50,50]
[null,null,50]
[null,null,50]
[null,45,50,50]
[null,null,50]
[null,null,50]
[null,46,50,50]
[null,null,50]
[null,null,50]
[null,47,50,50]
[null,null,50]
[null,null,50]
[null,48,50,50]
[null,null,50]
[null,null,50]
[null,null,50]
[null,null,50]
[5,49,50,49]
[null,null,50," "]
[null,null,50]
[null,50,50,49]
[null,null,50]
[null,null,50]
[null,51,50,49]
[null,null,50]
[null,null,50]
[null,52,50,49]
[null,null,50]
[null,null,50]
[null,53,50,49]
[null,null,50]
[null,null,50]
[null,54,50,49]
[null,null,50]
[null,null,50]
[null,55,50,49]
[null,null,50]
[null,null,50]
[null,56,50,49]
[null,null,50]
[null,null,50]
[null,57,50,49]
[null,null,50]
[null,null,50]
[null,58,50,49]
[null,null,50]
[null,null,50]
[null,59,50,49]
[null,null,50]
[null,null,50]
[null,60,50,49]
[null,null,50]
[null,null,50]
[null,null,50]
[null,null,50]
[6,61,50,48]
[null,null,50," "]
[null,null,50]
[null,62,50,48]
[null,null,50]
[null,null,50]
[null,63,50,48]
[null,null,50]
[null,null,50]
[null,64,50,48]
[null,null,50]
[null,null,50]
[null,65,50,48]
[null,null,50]
[null,null,50]
[null,66,50,48]
[null,null,50]
[null,null,50]
[null,67,50,48]
[null,null,50]
[null,null,50]
[null,68,50,48]
[null,null,50]
[null,null,50]
[null,69,50,48]
[null,null,50]
[null,null,50]
[null,70,50,48]
[null,null,50]
[null,null,50]
[null,71,50,48]
[null,null,50]
[null,null,50]
[null,72,50,48]
[null,null,50]
[null,null,50]
[null,null,50]
[null,null,50]
[7,73,50,47]
[null,null,50," "]
[null,null,50]
[null,74,50,47]
[null,null,50]
[null,null,50]
[null,75,50,47]
[null,null,50]
[null,null,50]
[null,76,50,47]
[null,null,50]
[null,null,50]
[null,77,50,47]
[null,null,50]
[null,null,50]
[null,78,50,47]
[null,null,50]
[null,null,50]
[null,79,50,47]
[null,null,50]
[null,null,50]
[null,80,50,47]
[null,null,50]
[null,null,50]
[null,81,50,47]
[null,null,50]
[null,null,50]
[null,82,50,47]
[null,null,50]
[null,null,50]
[null,83,50,47]
[null,null,50]
[null,null,50]
[null,84,50,47]
[null,null,50]
[null,null,50]
[8,85,50,47]
[null,null,50]
[null,null,50]
[null,86,50,46]
[null,null,50]
[null,null,50]
[null,87,50,46]
[null,null,50]
[null,null,50]
[null,88,50,46]

{"sheet":"BW38","index":10,"n_rows":288,"n_cols":7,"rows_kept":288,"cut":false,"hidden":true,"merged":[]}
[]
[]
[]
[]
[]
[]
[]
[]
[]
[]
[]
[]
[]
[null,null,null,null,null,"Note"]
[null,1,null,38,1,"A     1",{"$f":"D15","v":38}]
[null,null,null,38,null,"A#   2",{"$f":"D18","v":38}]
[null,null,null,38,null,"B     3",{"$f":"D21","v":38}]
[null,null,null,38,2,"C     4",{"$f":"D24","v":38}]
[null,null,null,38,null,"C#   5",{"$f":"D27","v":38}]
[null,null,null,38,null,"D     6",{"$f":"D30","v":38}]
[null,null,null,38,3,"D#   7",{"$f":"D33","v":38}]
[null,null,null,38,null,"E     8",{"$f":"D36","v":38}]
[null,null,null,38,null,"F     9",{"$f":"D39","v":38}]
[null,null,null,38,4,"F#   10",{"$f":"D42","v":38}]
[null,null,null,38,null,"G    11",{"$f":"D45","v":38}]
[null,null,null,38,null,"G#  12",{"$f":"D48","v":38}]
[null,null,null,38,5,"A     13",{"$f":"D53","v":38}]
[null,null,null,38,null,"A#   14",{"$f":"D56","v":38}]
[null,null,null,38,null,"B    15",{"$f":"D59","v":38}]
[null,null,null,38,6,"C    16",{"$f":"D62","v":38}]
[null,null,null,38,null,"C#  17",{"$f":"D65","v":38}]
[null,null,null,38,null,"D    18",{"$f":"D68","v":38}]
[null,null,null,38,7,"D#  19",{"$f":"D71","v":38}]
[null,null,null,38,null,"E     20",{"$f":"D74","v":38}]
[null,null,null,38,null,"F     21",{"$f":"D77","v":38}]
[null,null,null,38,8,"F#   22",{"$f":"D80","v":38}]
[null,null,null,38,null,"G    23",{"$f":"D83","v":38}]
[null,null,null,38,null,"G#  24",{"$f":"D86","v":38}]
[null,null,null,38,9,"A     25",{"$f":"D91","v":38}]
[null,null,null,38,null,"A#   26",{"$f":"D94","v":38}]
[null,null,null,38,null,"B     27",{"$f":"D97","v":38}]
[null,null,null,38,10,"C     28",{"$f":"D100","v":38}]
[null,null,null,38,null,"C#   29",{"$f":"D103","v":38}]
[null,null,null,38,null,"D      30",{"$f":"D106","v":38}]
[null,null,null,38,11,"D#    31",{"$f":"D109","v":38}]
[null,null,null,38,null,"E      32",{"$f":"D112","v":38}]
[null,null,null,38,null,"F      33",{"$f":"D115","v":38}]
[null,null,null,38,12,"F#    34",{"$f":"D118","v":38}]
[null,null,null,38,null,"G     35",{"$f":"D121","v":38}]
[null,null,null,38,null,"G#   36",{"$f":"D124","v":38}]
[null,null,null,38,null,"A      37",{"$f":"D129","v":38}]
[null,null,null,38,null,"A#    38",{"$f":"D132","v":38}]
[null,2,null,38,13,"B     39",{"$f":"D135","v":38}]
[null,null,null,38,null,"C     40",{"$f":"D138","v":38}]
[null,null,null,38,null,"C#   41",{"$f":"D141","v":38}]
[null,null,null,38,14,"D     42",{"$f":"D144","v":38}]
[null,null,null,38,null,"D#   43",{"$f":"D147","v":38}]
[null,null,null,38,null,"E     44",{"$f":"D150","v":38}]
[null,null,null,38,15,"F     45",{"$f":"D153","v":38}]
[null,null,null,38,null,"F#   46",{"$f":"D156","v":38}]
[null,null,null,38,null,"G     47",{"$f":"D159","v":38}]
[null,null,null,38,16,"G#   48",{"$f":"D162","v":38}]
[null,null,null,38,null,"A      49",{"$f":"D167","v":38}]
[null,null,null,38,null,"A#    50 ",{"$f":"D170","v":38}]
[null,null,null,38,17,"B     51",{"$f":"D173","v":38}]
[null,null,null,38,null,"C     52",{"$f":"D176","v":38}]
[null,null,null,38,null,"C#    53",{"$f":"D179","v":38}]
[null,null,null,38,18,"D      54",{"$f":"D182","v":38}]
[null,null,null,38,null,"D#    55",{"$f":"D185","v":38}]
[null,null,null,38,null,"E      56",{"$f":"D188","v":38}]
[null,null,null,38,19,"F      57",{"$f":"D191","v":38}]
[null,null,null,38,null,"F#    58",{"$f":"D194","v":38}]
[null,null,null,38,null,"G      59",{"$f":"D197","v":38}]
[null,null,null,38,20,"G#    60",{"$f":"D200","v":38}]
[null,null,null,38,null,"A       61",{"$f":"D205","v":38}]
[null,null,null,38,null,"A#     62",{"$f":"D208","v":38}]
[null,null,null,38,21,"B       63",{"$f":"D211","v":38}]
[null,null,null,38,null,"C       64",{"$f":"D214","v":38}]
[null,null,null,38,null,"C#     65",{"$f":"D217","v":38}]
[null,null,null,38,22,"D       66",{"$f":"D220","v":38}]
[null,null,null,38,null,"D#     67",{"$f":"D223","v":38}]
[null,null,null,38,null,"E       68",{"$f":"D226","v":38}]
[null,null,null,38,23,"F       69",{"$f":"D229","v":38}]
[null,null,null,38,null,"F#     70",{"$f":"D232","v":38}]
[null,null,null,38,null,"G      71",{"$f":"D235","v":38}]
[null,null,null,38,24,"G#    72",{"$f":"D238","v":38}]
[null,null,null,38,null,"A       73",{"$f":"D243","v":38}]
[null,null,null,38,null,"A#     74",{"$f":"D246","v":38}]
[null,null,null,38,null,"B      75",{"$f":"D249","v":38}]
[null,null,null,38,null,"C      76",{"$f":"D252","v":38}]
[null,3,null,38,25,"C#     77",{"$f":"D255","v":38}]
[null,null,null,38,null,"D       78",{"$f":"D258","v":38}]
[null,null,null,38,null,"D#     79",{"$f":"D261","v":38}]
[null,null,null,38,26,"E       80",{"$f":"D264","v":38}]
[null,null,null,38,null,"F       81",{"$f":"D267","v":38}]
[null,null,null,38,null,"F#     82",{"$f":"D270","v":38}]
[null,null,null,38,27,"G      83 ",{"$f":"D273","v":38}]
[null,null,null,38,null,"G#    84",{"$f":"D276","v":38}]
[null,null,null,38,null,"A       85",{"$f":"D279","v":38}]
[null,null,null,38,28,"A#     86",{"$f":"D282","v":38}]
[null,null,null,38,null,"B       87",{"$f":"D285","v":38}]
[null,null,null,38,null,"C       88",{"$f":"D288","v":38}]
[null,null,null,38,29]
[null,null,null,38]
[null,null,null,38]
[null,null,null,38,30]
[null,null,null,38]
[null,null,null,38]
[null,null,null,38,31]
[null,null,null,38]
[null,null,null,38]
[null,null,null,38,32]
[null,null,null,38]
[null,null,null,38]
[null,null,null,38,33]
[null,null,null,38]
[null,null,null,38]
[null,null,null,38,34]
[null,null,null,38]
[null,null,null,38]
[null,null,null,38,35]
[null,null,null,38]
[null,null,null,38]
[null,null,null,38,36]
[null,null,null,38]
[null,null,null,38]
[null,null,null,38]
[null,null,null,38]
[null,4,null,38,37]
[null,null,null,38]
[null,null,null,38]
[null,null,null,38,38]
[null,null,null,38]
[null,null,null,38]
[null,null,null,38,39]
[null,null,null,38]
[null,null,null,38]
[null,null,null,38,40]
[null,null,null,38]
[null,null,null,38]
[null,null,null,38,41]
[null,null,null,38]
[null,null,null,38]
[null,null,null,38,42]
[null,null,null,38]
[null,null,null,38]
[null,null,null,38,43]
[null,null,null,38]
[null,null,null,38]
[null,null,null,38,44]
[null,null,null,38]
[null,null,null,38]
[null,null,null,38,45]
[null,null,null,38]
[null,null,null,38]
[null,null,null,38,46]
[null,null,null,38]
[null,null,null,38]
[null,null,null,38,47]
[null,null,null,38]
[null,null,null,38]
[null,null,null,38,48]
[null,null,null,38]
[null,null,null,38]
[null,null,null,38]
[null,null,null,38]
[null,5,null,38,49]
[null,null,null,38]
[null,null,null,38]
[null,null,null,38,50]
[null,null,null,38]
[null,null,null,38]
[null,null,null,38,51]
[null,null,null,38]
[null,null,null,38]
[null,null,null,38,52]
[null,null,null,38]
[null,null,null,38]
[null,null,null,38,53]
[null,null,null,38]
[null,null,null,38]
[null,null,null,38,54]
[null,null,null,38]
[null,null,null,38]
[null,null,null,38,55]
[null,null,null,38]
[null,null,null,38]
[null,null,null,38,56]
[null,null,null,38]
[null,null,null,38]
[null,null,null,38,57]
[null,null,null,38]
[null,null,null,38]
[null,null,null,38,58]
[null,null,null,38]
[null,null,null,38]
[null,null,null,38,59]
[null,null,null,38]
[null,null,null,38]
[null,null,null,38,60]
[null,null,null,38]
[null,null,null,38]
[null,null,null,38]
[null,null,null,38]
[null,6,null,38,61]
[null,null,null,38]
[null,null,null,38]
[null,null,null,38,62]
[null,null,null,38]
[null,null,null,38]
[null,null,null,38,63]
[null,null,null,38]
[null,null,null,38]
[null,null,null,38,64]
[null,null,null,38]
[null,null,null,38]
[null,null,null,38,65]
[null,null,null,38]
[null,null,null,38]
[null,null,null,38,66]
[null,null,null,38]
[null,null,null,38]
[null,null,null,38,67]
[null,null,null,38]
[null,null,null,38]
[null,null,null,38,68]
[null,null,null,38]
[null,null,null,38]
[null,null,null,38,69]
[null,null,null,38]
[null,null,null,38]
[null,null,null,38,70]
[null,null,null,38]
[null,null,null,38]
[null,null,null,38,71]
[null,null,null,38]
[null,null,null,38]
[null,null,null,38,72]
[null,null,null,38]
[null,null,null,38]
[null,null,null,38]
[null,null,null,38]
[null,7,null,38,73]
[null,null,null,38]
[null,null,null,38]
[null,null,null,38,74]
[null,null,null,38]
[null,null,null,38]
[null,null,null,38,75]
[null,null,null,38]
[null,null,null,38]
[null,null,null,38,76]
[null,null,null,38]
[null,null,null,38]
[null,null,null,38,77]
[null,null,null,38]
[null,null,null,38]
[null,null,null,38,78]
[null,null,null,38]
[null,null,null,38]
[null,null,null,38,79]
[null,null,null,38]
[null,null,null,38]
[null,null,null,38,80]
[null,null,null,38]
[null,null,null,38]
[null,null,null,38,81]
[null,null,null,38]
[null,null,null,38]
[null,8,null,38,82]
[null,null,null,38]
[null,null,null,38]
[null,null,null,38,83]
[null,null,null,38]
[null,null,null,38]
[null,null,null,38,84]
[null,null,null,38]
[null,null,null,38]
[null,null,null,38,85]
[null,null,null,38]
[null,null,null,38]
[null,null,null,38,86]
[null,null,null,38]
[null,null,null,38]
[null,null,null,38,87]
[null,null,null,38]
[null,null,null,38]
[null,null,null,38,88]

{"sheet":"BW41","index":11,"n_rows":288,"n_cols":7,"rows_kept":288,"cut":false,"hidden":true,"merged":[]}
[]
[]
[]
[]
[]
[]
[]
[]
[]
[]
[]
[]
[null,null,null,"THIS col"]
[null,null,null,null,null,"Note"]
[1,null,38,41,1,"A     1",{"$f":"D15","v":41}]
[null,null,38," ",null,"A#   2",{"$f":"D18","v":41}]
[null,null,38,null,null,"B     3",{"$f":"D21","v":41}]
[null,null,38,41,2,"C     4",{"$f":"D24","v":41}]
[null,null,38,null,null,"C#   5",{"$f":"D27","v":41}]
[null,null,38,null,null,"D     6",{"$f":"D30","v":41}]
[null,null,38,41,3,"D#   7",{"$f":"D33","v":41}]
[null,null,38,null,null,"E     8",{"$f":"D36","v":41}]
[null,null,38,null,null,"F     9",{"$f":"D39","v":41}]
[null,null,38,41,4,"F#   10",{"$f":"D42","v":41}]
[null,null,38,null,null,"G    11",{"$f":"D45","v":41}]
[null,null,38,null,null,"G#  12",{"$f":"D48","v":41}]
[null,null,38,41,5,"A     13",{"$f":"D53","v":40}]
[null,null,38,null,null,"A#   14",{"$f":"D56","v":40}]
[null,null,38,null,null,"B    15",{"$f":"D59","v":40}]
[null,null,38,41,6,"C    16",{"$f":"D62","v":40}]
[null,null,38,null,null,"C#  17",{"$f":"D65","v":40}]
[null,null,38,null,null,"D    18",{"$f":"D68","v":40}]
[null,null,38,41,7,"D#  19",{"$f":"D71","v":40}]
[null,null,38,null,null,"E     20",{"$f":"D74","v":40}]
[null,null,38,null,null,"F     21",{"$f":"D77","v":40}]
[null,null,38,41,8,"F#   22",{"$f":"D80","v":40}]
[null,null,38,null,null,"G    23",{"$f":"D83","v":40}]
[null,null,38,null,null,"G#  24",{"$f":"D86","v":40}]
[null,null,38,41,9,"A     25",{"$f":"D91","v":39}]
[null,null,38,null,null,"A#   26",{"$f":"D94","v":39}]
[null,null,38,null,null,"B     27",{"$f":"D97","v":39}]
[null,null,38,41,10,"C     28",{"$f":"D100","v":39}]
[null,null,38,null,null,"C#   29",{"$f":"D103","v":39}]
[null,null,38,null,null,"D      30",{"$f":"D106","v":39}]
[null,null,38,41,11,"D#    31",{"$f":"D109","v":39}]
[null,null,38,null,null,"E      32",{"$f":"D112","v":39}]
[null,null,38,null,null,"F      33",{"$f":"D115","v":39}]
[null,null,38,41,12,"F#    34",{"$f":"D118","v":39}]
[null,null,38,null,null,"G     35",{"$f":"D121","v":39}]
[null,null,38,null,null,"G#   36",{"$f":"D124","v":39}]
[null,null,38,null,null,"A      37",{"$f":"D129","v":38}]
[null,null,38,null,null,"A#    38",{"$f":"D132","v":38}]
[2,null,38,40,13,"B     39",{"$f":"D135","v":38}]
[null,null,38," ",null,"C     40",{"$f":"D138","v":38}]
[null,null,38,null,null,"C#   41",{"$f":"D141","v":38}]
[null,null,38,40,14,"D     42",{"$f":"D144","v":38}]
[null,null,38,null,null,"D#   43",{"$f":"D147","v":38}]
[null,null,38,null,null,"E     44",{"$f":"D150","v":38}]
[null,null,38,40,15,"F     45",{"$f":"D153","v":38}]
[null,null,38,null,null,"F#   46",{"$f":"D156","v":38}]
[null,null,38,null,null,"G     47",{"$f":"D159","v":38}]
[null,null,38,40,16,"G#   48",{"$f":"D162","v":38}]
[null,null,38,null,null,"A      49",{"$f":"D167","v":37}]
[null,null,38,null,null,"A#    50 ",{"$f":"D170","v":37}]
[null,null,38,40,17,"B     51",{"$f":"D173","v":37}]
[null,null,38,null,null,"C     52",{"$f":"D176","v":37}]
[null,null,38,null,null,"C#    53",{"$f":"D179","v":37}]
[null,null,38,40,18,"D      54",{"$f":"D182","v":37}]
[null,null,38,null,null,"D#    55",{"$f":"D185","v":37}]
[null,null,38,null,null,"E      56",{"$f":"D188","v":37}]
[null,null,38,40,19,"F      57",{"$f":"D191","v":37}]
[null,null,38,null,null,"F#    58",{"$f":"D194","v":37}]
[null,null,38,null,null,"G      59",{"$f":"D197","v":37}]
[null,null,38,40,20,"G#    60",{"$f":"D200","v":37}]
[null,null,38,null,null,"A       61",{"$f":"D205","v":36}]
[null,null,38,null,null,"A#     62",{"$f":"D208","v":36}]
[null,null,38,40,21,"B       63",{"$f":"D211","v":36}]
[null,null,38,null,null,"C       64",{"$f":"D214","v":36}]
[null,null,38,null,null,"C#     65",{"$f":"D217","v":36}]
[null,null,38,40,22,"D       66",{"$f":"D220","v":36}]
[null,null,38,null,null,"D#     67",{"$f":"D223","v":36}]
[null,null,38,null,null,"E       68",{"$f":"D226","v":36}]
[null,null,38,40,23,"F       69",{"$f":"D229","v":36}]
[null,null,38,null,null,"F#     70",{"$f":"D232","v":36}]
[null,null,38,null,null,"G      71",{"$f":"D235","v":36}]
[null,null,38,40,24,"G#    72",{"$f":"D238","v":36}]
[null,null,38,null,null,"A       73",{"$f":"D243","v":35}]
[null,null,38,null,null,"A#     74",{"$f":"D246","v":35}]
[null,null,38,null,null,"B      75",{"$f":"D249","v":35}]
[null,null,38,null,null,"C      76",{"$f":"D252","v":35}]
[3,null,38,39,25,"C#     77",{"$f":"D255","v":35}]
[null,null,38," ",null,"D       78",{"$f":"D258","v":35}]
[null,null,38,null,null,"D#     79",{"$f":"D261","v":35}]
[null,null,38,39,26,"E       80",{"$f":"D264","v":35}]
[null,null,38,null,null,"F       81",{"$f":"D267","v":35}]
[null,null,38,null,null,"F#     82",{"$f":"D270","v":35}]
[null,null,38,39,27,"G      83 ",{"$f":"D273","v":35}]
[null,null,38,null,null,"G#    84",{"$f":"D276","v":35}]
[null,null,38,null,null,"A       85",{"$f":"D279","v":35}]
[null,null,38,39,28,"A#     86",{"$f":"D282","v":35}]
[null,null,38,null,null,"B       87",{"$f":"D285","v":35}]
[null,null,38,null,null,"C       88",{"$f":"D288","v":35}]
[null,null,38,39,29]
[null,null,38]
[null,null,38]
[null,null,38,39,30]
[null,null,38]
[null,null,38]
[null,null,38,39,31]
[null,null,38]
[null,null,38]
[null,null,38,39,32]
[null,null,38]
[null,null,38]
[null,null,38,39,33]
[null,null,38]
[null,null,38]
[null,null,38,39,34]
[null,null,38]
[null,null,38]
[null,null,38,39,35]
[null,null,38]
[null,null,38]
[null,null,38,39,36]
[null,null,38]
[null,null,38]
[null,null,38]
[null,null,38]
[4,null,38,38,37]
[null,null,38," "]
[null,null,38]
[null,null,38,38,38]
[null,null,38]
[null,null,38]
[null,null,38,38,39]
[null,null,38]
[null,null,38]
[null,null,38,38,40]
[null,null,38]
[null,null,38]
[null,null,38,38,41]
[null,null,38]
[null,null,38]
[null,null,38,38,42]
[null,null,38]
[null,null,38]
[null,null,38,38,43]
[null,null,38]
[null,null,38]
[null,null,38,38,44]
[null,null,38]
[null,null,38]
[null,null,38,38,45]
[null,null,38]
[null,null,38]
[null,null,38,38,46]
[null,null,38]
[null,null,38]
[null,null,38,38,47]
[null,null,38]
[null,null,38]
[null,null,38,38,48]
[null,null,38]
[null,null,38]
[null,null,38]
[null,null,38]
[5,null,38,37,49]
[null,null,38," "]
[null,null,38]
[null,null,38,37,50]
[null,null,38]
[null,null,38]
[null,null,38,37,51]
[null,null,38]
[null,null,38]
[null,null,38,37,52]
[null,null,38]
[null,null,38]
[null,null,38,37,53]
[null,null,38]
[null,null,38]
[null,null,38,37,54]
[null,null,38]
[null,null,38]
[null,null,38,37,55]
[null,null,38]
[null,null,38]
[null,null,38,37,56]
[null,null,38]
[null,null,38]
[null,null,38,37,57]
[null,null,38]
[null,null,38]
[null,null,38,37,58]
[null,null,38]
[null,null,38]
[null,null,38,37,59]
[null,null,38]
[null,null,38]
[null,null,38,37,60]
[null,null,38]
[null,null,38]
[null,null,38]
[null,null,38]
[6,null,38,36,61]
[null,null,38," "]
[null,null,38]
[null,null,38,36,62]
[null,null,38]
[null,null,38]
[null,null,38,36,63]
[null,null,38]
[null,null,38]
[null,null,38,36,64]
[null,null,38]
[null,null,38]
[null,null,38,36,65]
[null,null,38]
[null,null,38]
[null,null,38,36,66]
[null,null,38]
[null,null,38]
[null,null,38,36,67]
[null,null,38]
[null,null,38]
[null,null,38,36,68]
[null,null,38]
[null,null,38]
[null,null,38,36,69]
[null,null,38]
[null,null,38]
[null,null,38,36,70]
[null,null,38]
[null,null,38]
[null,null,38,36,71]
[null,null,38]
[null,null,38]
[null,null,38,36,72]
[null,null,38]
[null,null,38]
[null,null,38]
[null,null,38]
[7,null,38,35,73]
[null,null,38," "]
[null,null,38]
[null,null,38,35,74]
[null,null,38]
[null,null,38]
[null,null,38,35,75]
[null,null,38]
[null,null,38]
[null,null,38,35,76]
[null,null,38]
[null,null,38]
[null,null,38,35,77]
[null,null,38]
[null,null,38]
[null,null,38,35,78]
[null,null,38]
[null,null,38]
[null,null,38,35,79]
[null,null,38]
[null,null,38]
[null,null,38,35,80]
[null,null,38]
[null,null,38]
[null,null,38,35,81]
[null,null,38]
[null,null,38]
[null,null,38,35,82]
[null,null,38]
[null,null,38]
[null,null,38,35,83]
[null,null,38]
[null,null,38]
[null,null,38,35,84]
[null,null,38]
[null,null,38]
[8,null,38,35,85]
[null,null,38]
[null,null,38]
[null,null,38,35,86]
[null,null,38]
[null,null,38]
[null,null,38,35,87]
[null,null,38]
[null,null,38]
[null,null,38,35,88]

{"sheet":"DWfromBW","index":12,"n_rows":288,"n_cols":3,"rows_kept":288,"cut":false,"hidden":true,"merged":[]}
[]
[]
[]
[]
[]
[]
[]
[]
[]
[]
[]
[]
[]
[]
[null,1,38]
[]
[]
[null,2,43]
[]
[]
[null,3,46]
[]
[]
[null,4,43]
[]
[]
[null,5,44]
[]
[]
[null,6,44]
[]
[]
[null,7,50]
[]
[]
[null,8,50]
[]
[]
[null,9,44]
[]
[]
[null,10,52]
[null,null," "]
[]
[null,11,42]
[]
[]
[null,12,50]
[]
[]
[]
[]
[null,13,44]
[]
[]
[null,14,49]
[]
[]
[null,15,45]
[]
[]
[null,16,43]
[]
[]
[null,17,47]
[]
[]
[null,18,44]
[]
[]
[null,19,50]
[]
[]
[null,20,46]
[]
[]
[null,21,46]
[]
[]
[null,22,52]
[]
[]
[null,23,45]
[]
[]
[null,24,53]
[]
[]
[]
[]
[null,25,47]
[]
[]
[null,26,49]
[]
[]
[null,27,44]
[]
[]
[null,28,46]
[]
[]
[null,29,46]
[]
[]
[null,30,43]
[]
[]
[null,31,53]
[]
[]
[null,32,50]
[]
[]
[null,33,45]
[]
[]
[null,34,51]
[]
[]
[null,35,49]
[]
[]
[null,36,50]
[]
[]
[]
[]
[null,37,47]
[null,null,0]
[null,null,0]
[null,38,48]
[null,null,0]
[null,null,0]
[null,39,41]
[null,null,0]
[null,null,0]
[null,40,44]
[null,null,0]
[null,null,0]
[null,41,50]
[null,null,0]
[null,null,0]
[null,42,47]
[null,null,0]
[null,null,0]
[null,43,44]
[null,null,0]
[null,null,0]
[null,44,48]
[null,null,0]
[null,null,0]
[null,45,47]
[null,null,0]
[null,null,0]
[null,46,45]
[null,null,0]
[null,null,0]
[null,47,47]
[null,null,0]
[null,null,0]
[null,48,51]
[null,null,0]
[null,null,0]
[null,null,0]
[null,null,0]
[null,49,41]
[null,null,0]
[null,null,0]
[null,50,46]
[null,null,0]
[null,null,0]
[null,51,42]
[null,null,0]
[null,null,0]
[null,52,45]
[null,null,0]
[null,null,0]
[null,53,48]
[null,null,0]
[null,null,0]
[null,54,42]
[null,null,0]
[null,null,0]
[null,55,46]
[null,null,0]
[null,null,0]
[null,56,47]
[null,null,0]
[null,null,0]
[null,57,50]
[null,null,0]
[null,null,0]
[null,58,46]
[null,null,0]
[null,null,0]
[null,59,45]
[null,null,0]
[null,null,0]
[null,60,44]
[null,null,0]
[null,null,0]
[null,null,0]
[null,null,0]
[null,61,50]
[null,null,0]
[null,null,0]
[null,62,46]
[null,null,0]
[null,null,0]
[null,63,43]
[null,null,0]
[null,null,0]
[null,64,45]
[null,null,0]
[null,null,0]
[null,65,44]
[null,null,0]
[null,null,0]
[null,66,42]
[null,null,0]
[null,null,0]
[null,67,46]
[null,null,0]
[null,null,0]
[null,68,47]
[null,null,0]
[null,null,0]
[null,69,41]
[null,null,0]
[null,null,0]
[null,70,52]
[null,null,0]
[null,null,0]
[null,71,39]
[null,null,0]
[null,null,0]
[null,72,46]
[null,null,0]
[null,null,0]
[null,null,0]
[null,null,0]
[null,73,44]
[null,null,0]
[null,null,0]
[null,74,45]
[null,null,0]
[null,null,0]
[null,75,45]
[null,null,0]
[null,null,0]
[null,76,49]
[null,null,0]
[null,null,0]
[null,77,44]
[null,null,0]
[null,null,0]
[null,78,47]
[null,null,0]
[null,null,0]
[null,79,48]
[null,null,0]
[null,null,0]
[null,80,49]
[null,null,0]
[null,null,0]
[null,81,49]
[null,null,0]
[null,null,0]
[null,82,50]
[null,null,0]
[null,null,0]
[null,83,50]
[null,null,0]
[null,null,0]
[null,84,45]
[null,null,0]
[null,null,0]
[null,85,47]
[null,null,0]
[null,null,0]
[null,86,47]
[null,null,0]
[null,null,0]
[null,87,45]
[null,null,0]
[null,null,0]
[null,88,42]

{"sheet":"DWtest","index":13,"n_rows":288,"n_cols":15,"rows_kept":288,"cut":false,"hidden":true,"merged":[]}
[]
[]
[]
[]
[]
[]
[]
[]
[]
[]
[]
[null,null,50,1,2,3,4,5,6,7,8,9,10,11,12]
[]
[null,null,null,null,null,null,"48 decline",null,"48 all",null,"56 all","50 all","53 decline"]
[null,1,48,null,null,null,48,null,48,null,56,50,53]
[null,null,48,null,null,null,48,null,48,null,56,50," "]
[null,null,48,null,null,null,48,null,48,null,56,50]
[null,null,48,null,null,null,48,null,48,null,56,50,53]
[null,null,48,null,null,null,48,null,48,null,56,50]
[null,null,48,null,null,null,48,null,48,null,56,50]
[null,null,48,null,null,null,48,null,48,null,56,50,53]
[null,null,48,null,null,null,48,null,48,null,56,50]
[null,null,48,null,null,null,48,null,48,null,56,50]
[null,null,48,null,null,null,48,null,48,null,56,50,53]
[null,null,48,null,null,null,48,null,48,null,56,50]
[null,null,48,null,null,null,48,null,48,null,56,50]
[null,null,48,null,null,null,48,null,48,null,56,50,53]
[null,null,48,null,null,null,48,null,48,null,56,50]
[null,null,48,null,null,null,48,null,48,null,56,50]
[null,null,48,null,null,null,48,null,48,null,56,50,53]
[null,null,48,null,null,null,48,null,48,null,56,50]
[null,null,48,null,null,null,48,null,48,null,56,50]
[null,null,48,null,null,null,48,null,48,null,56,50,53]
[null,null,48,null,null,null,48,null,48,null,56,50]
[null,null,48,null,null,null,48,null,48,null,56,50]
[null,null,48,null,null,null,48,null,48,null,56,50,53]
[null,null,48,null,null,null,48,null,48,null,56,50]
[null,null,48,null,null,null,48,null,48,null,56,50]
[null,null,48,null,null,null,48,null,48,null,56,50,53]
[null,null,48,null,null,null,48,null,48,null,56,50]
[null,null,48,null,null,null,48,null,48,null,56,50]
[null,null,48,null,null,null,48,null,48,null,56,50,53]
[null,null,48,null,null,null,48,null,48,null,56,50]
[null,null,48,null,null,null,48,null,48,null,56,50]
[null,null,48,null,null,null,48,null,48,null,56,50,53]
[null,null,48,null,null,null,48,null,48,null,56,50]
[null,null,48,null,null,null,48,null,48,null,56,50]
[null,null,48,null,null,null,48,null,48,null,56,50,53]
[null,null,48,null,null,null,48,null,48,null,56,50]
[null,null,48,null,null,null,48,null,48,null,56,50]
[null,null,48,null,null,null,48,null,48,null,56,50]
[null,null,48,null,null,null,48,null,48,null,56,50]
[null,2,47,null,null,null,47,null,48,null,56,50,52]
[null,null,47,null,null,null,47,null,48,null,56,50," "]
[null,null,47,null,null,null,47,null,48,null,56,50]
[null,null,47,null,null,null,47,null,48,null,56,50,52]
[null,null,47,null,null,null,47,null,48,null,56,50]
[null,null,47,null,null,null,47,null,48,null,56,50]
[null,null,47,null,null,null,47,null,48,null,56,50,52]
[null,null,47,null,null,null,47,null,48,null,56,50]
[null,null,47,null,null,null,47,null,48,null,56,50]
[null,null,47,null,null,null,47,null,48,null,56,50,52]
[null,null,47,null,null,null,47,null,48,null,56,50]
[null,null,47,null,null,null,47,null,48,null,56,50]
[null,null,47,null,null,null,47,null,48,null,56,50,52]
[null,null,47,null,null,null,47,null,48,null,56,50]
[null,null,47,null,null,null,47,null,48,null,56,50]
[null,null,47,null,null,null,47,null,48,null,56,50,52]
[null,null,47,null,null,null,47,null,48,null,56,50]
[null,null,47,null,null,null,47,null,48,null,56,50]
[null,null,47,null,null,null,47,null,48,null,56,50,52]
[null,null,47,null,null,null,47,null,48,null,56,50]
[null,null,47,null,null,null,47,null,48,null,56,50]
[null,null,47,null,null,null,47,null,48,null,56,50,52]
[null,null,47,null,null,null,47,null,48,null,56,50]
[null,null,47,null,null,null,47,null,48,null,56,50]
[null,null,47,null,null,null,47,null,48,null,56,50,52]
[null,null,47,null,null,null,47,null,48,null,56,50]
[null,null,47,null,null,null,47,null,48,null,56,50]
[null,null,47,null,null,null,47,null,48,null,56,50,52]
[null,null,47,null,null,null,47,null,48,null,56,50]
[null,null,47,null,null,null,47,null,48,null,56,50]
[null,null,47,null,null,null,47,null,48,null,56,50,52]
[null,null,47,null,null,null,47,null,48,null,56,50]
[null,null,47,null,null,null,47,null,48,null,56,50]
[null,null,47,null,null,null,47,null,48,null,56,50,52]
[null,null,47,null,null,null,47,null,48,null,56,50]
[null,null,47,null,null,null,47,null,48,null,56,50]
[null,null,47,null,null,null,47,null,48,null,56,50]
[null,null,47,null,null,null,47,null,48,null,56,50]
[null,3,46,null,null,null,46,null,48,null,56,50,51]
[null,null,46,null,null,null,46,null,48,null,56,50," "]
[null,null,46,null,null,null,46,null,48,null,56,50]
[null,null,46,null,null,null,46,null,48,null,56,50,51]
[null,null,46,null,null,null,46,null,48,null,56,50]
[null,null,46,null,null,null,46,null,48,null,56,50]
[null,null,46,null,null,null,46,null,48,null,56,50,51]
[null,null,46,null,null,null,46,null,48,null,56,50]
[null,null,46,null,null,null,46,null,48,null,56,50]
[null,null,46,null,null,null,46,null,48,null,56,50,51]
[null,null,46,null,null,null,46,null,48,null,56,50]
[null,null,46,null,null,null,46,null,48,null,56,50]
[null,null,46,null,null,null,46,null,48,null,56,50,51]
[null,null,46,null,null,null,46,null,48,null,56,50]
[null,null,46,null,null,null,46,null,48,null,56,50]
[null,null,46,null,null,null,46,null,48,null,56,50,51]
[null,null,46,null,null,null,46,null,48,null,56,50]
[null,null,46,null,null,null,46,null,48,null,56,50]
[null,null,46,null,null,null,46,null,48,null,56,50,51]
[null,null,46,null,null,null,46,null,48,null,56,50]
[null,null,46,null,null,null,46,null,48,null,56,50]
[null,null,46,null,null,null,46,null,48,null,56,50,51]
[null,null,46,null,null,null,46,null,48,null,56,50]
[null,null,46,null,null,null,46,null,48,null,56,50]
[null,null,46,null,null,null,46,null,48,null,56,50,51]
[null,null,46,null,null,null,46,null,48,null,56,50]
[null,null,46,null,null,null,46,null,48,null,56,50]
[null,null,46,null,null,null,46,null,48,null,56,50,51]
[null,null,46,null,null,null,46,null,48,null,56,50]
[null,null,46,null,null,null,46,null,48,null,56,50]
[null,null,46,null,null,null,46,null,48,null,56,50,51]
[null,null,46,null,null,null,46,null,48,null,56,50]
[null,null,46,null,null,null,46,null,48,null,56,50]
[null,null,46,null,null,null,46,null,48,null,56,50,51]
[null,null,46,null,null,null,46,null,48,null,56,50]
[null,null,46,null,null,null,46,null,48,null,56,50]
[null,null,46,null,null,null,46,null,48,null,56,50]
[null,null,46,null,null,null,46,null,48,null,56,50]
[null,4,45,null,null,null,45,null,48,null,56,50,50]
[null,null,45,null,null,null,45,null,48,null,56,50," "]
[null,null,45,null,null,null,45,null,48,null,56,50]
[null,null,45,null,null,null,45,null,48,null,56,50,50]
[null,null,45,null,null,null,45,null,48,null,56,50]
[null,null,45,null,null,null,45,null,48,null,56,50]
[null,null,45,null,null,null,45,null,48,null,56,50,50]
[null,null,45,null,null,null,45,null,48,null,56,50]
[null,null,45,null,null,null,45,null,48,null,56,50]
[null,null,45,null,null,null,45,null,48,null,56,50,50]
[null,null,45,null,null,null,45,null,48,null,56,50]
[null,null,45,null,null,null,45,null,48,null,56,50]
[null,null,45,null,null,null,45,null,48,null,56,50,50]
[null,null,45,null,null,null,45,null,48,null,56,50]
[null,null,45,null,null,null,45,null,48,null,56,50]
[null,null,45,null,null,null,45,null,48,null,56,50,50]
[null,null,45,null,null,null,45,null,48,null,56,50]
[null,null,45,null,null,null,45,null,48,null,56,50]
[null,null,45,null,null,null,45,null,48,null,56,50,50]
[null,null,45,null,null,null,45,null,48,null,56,50]
[null,null,45,null,null,null,45,null,48,null,56,50]
[null,null,45,null,null,null,45,null,48,null,56,50,50]
[null,null,45,null,null,null,45,null,48,null,56,50]
[null,null,45,null,null,null,45,null,48,null,56,50]
[null,null,45,null,null,null,45,null,48,null,56,50,50]
[null,null,45,null,null,null,45,null,48,null,56,50]
[null,null,45,null,null,null,45,null,48,null,56,50]
[null,null,45,null,null,null,45,null,48,null,56,50,50]
[null,null,45,null,null,null,45,null,48,null,56,50]
[null,null,45,null,null,null,45,null,48,null,56,50]
[null,null,45,null,null,null,45,null,48,null,56,50,50]
[null,null,45,null,null,null,45,null,48,null,56,50]
[null,null,45,null,null,null,45,null,48,null,56,50]
[null,null,45,null,null,null,45,null,48,null,56,50,50]
[null,null,45,null,null,null,45,null,48,null,56,50]
[null,null,45,null,null,null,45,null,48,null,56,50]
[null,null,45,null,null,null,45,null,48,null,56,50]
[null,null,45,null,null,null,45,null,48,null,56,50]
[null,5,44,null,null,null,44,null,48,null,56,50,49]
[null,null,44,null,null,null,44,null,48,null,56,50," "]
[null,null,44,null,null,null,44,null,48,null,56,50]
[null,null,44,null,null,null,44,null,48,null,56,50,49]
[null,null,44,null,null,null,44,null,48,null,56,50]
[null,null,44,null,null,null,44,null,48,null,56,50]
[null,null,44,null,null,null,44,null,48,null,56,50,49]
[null,null,44,null,null,null,44,null,48,null,56,50]
[null,null,44,null,null,null,44,null,48,null,56,50]
[null,null,44,null,null,null,44,null,48,null,56,50,49]
[null,null,44,null,null,null,44,null,48,null,56,50]
[null,null,44,null,null,null,44,null,48,null,56,50]
[null,null,44,null,null,null,44,null,48,null,56,50,49]
[null,null,44,null,null,null,44,null,48,null,56,50]
[null,null,44,null,null,null,44,null,48,null,56,50]
[null,null,44,null,null,null,44,null,48,null,56,50,49]
[null,null,44,null,null,null,44,null,48,null,56,50]
[null,null,44,null,null,null,44,null,48,null,56,50]
[null,null,44,null,null,null,44,null,48,null,56,50,49]
[null,null,44,null,null,null,44,null,48,null,56,50]
[null,null,44,null,null,null,44,null,48,null,56,50]
[null,null,44,null,null,null,44,null,48,null,56,50,49]
[null,null,44,null,null,null,44,null,48,null,56,50]
[null,null,44,null,null,null,44,null,48,null,56,50]
[null,null,44,null,null,null,44,null,48,null,56,50,49]
[null,null,44,null,null,null,44,null,48,null,56,50]
[null,null,44,null,null,null,44,null,48,null,56,50]
[null,null,44,null,null,null,44,null,48,null,56,50,49]
[null,null,44,null,null,null,44,null,48,null,56,50]
[null,null,44,null,null,null,44,null,48,null,56,50]
[null,null,44,null,null,null,44,null,48,null,56,50,49]
[null,null,44,null,null,null,44,null,48,null,56,50]
[null,null,44,null,null,null,44,null,48,null,56,50]
[null,null,44,null,null,null,44,null,48,null,56,50,49]
[null,null,44,null,null,null,44,null,48,null,56,50]
[null,null,44,null,null,null,44,null,48,null,56,50]
[null,null,44,null,null,null,44,null,48,null,56,50]
[null,null,44,null,null,null,44,null,48,null,56,50]
[null,6,43,null,null,null,43,null,48,null,56,50,48]
[null,null,43,null,null,null,43,null,48,null,56,50," "]
[null,null,43,null,null,null,43,null,48,null,56,50]
[null,null,43,null,null,null,43,null,48,null,56,50,48]
[null,null,43,null,null,null,43,null,48,null,56,50]
[null,null,43,null,null,null,43,null,48,null,56,50]
[null,null,43,null,null,null,43,null,48,null,56,50,48]
[null,null,43,null,null,null,43,null,48,null,56,50]
[null,null,43,null,null,null,43,null,48,null,56,50]
[null,null,43,null,null,null,43,null,48,null,56,50,48]
[null,null,43,null,null,null,43,null,48,null,56,50]
[null,null,43,null,null,null,43,null,48,null,56,50]
[null,null,43,null,null,null,43,null,48,null,56,50,48]
[null,null,43,null,null,null,43,null,48,null,56,50]
[null,null,43,null,null,null,43,null,48,null,56,50]
[null,null,43,null,null,null,43,null,48,null,56,50,48]
[null,null,43,null,null,null,43,null,48,null,56,50]
[null,null,43,null,null,null,43,null,48,null,56,50]
[null,null,43,null,null,null,43,null,48,null,56,50,48]
[null,null,43,null,null,null,43,null,48,null,56,50]
[null,null,43,null,null,null,43,null,48,null,56,50]
[null,null,43,null,null,null,43,null,48,null,56,50,48]
[null,null,43,null,null,null,43,null,48,null,56,50]
[null,null,43,null,null,null,43,null,48,null,56,50]
[null,null,43,null,null,null,43,null,48,null,56,50,48]
[null,null,43,null,null,null,43,null,48,null,56,50]
[null,null,43,null,null,null,43,null,48,null,56,50]
[null,null,43,null,null,null,43,null,48,null,56,50,48]
[null,null,43,null,null,null,43,null,48,null,56,50]
[null,null,43,null,null,null,43,null,48,null,56,50]
[null,null,43,null,null,null,43,null,48,null,56,50,48]
[null,null,43,null,null,null,43,null,48,null,56,50]
[null,null,43,null,null,null,43,null,48,null,56,50]
[null,null,43,null,null,null,43,null,48,null,56,50,48]
[null,null,43,null,null,null,43,null,48,null,56,50]
[null,null,43,null,null,null,43,null,48,null,56,50]
[null,null,43,null,null,null,43,null,48,null,56,50]
[null,null,43,null,null,null,43,null,48,null,56,50]
[null,7,43,null,null,null,43,null,48,null,56,50,47]
[null,null,43,null,null,null,43,null,48,null,56,50," "]
[null,null,43,null,null,null,43,null,48,null,56,50]
[null,null,43,null,null,null,43,null,48,null,56,50,47]
[null,null,43,null,null,null,43,null,48,null,56,50]
[null,null,43,null,null,null,43,null,48,null,56,50]
[null,null,43,null,null,null,43,null,48,null,56,50,47]
[null,null,43,null,null,null,43,null,48,null,56,50]
[null,null,43,null,null,null,43,null,48,null,56,50]
[null,null,43,null,null,null,43,null,48,null,56,50,47]
[null,null,43,null,null,null,43,null,48,null,56,50]
[null,null,43,null,null,null,43,null,48,null,56,50]
[null,null,43,null,null,null,43,null,48,null,56,50,47]
[null,null,43,null,null,null,43,null,48,null,56,50]
[null,null,43,null,null,null,43,null,48,null,56,50]
[null,null,43,null,null,null,43,null,48,null,56,50,47]
[null,null,43,null,null,null,43,null,48,null,56,50]
[null,null,43,null,null,null,43,null,48,null,56,50]
[null,null,43,null,null,null,43,null,48,null,56,50,47]
[null,null,43,null,null,null,43,null,48,null,56,50]
[null,null,43,null,null,null,43,null,48,null,56,50]
[null,null,43,null,null,null,43,null,48,null,56,50,47]
[null,null,43,null,null,null,43,null,48,null,56,50]
[null,null,43,null,null,null,43,null,48,null,56,50]
[null,null,43,null,null,null,43,null,48,null,56,50,47]
[null,null,43,null,null,null,43,null,48,null,56,50]
[null,null,43,null,null,null,43,null,48,null,56,50]
[null,null,43,null,null,null,43,null,48,null,56,50,47]
[null,null,43,null,null,null,43,null,48,null,56,50]
[null,null,43,null,null,null,43,null,48,null,56,50]
[null,null,43,null,null,null,43,null,48,null,56,50,47]
[null,null,43,null,null,null,43,null,48,null,56,50]
[null,null,43,null,null,null,43,null,48,null,56,50]
[null,null,43,null,null,null,43,null,48,null,56,50,47]
[null,null,43,null,null,null,43,null,48,null,56,50]
[null,null,43,null,null,null,43,null,48,null,56,50]
[null,8,43,null,null,null,43,null,48,null,56,50,47]
[null,null,43,null,null,null,43,null,48,null,56,50]
[null,null,43,null,null,null,43,null,48,null,56,50]
[null,null,43,null,null,null,43,null,48,null,56,50,46]
[null,null,43,null,null,null,43,null,48,null,56,50]
[null,null,43,null,null,null,43,null,48,null,56,50]
[null,null,43,null,null,null,43,null,48,null,56,50,46]
[null,null,43,null,null,null,43,null,48,null,56,50]
[null,null,43,null,null,null,43,null,48,null,56,50]
[null,null,43,null,null,null,43,null,48,null,56,50,46]

{"sheet":"Instruction Basic","index":14,"n_rows":21,"n_cols":17,"rows_kept":21,"cut":false,"hidden":false,"merged":[[2,16,2,18],[20,16,20,19]]}
[]
[]
[null,null,null,null,null,null,null,null,null,null,null,null,null,null,null,null,"Basic List of Instructions"]
[]
[]
[]
[]
[]
[]
[]
[]
[]
[]
[]
[]
[]
[]
[]
[]
[]
[null,null,null,null,null,null,null,null,null,null,null,null,null,null,null,null,"Nick’s Nifty Key Leads Program"]